Workbook

Sheet Order summary
E1: Customer information
E2: Company Name:
E3: Billing Address:
E4: Delivery address:
E5: VAT number (if available):
E6: Contact person:
E7: Phone number:
A8: www.thrillseekerholds.com
E9: Total Price* | G9: =IF(B29=1, 'PU holds'!W88+R29,'PU holds'!W88) -> 0
E11: Total fiberglass macros | G11: ='Macros Fiberglass'!R44 -> 0
E12: Total PU holds | G12: ='PU holds'!X88 -> 0
E13: Total PE holds | G13: ='PE holds'!S23 -> 0
E14: Total weight | G14: ='PU holds'!V88+'Macros Fiberglass'!P44+'PE holds'!Q23 -> 0
E16: Hold by size | G16: XS | H16: S | I16: M | J16: L | K16: XL | L16: MEGA | M16: GIGA
E17: pcs | G17: ='PU holds'!AQ88 -> 0 | H17: ='PU holds'!AR88 -> 0 | I17: ='PU holds'!AS88 -> 0 | J17: ='PU holds'!AT88 -> 0 | K17: ='PU holds'!AU88 -> 0 | L17: ='PU holds'!AV88 -> 0 | M17: ='PU holds'!AW88 -> 0
E18: % | G18: =IFERROR(G17/$G$12,0) -> 0 | H18: =IFERROR(H17/$G$12,0) -> 0 | I18: =IFERROR(I17/$G$12,0) -> 0 | J18: =IFERROR(J17/$G$12,0) -> 0 | K18: =IFERROR(K17/$G$12,0) -> 0 | L18: =IFERROR(L17/$G$12,0) -> 0 | M18: =IFERROR(M17/$G$12,0) -> 0
E20: Holds by grip | G20: Footholds | H20: Jugs | I20: Edges | J20: Slopers | K20: Pinches | L20: Pockets
E21: pcs | G21: ='PU holds'!BE88 -> 0 | H21: ='PU holds'!BF88 -> 0 | I21: ='PU holds'!BG88 -> 0 | J21: ='PU holds'!BH88 -> 0 | K21: ='PU holds'!BI88 -> 0 | L21: ='PU holds'!BJ88 -> 0
E22: % | G22: =IFERROR(G21/$G$12,0) -> 0 | H22: =IFERROR(H21/$G$12,0) -> 0 | I22: =IFERROR(I21/$G$12,0) -> 0 | J22: =IFERROR(J21/$G$12,0) -> 0 | K22: =IFERROR(K21/$G$12,0) -> 0 | L22: =IFERROR(L21/$G$12,0) -> 0
E24: Holds by color | G24: =SUMPRODUCT('PU holds'!I2:I87,'PU holds'!$AX$2:$AX$87)+SUMPRODUCT('PE holds'!I2:I22,'PE holds'!AS2:AS22) -> 0 | H24: =SUMPRODUCT('PU holds'!J2:J87,'PU holds'!$AX$2:$AX$87)+SUMPRODUCT('PE holds'!J2:J22,'PE holds'!AS2:AS22) -> 0 | I24: =SUMPRODUCT('PU holds'!K2:K87,'PU holds'!$AX$2:$AX$87)+SUMPRODUCT('PE holds'!K2:K22,'PE holds'!AS2:AS22) -> 0 | J24: =SUMPRODUCT('PU holds'!L2:L87,'PU holds'!$AX$2:$AX$87)+SUMPRODUCT('PE holds'!L2:L22,'PE holds'!AS2:AS22) -> 0 | K24: =SUMPRODUCT('PU holds'!M2:M87,'PU holds'!$AX$2:$AX$87)+SUMPRODUCT('PE holds'!M2:M22,'PE holds'!AS2:AS22) -> 0 | L24: =SUMPRODUCT('PU holds'!N2:N87,'PU holds'!$AX$2:$AX$87) -> 0 | M24: =SUMPRODUCT('PU holds'!O2:O87,'PU holds'!$AX$2:$AX$87) -> 0 | N24: =SUMPRODUCT('PU holds'!P2:P87,'PU holds'!$AX$2:$AX$87)+SUMPRODUCT('PE holds'!M2:M22,'PE holds'!AS2:AS22) -> 0 | O24: =SUMPRODUCT('PU holds'!Q2:Q87,'PU holds'!$AX$2:$AX$87)+SUMPRODUCT('PE holds'!N2:N22,'PE holds'!AS2:AS22) -> 0 | P24: =SUMPRODUCT('PU holds'!R2:R87,'PU holds'!$AX$2:$AX$87) -> 0 | Q24: =SUMPRODUCT('PU holds'!S2:S87,'PU holds'!$AX$2:$AX$87) -> 0 | R24: =SUMPRODUCT('PU holds'!T2:T87,'PU holds'!$AX$2:$AX$87)+SUMPRODUCT('PE holds'!O2:O22,'PE holds'!AS2:AS22) -> 0
E25: % | G25: =IFERROR(G24/$G$12,0) -> 0 | H25: =IFERROR(H24/$G$12,0) -> 0 | I25: =IFERROR(I24/$G$12,0) -> 0 | J25: =IFERROR(J24/$G$12,0) -> 0 | K25: =IFERROR(K24/$G$12,0) -> 0 | L25: =IFERROR(L24/$G$12,0) -> 0 | M25: =IFERROR(M24/$G$12,0) -> 0 | N25: =IFERROR(N24/$G$12,0) -> 0 | ... R25: =IFERROR(R24/$G$12,0) -> 0
E27: Required bolts (M10 Cap head bolt) | G27: 40 | H27: 50 | I27: 60 | J27: 70 | K27: 80 | L27: 90 | M27: 100 | N27: 120 | O27: 140 | P27: 160 | Q27: 233 | R27: Total
E28: pcs | G28: ='PU holds'!BK88+'PE holds'!BF20 -> 0 | H28: ='PU holds'!BL88+'PE holds'!BG20 -> 0 | I28: ='PU holds'!BM88+'PE holds'!BH20 -> 0 | J28: ='PU holds'!BN88+'PE holds'!BI20 -> 0 | K28: ='PU holds'!BO88+'PE holds'!BJ20 -> 0 | L28: ='PU holds'!BP88+'PE holds'!BK20 -> 0 | M28: ='PU holds'!BQ88 -> 0 | N28: ='PU holds'!BR88 -> 0 | O28: ='PU holds'!BS88 -> 0 | P28: ='PU holds'!BT88 -> 0 | Q28: ='PU holds'!BU88 -> 0 | R28: =SUM(G28:Q28) -> 0
B29: =FALSE() -> FALSE
B31: *All listed prices are in EURO, without VAT and shipping fees. We accept payments via bank transfers or credit/debit card. Please use the tabs below to select your climbing holds and macros. Email your complete order to tz.bonev@holdsandwalls.at If you need mats or matting solutions mail your inquiry to sales@topmat.at

Sheet PU holds
A1: Ref. No. | B1: Set name | C1: Grip type | D1: Size | E1: View picture | F1: Total holds/set | G1: Price (EUR) | H1: Set | I1: Yellow | J1: Red | K1: Blue | L1: Black | M1: Fluoro Orange | N1: Fluoro Green | O1: Fluoro Pink | P1: Signal violet | Q1: Mint 6027 | R1: Green dark (US) | S1: Green light (US) | T1: White* | U1: Weight (kg.) | V1: Total weight (kg.) | W1: Total Amount | Y1: 40 | Z1: 50 | AA1: 60 | AB1: 70 | AC1: 80 | AD1: 90 | AE1: 100 | AF1: 120 | AG1: 140 | AH1: 160 | AI1: 233 | AJ1: XS | AK1: S | AL1: M | AM1: L | AN1: XL | AO1: MEGA | AP1: GIGA | AQ1: XS | AR1: S | AS1: M | AT1: L | AU1: XL | AV1: MEGA | AW1: GIGA | AX1: colors | AY1: Footholds | AZ1: Jugs | BA1: Edges | BB1: Slopers | BC1: Pinches | BD1: Pockets | BE1: Footholds | BF1: Jugs | BG1: Edges | BH1: Slopers | BI1: Pinches | BJ1: Pockets | BK1: 40 | BL1: 50 | BM1: 60 | BN1: 70 | BO1: 80 | BP1: 90 | BQ1: 100 | BR1: 120 | BS1: 140 | BT1: 160 | BU1: 233
A2: 17479 | B2: Obsidian - L Pinches Hard | C2: Slopers | D2: L | F2: 7 | G2: 226.464 | H2: =SUM(I2:T2) -> 0 | U2: 2.675 | V2: =H2*U2 -> 0 | W2: =H2*G2 -> 0 | X2: =F2*H2 -> 0 | AQ2: =AJ2*H2 -> 0 | AR2: =AK2*$H$2 -> 0 | AS2: =AL2*$H$2 -> 0 | AT2: =AM2*$H$2 -> 0 | AU2: =AN2*$H$2 -> 0 | AV2: =AO2*$H$2 -> 0 | AW2: =AP2*$H$2 -> 0 | AX2: =SUM(AJ2:AP2) -> 0 | BE2: =AY2*$H$2 -> 0 | BF2: =AZ2*$H$2 -> 0 | BG2: =BA2*$H$2 -> 0 | BH2: =BB2*$H$2 -> 0 | BI2: =BC2*$H$2 -> 0 | BJ2: =BD2*$H$2 -> 0 | BK2: =Y2*$H$2 -> 0 | BL2: =Z2*$H$2 -> 0 | BM2: =AA2*$H$2 -> 0 | BN2: =AB2*$H$2 -> 0 | BO2: =AC2*$H$2 -> 0 | BP2: =AD2*$H$2 -> 0 | BQ2: =AE2*$H$2 -> 0 | BR2: =AF2*$H$2 -> 0 | ... BU2: =AI2*$H$2 -> 0
A3: 17480 | B3: Obsidian – L Pinches Positive | C3: Slopers | D3: L | F3: 7 | G3: 271.544 | H3: =SUM(I3:T3) -> 0 | U3: 3.423 | V3: =H3*U3 -> 0 | W3: =H3*G3 -> 0 | X3: =F3*H3 -> 0 | AQ3: =AJ3*H3 -> 0 | AR3: =AK3*$H$3 -> 0 | AS3: =AL3*$H$3 -> 0 | AT3: =AM3*$H$3 -> 0 | AU3: =AN3*$H$3 -> 0 | AV3: =AO3*$H$3 -> 0 | AW3: =AP3*$H$3 -> 0 | AX3: =SUM(AJ3:AP3) -> 0 | BE3: =AY3*$H$3 -> 0 | BF3: =AZ3*$H$3 -> 0 | BG3: =BA3*$H$3 -> 0 | BH3: =BB3*$H$3 -> 0 | BI3: =BC3*$H$3 -> 0 | BJ3: =BD3*$H$3 -> 0 | BK3: =Y3*$H$3 -> 0 | BL3: =Z3*$H$3 -> 0 | BM3: =AA3*$H$3 -> 0 | BN3: =AB3*$H$3 -> 0 | BO3: =AC3*$H$3 -> 0 | BP3: =AD3*$H$3 -> 0 | BQ3: =AE3*$H$3 -> 0 | BR3: =AF3*$H$3 -> 0 | ... BU3: =AI3*$H$3 -> 0
A4: 11814 | B4: Obsidian - M Edges Hard | C4: Slopers | D4: M | F4: 7 | G4: 146.02 | H4: =SUM(I4:T4) -> 0 | U4: 2.403 | V4: =H4*U4 -> 0 | W4: =H4*G4 -> 0 | X4: =F4*H4 -> 0 | AQ4: =AJ4*$H$4 -> 0 | AR4: =AK4*$H$4 -> 0 | AS4: =AL4*$H$4 -> 0 | AT4: =AM4*$H$4 -> 0 | AU4: =AN4*$H$4 -> 0 | AV4: =AO4*$H$4 -> 0 | AW4: =AP4*$H$4 -> 0 | AX4: =SUM(AJ4:AP4) -> 0 | BE4: =AY4*$H$4 -> 0 | BF4: =AZ4*$H$4 -> 0 | BG4: =BA4*$H$4 -> 0 | BH4: =BB4*$H$4 -> 0 | BI4: =BC4*$H$4 -> 0 | BJ4: =BD4*$H$4 -> 0 | BK4: =Y4*$H$4 -> 0 | BL4: =Z4*$H$4 -> 0 | BM4: =AA4*$H$4 -> 0 | BN4: =AB4*$H$4 -> 0 | BO4: =AC4*$H$4 -> 0 | BP4: =AD4*$H$4 -> 0 | BQ4: =AE4*$H$4 -> 0 | BR4: =AF4*$H$4 -> 0 | ... BU4: =AI4*$H$4 -> 0
A5: 11815 | B5: Obsidian - M Edges Positive | C5: Slopers | D5: M | F5: 8 | G5: 141.652 | H5: =SUM(I5:T5) -> 0 | U5: 2.237 | V5: =H5*U5 -> 0 | W5: =H5*G5 -> 0 | X5: =F5*H5 -> 0 | AQ5: =AJ5*$H$5 -> 0 | AR5: =AK5*$H$5 -> 0 | AS5: =AL5*$H$5 -> 0 | AT5: =AM5*$H$5 -> 0 | AU5: =AN5*$H$5 -> 0 | AV5: =AO5*$H$5 -> 0 | AW5: =AP5*$H$5 -> 0 | AX5: =SUM(AJ5:AP5) -> 0 | BE5: =AY5*$H$5 -> 0 | BF5: =AZ5*$H$5 -> 0 | BG5: =BA5*$H$5 -> 0 | BH5: =BB5*$H$5 -> 0 | BI5: =BC5*$H$5 -> 0 | BJ5: =BD5*$H$5 -> 0 | BK5: =Y5*$H$5 -> 0 | BL5: =Z5*$H$5 -> 0 | BM5: =AA5*$H$5 -> 0 | BN5: =AB5*$H$5 -> 0 | BO5: =AC5*$H$5 -> 0 | BP5: =AD5*$H$5 -> 0 | BQ5: =AE5*$H$5 -> 0 | BR5: =AF5*$H$5 -> 0 | ... BU5: =AI5*$H$5 -> 0
A6: 11511 | B6: Obsidian - Mega Sloper 1 | C6: Pinches | D6: Mega | F6: 1 | G6: 153.02 | H6: =SUM(I6:T6) -> 0 | U6: 2.228 | V6: =H6*U6 -> 0 | W6: =H6*G6 -> 0 | X6: =F6*H6 -> 0 | AQ6: =AJ6*$H$6 -> 0 | AR6: =AK6*$H$6 -> 0 | AS6: =AL6*$H$6 -> 0 | AT6: =AM6*$H$6 -> 0 | AU6: =AN6*$H$6 -> 0 | AV6: =AO6*$H$6 -> 0 | AW6: =AP6*$H$6 -> 0 | AX6: =SUM(AJ6:AP6) -> 0 | BE6: =AY6*$H$6 -> 0 | BF6: =AZ6*$H$6 -> 0 | BG6: =BA6*$H$6 -> 0 | BH6: =BB6*$H$6 -> 0 | BI6: =BC6*$H$6 -> 0 | BJ6: =BD6*$H$6 -> 0 | BK6: =Y6*$H$6 -> 0 | BL6: =Z6*$H$6 -> 0 | BM6: =AA6*$H$6 -> 0 | BN6: =AB6*$H$6 -> 0 | BO6: =AC6*$H$6 -> 0 | BP6: =AD6*$H$6 -> 0 | BQ6: =AE6*$H$6 -> 0 | BR6: =AF6*$H$6 -> 0 | ... BU6: =AI6*$H$6 -> 0
A7: 11368 | B7: Obsidian - Mega Sloper 2 | C7: Pinches | D7: Mega | F7: 1 | G7: 84.196 | H7: =SUM(I7:T7) -> 0 | U7: 1.083 | V7: =H7*U7 -> 0 | W7: =H7*G7 -> 0 | X7: =F7*H7 -> 0 | AQ7: =AJ7*$H$7 -> 0 | AR7: =AK7*$H$7 -> 0 | AS7: =AL7*$H$7 -> 0 | AT7: =AM7*$H$7 -> 0 | AU7: =AN7*$H$7 -> 0 | AV7: =AO7*$H$7 -> 0 | AW7: =AP7*$H$7 -> 0 | AX7: =SUM(AJ7:AP7) -> 0 | BE7: =AY7*$H$7 -> 0 | BF7: =AZ7*$H$7 -> 0 | BG7: =BA7*$H$7 -> 0 | BH7: =BB7*$H$7 -> 0 | BI7: =BC7*$H$7 -> 0 | BJ7: =BD7*$H$7 -> 0 | BK7: =Y7*$H$7 -> 0 | BL7: =Z7*$H$7 -> 0 | BM7: =AA7*$H$7 -> 0 | BN7: =AB7*$H$7 -> 0 | BO7: =AC7*$H$7 -> 0 | BP7: =AD7*$H$7 -> 0 | BQ7: =AE7*$H$7 -> 0 | BR7: =AF7*$H$7 -> 0 | ... BU7: =AI7*$H$7 -> 0
A8: 11113 | B8: Obsidian - S Edges Screw On | C8: Footholds | D8: S | F8: 10 | G8: 90.552 | H8: =SUM(I8:T8) -> 0 | U8: 1.122 | V8: =H8*U8 -> 0 | W8: =H8*G8 -> 0 | X8: =F8*H8 -> 0 | AQ8: =AJ8*$H$8 -> 0 | AR8: =AK8*$H$8 -> 0 | AS8: =AL8*$H$8 -> 0 | AT8: =AM8*$H$8 -> 0 | AU8: =AN8*$H$8 -> 0 | AV8: =AO8*$H$8 -> 0 | AW8: =AP8*$H$8 -> 0 | AX8: =SUM(AJ8:AP8) -> 0 | BE8: =AY8*$H$8 -> 0 | BF8: =AZ8*$H$8 -> 0 | BG8: =BA8*$H$8 -> 0 | BH8: =BB8*$H$8 -> 0 | BI8: =BC8*$H$8 -> 0 | BJ8: =BD8*$H$8 -> 0 | BK8: =Y8*$H$8 -> 0 | BL8: =Z8*$H$8 -> 0 | BM8: =AA8*$H$8 -> 0 | BN8: =AB8*$H$8 -> 0 | BO8: =AC8*$H$8 -> 0 | BP8: =AD8*$H$8 -> 0 | BQ8: =AE8*$H$8 -> 0 | BR8: =AF8*$H$8 -> 0 | ... BU8: =AI8*$H$8 -> 0
A9: 11369 | B9: Obsidian - XL Slopers 1 | C9: Edges | D9: XL | F9: 3 | G9: 151.956 | H9: =SUM(I9:T9) -> 0 | U9: 2.04 | V9: =H9*U9 -> 0 | W9: =H9*G9 -> 0 | X9: =F9*H9 -> 0 | AQ9: =AJ9*$H$9 -> 0 | AR9: =AK9*$H$9 -> 0 | AS9: =AL9*$H$9 -> 0 | AT9: =AM9*$H$9 -> 0 | AU9: =AN9*$H$9 -> 0 | AV9: =AO9*$H$9 -> 0 | AW9: =AP9*$H$9 -> 0 | AX9: =SUM(AJ9:AP9) -> 0 | BE9: =AY9*$H$9 -> 0 | BF9: =AZ9*$H$9 -> 0 | BG9: =BA9*$H$9 -> 0 | BH9: =BB9*$H$9 -> 0 | BI9: =BC9*$H$9 -> 0 | BJ9: =BD9*$H$9 -> 0 | BK9: =Y9*$H$9 -> 0 | BL9: =Z9*$H$9 -> 0 | BM9: =AA9*$H$9 -> 0 | BN9: =AB9*$H$9 -> 0 | BO9: =AC9*$H$9 -> 0 | BP9: =AD9*$H$9 -> 0 | BQ9: =AE9*$H$9 -> 0 | BR9: =AF9*$H$9 -> 0 | ... BU9: =AI9*$H$9 -> 0
A10: 11457 | B10: Obsidian - XL Slopers 2 | C10: Edges | D10: XL | F10: 4 | G10: 203.728 | H10: =SUM(I10:T10) -> 0 | U10: 2.935 | V10: =H10*U10 -> 0 | W10: =H10*G10 -> 0 | X10: =F10*H10 -> 0 | AQ10: =AJ10*$H$10 -> 0 | AR10: =AK10*$H$10 -> 0 | AS10: =AL10*$H$10 -> 0 | AT10: =AM10*$H$10 -> 0 | AU10: =AN10*$H$10 -> 0 | AV10: =AO10*$H$10 -> 0 | AW10: =AP10*$H$10 -> 0 | AX10: =SUM(AJ10:AP10) -> 0 | BE10: =AY10*$H$10 -> 0 | BF10: =AZ10*$H$10 -> 0 | BG10: =BA10*$H$10 -> 0 | BH10: =BB10*$H$10 -> 0 | BI10: =BC10*$H$10 -> 0 | BJ10: =BD10*$H$10 -> 0 | BK10: =Y10*$H$10 -> 0 | BL10: =Z10*$H$10 -> 0 | BM10: =AA10*$H$10 -> 0 | BN10: =AB10*$H$10 -> 0 | BO10: =AC10*$H$10 -> 0 | BP10: =AD10*$H$10 -> 0 | BQ10: =AE10*$H$10 -> 0 | BR10: =AF10*$H$10 -> 0 | ... BU10: =AI10*$H$10 -> 0
A11: 11096 | B11: Obsidian - XS Footholds | C11: Edges | D11: XS | F11: 10 | G11: 57.484 | H11: =SUM(I11:T11) -> 0 | U11: 0.428 | V11: =H11*U11 -> 0 | W11: =H11*G11 -> 0 | X11: =F11*H11 -> 0 | AQ11: =AJ11*$H$11 -> 0 | AR11: =AK11*$H$11 -> 0 | AS11: =AL11*$H$11 -> 0 | AT11: =AM11*$H$11 -> 0 | AU11: =AN11*$H$11 -> 0 | AV11: =AO11*$H$11 -> 0 | AW11: =AP11*$H$11 -> 0 | AX11: =SUM(AJ11:AP11) -> 0 | BE11: =AY11*$H$11 -> 0 | BF11: =AZ11*$H$11 -> 0 | BG11: =BA11*$H$11 -> 0 | BH11: =BB11*$H$11 -> 0 | BI11: =BC11*$H$11 -> 0 | BJ11: =BD11*$H$11 -> 0 | BK11: =Y11*$H$11 -> 0 | BL11: =Z11*$H$11 -> 0 | BM11: =AA11*$H$11 -> 0 | BN11: =AB11*$H$11 -> 0 | BO11: =AC11*$H$11 -> 0 | BP11: =AD11*$H$11 -> 0 | BQ11: =AE11*$H$11 -> 0 | BR11: =AF11*$H$11 -> 0 | ... BU11: =AI11*$H$11 -> 0
B12: Obsidian - Full Line | D12: - | E12: view | F12: =SUM(F2:F11) -> 58 | G12: =SUM(G2:G11) -> 1526.616 | H12: =SUM(I12:T12) -> 0 | U12: =SUM(U2:U11) -> 20.574 | V12: =H12*U12 -> 0 | W12: =H12*G12 -> 0 | X12: =F12*H12 -> 0 | AQ12: =AJ12*$H$12 -> 0 | AR12: =AK12*$H$12 -> 0 | AS12: =AL12*$H$12 -> 0 | AT12: =AM12*$H$12 -> 0 | AU12: =AN12*$H$12 -> 0 | AV12: =AO12*$H$12 -> 0 | AW12: =AP12*$H$12 -> 0 | AX12: =SUM(AJ12:AP12) -> 0 | BE12: =AY12*$H$12 -> 0 | BF12: =AZ12*$H$12 -> 0 | BG12: =BA12*$H$12 -> 0 | BH12: =BB12*$H$12 -> 0 | BI12: =BC12*$H$12 -> 0 | BJ12: =BD12*$H$12 -> 0 | BK12: =SUM($I12:$T12)*Y12 -> 0 | BL12: =SUM($I12:$T12)*Z12 -> 0 | BM12: =SUM($I12:$T12)*AA12 -> 0 | BN12: =SUM($I12:$T12)*AB12 -> 0 | BO12: =SUM($I12:$T12)*AC12 -> 0 | BP12: =SUM($I12:$T12)*AD12 -> 0 | BQ12: =SUM($I12:$T12)*AE12 -> 0 | BR12: =SUM($I12:$T12)*AF12 -> 0 | ... BU12: =SUM($I12:$T12)*AI12 -> 0
A13: 10852 | B13: Take it easy – L Jugs | C13: Jugs | D13: L | F13: 6 | G13: 160.3 | H13: =SUM(I13:T13) -> 0 | U13: 3.059 | V13: =H13*U13 -> 0 | W13: =H13*G13 -> 0 | X13: =F13*H13 -> 0 | AQ13: =AJ13*$H$13 -> 0 | AR13: =AK13*$H$13 -> 0 | AS13: =AL13*$H$13 -> 0 | AT13: =AM13*$H$13 -> 0 | AU13: =AN13*$H$13 -> 0 | AV13: =AO13*$H$13 -> 0 | AW13: =AP13*$H$13 -> 0 | AX13: =SUM(AJ13:AP13) -> 0 | BE13: =AY13*$H$13 -> 0 | BF13: =AZ13*$H$13 -> 0 | BG13: =BA13*$H$13 -> 0 | BH13: =BB13*$H$13 -> 0 | BI13: =BC13*$H$13 -> 0 | BJ13: =BD13*$H$13 -> 0 | BK13: =Y13*$H$13 -> 0 | BL13: =Z13*$H$13 -> 0 | BM13: =AA13*$H$13 -> 0 | BN13: =AB13*$H$13 -> 0 | BO13: =AC13*$H$13 -> 0 | BP13: =AD13*$H$13 -> 0 | BQ13: =AE13*$H$13 -> 0 | BR13: =AF13*$H$13 -> 0 | ... BU13: =AI13*$H$13 -> 0
A14: 10837 | B14: Take it easy – M Jugs | C14: Jugs | D14: M | F14: 30 | G14: 433.524 | H14: =SUM(I14:T14) -> 0 | U14: 7.126 | V14: =H14*U14 -> 0 | W14: =H14*G14 -> 0 | X14: =F14*H14 -> 0 | AQ14: =AJ14*$H$14 -> 0 | AR14: =AK14*$H$14 -> 0 | AS14: =AL14*$H$14 -> 0 | AT14: =AM14*$H$14 -> 0 | AU14: =AN14*$H$14 -> 0 | AV14: =AO14*$H$14 -> 0 | AW14: =AP14*$H$14 -> 0 | AX14: =SUM(AJ14:AP14) -> 0 | BE14: =AY14*$H$14 -> 0 | BF14: =AZ14*$H$14 -> 0 | BG14: =BA14*$H$14 -> 0 | BH14: =BB14*$H$14 -> 0 | BI14: =BC14*$H$14 -> 0 | BJ14: =BD14*$H$14 -> 0 | BK14: =Y14*$H$14 -> 0 | BL14: =Z14*$H$14 -> 0 | BM14: =AA14*$H$14 -> 0 | BN14: =AB14*$H$14 -> 0 | BO14: =AC14*$H$14 -> 0 | BP14: =AD14*$H$14 -> 0 | BQ14: =AE14*$H$14 -> 0 | BR14: =AF14*$H$14 -> 0 | ... BU14: =AI14*$H$14 -> 0
A15: 11022 | B15: Take it easy – S Jugs | C15: Jugs | D15: S | F15: 20 | G15: 225.764 | H15: =SUM(I15:T15) -> 0 | U15: 3.354 | V15: =H15*U15 -> 0 | W15: =H15*G15 -> 0 | X15: =F15*H15 -> 0 | AQ15: =AJ15*$H$15 -> 0 | AR15: =AK15*$H$15 -> 0 | AS15: =AL15*$H$15 -> 0 | AT15: =AM15*$H$15 -> 0 | AU15: =AN15*$H$15 -> 0 | AV15: =AO15*$H$15 -> 0 | AW15: =AP15*$H$15 -> 0 | AX15: =SUM(AJ15:AP15) -> 0 | BE15: =AY15*$H$15 -> 0 | BF15: =AZ15*$H$15 -> 0 | BG15: =BA15*$H$15 -> 0 | BH15: =BB15*$H$15 -> 0 | BI15: =BC15*$H$15 -> 0 | BJ15: =BD15*$H$15 -> 0 | BK15: =Y15*$H$15 -> 0 | BL15: =Z15*$H$15 -> 0 | BM15: =AA15*$H$15 -> 0 | BN15: =AB15*$H$15 -> 0 | BO15: =AC15*$H$15 -> 0 | BP15: =AD15*$H$15 -> 0 | BQ15: =AE15*$H$15 -> 0 | BR15: =AF15*$H$15 -> 0 | ... BU15: =AI15*$H$15 -> 0
A16: 10877 | B16: Take it easy – XL Jugs | C16: Jugs | D16: XL | F16: 4 | G16: 154.896 | H16: =SUM(I16:T16) -> 0 | U16: 3.101 | V16: =H16*U16 -> 0 | W16: =H16*G16 -> 0 | X16: =F16*H16 -> 0 | AQ16: =AJ16*$H$16 -> 0 | AR16: =AK16*$H$16 -> 0 | AS16: =AL16*$H$16 -> 0 | AT16: =AM16*$H$16 -> 0 | AU16: =AN16*$H$16 -> 0 | AV16: =AO16*$H$16 -> 0 | AW16: =AP16*$H$16 -> 0 | AX16: =SUM(AJ16:AP16) -> 0 | BE16: =AY16*$H$16 -> 0 | BF16: =AZ16*$H$16 -> 0 | BG16: =BA16*$H$16 -> 0 | BH16: =BB16*$H$16 -> 0 | BI16: =BC16*$H$16 -> 0 | BJ16: =BD16*$H$16 -> 0 | BK16: =Y16*$H$16 -> 0 | BL16: =Z16*$H$16 -> 0 | BM16: =AA16*$H$16 -> 0 | BN16: =AB16*$H$16 -> 0 | BO16: =AC16*$H$16 -> 0 | BP16: =AD16*$H$16 -> 0 | BQ16: =AE16*$H$16 -> 0 | BR16: =AF16*$H$16 -> 0 | ... BU16: =AI16*$H$16 -> 0
B17: Take it easy - Full Line | D17: - | E17: view | F17: =SUM(F13:F16) -> 60 | G17: =SUM(G13:G16) -> 974.484 | H17: =SUM(I17:T17) -> 0 | U17: =SUM(U13:U16) -> 16.64 | V17: =H17*U17 -> 0 | W17: =H17*G17 -> 0 | X17: =F17*H17 -> 0 | Y17: =SUM(Y13:Y16) -> 0 | Z17: =SUM(Z13:Z16) -> 0 | AA17: =SUM(AA13:AA16) -> 0 | AB17: =SUM(AB13:AB16) -> 0 | AC17: =SUM(AC13:AC16) -> 0 | AD17: =SUM(AD13:AD16) -> 0 | AE17: =SUM(AE13:AE16) -> 0 | AF17: =SUM(AF13:AF16) -> 0 | ... AP17: =SUM(AP13:AP16) -> 0 | AQ17: =AJ17*$H$17 -> 0 | AR17: =AK17*$H$17 -> 0 | AS17: =AL17*$H$17 -> 0 | AT17: =AM17*$H$17 -> 0 | AU17: =AN17*$H$17 -> 0 | AV17: =AO17*$H$17 -> 0 | AW17: =AP17*$H$17 -> 0 | AX17: =SUM(AJ17:AP17) -> 0 | AY17: =SUM(AY13:AY16) -> 0 | AZ17: =SUM(AZ13:AZ16) -> 0 | BA17: =SUM(BA13:BA16) -> 0 | BB17: =SUM(BB13:BB16) -> 0 | BC17: =SUM(BC13:BC16) -> 0 | BD17: =SUM(BD13:BD16) -> 0 | BE17: =AY17*$H$17 -> 0 | BF17: =AZ17*$H$17 -> 0 | BG17: =BA17*$H$17 -> 0 | BH17: =BB17*$H$17 -> 0 | BI17: =BC17*$H$17 -> 0 | BJ17: =BD17*$H$17 -> 0 | BK17: =SUM($I17:$T17)*Y17 -> 0 | BL17: =SUM($I17:$T17)*Z17 -> 0 | BM17: =SUM($I17:$T17)*AA17 -> 0 | BN17: =SUM($I17:$T17)*AB17 -> 0 | BO17: =SUM($I17:$T17)*AC17 -> 0 | BP17: =SUM($I17:$T17)*AD17 -> 0 | BQ17: =SUM($I17:$T17)*AE17 -> 0 | BR17: =SUM($I17:$T17)*AF17 -> 0 | ... BU17: =SUM($I17:$T17)*AI17 -> 0
A18: 10878 | B18: Petra - L Jugs | C18: Pinches | D18: Mega | F18: 8 | G18: 210 | H18: =SUM(I18:T18) -> 0 | U18: 4.036 | V18: =H18*U18 -> 0 | W18: =H18*G18 -> 0 | X18: =F18*H18 -> 0 | AQ18: =AJ18*$H$18 -> 0 | AR18: =AK18*$H$18 -> 0 | AS18: =AL18*$H$18 -> 0 | AT18: =AM18*$H$18 -> 0 | AU18: =AN18*$H$18 -> 0 | AV18: =AO18*$H$18 -> 0 | AW18: =AP18*$H$18 -> 0 | AX18: =SUM(AJ18:AP18) -> 0 | BE18: =AY18*$H$18 -> 0 | BF18: =AZ18*$H$18 -> 0 | BG18: =BA18*$H$18 -> 0 | BH18: =BB18*$H$18 -> 0 | BI18: =BC18*$H$18 -> 0 | BJ18: =BD18*$H$18 -> 0 | BK18: =Y18*$H$18 -> 0 | BL18: =Z18*$H$18 -> 0 | BM18: =AA18*$H$18 -> 0 | BN18: =AB18*$H$18 -> 0 | BO18: =AC18*$H$18 -> 0 | BP18: =AD18*$H$18 -> 0 | BQ18: =AE18*$H$18 -> 0 | BR18: =AF18*$H$18 -> 0 | ... BU18: =AI18*$H$18 -> 0
A19: 10835 | B19: Petra – M Edges | C19: Pinches | D19: Mega | F19: 12 | G19: 239.876 | H19: =SUM(I19:T19) -> 0 | U19: 4.293 | V19: =H19*U19 -> 0 | W19: =H19*G19 -> 0 | X19: =F19*H19 -> 0 | AQ19: =AJ19*$H$19 -> 0 | AR19: =AK19*$H$19 -> 0 | AS19: =AL19*$H$19 -> 0 | AT19: =AM19*$H$19 -> 0 | AU19: =AN19*$H$19 -> 0 | AV19: =AO19*$H$19 -> 0 | AW19: =AP19*$H$19 -> 0 | AX19: =SUM(AJ19:AP19) -> 0 | BE19: =AY19*$H$19 -> 0 | BF19: =AZ19*$H$19 -> 0 | BG19: =BA19*$H$19 -> 0 | BH19: =BB19*$H$19 -> 0 | BI19: =BC19*$H$19 -> 0 | BJ19: =BD19*$H$19 -> 0 | BK19: =Y19*$H$19 -> 0 | BL19: =Z19*$H$19 -> 0 | BM19: =AA19*$H$19 -> 0 | BN19: =AB19*$H$19 -> 0 | BO19: =AC19*$H$19 -> 0 | BP19: =AD19*$H$19 -> 0 | BQ19: =AE19*$H$19 -> 0 | BR19: =AF19*$H$19 -> 0 | ... BU19: =AI19*$H$19 -> 0
A20: 10827 | B20: Petra – M Pockets | C20: Slopers | D20: XL | F20: 8 | G20: 152.208 | H20: =SUM(I20:T20) -> 0 | U20: 2.726 | V20: =H20*U20 -> 0 | W20: =H20*G20 -> 0 | X20: =F20*H20 -> 0 | AQ20: =AJ20*$H$20 -> 0 | AR20: =AK20*$H$20 -> 0 | AS20: =AL20*$H$20 -> 0 | AT20: =AM20*$H$20 -> 0 | AU20: =AN20*$H$20 -> 0 | AV20: =AO20*$H$20 -> 0 | AW20: =AP20*$H$20 -> 0 | AX20: =SUM(AJ20:AP20) -> 0 | BE20: =AY20*$H$20 -> 0 | BF20: =AZ20*$H$20 -> 0 | BG20: =BA20*$H$20 -> 0 | BH20: =BB20*$H$20 -> 0 | BI20: =BC20*$H$20 -> 0 | BJ20: =BD20*$H$20 -> 0 | BK20: =Y20*$H$20 -> 0 | BL20: =Z20*$H$20 -> 0 | BM20: =AA20*$H$20 -> 0 | BN20: =AB20*$H$20 -> 0 | BO20: =AC20*$H$20 -> 0 | BP20: =AD20*$H$20 -> 0 | BQ20: =AE20*$H$20 -> 0 | BR20: =AF20*$H$20 -> 0 | ... BU20: =AI20*$H$20 -> 0
A21: 10876 | B21: Petra – Mega Pinch 1 | C21: Pockets | D21: M | F21: 1 | G21: 133.308 | H21: =SUM(I21:T21) -> 0 | U21: 2.128 | V21: =H21*U21 -> 0 | W21: =H21*G21 -> 0 | X21: =F21*H21 -> 0 | AQ21: =AJ21*$H$21 -> 0 | AR21: =AK21*$H$21 -> 0 | AS21: =AL21*$H$21 -> 0 | AT21: =AM21*$H$21 -> 0 | AU21: =AN21*$H$21 -> 0 | AV21: =AO21*$H$21 -> 0 | AW21: =AP21*$H$21 -> 0 | AX21: =SUM(AJ21:AP21) -> 0 | BE21: =AY21*$H$21 -> 0 | BF21: =AZ21*$H$21 -> 0 | BG21: =BA21*$H$21 -> 0 | BH21: =BB21*$H$21 -> 0 | BI21: =BC21*$H$21 -> 0 | BJ21: =BD21*$H$21 -> 0 | BK21: =Y21*$H$21 -> 0 | BL21: =Z21*$H$21 -> 0 | BM21: =AA21*$H$21 -> 0 | BN21: =AB21*$H$21 -> 0 | BO21: =AC21*$H$21 -> 0 | BP21: =AD21*$H$21 -> 0 | BQ21: =AE21*$H$21 -> 0 | BR21: =AF21*$H$21 -> 0 | ... BU21: =AI21*$H$21 -> 0
A22: 10909 | B22: Petra – Mega Pinch 2 | C22: Jugs | D22: XL | F22: 1 | G22: 131.768 | H22: =SUM(I22:T22) -> 0 | U22: 2.079 | V22: =H22*U22 -> 0 | W22: =H22*G22 -> 0 | X22: =F22*H22 -> 0 | AQ22: =AJ22*$H$22 -> 0 | AR22: =AK22*$H$22 -> 0 | AS22: =AL22*$H$22 -> 0 | AT22: =AM22*$H$22 -> 0 | AU22: =AN22*$H$22 -> 0 | AV22: =AO22*$H$22 -> 0 | AW22: =AP22*$H$22 -> 0 | AX22: =SUM(AJ22:AP22) -> 0 | BE22: =AY22*$H$22 -> 0 | BF22: =AZ22*$H$22 -> 0 | BG22: =BA22*$H$22 -> 0 | BH22: =BB22*$H$22 -> 0 | BI22: =BC22*$H$22 -> 0 | BJ22: =BD22*$H$22 -> 0 | BK22: =Y22*$H$22 -> 0 | BL22: =Z22*$H$22 -> 0 | BM22: =AA22*$H$22 -> 0 | BN22: =AB22*$H$22 -> 0 | BO22: =AC22*$H$22 -> 0 | BP22: =AD22*$H$22 -> 0 | BQ22: =AE22*$H$22 -> 0 | BR22: =AF22*$H$22 -> 0 | ... BU22: =AI22*$H$22 -> 0
A23: 10890 | B23: Petra – XL Jugs | C23: Jugs | D23: L | F23: 3 | G23: 121.996 | H23: =SUM(I23:T23) -> 0 | U23: 2.473 | V23: =H23*U23 -> 0 | W23: =H23*G23 -> 0 | X23: =F23*H23 -> 0 | AQ23: =AJ23*$H$23 -> 0 | AR23: =AK23*$H$23 -> 0 | AS23: =AL23*$H$23 -> 0 | AT23: =AM23*$H$23 -> 0 | AU23: =AN23*$H$23 -> 0 | AV23: =AO23*$H$23 -> 0 | AW23: =AP23*$H$23 -> 0 | AX23: =SUM(AJ23:AP23) -> 0 | BE23: =AY23*$H$23 -> 0 | BF23: =AZ23*$H$23 -> 0 | BG23: =BA23*$H$23 -> 0 | BH23: =BB23*$H$23 -> 0 | BI23: =BC23*$H$23 -> 0 | BJ23: =BD23*$H$23 -> 0 | BK23: =Y23*$H$23 -> 0 | BL23: =Z23*$H$23 -> 0 | BM23: =AA23*$H$23 -> 0 | BN23: =AB23*$H$23 -> 0 | BO23: =AC23*$H$23 -> 0 | BP23: =AD23*$H$23 -> 0 | BQ23: =AE23*$H$23 -> 0 | BR23: =AF23*$H$23 -> 0 | ... BU23: =AI23*$H$23 -> 0
A24: 12518 | B24: Petra – XL Slopers | C24: Edges | D24: M | F24: 3 | G24: 148.904 | H24: =SUM(I24:T24) -> 0 | U24: 1.935 | V24: =H24*U24 -> 0 | W24: =H24*G24 -> 0 | X24: =F24*H24 -> 0 | AQ24: =AJ24*$H$24 -> 0 | AR24: =AK24*$H$24 -> 0 | AS24: =AL24*$H$24 -> 0 | AT24: =AM24*$H$24 -> 0 | AU24: =AN24*$H$24 -> 0 | AV24: =AO24*$H$24 -> 0 | AW24: =AP24*$H$24 -> 0 | AX24: =SUM(AJ24:AP24) -> 0 | BE24: =AY24*$H$24 -> 0 | BF24: =AZ24*$H$24 -> 0 | BG24: =BA24*$H$24 -> 0 | BH24: =BB24*$H$24 -> 0 | BI24: =BC24*$H$24 -> 0 | BJ24: =BD24*$H$24 -> 0 | BK24: =Y24*$H$24 -> 0 | BL24: =Z24*$H$24 -> 0 | BM24: =AA24*$H$24 -> 0 | BN24: =AB24*$H$24 -> 0 | BO24: =AC24*$H$24 -> 0 | BP24: =AD24*$H$24 -> 0 | BQ24: =AE24*$H$24 -> 0 | BR24: =AF24*$H$24 -> 0 | ... BU24: =AI24*$H$24 -> 0
B25: Petra - Full Line | D25: - | E25: view | F25: =SUM(F18:F24) -> 36 | G25: =SUM(G18:G24) -> 1138.06 | H25: =SUM(I25:T25) -> 0 | U25: =SUM(U18:U24) -> 19.67 | V25: =H25*U25 -> 0 | W25: =H25*G25 -> 0 | X25: =F25*H25 -> 0 | Y25: =SUM(X18:X24) -> 0 | Z25: =SUM(Y18:Y24) -> 0 | AA25: =SUM(Z18:Z24) -> 0 | AB25: =SUM(AA18:AA24) -> 0 | AC25: =SUM(AB18:AB24) -> 0 | AD25: =SUM(AC18:AC24) -> 0 | AE25: =SUM(AD18:AD24) -> 0 | AF25: =SUM(AE18:AE24) -> 0 | ... AI25: =SUM(AH18:AH24) -> 0 | AJ25: =SUM(AJ18:AJ24) -> 0 | AK25: =SUM(AK18:AK24) -> 0 | AL25: =SUM(AL18:AL24) -> 0 | AM25: =SUM(AM18:AM24) -> 0 | AN25: =SUM(AN18:AN24) -> 0 | AO25: =SUM(AO18:AO24) -> 0 | AP25: =SUM(AP18:AP24) -> 0 | AQ25: =AJ25*$H$25 -> 0 | AR25: =AK25*$H$25 -> 0 | AS25: =AL25*$H$25 -> 0 | AT25: =AM25*$H$25 -> 0 | AU25: =AN25*$H$25 -> 0 | AV25: =AO25*$H$25 -> 0 | AW25: =AP25*$H$25 -> 0 | AX25: =SUM(AJ25:AP25) -> 0 | AY25: =SUM(AY18:AY24) -> 0 | AZ25: =SUM(AZ18:AZ24) -> 0 | BA25: =SUM(BA18:BA24) -> 0 | BB25: =SUM(BB18:BB24) -> 0 | BC25: =SUM(BC18:BC24) -> 0 | BD25: =SUM(BD18:BD24) -> 0 | BE25: =AY25*$H$25 -> 0 | BF25: =AZ25*$H$25 -> 0 | BG25: =BA25*$H$25 -> 0 | BH25: =BB25*$H$25 -> 0 | BI25: =BC25*$H$25 -> 0 | BJ25: =BD25*$H$25 -> 0 | BK25: =Y25*$H$25 -> 0 | BL25: =Z25*$H$25 -> 0 | BM25: =AA25*$H$25 -> 0 | BN25: =AB25*$H$25 -> 0 | BO25: =AC25*$H$25 -> 0 | BP25: =AD25*$H$25 -> 0 | BQ25: =AE25*$H$25 -> 0 | BR25: =AF25*$H$25 -> 0 | ... BU25: =AI25*$H$25 -> 0
A26: 17070 | B26: Rubble - Crimps S-M screw-on | C26: Edges | D26: S-M | F26: 10 | G26: 148.344 | H26: =SUM(I26:T26) -> 0 | U26: 2.461 | V26: =H26*U26 -> 0 | W26: =H26*G26 -> 0 | X26: =F26*H26 -> 0 | AQ26: =AJ26*$H$26 -> 0 | AR26: =AK26*$H$26 -> 0 | AS26: =AL26*$H$26 -> 0 | AT26: =AM26*$H$26 -> 0 | AU26: =AN26*$H$26 -> 0 | AV26: =AO26*$H$26 -> 0 | AW26: =AP26*$H$26 -> 0 | AX26: =SUM(AJ26:AP26) -> 0 | BE26: =AY26*$H$26 -> 0 | BF26: =AZ26*$H$26 -> 0 | BG26: =BA26*$H$26 -> 0 | BH26: =BB26*$H$26 -> 0 | BI26: =BC26*$H$26 -> 0 | BJ26: =BD26*$H$26 -> 0 | BK26: =Y26*$H$26 -> 0 | BL26: =Z26*$H$26 -> 0 | BM26: =AA26*$H$26 -> 0 | BN26: =AB26*$H$26 -> 0 | BO26: =AC26*$H$26 -> 0 | BP26: =AD26*$H$26 -> 0 | BQ26: =AE26*$H$26 -> 0 | BR26: =AF26*$H$26 -> 0 | ... BU26: =AI26*$H$26 -> 0
A27: 17284 | B27: Rubble – Edges/Pinches M/L | C27: Edges | D27: M-L | F27: 4 | G27: 144.704 | H27: =SUM(I27:T27) -> 0 | U27: 1.631 | V27: =H27*U27 -> 0 | W27: =H27*G27 -> 0 | X27: =F27*H27 -> 0 | AQ27: =AJ27*$H$27 -> 0 | AR27: =AK27*$H$27 -> 0 | AS27: =AL27*$H$27 -> 0 | AT27: =AM27*$H$27 -> 0 | AU27: =AN27*$H$27 -> 0 | AV27: =AO27*$H$27 -> 0 | AW27: =AP27*$H$27 -> 0 | AX27: =SUM(AJ27:AP27) -> 0 | BE27: =AY27*$H$27 -> 0 | BF27: =AZ27*$H$27 -> 0 | BG27: =BA27*$H$27 -> 0 | BH27: =BB27*$H$27 -> 0 | BI27: =BC27*$H$27 -> 0 | BJ27: =BD27*$H$27 -> 0 | BK27: =Y27*$H$27 -> 0 | BL27: =Z27*$H$27 -> 0 | BM27: =AA27*$H$27 -> 0 | BN27: =AB27*$H$27 -> 0 | BO27: =AC27*$H$27 -> 0 | BP27: =AD27*$H$27 -> 0 | BQ27: =AE27*$H$27 -> 0 | BR27: =AF27*$H$27 -> 0 | ... BU27: =AI27*$H$27 -> 0
A28: 17077 | B28: Rubble – Jibs screw-on | C28: Edges | D28: S | F28: 4 | G28: 44.128 | H28: =SUM(I28:T28) -> 0 | U28: 0.565 | V28: =H28*U28 -> 0 | W28: =H28*G28 -> 0 | X28: =F28*H28 -> 0 | AQ28: =AJ28*$H$28 -> 0 | AR28: =AK28*$H$28 -> 0 | AS28: =AL28*$H$28 -> 0 | AT28: =AM28*$H$28 -> 0 | AU28: =AN28*$H$28 -> 0 | AV28: =AO28*$H$28 -> 0 | AW28: =AP28*$H$28 -> 0 | AX28: =SUM(AJ28:AP28) -> 0 | BE28: =AY28*$H$28 -> 0 | BF28: =AZ28*$H$28 -> 0 | BG28: =BA28*$H$28 -> 0 | BH28: =BB28*$H$28 -> 0 | BI28: =BC28*$H$28 -> 0 | BJ28: =BD28*$H$28 -> 0 | BK28: =Y28*$H$28 -> 0 | BL28: =Z28*$H$28 -> 0 | BM28: =AA28*$H$28 -> 0 | BN28: =AB28*$H$28 -> 0 | BO28: =AC28*$H$28 -> 0 | BP28: =AD28*$H$28 -> 0 | BQ28: =AE28*$H$28 -> 0 | BR28: =AF28*$H$28 -> 0 | ... BU28: =AI28*$H$28 -> 0
A29: 17387 | B29: Rubble – Jugs L-XL | C29: Jugs | D29: L-XL | F29: 5 | G29: 292.32 | H29: =SUM(I29:T29) -> 0 | U29: 4.12 | V29: =H29*U29 -> 0 | W29: =H29*G29 -> 0 | X29: =F29*H29 -> 0 | AQ29: =AJ29*$H$29 -> 0 | AR29: =AK29*$H$29 -> 0 | AS29: =AL29*$H$29 -> 0 | AT29: =AM29*$H$29 -> 0 | AU29: =AN29*$H$29 -> 0 | AV29: =AO29*$H$29 -> 0 | AW29: =AP29*$H$29 -> 0 | AX29: =SUM(AJ29:AP29) -> 0 | BE29: =AY29*$H$29 -> 0 | BF29: =AZ29*$H$29 -> 0 | BG29: =BA29*$H$29 -> 0 | BH29: =BB29*$H$29 -> 0 | BI29: =BC29*$H$29 -> 0 | BJ29: =BD29*$H$29 -> 0 | BK29: =Y29*$H$29 -> 0 | BL29: =Z29*$H$29 -> 0 | BM29: =AA29*$H$29 -> 0 | BN29: =AB29*$H$29 -> 0 | BO29: =AC29*$H$29 -> 0 | BP29: =AD29*$H$29 -> 0 | BQ29: =AE29*$H$29 -> 0 | BR29: =AF29*$H$29 -> 0 | ... BU29: =AI29*$H$29 -> 0
A30: 17576 | B30: Rubble – Jugs M screw-on | C30: Jugs | D30: M | F30: 5 | G30: 144.984 | H30: =SUM(I30:T30) -> 0 | U30: 2.69 | V30: =H30*U30 -> 0 | W30: =H30*G30 -> 0 | X30: =F30*H30 -> 0 | AQ30: =AJ30*$H$30 -> 0 | AR30: =AK30*$H$30 -> 0 | AS30: =AL30*$H$30 -> 0 | AT30: =AM30*$H$30 -> 0 | AU30: =AN30*$H$30 -> 0 | AV30: =AO30*$H$30 -> 0 | AW30: =AP30*$H$30 -> 0 | AX30: =SUM(AJ30:AP30) -> 0 | BE30: =AY30*$H$30 -> 0 | BF30: =AZ30*$H$30 -> 0 | BG30: =BA30*$H$30 -> 0 | BH30: =BB30*$H$30 -> 0 | BI30: =BC30*$H$30 -> 0 | BJ30: =BD30*$H$30 -> 0 | BK30: =Y30*$H$30 -> 0 | BL30: =Z30*$H$30 -> 0 | BM30: =AA30*$H$30 -> 0 | BN30: =AB30*$H$30 -> 0 | BO30: =AC30*$H$30 -> 0 | BP30: =AD30*$H$30 -> 0 | BQ30: =AE30*$H$30 -> 0 | BR30: =AF30*$H$30 -> 0 | ... BU30: =AI30*$H$30 -> 0
A31: 18176 | B31: Rubble – L 1 | C31: Edges | D31: M | F31: 2 | G31: 68.6 | H31: =SUM(I31:T31) -> 0 | U31: 0.729 | V31: =H31*U31 -> 0 | W31: =H31*G31 -> 0 | X31: =F31*H31 -> 0 | AQ31: =AJ31*$H$31 -> 0 | AR31: =AK31*$H$31 -> 0 | AS31: =AL31*$H$31 -> 0 | AT31: =AM31*$H$31 -> 0 | AU31: =AN31*$H$31 -> 0 | AV31: =AO31*$H$31 -> 0 | AW31: =AP31*$H$31 -> 0 | AX31: =SUM(AJ31:AP31) -> 0 | BE31: =AY31*$H$31 -> 0 | BF31: =AZ31*$H$31 -> 0 | BG31: =BA31*$H$31 -> 0 | BH31: =BB31*$H$31 -> 0 | BI31: =BC31*$H$31 -> 0 | BJ31: =BD31*$H$31 -> 0 | BK31: =Y31*$H$31 -> 0 | BL31: =Z31*$H$31 -> 0 | BM31: =AA31*$H$31 -> 0 | BN31: =AB31*$H$31 -> 0 | BO31: =AC31*$H$31 -> 0 | BP31: =AD31*$H$31 -> 0 | BQ31: =AE31*$H$31 -> 0 | BR31: =AF31*$H$31 -> 0 | ... BU31: =AI31*$H$31 -> 0
A32: 17800 | B32: Rubble – M 1 | C32: Edges | D32: M | F32: 6 | G32: 92.26 | H32: =SUM(I32:T32) -> 0 | U32: 1.38 | V32: =H32*U32 -> 0 | W32: =H32*G32 -> 0 | X32: =F32*H32 -> 0 | AQ32: =AJ32*$H$32 -> 0 | AR32: =AK32*$H$32 -> 0 | AS32: =AL32*$H$32 -> 0 | AT32: =AM32*$H$32 -> 0 | AU32: =AN32*$H$32 -> 0 | AV32: =AO32*$H$32 -> 0 | AW32: =AP32*$H$32 -> 0 | AX32: =SUM(AJ32:AP32) -> 0 | BE32: =AY32*$H$32 -> 0 | BF32: =AZ32*$H$32 -> 0 | BG32: =BA32*$H$32 -> 0 | BH32: =BB32*$H$32 -> 0 | BI32: =BC32*$H$32 -> 0 | BJ32: =BD32*$H$32 -> 0 | BK32: =Y32*$H$32 -> 0 | BL32: =Z32*$H$32 -> 0 | BM32: =AA32*$H$32 -> 0 | BN32: =AB32*$H$32 -> 0 | BO32: =AC32*$H$32 -> 0 | BP32: =AD32*$H$32 -> 0 | BQ32: =AE32*$H$32 -> 0 | BR32: =AF32*$H$32 -> 0 | ... BU32: =AI32*$H$32 -> 0
A33: 17805 | B33: Rubble – M 2 | C33: Edges | D33: M | F33: 2 | G33: 46.032 | H33: =SUM(I33:T33) -> 0 | U33: 0.743 | V33: =H33*U33 -> 0 | W33: =H33*G33 -> 0 | X33: =F33*H33 -> 0 | AQ33: =AJ33*$H$33 -> 0 | AR33: =AK33*$H$33 -> 0 | AS33: =AL33*$H$33 -> 0 | AT33: =AM33*$H$33 -> 0 | AU33: =AN33*$H$33 -> 0 | AV33: =AO33*$H$33 -> 0 | AW33: =AP33*$H$33 -> 0 | AX33: =SUM(AJ33:AP33) -> 0 | BE33: =AY33*$H$33 -> 0 | BF33: =AZ33*$H$33 -> 0 | BG33: =BA33*$H$33 -> 0 | BH33: =BB33*$H$33 -> 0 | BI33: =BC33*$H$33 -> 0 | BJ33: =BD33*$H$33 -> 0 | BK33: =Y33*$H$33 -> 0 | BL33: =Z33*$H$33 -> 0 | BM33: =AA33*$H$33 -> 0 | BN33: =AB33*$H$33 -> 0 | BO33: =AC33*$H$33 -> 0 | BP33: =AD33*$H$33 -> 0 | BQ33: =AE33*$H$33 -> 0 | BR33: =AF33*$H$33 -> 0 | ... BU33: =AI33*$H$33 -> 0
A34: 18599 | B34: Rubble – M-L positive | C34: Edges | D34: M | F34: 5 | G34: 137.34 | H34: =SUM(I34:T34) -> 0 | U34: 1.27 | V34: =H34*U34 -> 0 | W34: =H34*G34 -> 0 | X34: =F34*H34 -> 0 | AQ34: =AJ34*$H$34 -> 0 | AR34: =AK34*$H$34 -> 0 | AS34: =AL34*$H$34 -> 0 | AT34: =AM34*$H$34 -> 0 | AU34: =AN34*$H$34 -> 0 | AV34: =AO34*$H$34 -> 0 | AW34: =AP34*$H$34 -> 0 | AX34: =SUM(AJ34:AP34) -> 0 | BE34: =AY34*$H$34 -> 0 | BF34: =AZ34*$H$34 -> 0 | BG34: =BA34*$H$34 -> 0 | BH34: =BB34*$H$34 -> 0 | BI34: =BC34*$H$34 -> 0 | BJ34: =BD34*$H$34 -> 0 | BK34: =Y34*$H$34 -> 0 | BL34: =Z34*$H$34 -> 0 | BM34: =AA34*$H$34 -> 0 | BN34: =AB34*$H$34 -> 0 | BO34: =AC34*$H$34 -> 0 | BP34: =AD34*$H$34 -> 0 | BQ34: =AE34*$H$34 -> 0 | BR34: =AF34*$H$34 -> 0 | ... BU34: =AI34*$H$34 -> 0
A35: 18638 | B35: Rubble – Mega | C35: Slopers | D35: Mega | F35: 2 | G35: 132.524 | H35: =SUM(I35:T35) -> 0 | U35: 1.864 | V35: =H35*U35 -> 0 | W35: =H35*G35 -> 0 | X35: =F35*H35 -> 0 | AQ35: =AJ35*$H$35 -> 0 | AR35: =AK35*$H$35 -> 0 | AS35: =AL35*$H$35 -> 0 | AT35: =AM35*$H$35 -> 0 | AU35: =AN35*$H$35 -> 0 | AV35: =AO35*$H$35 -> 0 | AW35: =AP35*$H$35 -> 0 | AX35: =SUM(AJ35:AP35) -> 0 | BE35: =AY35*$H$35 -> 0 | BF35: =AZ35*$H$35 -> 0 | BG35: =BA35*$H$35 -> 0 | BH35: =BB35*$H$35 -> 0 | BI35: =BC35*$H$35 -> 0 | BJ35: =BD35*$H$35 -> 0 | BK35: =Y35*$H$35 -> 0 | BL35: =Z35*$H$35 -> 0 | BM35: =AA35*$H$35 -> 0 | BN35: =AB35*$H$35 -> 0 | BO35: =AC35*$H$35 -> 0 | BP35: =AD35*$H$35 -> 0 | BQ35: =AE35*$H$35 -> 0 | BR35: =AF35*$H$35 -> 0 | ... BU35: =AI35*$H$35 -> 0
A36: 17798 | B36: Rubble – S 1 | C36: Footholds | D36: S | F36: 7 | G36: 54.712 | H36: =SUM(I36:T36) -> 0 | U36: 0.612 | V36: =H36*U36 -> 0 | W36: =H36*G36 -> 0 | X36: =F36*H36 -> 0 | AQ36: =AJ36*$H$36 -> 0 | AR36: =AK36*$H$36 -> 0 | AS36: =AL36*$H$36 -> 0 | AT36: =AM36*$H$36 -> 0 | AU36: =AN36*$H$36 -> 0 | AV36: =AO36*$H$36 -> 0 | AW36: =AP36*$H$36 -> 0 | AX36: =SUM(AJ36:AP36) -> 0 | BE36: =AY36*$H$36 -> 0 | BF36: =AZ36*$H$36 -> 0 | BG36: =BA36*$H$36 -> 0 | BH36: =BB36*$H$36 -> 0 | BI36: =BC36*$H$36 -> 0 | BJ36: =BD36*$H$36 -> 0 | BK36: =Y36*$H$36 -> 0 | BL36: =Z36*$H$36 -> 0 | BM36: =AA36*$H$36 -> 0 | BN36: =AB36*$H$36 -> 0 | BO36: =AC36*$H$36 -> 0 | BP36: =AD36*$H$36 -> 0 | BQ36: =AE36*$H$36 -> 0 | BR36: =AF36*$H$36 -> 0 | ... BU36: =AI36*$H$36 -> 0
A37: 17799 | B37: Rubble – S 2 | C37: Footholds | D37: S | F37: 5 | G37: 33.628 | H37: =SUM(I37:T37) -> 0 | U37: 0.28 | V37: =H37*U37 -> 0 | W37: =H37*G37 -> 0 | X37: =F37*H37 -> 0 | AQ37: =AJ37*$H$37 -> 0 | AR37: =AK37*$H$37 -> 0 | AS37: =AL37*$H$37 -> 0 | AT37: =AM37*$H$37 -> 0 | AU37: =AN37*$H$37 -> 0 | AV37: =AO37*$H$37 -> 0 | AW37: =AP37*$H$37 -> 0 | AX37: =SUM(AJ37:AP37) -> 0 | BE37: =AY37*$H$37 -> 0 | BF37: =AZ37*$H$37 -> 0 | BG37: =BA37*$H$37 -> 0 | BH37: =BB37*$H$37 -> 0 | BI37: =BC37*$H$37 -> 0 | BJ37: =BD37*$H$37 -> 0 | BK37: =Y37*$H$37 -> 0 | BL37: =Z37*$H$37 -> 0 | BM37: =AA37*$H$37 -> 0 | BN37: =AB37*$H$37 -> 0 | BO37: =AC37*$H$37 -> 0 | BP37: =AD37*$H$37 -> 0 | BQ37: =AE37*$H$37 -> 0 | BR37: =AF37*$H$37 -> 0 | ... BU37: =AI37*$H$37 -> 0
A38: 17806 | B38: Rubble – S 3 | C38: Footholds | D38: S | F38: 8 | G38: 54.656 | H38: =SUM(I38:T38) -> 0 | U38: 0.551 | V38: =H38*U38 -> 0 | W38: =H38*G38 -> 0 | X38: =F38*H38 -> 0 | AQ38: =AJ38*$H$38 -> 0 | AR38: =AK38*$H$38 -> 0 | AS38: =AL38*$H$38 -> 0 | AT38: =AM38*$H$38 -> 0 | AU38: =AN38*$H$38 -> 0 | AV38: =AO38*$H$38 -> 0 | AW38: =AP38*$H$38 -> 0 | AX38: =SUM(AJ38:AP38) -> 0 | BE38: =AY38*$H$38 -> 0 | BF38: =AZ38*$H$38 -> 0 | BG38: =BA38*$H$38 -> 0 | BH38: =BB38*$H$38 -> 0 | BI38: =BC38*$H$38 -> 0 | BJ38: =BD38*$H$38 -> 0 | BK38: =Y38*$H$38 -> 0 | BL38: =Z38*$H$38 -> 0 | BM38: =AA38*$H$38 -> 0 | BN38: =AB38*$H$38 -> 0 | BO38: =AC38*$H$38 -> 0 | BP38: =AD38*$H$38 -> 0 | BQ38: =AE38*$H$38 -> 0 | BR38: =AF38*$H$38 -> 0 | ... BU38: =AI38*$H$38 -> 0
A39: 17801 | B39: Rubble – S-M 2 screw-on | C39: Edges | D39: S-M | F39: 5 | G39: 47.012 | H39: =SUM(I39:T39) -> 0 | U39: 0.568 | V39: =H39*U39 -> 0 | W39: =H39*G39 -> 0 | X39: =F39*H39 -> 0 | AQ39: =AJ39*$H$39 -> 0 | AR39: =AK39*$H$39 -> 0 | AS39: =AL39*$H$39 -> 0 | AT39: =AM39*$H$39 -> 0 | AU39: =AN39*$H$39 -> 0 | AV39: =AO39*$H$39 -> 0 | AW39: =AP39*$H$39 -> 0 | AX39: =SUM(AJ39:AP39) -> 0 | BE39: =AY39*$H$39 -> 0 | BF39: =AZ39*$H$39 -> 0 | BG39: =BA39*$H$39 -> 0 | BH39: =BB39*$H$39 -> 0 | BI39: =BC39*$H$39 -> 0 | BJ39: =BD39*$H$39 -> 0 | BK39: =Y39*$H$39 -> 0 | BL39: =Z39*$H$39 -> 0 | BM39: =AA39*$H$39 -> 0 | BN39: =AB39*$H$39 -> 0 | BO39: =AC39*$H$39 -> 0 | BP39: =AD39*$H$39 -> 0 | BQ39: =AE39*$H$39 -> 0 | BR39: =AF39*$H$39 -> 0 | ... BU39: =AI39*$H$39 -> 0
A40: 17807 | B40: Rubble – S-M 3 screw-on | C40: Edges | D40: S-M | F40: 6 | G40: 49.392 | H40: =SUM(I40:T40) -> 0 | U40: 0.558 | V40: =H40*U40 -> 0 | W40: =H40*G40 -> 0 | X40: =F40*H40 -> 0 | AQ40: =AJ40*$H$40 -> 0 | AR40: =AK40*$H$40 -> 0 | AS40: =AL40*$H$40 -> 0 | AT40: =AM40*$H$40 -> 0 | AU40: =AN40*$H$40 -> 0 | AV40: =AO40*$H$40 -> 0 | AW40: =AP40*$H$40 -> 0 | AX40: =SUM(AJ40:AP40) -> 0 | BE40: =AY40*$H$40 -> 0 | BF40: =AZ40*$H$40 -> 0 | BG40: =BA40*$H$40 -> 0 | BH40: =BB40*$H$40 -> 0 | BI40: =BC40*$H$40 -> 0 | BJ40: =BD40*$H$40 -> 0 | BK40: =Y40*$H$40 -> 0 | BL40: =Z40*$H$40 -> 0 | BM40: =AA40*$H$40 -> 0 | BN40: =AB40*$H$40 -> 0 | BO40: =AC40*$H$40 -> 0 | BP40: =AD40*$H$40 -> 0 | BQ40: =AE40*$H$40 -> 0 | BR40: =AF40*$H$40 -> 0 | ... BU40: =AI40*$H$40 -> 0
...

Sheet PE holds
A1: Ref. No. | B1: Set name | C1: Grip type | D1: Size | E1: View picture | F1: Total holds/set | G1: Price (EUR) | H1: Set | I1: Yellow | J1: Red | K1: Blue | L1: Black | M1: Signal violet | N1: Mint 6027 | O1: White | P1: Weight (kg.) | Q1: Total weight (kg.) | R1: Total Amount | T1: 40 | U1: 50 | V1: 60 | W1: 70 | X1: 80 | Y1: 90 | Z1: 100 | AA1: 120 | AB1: 140 | AC1: 160 | AD1: 233 | AE1: XS | AF1: S | AG1: M | AH1: L | AI1: XL | AJ1: MEGA | AK1: GIGA | AL1: XS | AM1: S | AN1: M | AO1: L | AP1: XL | AQ1: MEGA | AR1: GIGA | AS1: colors | AT1: Footholds | AU1: Jugs | AV1: Edges | AW1: Slopers | AX1: Pinches | AY1: Pockets | AZ1: Footholds | BA1: Jugs | BB1: Edges | BC1: Slopers | BD1: Pinches | BE1: Pockets | BF1: 40 | BG1: 50 | BH1: 60 | BI1: 70 | BJ1: 80 | BK1: 90 | BL1: 100 | BM1: 120 | BN1: 140 | BO1: 160 | BP1: 233
A2: 24011 | B2: Pebbles set 1 | C2: Jugs | D2: S-M | E2: view | F2: 15 | G2: 126.25 | H2: =SUM(I2:O2) -> 0 | P2: 6.5 | Q2: =H2*P2 -> 0 | R2: =G2*H2 -> 0 | S2: =F2*H2 -> 0 | U2: 15 | AF2: 5 | AG2: 10 | AL2: =AE2*$H$2 -> 0 | AM2: =AF2*$H$2 -> 0 | AN2: =AG2*$H$2 -> 0 | AO2: =AH2*$H$2 -> 0 | AP2: =AI2*$H$2 -> 0 | AQ2: =AJ2*$H$2 -> 0 | AR2: =AK2*$H$2 -> 0 | AS2: =SUM(AE2:AK2) -> 15 | BA2: 15 | BF2: =T2*$H$2 -> 0 | BG2: =U2*$H$2 -> 0 | BH2: =V2*$H$2 -> 0 | BI2: =W2*$H$2 -> 0 | BJ2: =X2*$H$2 -> 0 | BK2: =Y2*$H$2 -> 0 | BL2: =Z2*$H$2 -> 0 | BM2: =AA2*$H$2 -> 0 | ... BP2: =AD2*$H$2 -> 0
A3: 24012 | B3: Pebbles set 2 | C3: Jugs | D3: M | E3: view | F3: 9 | G3: 93.25 | H3: =SUM(I3:O3) -> 0 | P3: 4.8 | Q3: =H3*P3 -> 0 | R3: =G3*H3 -> 0 | S3: =F3*H3 -> 0 | U3: 9 | AG3: 9 | AL3: =AE3*$H$3 -> 0 | AM3: =AF3*$H$3 -> 0 | AN3: =AG3*$H$3 -> 0 | AO3: =AH3*$H$3 -> 0 | AP3: =AI3*$H$3 -> 0 | AQ3: =AJ3*$H$3 -> 0 | AR3: =AK3*$H$3 -> 0 | AS3: =SUM(AE3:AK3) -> 9 | BA3: 9 | BF3: =T3*$H$3 -> 0 | BG3: =U3*$H$3 -> 0 | BH3: =V3*$H$3 -> 0 | BI3: =W3*$H$3 -> 0 | BJ3: =X3*$H$3 -> 0 | BK3: =Y3*$H$3 -> 0 | BL3: =Z3*$H$3 -> 0 | BM3: =AA3*$H$3 -> 0 | ... BP3: =AD3*$H$3 -> 0
A4: 24013 | B4: Pebbles set 3 | C4: Jugs | D4: M | E4: view | F4: 9 | G4: 93.25 | H4: =SUM(I4:O4) -> 0 | P4: 4.9 | Q4: =H4*P4 -> 0 | R4: =G4*H4 -> 0 | S4: =F4*H4 -> 0 | U4: 9 | AG4: 9 | AL4: =AE4*$H$4 -> 0 | AM4: =AF4*$H$4 -> 0 | AN4: =AG4*$H$4 -> 0 | AO4: =AH4*$H$4 -> 0 | AP4: =AI4*$H$4 -> 0 | AQ4: =AJ4*$H$4 -> 0 | AR4: =AK4*$H$4 -> 0 | AS4: =SUM(AE4:AK4) -> 9 | BA4: 9 | BF4: =T4*$H$4 -> 0 | BG4: =U4*$H$4 -> 0 | BH4: =V4*$H$4 -> 0 | BI4: =W4*$H$4 -> 0 | BJ4: =X4*$H$4 -> 0 | BK4: =Y4*$H$4 -> 0 | BL4: =Z4*$H$4 -> 0 | BM4: =AA4*$H$4 -> 0 | ... BP4: =AD4*$H$4 -> 0
A5: 24014 | B5: Pebbles set 4 | C5: Jugs | D5: M | E5: view | F5: 8 | G5: 89.25 | H5: =SUM(I5:O5) -> 0 | P5: 4.7 | Q5: =H5*P5 -> 0 | R5: =G5*H5 -> 0 | S5: =F5*H5 -> 0 | U5: 8 | AG5: 8 | AL5: =AE5*$H$5 -> 0 | AM5: =AF5*$H$5 -> 0 | AN5: =AG5*$H$5 -> 0 | AO5: =AH5*$H$5 -> 0 | AP5: =AI5*$H$5 -> 0 | AQ5: =AJ5*$H$5 -> 0 | AR5: =AK5*$H$5 -> 0 | AS5: =SUM(AE5:AK5) -> 8 | BA5: 8 | BF5: =T5*$H$5 -> 0 | BG5: =U5*$H$5 -> 0 | BH5: =V5*$H$5 -> 0 | BI5: =W5*$H$5 -> 0 | BJ5: =X5*$H$5 -> 0 | BK5: =Y5*$H$5 -> 0 | BL5: =Z5*$H$5 -> 0 | BM5: =AA5*$H$5 -> 0 | ... BP5: =AD5*$H$5 -> 0
A6: 24015 | B6: Pebbles set 5 | C6: Jugs | D6: L | E6: view | F6: 6 | G6: 82.75 | H6: =SUM(I6:O6) -> 0 | P6: 4.5 | Q6: =H6*P6 -> 0 | R6: =G6*H6 -> 0 | S6: =F6*H6 -> 0 | V6: 6 | AH6: 6 | AL6: =AE6*$H$6 -> 0 | AM6: =AF6*$H$6 -> 0 | AN6: =AG6*$H$6 -> 0 | AO6: =AH6*$H$6 -> 0 | AP6: =AI6*$H$6 -> 0 | AQ6: =AJ6*$H$6 -> 0 | AR6: =AK6*$H$6 -> 0 | AS6: =SUM(AE6:AK6) -> 6 | BA6: 6 | BF6: =T6*$H$6 -> 0 | BG6: =U6*$H$6 -> 0 | BH6: =V6*$H$6 -> 0 | BI6: =W6*$H$6 -> 0 | BJ6: =X6*$H$6 -> 0 | BK6: =Y6*$H$6 -> 0 | BL6: =Z6*$H$6 -> 0 | BM6: =AA6*$H$6 -> 0 | ... BP6: =AD6*$H$6 -> 0
A7: 24016 | B7: Pebbles set 6 | C7: Jugs | D7: L | E7: view | F7: 8 | G7: 119.5 | H7: =SUM(I7:O7) -> 0 | P7: 6.5 | Q7: =H7*P7 -> 0 | R7: =G7*H7 -> 0 | S7: =F7*H7 -> 0 | V7: 8 | AH7: 8 | AL7: =AE7*$H$7 -> 0 | AM7: =AF7*$H$7 -> 0 | AN7: =AG7*$H$7 -> 0 | AO7: =AH7*$H$7 -> 0 | AP7: =AI7*$H$7 -> 0 | AQ7: =AJ7*$H$7 -> 0 | AR7: =AK7*$H$7 -> 0 | AS7: =SUM(AE7:AK7) -> 8 | BA7: 8 | BF7: =T7*$H$7 -> 0 | BG7: =U7*$H$7 -> 0 | BH7: =V7*$H$7 -> 0 | BI7: =W7*$H$7 -> 0 | BJ7: =X7*$H$7 -> 0 | BK7: =Y7*$H$7 -> 0 | BL7: =Z7*$H$7 -> 0 | BM7: =AA7*$H$7 -> 0 | ... BP7: =AD7*$H$7 -> 0
A8: 24017 | B8: Pebbles set 7 | C8: Jugs | D8: M | E8: view | F8: 18 | G8: 173.25 | H8: =SUM(I8:O8) -> 0 | P8: 8.8 | Q8: =H8*P8 -> 0 | R8: =G8*H8 -> 0 | S8: =F8*H8 -> 0 | U8: 18 | AG8: 18 | AL8: =AE8*$H$8 -> 0 | AM8: =AF8*$H$8 -> 0 | AN8: =AG8*$H$8 -> 0 | AO8: =AH8*$H$8 -> 0 | AP8: =AI8*$H$8 -> 0 | AQ8: =AJ8*$H$8 -> 0 | AR8: =AK8*$H$8 -> 0 | AS8: =SUM(AE8:AK8) -> 18 | BA8: 18 | BF8: =T8*$H$8 -> 0 | BG8: =U8*$H$8 -> 0 | BH8: =V8*$H$8 -> 0 | BI8: =W8*$H$8 -> 0 | BJ8: =X8*$H$8 -> 0 | BK8: =Y8*$H$8 -> 0 | BL8: =Z8*$H$8 -> 0 | BM8: =AA8*$H$8 -> 0 | ... BP8: =AD8*$H$8 -> 0
A9: 24018 | B9: Pebbles set 8 | C9: Jugs | D9: M-L | E9: view | F9: 10 | G9: 105 | H9: =SUM(I9:O9) -> 0 | P9: 5.4 | Q9: =H9*P9 -> 0 | R9: =G9*H9 -> 0 | S9: =F9*H9 -> 0 | U9: 5 | V9: 5 | AG9: 5 | AH9: 5 | AL9: =AE9*$H$9 -> 0 | AM9: =AF9*$H$9 -> 0 | AN9: =AG9*$H$9 -> 0 | AO9: =AH9*$H$9 -> 0 | AP9: =AI9*$H$9 -> 0 | AQ9: =AJ9*$H$9 -> 0 | AR9: =AK9*$H$9 -> 0 | AS9: =SUM(AE9:AK9) -> 10 | BA9: 10 | BF9: =T9*$H$9 -> 0 | BG9: =U9*$H$9 -> 0 | BH9: =V9*$H$9 -> 0 | BI9: =W9*$H$9 -> 0 | BJ9: =X9*$H$9 -> 0 | BK9: =Y9*$H$9 -> 0 | BL9: =Z9*$H$9 -> 0 | BM9: =AA9*$H$9 -> 0 | ... BP9: =AD9*$H$9 -> 0
A10: 24019 | B10: Pebbles set 9 | C10: Edges | D10: S | E10: view | F10: 20 | G10: 85 | H10: =SUM(I10:O10) -> 0 | P10: 2.7 | Q10: =H10*P10 -> 0 | R10: =G10*H10 -> 0 | S10: =F10*H10 -> 0 | T10: 20 | AF10: 20 | AL10: =AE10*$H$10 -> 0 | AM10: =AF10*$H$10 -> 0 | AN10: =AG10*$H$10 -> 0 | AO10: =AH10*$H$10 -> 0 | AP10: =AI10*$H$10 -> 0 | AQ10: =AJ10*$H$10 -> 0 | AR10: =AK10*$H$10 -> 0 | AS10: =SUM(AE10:AK10) -> 20 | BB10: 20 | BF10: =T10*$H$10 -> 0 | BG10: =U10*$H$10 -> 0 | BH10: =V10*$H$10 -> 0 | BI10: =W10*$H$10 -> 0 | BJ10: =X10*$H$10 -> 0 | BK10: =Y10*$H$10 -> 0 | BL10: =Z10*$H$10 -> 0 | BM10: =AA10*$H$10 -> 0 | ... BP10: =AD10*$H$10 -> 0
A11: 24020 | B11: Pebbles set 10 | C11: Footholds | D11: S | E11: view | F11: 20 | G11: 95 | H11: =SUM(I11:O11) -> 0 | P11: 3.6 | Q11: =H11*P11 -> 0 | R11: =G11*H11 -> 0 | S11: =F11*H11 -> 0 | T11: 20 | AF11: 20 | AL11: =AE11*$H$11 -> 0 | AM11: =AF11*$H$11 -> 0 | AN11: =AG11*$H$11 -> 0 | AO11: =AH11*$H$11 -> 0 | AP11: =AI11*$H$11 -> 0 | AQ11: =AJ11*$H$11 -> 0 | AR11: =AK11*$H$11 -> 0 | AS11: =SUM(AE11:AK11) -> 20 | AZ11: 20 | BF11: =T11*$H$11 -> 0 | BG11: =U11*$H$11 -> 0 | BH11: =V11*$H$11 -> 0 | BI11: =W11*$H$11 -> 0 | BJ11: =X11*$H$11 -> 0 | BK11: =Y11*$H$11 -> 0 | BL11: =Z11*$H$11 -> 0 | BM11: =AA11*$H$11 -> 0 | ... BP11: =AD11*$H$11 -> 0
A12: 24021 | B12: Pebbles set 11 | C12: Edges | D12: S-M | E12: view | F12: 20 | G12: 102.5 | H12: =SUM(I12:O12) -> 0 | P12: 4.1 | Q12: =H12*P12 -> 0 | R12: =G12*H12 -> 0 | S12: =F12*H12 -> 0 | T12: 20 | AF12: 15 | AG12: 5 | AL12: =AE12*$H$12 -> 0 | AM12: =AF12*$H$12 -> 0 | AN12: =AG12*$H$12 -> 0 | AO12: =AH12*$H$12 -> 0 | AP12: =AI12*$H$12 -> 0 | AQ12: =AJ12*$H$12 -> 0 | AR12: =AK12*$H$12 -> 0 | AS12: =SUM(AE12:AK12) -> 20 | BB12: 20 | BF12: =T12*$H$12 -> 0 | BG12: =U12*$H$12 -> 0 | BH12: =V12*$H$12 -> 0 | BI12: =W12*$H$12 -> 0 | BJ12: =X12*$H$12 -> 0 | BK12: =Y12*$H$12 -> 0 | BL12: =Z12*$H$12 -> 0 | BM12: =AA12*$H$12 -> 0 | ... BP12: =AD12*$H$12 -> 0
A13: 24022 | B13: Pebbles set 12 | C13: Edges | D13: S-M | E13: view | F13: 12 | G13: 62.5 | H13: =SUM(I13:O13) -> 0 | P13: 2.7 | Q13: =H13*P13 -> 0 | R13: =G13*H13 -> 0 | S13: =F13*H13 -> 0 | T13: 12 | AG13: 12 | AL13: =AE13*$H$13 -> 0 | AM13: =AF13*$H$13 -> 0 | AN13: =AG13*$H$13 -> 0 | AO13: =AH13*$H$13 -> 0 | AP13: =AI13*$H$13 -> 0 | AQ13: =AJ13*$H$13 -> 0 | AR13: =AK13*$H$13 -> 0 | AS13: =SUM(AE13:AK13) -> 12 | BB13: 12 | BF13: =T13*$H$13 -> 0 | BG13: =U13*$H$13 -> 0 | BH13: =V13*$H$13 -> 0 | BI13: =W13*$H$13 -> 0 | BJ13: =X13*$H$13 -> 0 | BK13: =Y13*$H$13 -> 0 | BL13: =Z13*$H$13 -> 0 | BM13: =AA13*$H$13 -> 0 | ... BP13: =AD13*$H$13 -> 0
A14: 24023 | B14: Pebbles set 13 roof jugs | C14: Jugs | D14: Mega | E14: view | F14: 2 | G14: 93.75 | H14: =SUM(I14:O14) -> 0 | P14: 6.3 | Q14: =H14*P14 -> 0 | R14: =G14*H14 -> 0 | S14: =F14*H14 -> 0 | Y14: 2 | AJ14: 2 | AL14: =AE14*$H$14 -> 0 | AM14: =AF14*$H$14 -> 0 | AN14: =AG14*$H$14 -> 0 | AO14: =AH14*$H$14 -> 0 | AP14: =AI14*$H$14 -> 0 | AQ14: =AJ14*$H$14 -> 0 | AR14: =AK14*$H$14 -> 0 | AS14: =SUM(AE14:AK14) -> 2 | BA14: 2 | BF14: =T14*$H$14 -> 0 | BG14: =U14*$H$14 -> 0 | BH14: =V14*$H$14 -> 0 | BI14: =W14*$H$14 -> 0 | BJ14: =X14*$H$14 -> 0 | BK14: =Y14*$H$14 -> 0 | BL14: =Z14*$H$14 -> 0 | BM14: =AA14*$H$14 -> 0 | ... BP14: =AD14*$H$14 -> 0
A15: 24024 | B15: Pebbles set 14 roof jugs | C15: Jugs | D15: Mega | E15: view | F15: 2 | G15: 93.75 | H15: =SUM(I15:O15) -> 0 | P15: 6.7 | Q15: =H15*P15 -> 0 | R15: =G15*H15 -> 0 | S15: =F15*H15 -> 0 | Y15: 2 | AJ15: 2 | AL15: =AE15*$H$15 -> 0 | AM15: =AF15*$H$15 -> 0 | AN15: =AG15*$H$15 -> 0 | AO15: =AH15*$H$15 -> 0 | AP15: =AI15*$H$15 -> 0 | AQ15: =AJ15*$H$15 -> 0 | AR15: =AK15*$H$15 -> 0 | AS15: =SUM(AE15:AK15) -> 2 | BA15: 2 | BF15: =T15*$H$15 -> 0 | BG15: =U15*$H$15 -> 0 | BH15: =V15*$H$15 -> 0 | BI15: =W15*$H$15 -> 0 | BJ15: =X15*$H$15 -> 0 | BK15: =Y15*$H$15 -> 0 | BL15: =Z15*$H$15 -> 0 | BM15: =AA15*$H$15 -> 0 | ... BP15: =AD15*$H$15 -> 0
A16: 24025 | B16: Pebbles set 15 roof jugs | C16: Jugs | D16: Mega | E16: view | F16: 2 | G16: 93.75 | H16: =SUM(I16:O16) -> 0 | P16: 5.8 | Q16: =H16*P16 -> 0 | R16: =G16*H16 -> 0 | S16: =F16*H16 -> 0 | Y16: 2 | AJ16: 2 | AL16: =AE16*$H$16 -> 0 | AM16: =AF16*$H$16 -> 0 | AN16: =AG16*$H$16 -> 0 | AO16: =AH16*$H$16 -> 0 | AP16: =AI16*$H$16 -> 0 | AQ16: =AJ16*$H$16 -> 0 | AR16: =AK16*$H$16 -> 0 | AS16: =SUM(AE16:AK16) -> 2 | BA16: 2 | BF16: =T16*$H$16 -> 0 | BG16: =U16*$H$16 -> 0 | BH16: =V16*$H$16 -> 0 | BI16: =W16*$H$16 -> 0 | BJ16: =X16*$H$16 -> 0 | BK16: =Y16*$H$16 -> 0 | BL16: =Z16*$H$16 -> 0 | BM16: =AA16*$H$16 -> 0 | ... BP16: =AD16*$H$16 -> 0
A17: 24026 | B17: Pebbles set 16 roof jugs | C17: Jugs | D17: Mega | E17: view | F17: 2 | G17: 93.75 | H17: =SUM(I17:O17) -> 0 | P17: 5.6 | Q17: =H17*P17 -> 0 | R17: =G17*H17 -> 0 | S17: =F17*H17 -> 0 | Y17: 2 | AJ17: 2 | AL17: =AE17*$H$17 -> 0 | AM17: =AF17*$H$17 -> 0 | AN17: =AG17*$H$17 -> 0 | AO17: =AH17*$H$17 -> 0 | AP17: =AI17*$H$17 -> 0 | AQ17: =AJ17*$H$17 -> 0 | AR17: =AK17*$H$17 -> 0 | AS17: =SUM(AE17:AK17) -> 2 | BA17: 2 | BF17: =T17*$H$17 -> 0 | BG17: =U17*$H$17 -> 0 | BH17: =V17*$H$17 -> 0 | BI17: =W17*$H$17 -> 0 | BJ17: =X17*$H$17 -> 0 | BK17: =Y17*$H$17 -> 0 | BL17: =Z17*$H$17 -> 0 | BM17: =AA17*$H$17 -> 0 | ... BP17: =AD17*$H$17 -> 0
A18: 24027 | B18: Pebbles set 17 roof jugs | C18: Jugs | D18: Mega | E18: view | F18: 2 | G18: 93.75 | H18: =SUM(I18:O18) -> 0 | P18: 4.9 | Q18: =H18*P18 -> 0 | R18: =G18*H18 -> 0 | S18: =F18*H18 -> 0 | Y18: 2 | AJ18: 2 | AL18: =AE18*$H$18 -> 0 | AM18: =AF18*$H$18 -> 0 | AN18: =AG18*$H$18 -> 0 | AO18: =AH18*$H$18 -> 0 | AP18: =AI18*$H$18 -> 0 | AQ18: =AJ18*$H$18 -> 0 | AR18: =AK18*$H$18 -> 0 | AS18: =SUM(AE18:AK18) -> 2 | BA18: 2 | BF18: =T18*$H$18 -> 0 | BG18: =U18*$H$18 -> 0 | BH18: =V18*$H$18 -> 0 | BI18: =W18*$H$18 -> 0 | BJ18: =X18*$H$18 -> 0 | BK18: =Y18*$H$18 -> 0 | BL18: =Z18*$H$18 -> 0 | BM18: =AA18*$H$18 -> 0 | ... BP18: =AD18*$H$18 -> 0
A19: 25001 | B19: Pebbles set 18 | C19: Pinches | D19: L | E19: view | F19: 6 | G19: 63.75 | H19: =SUM(I19:O19) -> 0 | P19: 4 | Q19: =H19*P19 -> 0 | R19: =G19*H19 -> 0 | S19: =F19*H19 -> 0 | Y19: 6 | AH19: 6 | AL19: =AE19*$H$19 -> 0 | AM19: =AF19*$H$19 -> 0 | AN19: =AG19*$H$19 -> 0 | AO19: =AH19*$H$19 -> 0 | AP19: =AI19*$H$19 -> 0 | AQ19: =AJ19*$H$19 -> 0 | AR19: =AK19*$H$19 -> 0 | AS19: =SUM(AE19:AK19) -> 6 | AX19: 6 | BF19: =T19*$H$14 -> 0 | BG19: =U19*$H$14 -> 0 | BH19: =V19*$H$14 -> 0 | BI19: =W19*$H$14 -> 0 | BJ19: =X19*$H$14 -> 0 | BK19: =Y19*$H$14 -> 0 | BL19: =Z19*$H$14 -> 0 | BM19: =AA19*$H$14 -> 0 | ... BP19: =AD19*$H$14 -> 0
A20: 25002 | B20: Pebbles set 19 | C20: Pinches | D20: XL | E20: view | F20: 8 | G20: 150 | H20: =SUM(I20:O20) -> 0 | P20: 4.9 | Q20: =H20*P20 -> 0 | R20: =G20*H20 -> 0 | S20: =F20*H20 -> 0 | Y20: 8 | AI20: 8 | AL20: =AE20*$H$20 -> 0 | AM20: =AF20*$H$20 -> 0 | AN20: =AG20*$H$20 -> 0 | AO20: =AH20*$H$20 -> 0 | AP20: =AI20*$H$20 -> 0 | AQ20: =AJ20*$H$20 -> 0 | AR20: =AK20*$H$20 -> 0 | AS20: =SUM(AE20:AK20) -> 8 | AX20: 8 | BF20: =T20*$H$15 -> 0 | BG20: =U20*$H$15 -> 0 | BH20: =V20*$H$15 -> 0 | BI20: =W20*$H$15 -> 0 | BJ20: =X20*$H$15 -> 0 | BK20: =Y20*$H$15 -> 0 | BL20: =Z20*$H$15 -> 0 | BM20: =AA20*$H$15 -> 0 | ... BP20: =AD20*$H$15 -> 0
A21: 25003 | B21: Pebbles set 20 | C21: Slopers | D21: XL/Mega | E21: view | F21: 6 | G21: 135 | H21: =SUM(I21:O21) -> 0 | P21: 5 | Q21: =H21*P21 -> 0 | R21: =G21*H21 -> 0 | S21: =F21*H21 -> 0 | Y21: 6 | AI21: 3 | AJ21: 3 | AL21: =AE21*$H$21 -> 0 | AM21: =AF21*$H$21 -> 0 | AN21: =AG21*$H$21 -> 0 | AO21: =AH21*$H$21 -> 0 | AP21: =AI21*$H$21 -> 0 | AQ21: =AJ21*$H$21 -> 0 | AR21: =AK21*$H$21 -> 0 | AS21: =SUM(AE21:AK21) -> 6 | AW21: 6 | BF21: =T21*$H$16 -> 0 | BG21: =U21*$H$16 -> 0 | BH21: =V21*$H$16 -> 0 | BI21: =W21*$H$16 -> 0 | BJ21: =X21*$H$16 -> 0 | BK21: =Y21*$H$16 -> 0 | BL21: =Z21*$H$16 -> 0 | BM21: =AA21*$H$16 -> 0 | ... BP21: =AD21*$H$16 -> 0
A22: 25004 | B22: Pebbles set 21 | C22: Pockets | D22: XL/Mega | E22: view | F22: 7 | G22: 103.13 | H22: =SUM(I22:O22) -> 0 | P22: 4.5 | Q22: =H22*P22 -> 0 | R22: =G22*H22 -> 0 | S22: =F22*H22 -> 0 | Y22: 7 | AI22: 5 | AJ22: 2 | AL22: =AE22*$H$22 -> 0 | AM22: =AF22*$H$22 -> 0 | AN22: =AG22*$H$22 -> 0 | AO22: =AH22*$H$22 -> 0 | AP22: =AI22*$H$22 -> 0 | AQ22: =AJ22*$H$22 -> 0 | AR22: =AK22*$H$22 -> 0 | AS22: =SUM(AE22:AK22) -> 7 | AY22: 7 | BF22: =T22*$H$17 -> 0 | BG22: =U22*$H$17 -> 0 | BH22: =V22*$H$17 -> 0 | BI22: =W22*$H$17 -> 0 | BJ22: =X22*$H$17 -> 0 | BK22: =Y22*$H$17 -> 0 | BL22: =Z22*$H$17 -> 0 | BM22: =AA22*$H$17 -> 0 | ... BP22: =AD22*$H$17 -> 0
Q23: =SUM(Q2:Q22) -> 0 | R23: =SUM(R2:R22) -> 0 | S23: =SUM(S2:S22) -> 0

Sheet Macros Fiberglass
A1: Ref. No. | B1: Fiberglass macros | C1: View | D1: Total holds/set | E1: Price (EUR) | F1: Set | G1: Sulfur Yellow 1023 | H1: Traffic Red 3020 | I1: Sky Blue 5015 | J1: Jet Black 9005 | K1: Signal Violet 4008 | L1: Mint 6027 | M1: Yellow Green 6018 | N1: Off-white RAL 9016 | O1: Weight (kg.) | P1: Total weight (kg.) | Q1: Total Amount
A2: 21001 | B2: Obsidian Macro 1 | C2: view | D2: 1 | E2: 238 | F2: =SUM(G2:N2) -> 0 | O2: 3.8 | P2: =F2*O2 -> 0 | Q2: =F2*E2 -> 0 | R2: =F2*D2 -> 0
A3: 21002 | B3: Obsidian Macro 2 | C3: view | D3: 1 | E3: 235 | F3: =SUM(G3:N3) -> 0 | O3: 3.4 | P3: =F3*O3 -> 0 | Q3: =F3*E3 -> 0 | R3: =F3*D3 -> 0
A4: 21003 | B4: Obsidian Macro 3 | C4: view | D4: 1 | E4: 236 | F4: =SUM(G4:N4) -> 0 | O4: 3.5 | P4: =F4*O4 -> 0 | Q4: =F4*E4 -> 0 | R4: =F4*D4 -> 0
A5: 21004 | B5: Obsidian Macro 4 | C5: view | D5: 1 | E5: 236 | F5: =SUM(G5:N5) -> 0 | O5: 3.7 | P5: =F5*O5 -> 0 | Q5: =F5*E5 -> 0 | R5: =F5*D5 -> 0
A6: 21005 | B6: Obsidian Macro 5 | C6: view | D6: 1 | E6: 238 | F6: =SUM(G6:N6) -> 0 | O6: 3.5 | P6: =F6*O6 -> 0 | Q6: =F6*E6 -> 0 | R6: =F6*D6 -> 0
A7: 21006 | B7: Obsidian Macro 6 | C7: view | D7: 1 | E7: 249 | F7: =SUM(G7:N7) -> 0 | O7: 4 | P7: =F7*O7 -> 0 | Q7: =F7*E7 -> 0 | R7: =F7*D7 -> 0
A8: 21007 | B8: Obsidian Macro 7 | C8: view | D8: 1 | E8: 236 | F8: =SUM(G8:N8) -> 0 | O8: 3.6 | P8: =F8*O8 -> 0 | Q8: =F8*E8 -> 0 | R8: =F8*D8 -> 0
A9: 21008 | B9: Obsidian Macro 8 | C9: view | D9: 1 | E9: 249 | F9: =SUM(G9:N9) -> 0 | O9: 4.2 | P9: =F9*O9 -> 0 | Q9: =F9*E9 -> 0 | R9: =F9*D9 -> 0
A10: 21009 | B10: Obsidian Macro 9-10 (Blockers) | C10: view | D10: 2 | E10: 458 | F10: =SUM(G10:N10) -> 0 | O10: 7.1 | P10: =F10*O10 -> 0 | Q10: =F10*E10 -> 0 | R10: =F10*D10 -> 0
B11: Obsidian - Full Line | D11: =SUM(D2:D10) -> 10 | E11: =SUM(E2:E10) -> 2375 | F11: =SUM(G11:N11) -> 0 | O11: =SUM(O2:O10) -> 36.8 | P11: =F11*O11 -> 0 | Q11: =F11*E11 -> 0 | R11: =F11*D11 -> 0
A12: 23001 | B12: Rubble Macro 1 | C12: view | D12: 1 | E12: 144 | F12: =SUM(G12:N12) -> 0 | O12: 1.3 | P12: =F12*O12 -> 0 | Q12: =F12*E12 -> 0 | R12: =F12*D12 -> 0
A13: 23002 | B13: Rubble Macro 2 | C13: view | D13: 1 | E13: 144 | F13: =SUM(G13:N13) -> 0 | O13: 1.7 | P13: =F13*O13 -> 0 | Q13: =F13*E13 -> 0 | R13: =F13*D13 -> 0
A14: 23003 | B14: Rubble Macro 3 | C14: view | D14: 1 | E14: 177 | F14: =SUM(G14:N14) -> 0 | O14: 2.1 | P14: =F14*O14 -> 0 | Q14: =F14*E14 -> 0 | R14: =F14*D14 -> 0
A15: 23004 | B15: Rubble Macro 4 | C15: view | D15: 1 | E15: 177 | F15: =SUM(G15:N15) -> 0 | O15: 2.2 | P15: =F15*O15 -> 0 | Q15: =F15*E15 -> 0 | R15: =F15*D15 -> 0
A16: 23005 | B16: Rubble Macro 5 | C16: view | D16: 1 | E16: 177 | F16: =SUM(G16:N16) -> 0 | O16: 2.2 | P16: =F16*O16 -> 0 | Q16: =F16*E16 -> 0 | R16: =F16*D16 -> 0
A17: 23006 | B17: Rubble Macro 6 | C17: view | D17: 1 | E17: 177 | F17: =SUM(G17:N17) -> 0 | O17: 2.3 | P17: =F17*O17 -> 0 | Q17: =F17*E17 -> 0 | R17: =F17*D17 -> 0
A18: 23007 | B18: Rubble Macro 7 | C18: view | D18: 1 | E18: 218 | F18: =SUM(G18:N18) -> 0 | O18: 2.9 | P18: =F18*O18 -> 0 | Q18: =F18*E18 -> 0 | R18: =F18*D18 -> 0
A19: 23008 | B19: Rubble Macro 8 | C19: view | D19: 1 | E19: 218 | F19: =SUM(G19:N19) -> 0 | O19: 3.1 | P19: =F19*O19 -> 0 | Q19: =F19*E19 -> 0 | R19: =F19*D19 -> 0
A20: 23009 | B20: Rubble Macro 9 | C20: view | D20: 1 | E20: 252 | F20: =SUM(G20:N20) -> 0 | O20: 4 | P20: =F20*O20 -> 0 | Q20: =F20*E20 -> 0 | R20: =F20*D20 -> 0
A21: 23010 | B21: Rubble Macro 10 | C21: view | D21: 1 | E21: 289 | F21: =SUM(G21:N21) -> 0 | O21: 4.9 | P21: =F21*O21 -> 0 | Q21: =F21*E21 -> 0 | R21: =F21*D21 -> 0
B22: Rubble - Full Line | C22: view | D22: =SUM(D12:D21) -> 10 | E22: =SUM(E12:E21) -> 1973 | F22: =SUM(G22:N22) -> 0 | O22: =SUM(O12:O21) -> 26.7 | P22: =F22*O22 -> 0 | Q22: =F22*E22 -> 0 | R22: =F22*D22 -> 0
A23: 24001 | B23: Rubble Macro 1 dual texture | C23: view | D23: 1 | E23: 183 | F23: =SUM(G23:N23) -> 0 | O23: 1.3 | P23: =F23*O23 -> 0 | Q23: =F23*E23 -> 0 | R23: =F23*D23 -> 0
A24: 24002 | B24: Rubble Macro 2 dual texture | C24: view | D24: 1 | E24: 183 | F24: =SUM(G24:N24) -> 0 | O24: 1.7 | P24: =F24*O24 -> 0 | Q24: =F24*E24 -> 0 | R24: =F24*D24 -> 0
A25: 24003 | B25: Rubble Macro 3 dual texture | C25: view | D25: 1 | E25: 204 | F25: =SUM(G25:N25) -> 0 | O25: 2.1 | P25: =F25*O25 -> 0 | Q25: =F25*E25 -> 0 | R25: =F25*D25 -> 0
A26: 24004 | B26: Rubble Macro 4 dual texture | C26: view | D26: 1 | E26: 204 | F26: =SUM(G26:N26) -> 0 | O26: 2.2 | P26: =F26*O26 -> 0 | Q26: =F26*E26 -> 0 | R26: =F26*D26 -> 0
A27: 24005 | B27: Rubble Macro 5 dual texture | C27: view | D27: 1 | E27: 228 | F27: =SUM(G27:N27) -> 0 | O27: 2.2 | P27: =F27*O27 -> 0 | Q27: =F27*E27 -> 0 | R27: =F27*D27 -> 0
A28: 24006 | B28: Rubble Macro 6 dual texture | C28: view | D28: 1 | E28: 204 | F28: =SUM(G28:N28) -> 0 | O28: 2.3 | P28: =F28*O28 -> 0 | Q28: =F28*E28 -> 0 | R28: =F28*D28 -> 0
A29: 24007 | B29: Rubble Macro 7 dual texture | C29: view | D29: 1 | E29: 252 | F29: =SUM(G29:N29) -> 0 | O29: 2.9 | P29: =F29*O29 -> 0 | Q29: =F29*E29 -> 0 | R29: =F29*D29 -> 0
A30: 24008 | B30: Rubble Macro 8 dual texture | C30: view | D30: 1 | E30: 294 | F30: =SUM(G30:N30) -> 0 | O30: 3.1 | P30: =F30*O30 -> 0 | Q30: =F30*E30 -> 0 | R30: =F30*D30 -> 0
A31: 24009 | B31: Rubble Macro 9 dual texture | C31: view | D31: 1 | E31: 340 | F31: =SUM(G31:N31) -> 0 | O31: 4 | P31: =F31*O31 -> 0 | Q31: =F31*E31 -> 0 | R31: =F31*D31 -> 0
A32: 24010 | B32: Rubble Macro 10 dual texture | C32: view | D32: 1 | E32: 365 | F32: =SUM(G32:N32) -> 0 | O32: 4.9 | P32: =F32*O32 -> 0 | Q32: =F32*E32 -> 0 | R32: =F32*D32 -> 0
B33: Rubble DUAL - Full Line | C33: view | D33: =SUM(D23:D32) -> 10 | E33: =SUM(E23:E32) -> 2457 | F33: =SUM(G33:N33) -> 0 | O33: =SUM(O23:O32) -> 26.7 | P33: =F33*O33 -> 0 | Q33: =F33*E33 -> 0 | R33: =F33*D33 -> 0
A34: 25001 | B34: Rubble II Macro 1 | C34: view | D34: 1 | E34: 195 | F34: =SUM(G34:N34) -> 0 | O34: 1.9 | P34: =F34*O34 -> 0 | Q34: =F34*E34 -> 0 | R34: =F34*D34 -> 0
A35: 25002 | B35: Rubble II Macro 2 | C35: view | D35: 1 | E35: 195 | F35: =SUM(G35:N35) -> 0 | O35: 1.9 | P35: =F35*O35 -> 0 | Q35: =F35*E35 -> 0 | R35: =F35*D35 -> 0
A36: 25003 | B36: Rubble II Macro 3 | C36: view | D36: 1 | E36: 195 | F36: =SUM(G36:N36) -> 0 | O36: 2.1 | P36: =F36*O36 -> 0 | Q36: =F36*E36 -> 0 | R36: =F36*D36 -> 0
A37: 25004 | B37: Rubble II Macro 4 | C37: view | D37: 1 | E37: 208 | F37: =SUM(G37:N37) -> 0 | O37: 2.4 | P37: =F37*O37 -> 0 | Q37: =F37*E37 -> 0 | R37: =F37*D37 -> 0
A38: 25005 | B38: Rubble II Macro 5 | C38: view | D38: 1 | E38: 208 | F38: =SUM(G38:N38) -> 0 | O38: 2.4 | P38: =F38*O38 -> 0 | Q38: =F38*E38 -> 0 | R38: =F38*D38 -> 0
A39: 25006 | B39: Rubble II Macro 6 | C39: view | D39: 1 | E39: 221 | F39: =SUM(G39:N39) -> 0 | O39: 3 | P39: =F39*O39 -> 0 | Q39: =F39*E39 -> 0 | R39: =F39*D39 -> 0
A40: 25007 | B40: Rubble II Macro 7 | C40: view | D40: 1 | E40: 221 | F40: =SUM(G40:N40) -> 0 | O40: 3.1 | P40: =F40*O40 -> 0 | Q40: =F40*E40 -> 0 | R40: =F40*D40 -> 0
...
