Workbook
Name Colors: [1]Colors!$A:$E
Name critere: #REF!
Name TableauDatanew: 'Data (new)'!$A$2:$U$1193

Sheet Clients
A1: Nom | B1: Adresse | C1: Code Postal | D1: Pays | E1: TVA | F1: Contact | G1: Email | H1: Column8
A2: ALVO GLOBAL D.O.O | B2: Pot Heroja Trtnika 45 | C2: 1000 LJUBLJANA | D2: Slovenia | E2: SI 41842006 | F2: Ales Ribic | G2: info@alvo-global.com
A3: Black Tear | B3: Bedolla n°2 SOT 9 | C3: 32004 OURENSE | D3: SPAIN | E3: ESB16496424 | F3: Miguel Feijoo Fernandez | G3: info@blackteardistribution.com
A4: Boulder One | B4: Persilstraat 51 | C4: 3020 Herent | D4: Belgium | E4: TVA BE0630.781.694 | F4: Werner & Piet | G4: boulder.be@gmail.com
A5: Brussels Monkey Climbing asbl | B5: Avenue du Sippelberg 1 | C5: 1080 Bruxelles | D5: Belgium | F5: Kevin Mot | G5: contact@brusselsmonkeysclimbing.com
A6: BUTORA. INC. | B6: 1460 Nakdong daero Sasang gu Busan | C6: 18111 SEOUL | D6: SOUTH KOREA | E6: VAT 606 86 54 007 | F6: Eric Nam +82 31 378 9438 | G6: info@butora.com
A7: CLIMB KOREA CO., LTD | B7: 19-59, Sanyanggongdan 1-gil, | C7: Sanyang-myeon, Mungyeong-si, | D7: Gyeongsangbuk-do, Republic of Korea (36937) | E7: VAT# 141-81-01217 | F7: Daysik Woo | G7: info@climbkorea.com, +821028510528)
A8: Docrock SRL | B8: Via Giuseppe Mazzini 6 | C8: 13836 Cossato (BI) | D8: Italia | E8: TVA 2639110028 | F8: Alberto Gnerro | G8: alberto_gnerro@yahoo.i
A9: ESCATECH | B9: 494 rue Franklin Delano Roosevelt | C9: 62400 Béthune | D9: FRANCE | E9: TVA FR 22 424 761 419 | F9: Jérémy WARHEM | G9: jwarhem@escatech.fr
A10: Evolution Vertical | B10: Av. des Vaillants, 2 | C10: 1200 Woluwe Saint Lambert | D10: Belgium | E10: BE465639986 | F10: Karim Abene | G10: karim@evolutionvertical.be
A11: HOLDS & WALLS GmbH | B11: Carl-Appel-Straße 5/2401 | C11: A-1100 Wien | D11: AUSTRIA | E11: VAT ATU66933535 | F11: Tsvetomir Bonev | G11: M. info@holdsandwalls.at
A12: HOLDS.fr | B12: 16 Rue de Bretagne | C12: 56950 CRACH | D12: FRANCE | E12: FR60450409719 | F12: Simon Ravaz | G12: s.ravaz@expression-holds.com
A13: KANDI SPOR LTD STI | B13: Bublul Mah. Pasabakkal Sk 37a | C13: Beyoglu-Istanbul | D13: Turkey Beyoglu | E13: VD 496 035 6370 V/ID
A14: Kong Climbing Walls | B14: Threlkeld Quarry, Threlkeld Keswick | C14: Cumbria, CA12 4TT | D14: UK | E14: VAT734759892 | F14: Rob Wynn | G14: rob@climbingwall.co.uk
A15: Kletterkultur GmbH | B15: Saydaer Str. 21e | C15: 09125, Chemnit | D15: GERMANY | E15: HRB 33872 | Ust-IdNr: DE326417765 | F15: Joseph Wetzel | G15: vertrieb@kletterkultur.com
A16: MOON ROCK | B16: 8845 W 116th Cir | C16: Broomfield, CO | D16: USA | E16: 720-987-9410 | F16: Keith North | G16: keith@g1climbing.com
A17: Plastic Fantastic GmbH | B17: Pappelweg 24 | C17: 3013 Bern | D17: Switzerland | E17: VAT > CHE 347 256 441 | F17: Silvio Schaefer | G17: silvio@plasticfantasticshop.ch
A18: Problemkind-Routenbau | B18: Dorfstraße 16 | C18: 91096 Möhrendorf | D18: AUSTRIA | E18: DE815710425 | F18: Stefan Hofer | G18: info@problemkind-routenbau.de
A19: PROJECT CLIMBING | B19: 103 Brunswick Rd | C19: VIC 3057 | D19: AUSTRALIE | E19: (ABN) 73 275 145 872 | F19: Romain Thevenot | G19: info@projectclimbing.com
A20: Projekt Joanna Oles-Strojna | B20: Ul. Sobieskiego 47 E/2 | C20: 58-500 Jelenia Góra | D20: POLAND | E20: VAT ID: 5842525711 | F20: Joanna Lukasz | G20: projektboulder@gmail.com
A21: Punksetter | B21: C/ del Canigó 13 | C21: 8550, Barcelona | D21: SPAIN | E21: ES47854374E | F21: Marco Jubes | G21: marco@punksetter.com
A22: Seven A, ltd | B22: 1741-1 Nozuta | C22: Machida Tokyo | D22: Japan | E22: FOE code 1N6080000 | F22: Kazuya | G22: mail: sales@e7a.jp
A23: Stretchmarks Asia PTE LTD | B23: 68 Circular Road #02-01 | C23: 49422 | D23: Singapore | E23: UEN 201721192M | F23: Patrick Andrey | G23: patrick.andrey@stretchmarksasia.com
A24: TOP ZONE CLIMBING sp. z o. o. | B24: ul .Syta 104 lok. 6 | C24: 02-987 Warsaw | D24: Poland | E24: VAT PL951-236-69-67 | F24: Tomasz Dabrowski | G24: Buiro@topzone.com.pl
A25: XLIMITZ ADVENTURE WORLD PVT.LTD | B25: No. 52/4/2B, Tanaji Dagde Patil Nagar, | C25: Near CNG Pump, Bangalore - Mumbai Highway,Bavdhan Khurd, | D25: India, Pune 411021. | E25: TVA: 27AAACX0967C1ZF | F25: Sagar Palkar | G25: sagar@xlimitz.com
A26: Nom | B26: Adresse | C26: Code Postal | D26: Pays | E26: TVA | F26: Contact | G26: Email
A27: Walltopia | B27: Bulgarie Blvd, 1B | C27: 5570 Letnitsa | D27: Bulgaria | E27: VAT BG204143670 | F27: Vladimir Pavlov | G27: vladimir.pavlov@walltopia.com
A28: GRIMP'A BLOC | B28: 54 Avenue Château Milan | C28: 80000 AMIENS | D28: FRANCE | E28: Siret: 753 489 00021 | F28: François Charpentier | G28: francois@grimpabloc.fr
A29: Aubin Lesellier | B29: 1 Imp. des Coquelicots, Tassin-la-Demi-Lune | C29: 69160 | D29: France | E29: FR 38490382280 | F29: Aubin Lesellier (06 15 81 63 34) | G29: competition@ladegaine.com
A30: Climb Craft Limited | B30: 36 Saxon Street, Phillipstown | C30: Christchurch 8011 | D30: NEW ZEALAND | E30: GST (NZ sales tax) code 139-947-959, | F30: NZ customs importer code 40709807C | G30: Michael McNabb (+64 3 3775899) | H30: accounts@climbcraft.co.nz
A31: The Climbing Corner B.V | B31: In de Cramer 14 | C31: 6411RS, Heerlen | D31: Netherlands | E31: VAT: NL863510139B01 | F31: Adam James | G31: contact@theclimbingcorner.com
A32: Outlier Distribution LTD | B32: 26 Main Street, Longforgan | C32: Dundee DD2 5ET | D32: Scotland | E32: VAT: 486858028 | F32: Angus Harrison-Smart | G32: contact@outlierdistribution.co.uk
A33: SAS VERTIKAZ | B33: 8 A Allée des cactus | C33: 97432 Saint-Pierre | D33: FRANCE | E33: FR54 937 736 650 | F33: Geoffray de Flaugergues | G33: geodeflau@gmail.com
A34: Axis Klimwandenservice VOF | B34: Industrieweg 67 | C34: 3044 AS, Rotterdam | D34: Netherlands | E34: VAT: NL 854809119 B01 | F34: Frank Bogerman | G34: info@axisroundedges.com
A35: Clara Jaramillo | B35: TV 22A # 60A-17 Ap 1404 | C35: Bogota | D35: Colombia | E35: NIT: 39686537 | F35: Phone: +57 3165782653 | G35: cijaramillo@hotmail.com
A36: Rai Suñé | B36: Carrer comptat d’urgell 8 | C36: 25700, La seu d’urgell, lleida | D36: Spain | E36: ES53920138L | F36: +34 609 93 58 23 , Rai Suñé | G36: raipeudegat@gmail.com
A37: Salle d'escalade New Rock | B37: Chaussée de Watermael 136 | C37: 1160 Bruxelles | D37: Belgium | E37: TVA BE0433691057 | F37: Kevin Levecq | G37: kevin_leveque@hotmail.com
A38: Boulder Zone | B38: Warehouse 5, Al Tayer Warehouse | C38: Al Quoz 1, Dubai | D38: United Arab Emirates | E38: VAT: 104363333600003 | F38: Samuel C | G38: samuel@boulderzone.ae
A39: 7 to 7 S.R.L. | B39: VIA PASCOLO 6 | C39: 23842 BOSISIO PARINI (LC) | D39: ITALIA | E39: Partita IVA:03231000138 | F39: Emanuele Sandionigi | G39: esandionigi@7to7.it
A40: Mountain Network B.V | B40: Olympus 27 | C40: 6832EL, Arnhem | D40: Netherlands | E40: VAT nr NL8074.96.546.B04 | F40: Victor Meulendijks | G40: Victor@setroutesetting.com
...

Sheet Data (new)
A1: REF ORDER | B1: REF SPP | C1: REF AGRP WB | D1: CATEGORY | E1: RANGE | F1: NAME | G1: URL | H1: FINITION | I1: Mesure (cm) | J1: SIZE | K1: Nbr of products/set | L1: Weight (Kg) | M1: Material | N1: PREHENSION | O1: EUR PRICE STANDARD | P1: CHANGE PRICE STANDARD | Q1: EUR PRICE FLUO | R1: CHANGE PRICE FLUO | S1: Launch date | T1: Dollar price standard | U1: Arrondi dollar | V1: Taux échange Dollar | AD1: Woods dual | AE1: Colonne1 | AF1: Macros dual | AG1: Material | AH1: Finition | AI1: Taux change | AJ1: VAT | AK1: Category
A2: ABS001 | D2: MACROS | E2: Dune Asia T24 | F2: Aston | G2: https://www.agripp.com/fr/thermoplastique-macros/832-aston.html | H2: Full Texture | J2: S-M | K2: 5 | M2: ABS | N2: Edges | O2: 677.4942 | P2: =ROUND(O2,0) -> 677 | Q2: 0 | T2: 198.5425 | W2: =O2-O3 -> -75.288648 | X2: =L3-L2 -> 0 | AD2: 001Same as volume | AE2: Footholds | AF2: 001Same as volume | AG2: PE | AH2: Full friction | AI2: ='Summary(old)'!O12 -> 1 | AJ2: ='Summary(old)'!#REF! -> #REF! | AK2: WOOD
A3: ABS002 | D3: MACROS | E3: Dune Asia T24 | F3: Aston | G3: https://www.agripp.com/fr/thermoplastique-macros/832-aston.html | H3: Dual Texture | J3: S-M | K3: 5 | M3: ABS | N3: Edges | O3: 752.78285 | P3: =ROUND(O3,0) -> 753 | Q3: 0 | T3: 305.45 | AD3: 002 Wood | AE3: Pinches | AF3: 003White | AG3: PU | AH3: Dual texture | AK3: MACROS
A4: ABS003 | D4: MACROS | E4: Dune Asia T24 | F4: Aston | G4: https://www.agripp.com/fr/thermoplastique-macros/832-aston.html | H4: No Texture | J4: S-M | K4: 5 | M4: ABS | N4: Edges | O4: 489.29849 | P4: =ROUND(O4,0) -> 489 | Q4: 0 | T4: 274.905 | W4: =#REF!-O4 -> #REF! | X4: =L4-#REF! -> #REF! | AD4: 003White | AE4: Craters | AF4: 004Black | AG4: Wood | AH4: Classic | AK4: HOLDS
A5: ABS004 | D5: MACROS | E5: Dune Asia T24 | F5: Aston | G5: https://www.agripp.com/fr/thermoplastique-macros/832-aston.html | H5: No Texture - Clear | J5: S-M | K5: 5 | M5: ABS | N5: Edges | O5: 611.63606 | P5: =ROUND(O5,0) -> 612 | Q5: 0 | T5: 251.862 | AD5: 004Black | AE5: Edges | AG5: Fiberglass
A6: ABS005 | D6: MACROS | E6: Dune Asia T24 | F6: Aston | G6: https://www.agripp.com/fr/thermoplastique-macros/832-aston.html | H6: Dual Texture - Clear | J6: S-M | K6: 5 | M6: ABS | N6: Edges | O6: 941.7558 | P6: =ROUND(O6,0) -> 942 | Q6: 0 | T6: 387.48 | W6: =O5-O6 -> -330.11974 | X6: =L6-L5 -> 0 | AE6: Slopers
A7: ABS006 | D7: MACROS | E7: Dune Asia T24 | F7: Delta | G7: https://www.agripp.com/fr/thermoplastique-macros/833-delta.html | H7: Full Texture | J7: S-L | K7: 5 | M7: ABS | N7: Edges | O7: 916.1846 | P7: =ROUND(O7,0) -> 916 | Q7: 0 | T7: 348.732 | AE7: Balls
A8: ABS007 | D8: MACROS | E8: Dune Asia T24 | F8: Delta | G8: https://www.agripp.com/fr/thermoplastique-macros/833-delta.html | H8: Dual Texture | J8: S-L | K8: 5 | M8: ABS | N8: Edges | O8: 1017.9771 | P8: =ROUND(O8,0) -> 1018 | Q8: 0 | T8: 268.1055 | W8: =#REF!-O7 -> #REF! | X8: =L7-#REF! -> #REF! | AE8: Crimps
A9: ABS008 | D9: MACROS | E9: Dune Asia T24 | F9: Delta | G9: https://www.agripp.com/fr/thermoplastique-macros/833-delta.html | H9: No Texture | J9: S-L | K9: 5 | M9: ABS | N9: Edges | O9: 661.69032 | P9: =ROUND(O9,0) -> 662 | Q9: 0 | T9: 412.47 | AE9: Jugs
A10: ABS009 | D10: MACROS | E10: Dune Asia T24 | F10: Delta | G10: https://www.agripp.com/fr/thermoplastique-macros/833-delta.html | H10: No Texture - Clear | J10: S-L | K10: 5 | M10: ABS | N10: Edges | O10: 827.1129 | P10: =ROUND(O10,0) -> 827 | Q10: 0 | T10: 371.223 | AE10: Knobs
A11: ABS010 | D11: MACROS | E11: Dune Asia T25 | F11: Delta | G11: https://www.agripp.com/fr/thermoplastique-macros/833-delta.html | H11: Dual Texture - Clear | J11: S-L | K11: 5 | M11: ABS | N11: Edges | O11: 1272.4714 | P11: =ROUND(O11,0) -> 1272 | AE11: Pockets
A12: ABS011 | D12: MACROS | E12: Dune Asia T26 | F12: Fenix | G12: https://www.agripp.com/fr/thermoplastique-macros/831-fenix.html | H12: Full Texture | J12: S-L | K12: 5 | M12: ABS | N12: Edge/Sloper | O12: 1155.0564 | P12: =ROUND(O12,0) -> 1155 | AE12: Edge/Sloper
A13: ABS012 | D13: MACROS | E13: Dune Asia T27 | F13: Fenix | G13: https://www.agripp.com/fr/thermoplastique-macros/831-fenix.html | H13: Dual Texture | J13: S-L | K13: 5 | M13: ABS | N13: Edge/Sloper | O13: 1283.4046 | P13: =ROUND(O13,0) -> 1283 | AE13: Colos / Crater | AM13: l
A14: ABS013 | D14: MACROS | E14: Dune Asia T28 | F14: Fenix | G14: https://www.agripp.com/fr/thermoplastique-macros/831-fenix.html | H14: No Texture | J14: S-L | K14: 5 | M14: ABS | N14: Edge/Sloper | O14: 834.21169 | P14: =ROUND(O14,0) -> 834 | W14: =#REF!-#REF! -> #REF! | X14: =#REF!-#REF! -> #REF! | AE14: Mixed
A15: ABS014 | D15: MACROS | E15: Dune Asia T29 | F15: Fenix | G15: https://www.agripp.com/fr/thermoplastique-macros/831-fenix.html | H15: No Texture - Clear | J15: S-L | K15: 5 | M15: ABS | N15: Edge/Sloper | O15: 1042.7711 | P15: =ROUND(O15,0) -> 1043
A16: ABS015 | D16: MACROS | E16: Dune Asia T30 | F16: Fenix | G16: https://www.agripp.com/fr/thermoplastique-macros/831-fenix.html | H16: Dual Texture - Clear | J16: S-L | K16: 5 | M16: ABS | N16: Edge/Sloper | O16: 1604.2493 | P16: =ROUND(O16,0) -> 1604 | Y16: COLORS
A17: HA001 | B17: AGP0356-G7 | D17: MACROS | E17: Ride T26 | F17: Cobra 1 "New" | H17: Full friction | J17: XXL | K17: 1 | L17: 1.35 | M17: Fiberglass | N17: Slopers | O17: 118.49129 | P17: =ROUND(O17,0) -> 118 | W17: =#REF!-#REF! -> #REF! | X17: =#REF!-#REF! -> #REF! | Y17: PU EU | AA17: Pure White | AB17: Traffic Yellow | AC17: Lime Green | AD17: Green | AE17: Traffic Red | AF17: Orange | AG17: Sky Blue | AH17: Jet Black | AI17: Fluo Orange | AJ17: Fluo Green | AK17: Fluo Pink | AL17: Purple | AM17: Light Green (Mint) | AN17: Signal Violet | AO17: Trafic White | AP17: Sky Blue US | AQ17: Sky Blue EU | AR17: Turquoise | AS17: Mint | AU17: Pure Green | AV17: Lime Green | AW17: Zinc Yellow | AX17: Traffic Yellow | AZ17: Pure Orange | BA17: Traffic Red | BC17: Signal Violet | BD17: Purple US | BE17: Jet Black | BF17: Silver Grey | BG17: Brown | BH17: Fluo Yellow | BI17: Fluo Orange | BJ17: Fluo Pink | BK17: Fluo Green
A18: HA002 | B18: AGP0356-G8 | D18: MACROS | E18: Ride T26 | F18: Cobra 1 "New" | G18: https://www.agripp.com/fr/ride/876-blade-1-new.html | H18: Dual texture | J18: XXL | K18: 1 | L18: 1.35 | M18: Fiberglass | N18: Slopers | O18: 136.26498 | P18: =ROUND(O18,0) -> 136 | AA18: 79 | AB18: (D2) - 2 | AC18: 69 | AD18: 77 | AE18: (F1) - 5 | AF18: 76 | AG18: (B1) - 7 | AH18: (H1) -10 | AI18: (E0) - 11 | AJ18: (C0) - 12 | AK18: (F0) - 13 | AL18: 81 | AM18: (B5) - 27 | AN18: (G3) - 55 | AO18: A1 | AP18: B1 | AQ18: B3 | AR18: B4 | AS18: B5 | AU18: C2 | AV18: C4 | AW18: D1 | AX18: D2 | AZ18: E2 | BA18: F1 | BC18: G3 | BD18: G2 | BE18: H1 | BF18: J1 | BG18: K1 | BH18: D0 | BI18: E0 | BJ18: F0 | BK18: C0
A19: HA003 | B19: AGP0357-G7 | D19: MACROS | E19: Ride T26 | F19: Cobra 2 "New" | H19: Full friction | J19: XXL | K19: 1 | L19: 1.09 | M19: Fiberglass | N19: Slopers | O19: 120.41122 | P19: =ROUND(O19,0) -> 120 | W19: =#REF!-#REF! -> #REF! | X19: =#REF!-#REF! -> #REF! | AA19: RAL 9010 | AB19: RAL 1023 | AC19: US 16-09 | AD19: US 16-16 | AE19: RAL 3020 | AF19: US 14-01 | AG19: RAL 5015 | AH19: RAL 9005 | AI19: RAL 2005 | AJ19: PAN 802C | AK19: PAN 806C | AL19: US 17-13 | AM19: RAL 6027 | AN19: RAL 4008 | AO19: RAL 9016 | AP19: RAL 5015 | AQ19: RAL 5015 | AR19: P 3105C | AS19: RAL 6027 | AU19: RAL 6037 | AV19: Light P 2301C | AW19: RAL 1018 | AX19: RAL 1023 | AZ19: RAL 2009 | BA19: RAL 3020 | BC19: RAL 4008 | BD19: Pantone 267U | BE19: RAL 9005 | BF19: RAL 7001 | BG19: RAL 8002 | BH19: RAL 1026 | BI19: RAL 2005 | BJ19: Pantone 806C | BK19: RAL 6028
A20: HA004 | B20: AGP0357-G8 | D20: MACROS | E20: Ride T26 | F20: Cobra 2 "New" | G20: https://www.agripp.com/fr/ride-t25/911-cobra-2-new.html | H20: Dual texture | J20: XXL | K20: 1 | L20: 1.09 | M20: Fiberglass | N20: Slopers | O20: 138.4729 | P20: =ROUND(O20,0) -> 138 | Y20: PE | AA20: Traffic White | AB20: Bright Yellow | AC20: Yellow Green | AD20: Leaf green | AE20: Traffic Red | AF20: Pastel Orange | AG20: Sky Blue | AH20: Silver Grey | AI20: Jet Black | AJ20: Fluo Orange | AK20: Fluo Green | AL20: Fluo Pink | AM20: Fluo Yellow | AN20: Signal Violet | AO20: Light Green (Mint)
A21: HA005 | B21: AGP0358-G7 | D21: MACROS | E21: Ride T26 | F21: Cobra 3 "New" | H21: Full friction | J21: XXL | K21: 1 | L21: 1.04 | M21: Fiberglass | N21: Slopers | O21: 124.26471 | P21: =ROUND(O21,0) -> 124 | W21: =#REF!-#REF! -> #REF! | X21: =#REF!-#REF! -> #REF! | AA21: 1 | AB21: 2 | AC21: 3 | AD21: 4 | AE21: 5 | AF21: 6 | AG21: 7 | AH21: 9 | AI21: (H1) -10 | AJ21: (E0) - 11 | AK21: 12 | AL21: 13 | AM21: 14 | AN21: 16 | AO21: 27
A22: HA006 | B22: AGP0358-G8 | D22: MACROS | E22: Ride T26 | F22: Cobra 3 "New" | G22: https://www.agripp.com/fr/ride-t25/912-cobra-3-new.html | H22: Dual texture | J22: XXL | K22: 1 | L22: 1.04 | M22: Fiberglass | N22: Slopers | O22: 142.90441 | P22: =ROUND(O22,0) -> 143 | W22: =#REF!*1.1 -> #REF! | AA22: RAL 9016 | AB22: PAN 116C | AC22: RAL 6018 | AD22: RAL 6002 | AE22: RAL 3020 | AF22: RAL 2003 | AG22: RAL 5015 | AH22: RAL 7001 | AI22: RAL 9005 | AJ22: RAL 2005 | AK22: PAN 802C | AL22: PAN 806C | AM22: RAL 1026 | AN22: RAL 4008 | AO22: RAL 6027
A23: HA007 | B23: AGP0359-G7 | D23: MACROS | E23: Ride T26 | F23: Cobra 4 "New" | H23: Full friction | J23: XXL | K23: 1 | L23: 1.22 | M23: Fiberglass | N23: Pinches | O23: 130.44662 | P23: =ROUND(O23,0) -> 130 | W23: =#REF!-#REF! -> #REF! | X23: =#REF!-#REF! -> #REF! | Y23: Woods | AB23: Zinc Yellow | AC23: Pure Orange | AD23: Traffic Red | AE23: Signal Violet | AF23: Sky Blue | AG23: Yellow Green | AH23: Pure White | AI23: Telegrey 2 | AJ23: Graphite grey | AK23: Jet Black
A24: HA008 | B24: AGP0359-G8 | D24: MACROS | E24: Ride T26 | F24: Cobra 4 "New" | G24: https://www.agripp.com/fr/ride-t25/913-cobra-4-new.html | H24: Dual texture | J24: XXL | K24: 1 | L24: 1.22 | M24: Fiberglass | N24: Pinches | O24: 150.01362 | P24: =ROUND(O24,0) -> 150 | AB24: RAL 1018 | AC24: RAL 2004 | AD24: RAL 3020 | AE24: RAL 4008 | AF24: RAL 5015 | AG24: RAL 6018 | AH24: RAL 9010 | AI24: RAL 7046 | AJ24: RAL 7024 | AK24: RAL 9005
A25: HA009 | B25: AGP0360-G7 | D25: MACROS | E25: Ride T26 | F25: Cobra 5 "New" | H25: Full friction | J25: XXL | K25: 1 | L25: 1.15 | M25: Fiberglass | N25: Slopers | O25: 165.57734 | P25: =ROUND(O25,0) -> 166 | Y25: Fiber | AB25: Trafic White | AC25: Sky Blue US | AD25: Sky Blue EU | AE25: Turquoise | AF25: Mint | AG25: Pure Green | AH25: Lime Green | AI25: Zinc Yellow | AJ25: Traffic Yellow | AK25: Pure Orange | AL25: Traffic Red | AM25: Signal Violet | AN25: Purple US | AO25: Jet Black | AP25: Silver Grey | AQ25: Fluo Yellow | AR25: Fluo Orange | AS25: Fluo Pink | AT25: Fluo Green
A26: HA010 | B26: AGP0360-G8 | D26: MACROS | E26: Ride T26 | F26: Cobra 5 "New" | G26: https://www.agripp.com/fr/ride-t25/914-cobra-5-new.html | H26: Dual texture | J26: XXL | K26: 1 | L26: 1.15 | M26: Fiberglass | N26: Slopers | O26: 190.41394 | P26: =ROUND(O26,0) -> 190 | W26: =#REF!-#REF! -> #REF! | X26: =#REF!-#REF! -> #REF! | AB26: A1 | AC26: B1 | AD26: B3 | AE26: B4 | AF26: B5 | AG26: C2 | AH26: C4 | AI26: D1 | AJ26: D2 | AK26: E2 | AL26: F1 | AM26: G3 | AN26: G2 | AO26: H1 | AP26: J1 | AQ26: D0 | AR26: E0 | AS26: F0 | AT26: C0
A27: HA011 | B27: AGP0361-G7 | D27: MACROS | E27: Ride T26 | F27: Cobra 6 "New" | H27: Full friction | J27: XXL | K27: 1 | L27: 1.26 | M27: Fiberglass | N27: Slopers | O27: 168.6857 | P27: =ROUND(O27,0) -> 169 | AB27: RAL 9016 | AC27: RAL 5015 | AD27: RAL 5015 | AE27: P 3105C | AF27: RAL 6027 | AG27: RAL 6037 | AH27: Light P 2301C | AI27: RAL 1018 | AJ27: RAL 1023 | AK27: RAL 2009 | AL27: RAL 3020 | AM27: RAL 4008 | AN27: Pantone 267U | AO27: RAL 9005 | AP27: RAL 7001 | AQ27: RAL 1026 | AR27: RAL 2005 | AS27: Pantone 806C | AT27: RAL 6028
A28: HA012 | B28: AGP0361-G8 | D28: MACROS | E28: Ride T26 | F28: Cobra 6 "New" | G28: https://www.agripp.com/fr/ride-t25/915-cobra-6-new.html | H28: Dual texture | J28: XXL | K28: 1 | L28: 1.26 | M28: Fiberglass | N28: Slopers | O28: 193.98855 | P28: =ROUND(O28,0) -> 194 | W28: =#REF!-#REF! -> #REF! | X28: =#REF!-#REF! -> #REF!
A29: HA013 | B29: AGP0362-G7 | D29: MACROS | E29: Ride T26 | F29: Cobra 7 "New" | H29: Full friction | J29: XXL | K29: 1 | L29: 1.24 | M29: Fiberglass | N29: Slopers | O29: 166.93673 | P29: =ROUND(O29,0) -> 167
A30: HA014 | B30: AGP0362-G8 | D30: MACROS | E30: Ride T26 | F30: Cobra 7 "New" | G30: https://www.agripp.com/fr/ride-t25/916-cobra-7-new.html | H30: Dual texture | J30: XXL | K30: 1 | L30: 1.24 | M30: Fiberglass | N30: Slopers | O30: 191.97724 | P30: =ROUND(O30,0) -> 192
A31: HA015 | B31: AGP0348-G7 | D31: MACROS | E31: Ride T26 | F31: Prism 1 "New" | H31: Full friction | J31: XXL | K31: 1 | L31: 1.22 | M31: Fiberglass | N31: Edges | O31: 122.07244 | P31: =ROUND(O31,0) -> 122 | W31: =#REF!-#REF! -> #REF! | X31: =#REF!-#REF! -> #REF!
A32: HA016 | B32: AGP0348-G8 | D32: MACROS | E32: Ride T26 | F32: Prism 1 "New" | G32: https://www.agripp.com/fr/ride-t25/902-prism-1-new.html | H32: Dual texture | J32: XXL | K32: 1 | L32: 1.22 | M32: Fiberglass | N32: Edges | O32: 140.38331 | P32: =ROUND(O32,0) -> 140
A33: HA017 | B33: AGP0349-G7 | D33: MACROS | E33: Ride T26 | F33: Prism 2 "New" | H33: Full friction | J33: XXL | K33: 1 | L33: 1.19 | M33: Fiberglass | N33: Slopers | O33: 119.45806 | P33: =ROUND(O33,0) -> 119
A34: HA018 | B34: AGP0349-G8 | D34: MACROS | E34: Ride T26 | F34: Prism 2 "New" | G34: https://www.agripp.com/fr/ride-t25/903-prism-2-new.html | H34: Dual texture | J34: XXL | K34: 1 | L34: 1.19 | M34: Fiberglass | N34: Slopers | O34: 137.37677 | P34: =ROUND(O34,0) -> 137
A35: HA019 | B35: AGP0350-G7 | D35: MACROS | E35: Ride T26 | F35: Prism 3 "New" | H35: Full friction | J35: XXL | K35: 1 | L35: 1.21 | M35: Fiberglass | N35: Slopers | O35: 115.89052 | P35: =ROUND(O35,0) -> 116 | W35: =#REF!-#REF! -> #REF! | X35: =#REF!-#REF! -> #REF!
A36: HA020 | B36: AGP0350-G8 | D36: MACROS | E36: Ride T26 | F36: Prism 3 "New" | G36: https://www.agripp.com/fr/ride-t25/904-prism-3-new.html | H36: Dual texture | J36: XXL | K36: 1 | L36: 1.21 | M36: Fiberglass | N36: Slopers | O36: 133.2741 | P36: =ROUND(O36,0) -> 133
A37: HA021 | B37: AGP0351-G7 | D37: MACROS | E37: Ride T26 | F37: Prism 4 "New" | H37: Full friction | J37: XXL | K37: 1 | L37: 1.16 | M37: Fiberglass | N37: Pinches | O37: 161.11111 | P37: =ROUND(O37,0) -> 161 | W37: =#REF!-#REF! -> #REF! | X37: =#REF!-#REF! -> #REF!
A38: HA022 | B38: AGP0351-G8 | D38: MACROS | E38: Ride T26 | F38: Prism 4 "New" | G38: https://www.agripp.com/fr/ride-t25/905-prism-4-new.html | H38: Dual texture | J38: XXL | K38: 1 | L38: 1.16 | M38: Fiberglass | N38: Pinches | O38: 185.27778 | P38: =ROUND(O38,0) -> 185
A39: HA023 | B39: AGP0352-G7 | D39: MACROS | E39: Ride T26 | F39: Prism 5 "New" | H39: Full friction | J39: XXL | K39: 1 | L39: 1.12 | M39: Fiberglass | N39: Slopers | O39: 172.64079 | P39: =ROUND(O39,0) -> 173 | W39: =#REF!-#REF! -> #REF! | X39: =#REF!-#REF! -> #REF!
A40: HA024 | B40: AGP0352-G8 | D40: MACROS | E40: Ride T26 | F40: Prism 5 "New" | G40: https://www.agripp.com/fr/ride-t25/906-prism-5-new.html | H40: Dual texture | J40: XXL | K40: 1 | L40: 1.12 | M40: Fiberglass | N40: Slopers | O40: 198.53691 | P40: =ROUND(O40,0) -> 199
...

Sheet Data invoice
B1: Somme | C1: ref | D1: NBR sets | E1: Rang 1 | F1: Price | J1: Ref | K1: Category | L1: Range | M1: Name | N1: Material | O1: Prod/sets | P1: Finition | Q1: Size | R1: Sets | S1: Price | T1: ='Summary(old)'!P12 -> EUR | X1: Summary | Y1: Sets | Z1: Holds | AA1: Price
A2: =IF(D2=0,"",1) | B2: =SUM($A$2:A2) -> 0 | C2: ='Agripp Holds PU (EU, ASIA)'!A11 -> HU001 | D2: =IF(VLOOKUP(C2,'Agripp Holds PU (EU, ASIA)'!$A$11:$AL$1003,37,0)="",0,VLOOKUP(C2,'Agripp Holds PU (EU, ASIA)'!$A$11:$AL$1003,37,0)) -> 0 | E2: 1 | F2: =IF(VLOOKUP(C2,'Agripp Holds PU (EU, ASIA)'!$A$11:$AN$999,39,0)="",0,VLOOKUP(C2,'Agripp Holds PU (EU, ASIA)'!$A$11:$AN$999,39,0)) -> 0 | J2: =IF(ISERROR(VLOOKUP($E2,$B$2:$D$1047,2,0)),"",VLOOKUP($E2,$B$2:$D$1047,2,0)) | K2: =IF(ISERROR(VLOOKUP($J2,TableauDatanew,4,0)),"",VLOOKUP($J2,TableauDatanew,4,0)) | L2: =IF(ISERROR(VLOOKUP($J2,TableauDatanew,5,0)),"",VLOOKUP($J2,TableauDatanew,5,0)) | M2: =IF(ISERROR(VLOOKUP($J2,TableauDatanew,6,0)),"",VLOOKUP($J2,TableauDatanew,6,0)) | N2: =IF(ISERROR(VLOOKUP($J2,TableauDatanew,13,0)),"",VLOOKUP($J2,TableauDatanew,13,0)) | O2: =IF(ISERROR(VLOOKUP($J2,TableauDatanew,11,0)),"",VLOOKUP($J2,TableauDatanew,11,0)) | P2: =IF(ISERROR(VLOOKUP($J2,TableauDatanew,8,0)),"",VLOOKUP($J2,TableauDatanew,8,0)) | Q2: =IF(ISERROR(VLOOKUP($J2,TableauDatanew,10,0)),"",VLOOKUP($J2,TableauDatanew,10,0)) | R2: =IF(ISERROR(VLOOKUP(J2,C:D,2,0)),"",VLOOKUP(J2,C:D,2,0)) | S2: =IF(ISERROR(VLOOKUP(J2,C:F,4,0)),"",VLOOKUP(J2,C:F,4,0)) | T2: =IF(S2="","",$T$1) | X2: HOLDS | Y2: Sets | Z2: Holds | AA2: ='Summary(old)'!P12 -> EUR
A3: =IF(D3=0,"",1) | B3: =SUM($A$2:A3) -> 0 | C3: ='Agripp Holds PU (EU, ASIA)'!A12 -> HU002 | D3: =IF(VLOOKUP(C3,'Agripp Holds PU (EU, ASIA)'!$A$11:$AL$1003,37,0)="",0,VLOOKUP(C3,'Agripp Holds PU (EU, ASIA)'!$A$11:$AL$1003,37,0)) -> 0 | E3: 2 | F3: =IF(VLOOKUP(C3,'Agripp Holds PU (EU, ASIA)'!$A$11:$AN$999,39,0)="",0,VLOOKUP(C3,'Agripp Holds PU (EU, ASIA)'!$A$11:$AN$999,39,0)) -> 0 | J3: =IF(ISERROR(VLOOKUP($E3,$B$2:$D$1047,2,0)),"",VLOOKUP($E3,$B$2:$D$1047,2,0)) | K3: =IF(ISERROR(VLOOKUP($J3,TableauDatanew,4,0)),"",VLOOKUP($J3,TableauDatanew,4,0)) | L3: =IF(ISERROR(VLOOKUP($J3,TableauDatanew,5,0)),"",VLOOKUP($J3,TableauDatanew,5,0)) | M3: =IF(ISERROR(VLOOKUP($J3,TableauDatanew,6,0)),"",VLOOKUP($J3,TableauDatanew,6,0)) | N3: =IF(ISERROR(VLOOKUP($J3,TableauDatanew,13,0)),"",VLOOKUP($J3,TableauDatanew,13,0)) | O3: =IF(ISERROR(VLOOKUP($J3,TableauDatanew,11,0)),"",VLOOKUP($J3,TableauDatanew,11,0)) | P3: =IF(ISERROR(VLOOKUP($J3,TableauDatanew,8,0)),"",VLOOKUP($J3,TableauDatanew,8,0)) | Q3: =IF(ISERROR(VLOOKUP($J3,TableauDatanew,10,0)),"",VLOOKUP($J3,TableauDatanew,10,0)) | R3: =IF(ISERROR(VLOOKUP(J3,C:D,2,0)),"",VLOOKUP(J3,C:D,2,0)) | S3: =IF(ISERROR(VLOOKUP(J3,C:F,4,0)),"",VLOOKUP(J3,C:F,4,0)) | T3: =IF(S3="","",$T$1) | X3: PU Holds | Y3: ='Agripp Holds PU (EU, ASIA)'!I2 -> 0 | Z3: ='Agripp Holds PU (EU, ASIA)'!J2 -> 0 | AA3: ='Agripp Holds PU (EU, ASIA)'!K2 -> 0
A4: =IF(D4=0,"",1) | B4: =SUM($A$2:A4) -> 0 | C4: ='Agripp Holds PU (EU, ASIA)'!A13 -> HU003 | D4: =IF(VLOOKUP(C4,'Agripp Holds PU (EU, ASIA)'!$A$11:$AL$1003,37,0)="",0,VLOOKUP(C4,'Agripp Holds PU (EU, ASIA)'!$A$11:$AL$1003,37,0)) -> 0 | E4: 3 | F4: =IF(VLOOKUP(C4,'Agripp Holds PU (EU, ASIA)'!$A$11:$AN$999,39,0)="",0,VLOOKUP(C4,'Agripp Holds PU (EU, ASIA)'!$A$11:$AN$999,39,0)) -> 0 | J4: =IF(ISERROR(VLOOKUP($E4,$B$2:$D$1047,2,0)),"",VLOOKUP($E4,$B$2:$D$1047,2,0)) | K4: =IF(ISERROR(VLOOKUP($J4,TableauDatanew,4,0)),"",VLOOKUP($J4,TableauDatanew,4,0)) | L4: =IF(ISERROR(VLOOKUP($J4,TableauDatanew,5,0)),"",VLOOKUP($J4,TableauDatanew,5,0)) | M4: =IF(ISERROR(VLOOKUP($J4,TableauDatanew,6,0)),"",VLOOKUP($J4,TableauDatanew,6,0)) | N4: =IF(ISERROR(VLOOKUP($J4,TableauDatanew,13,0)),"",VLOOKUP($J4,TableauDatanew,13,0)) | O4: =IF(ISERROR(VLOOKUP($J4,TableauDatanew,11,0)),"",VLOOKUP($J4,TableauDatanew,11,0)) | P4: =IF(ISERROR(VLOOKUP($J4,TableauDatanew,8,0)),"",VLOOKUP($J4,TableauDatanew,8,0)) | Q4: =IF(ISERROR(VLOOKUP($J4,TableauDatanew,10,0)),"",VLOOKUP($J4,TableauDatanew,10,0)) | R4: =IF(ISERROR(VLOOKUP(J4,C:D,2,0)),"",VLOOKUP(J4,C:D,2,0)) | S4: =IF(ISERROR(VLOOKUP(J4,C:F,4,0)),"",VLOOKUP(J4,C:F,4,0)) | T4: =IF(S4="","",$T$1) | X4: PE Holds | Y4: ='Agripp Holds PE (EU)'!F2 -> 0 | Z4: ='Agripp Holds PE (EU)'!G2 -> 0 | AA4: ='Agripp Holds PE (EU)'!H2 -> 0
A5: =IF(D5=0,"",1) | B5: =SUM($A$2:A5) -> 0 | C5: ='Agripp Holds PU (EU, ASIA)'!A14 -> HU004 | D5: =IF(VLOOKUP(C5,'Agripp Holds PU (EU, ASIA)'!$A$11:$AL$1003,37,0)="",0,VLOOKUP(C5,'Agripp Holds PU (EU, ASIA)'!$A$11:$AL$1003,37,0)) -> 0 | E5: 4 | F5: =IF(VLOOKUP(C5,'Agripp Holds PU (EU, ASIA)'!$A$11:$AN$999,39,0)="",0,VLOOKUP(C5,'Agripp Holds PU (EU, ASIA)'!$A$11:$AN$999,39,0)) -> 0 | J5: =IF(ISERROR(VLOOKUP($E5,$B$2:$D$1047,2,0)),"",VLOOKUP($E5,$B$2:$D$1047,2,0)) | K5: =IF(ISERROR(VLOOKUP($J5,TableauDatanew,4,0)),"",VLOOKUP($J5,TableauDatanew,4,0)) | L5: =IF(ISERROR(VLOOKUP($J5,TableauDatanew,5,0)),"",VLOOKUP($J5,TableauDatanew,5,0)) | M5: =IF(ISERROR(VLOOKUP($J5,TableauDatanew,6,0)),"",VLOOKUP($J5,TableauDatanew,6,0)) | N5: =IF(ISERROR(VLOOKUP($J5,TableauDatanew,13,0)),"",VLOOKUP($J5,TableauDatanew,13,0)) | O5: =IF(ISERROR(VLOOKUP($J5,TableauDatanew,11,0)),"",VLOOKUP($J5,TableauDatanew,11,0)) | P5: =IF(ISERROR(VLOOKUP($J5,TableauDatanew,8,0)),"",VLOOKUP($J5,TableauDatanew,8,0)) | Q5: =IF(ISERROR(VLOOKUP($J5,TableauDatanew,10,0)),"",VLOOKUP($J5,TableauDatanew,10,0)) | R5: =IF(ISERROR(VLOOKUP(J5,C:D,2,0)),"",VLOOKUP(J5,C:D,2,0)) | S5: =IF(ISERROR(VLOOKUP(J5,C:F,4,0)),"",VLOOKUP(J5,C:F,4,0)) | T5: =IF(S5="","",$T$1) | X5: Total | Y5: =SUM(Y3:Y4) -> 0 | Z5: =SUM(Z3:Z4) -> 0 | AA5: =SUM(AA3:AA4) -> 0
A6: =IF(D6=0,"",1) | B6: =SUM($A$2:A6) -> 0 | C6: ='Agripp Holds PU (EU, ASIA)'!A15 -> HU005 | D6: =IF(VLOOKUP(C6,'Agripp Holds PU (EU, ASIA)'!$A$11:$AL$1003,37,0)="",0,VLOOKUP(C6,'Agripp Holds PU (EU, ASIA)'!$A$11:$AL$1003,37,0)) -> 0 | E6: 5 | F6: =IF(VLOOKUP(C6,'Agripp Holds PU (EU, ASIA)'!$A$11:$AN$999,39,0)="",0,VLOOKUP(C6,'Agripp Holds PU (EU, ASIA)'!$A$11:$AN$999,39,0)) -> 0 | J6: =IF(ISERROR(VLOOKUP($E6,$B$2:$D$1047,2,0)),"",VLOOKUP($E6,$B$2:$D$1047,2,0)) | K6: =IF(ISERROR(VLOOKUP($J6,TableauDatanew,4,0)),"",VLOOKUP($J6,TableauDatanew,4,0)) | L6: =IF(ISERROR(VLOOKUP($J6,TableauDatanew,5,0)),"",VLOOKUP($J6,TableauDatanew,5,0)) | M6: =IF(ISERROR(VLOOKUP($J6,TableauDatanew,6,0)),"",VLOOKUP($J6,TableauDatanew,6,0)) | N6: =IF(ISERROR(VLOOKUP($J6,TableauDatanew,13,0)),"",VLOOKUP($J6,TableauDatanew,13,0)) | O6: =IF(ISERROR(VLOOKUP($J6,TableauDatanew,11,0)),"",VLOOKUP($J6,TableauDatanew,11,0)) | P6: =IF(ISERROR(VLOOKUP($J6,TableauDatanew,8,0)),"",VLOOKUP($J6,TableauDatanew,8,0)) | Q6: =IF(ISERROR(VLOOKUP($J6,TableauDatanew,10,0)),"",VLOOKUP($J6,TableauDatanew,10,0)) | R6: =IF(ISERROR(VLOOKUP(J6,C:D,2,0)),"",VLOOKUP(J6,C:D,2,0)) | S6: =IF(ISERROR(VLOOKUP(J6,C:F,4,0)),"",VLOOKUP(J6,C:F,4,0)) | T6: =IF(S6="","",$T$1)
A7: =IF(D7=0,"",1) | B7: =SUM($A$2:A7) -> 0 | C7: ='Agripp Holds PU (EU, ASIA)'!A16 -> HU006 | D7: =IF(VLOOKUP(C7,'Agripp Holds PU (EU, ASIA)'!$A$11:$AL$1003,37,0)="",0,VLOOKUP(C7,'Agripp Holds PU (EU, ASIA)'!$A$11:$AL$1003,37,0)) -> 0 | E7: 6 | F7: =IF(VLOOKUP(C7,'Agripp Holds PU (EU, ASIA)'!$A$11:$AN$999,39,0)="",0,VLOOKUP(C7,'Agripp Holds PU (EU, ASIA)'!$A$11:$AN$999,39,0)) -> 0 | J7: =IF(ISERROR(VLOOKUP($E7,$B$2:$D$1047,2,0)),"",VLOOKUP($E7,$B$2:$D$1047,2,0)) | K7: =IF(ISERROR(VLOOKUP($J7,TableauDatanew,4,0)),"",VLOOKUP($J7,TableauDatanew,4,0)) | L7: =IF(ISERROR(VLOOKUP($J7,TableauDatanew,5,0)),"",VLOOKUP($J7,TableauDatanew,5,0)) | M7: =IF(ISERROR(VLOOKUP($J7,TableauDatanew,6,0)),"",VLOOKUP($J7,TableauDatanew,6,0)) | N7: =IF(ISERROR(VLOOKUP($J7,TableauDatanew,13,0)),"",VLOOKUP($J7,TableauDatanew,13,0)) | O7: =IF(ISERROR(VLOOKUP($J7,TableauDatanew,11,0)),"",VLOOKUP($J7,TableauDatanew,11,0)) | P7: =IF(ISERROR(VLOOKUP($J7,TableauDatanew,8,0)),"",VLOOKUP($J7,TableauDatanew,8,0)) | Q7: =IF(ISERROR(VLOOKUP($J7,TableauDatanew,10,0)),"",VLOOKUP($J7,TableauDatanew,10,0)) | R7: =IF(ISERROR(VLOOKUP(J7,C:D,2,0)),"",VLOOKUP(J7,C:D,2,0)) | S7: =IF(ISERROR(VLOOKUP(J7,C:F,4,0)),"",VLOOKUP(J7,C:F,4,0)) | T7: =IF(S7="","",$T$1) | X7: GRP Macros | Y7: Sets | Z7: Volumes | AA7: ='Summary(old)'!P12 -> EUR
A8: =IF(D8=0,"",1) | B8: =SUM($A$2:A8) -> 0 | C8: ='Agripp Holds PU (EU, ASIA)'!A17 -> HU007 | D8: =IF(VLOOKUP(C8,'Agripp Holds PU (EU, ASIA)'!$A$11:$AL$1003,37,0)="",0,VLOOKUP(C8,'Agripp Holds PU (EU, ASIA)'!$A$11:$AL$1003,37,0)) -> 0 | E8: 7 | F8: =IF(VLOOKUP(C8,'Agripp Holds PU (EU, ASIA)'!$A$11:$AN$999,39,0)="",0,VLOOKUP(C8,'Agripp Holds PU (EU, ASIA)'!$A$11:$AN$999,39,0)) -> 0 | J8: =IF(ISERROR(VLOOKUP($E8,$B$2:$D$1047,2,0)),"",VLOOKUP($E8,$B$2:$D$1047,2,0)) | K8: =IF(ISERROR(VLOOKUP($J8,TableauDatanew,4,0)),"",VLOOKUP($J8,TableauDatanew,4,0)) | L8: =IF(ISERROR(VLOOKUP($J8,TableauDatanew,5,0)),"",VLOOKUP($J8,TableauDatanew,5,0)) | M8: =IF(ISERROR(VLOOKUP($J8,TableauDatanew,6,0)),"",VLOOKUP($J8,TableauDatanew,6,0)) | N8: =IF(ISERROR(VLOOKUP($J8,TableauDatanew,13,0)),"",VLOOKUP($J8,TableauDatanew,13,0)) | O8: =IF(ISERROR(VLOOKUP($J8,TableauDatanew,11,0)),"",VLOOKUP($J8,TableauDatanew,11,0)) | P8: =IF(ISERROR(VLOOKUP($J8,TableauDatanew,8,0)),"",VLOOKUP($J8,TableauDatanew,8,0)) | Q8: =IF(ISERROR(VLOOKUP($J8,TableauDatanew,10,0)),"",VLOOKUP($J8,TableauDatanew,10,0)) | R8: =IF(ISERROR(VLOOKUP(J8,C:D,2,0)),"",VLOOKUP(J8,C:D,2,0)) | S8: =IF(ISERROR(VLOOKUP(J8,C:F,4,0)),"",VLOOKUP(J8,C:F,4,0)) | T8: =IF(S8="","",$T$1) | X8: FULL FRICTION | Y8: 0 | Z8: ='Agripp GRP Macros (EU, Asia) '!F2 -> 0 | AA8: ='Agripp GRP Macros (EU, Asia) '!G2 -> 0
A9: =IF(D9=0,"",1) | B9: =SUM($A$2:A9) -> 0 | C9: ='Agripp Holds PU (EU, ASIA)'!A18 -> HU008 | D9: =IF(VLOOKUP(C9,'Agripp Holds PU (EU, ASIA)'!$A$11:$AL$1003,37,0)="",0,VLOOKUP(C9,'Agripp Holds PU (EU, ASIA)'!$A$11:$AL$1003,37,0)) -> 0 | E9: 8 | F9: =IF(VLOOKUP(C9,'Agripp Holds PU (EU, ASIA)'!$A$11:$AN$999,39,0)="",0,VLOOKUP(C9,'Agripp Holds PU (EU, ASIA)'!$A$11:$AN$999,39,0)) -> 0 | J9: =IF(ISERROR(VLOOKUP($E9,$B$2:$D$1047,2,0)),"",VLOOKUP($E9,$B$2:$D$1047,2,0)) | K9: =IF(ISERROR(VLOOKUP($J9,TableauDatanew,4,0)),"",VLOOKUP($J9,TableauDatanew,4,0)) | L9: =IF(ISERROR(VLOOKUP($J9,TableauDatanew,5,0)),"",VLOOKUP($J9,TableauDatanew,5,0)) | M9: =IF(ISERROR(VLOOKUP($J9,TableauDatanew,6,0)),"",VLOOKUP($J9,TableauDatanew,6,0)) | N9: =IF(ISERROR(VLOOKUP($J9,TableauDatanew,13,0)),"",VLOOKUP($J9,TableauDatanew,13,0)) | O9: =IF(ISERROR(VLOOKUP($J9,TableauDatanew,11,0)),"",VLOOKUP($J9,TableauDatanew,11,0)) | P9: =IF(ISERROR(VLOOKUP($J9,TableauDatanew,8,0)),"",VLOOKUP($J9,TableauDatanew,8,0)) | Q9: =IF(ISERROR(VLOOKUP($J9,TableauDatanew,10,0)),"",VLOOKUP($J9,TableauDatanew,10,0)) | R9: =IF(ISERROR(VLOOKUP(J9,C:D,2,0)),"",VLOOKUP(J9,C:D,2,0)) | S9: =IF(ISERROR(VLOOKUP(J9,C:F,4,0)),"",VLOOKUP(J9,C:F,4,0)) | T9: =IF(S9="","",$T$1) | X9: DUAL TEXTURE | Y9: 0 | Z9: ='Agripp GRP Macros (EU, Asia) '!F3 -> 0 | AA9: ='Agripp GRP Macros (EU, Asia) '!G3 -> 0
A10: =IF(D10=0,"",1) | B10: =SUM($A$2:A10) -> 0 | C10: ='Agripp Holds PU (EU, ASIA)'!A19 -> HU009 | D10: =IF(VLOOKUP(C10,'Agripp Holds PU (EU, ASIA)'!$A$11:$AL$1003,37,0)="",0,VLOOKUP(C10,'Agripp Holds PU (EU, ASIA)'!$A$11:$AL$1003,37,0)) -> 0 | E10: 9 | F10: =IF(VLOOKUP(C10,'Agripp Holds PU (EU, ASIA)'!$A$11:$AN$999,39,0)="",0,VLOOKUP(C10,'Agripp Holds PU (EU, ASIA)'!$A$11:$AN$999,39,0)) -> 0 | J10: =IF(ISERROR(VLOOKUP($E10,$B$2:$D$1047,2,0)),"",VLOOKUP($E10,$B$2:$D$1047,2,0)) | K10: =IF(ISERROR(VLOOKUP($J10,TableauDatanew,4,0)),"",VLOOKUP($J10,TableauDatanew,4,0)) | L10: =IF(ISERROR(VLOOKUP($J10,TableauDatanew,5,0)),"",VLOOKUP($J10,TableauDatanew,5,0)) | M10: =IF(ISERROR(VLOOKUP($J10,TableauDatanew,6,0)),"",VLOOKUP($J10,TableauDatanew,6,0)) | N10: =IF(ISERROR(VLOOKUP($J10,TableauDatanew,13,0)),"",VLOOKUP($J10,TableauDatanew,13,0)) | O10: =IF(ISERROR(VLOOKUP($J10,TableauDatanew,11,0)),"",VLOOKUP($J10,TableauDatanew,11,0)) | P10: =IF(ISERROR(VLOOKUP($J10,TableauDatanew,8,0)),"",VLOOKUP($J10,TableauDatanew,8,0)) | Q10: =IF(ISERROR(VLOOKUP($J10,TableauDatanew,10,0)),"",VLOOKUP($J10,TableauDatanew,10,0)) | R10: =IF(ISERROR(VLOOKUP(J10,C:D,2,0)),"",VLOOKUP(J10,C:D,2,0)) | S10: =IF(ISERROR(VLOOKUP(J10,C:F,4,0)),"",VLOOKUP(J10,C:F,4,0)) | T10: =IF(S10="","",$T$1) | X10: Total | Y10: 0 | Z10: =SUM(Z8:Z9) -> 0 | AA10: =SUM(AA8:AA9) -> 0
A11: =IF(D11=0,"",1) | B11: =SUM($A$2:A11) -> 0 | C11: ='Agripp Holds PU (EU, ASIA)'!A20 -> HU010 | D11: =IF(VLOOKUP(C11,'Agripp Holds PU (EU, ASIA)'!$A$11:$AL$1003,37,0)="",0,VLOOKUP(C11,'Agripp Holds PU (EU, ASIA)'!$A$11:$AL$1003,37,0)) -> 0 | E11: 10 | F11: =IF(VLOOKUP(C11,'Agripp Holds PU (EU, ASIA)'!$A$11:$AN$999,39,0)="",0,VLOOKUP(C11,'Agripp Holds PU (EU, ASIA)'!$A$11:$AN$999,39,0)) -> 0 | J11: =IF(ISERROR(VLOOKUP($E11,$B$2:$D$1047,2,0)),"",VLOOKUP($E11,$B$2:$D$1047,2,0)) | K11: =IF(ISERROR(VLOOKUP($J11,TableauDatanew,4,0)),"",VLOOKUP($J11,TableauDatanew,4,0)) | L11: =IF(ISERROR(VLOOKUP($J11,TableauDatanew,5,0)),"",VLOOKUP($J11,TableauDatanew,5,0)) | M11: =IF(ISERROR(VLOOKUP($J11,TableauDatanew,6,0)),"",VLOOKUP($J11,TableauDatanew,6,0)) | N11: =IF(ISERROR(VLOOKUP($J11,TableauDatanew,13,0)),"",VLOOKUP($J11,TableauDatanew,13,0)) | O11: =IF(ISERROR(VLOOKUP($J11,TableauDatanew,11,0)),"",VLOOKUP($J11,TableauDatanew,11,0)) | P11: =IF(ISERROR(VLOOKUP($J11,TableauDatanew,8,0)),"",VLOOKUP($J11,TableauDatanew,8,0)) | Q11: =IF(ISERROR(VLOOKUP($J11,TableauDatanew,10,0)),"",VLOOKUP($J11,TableauDatanew,10,0)) | R11: =IF(ISERROR(VLOOKUP(J11,C:D,2,0)),"",VLOOKUP(J11,C:D,2,0)) | S11: =IF(ISERROR(VLOOKUP(J11,C:F,4,0)),"",VLOOKUP(J11,C:F,4,0)) | T11: =IF(S11="","",$T$1)
A12: =IF(D12=0,"",1) | B12: =SUM($A$2:A12) -> 0 | C12: ='Agripp Holds PU (EU, ASIA)'!A21 -> HU011 | D12: =IF(VLOOKUP(C12,'Agripp Holds PU (EU, ASIA)'!$A$11:$AL$1003,37,0)="",0,VLOOKUP(C12,'Agripp Holds PU (EU, ASIA)'!$A$11:$AL$1003,37,0)) -> 0 | E12: 11 | F12: =IF(VLOOKUP(C12,'Agripp Holds PU (EU, ASIA)'!$A$11:$AN$999,39,0)="",0,VLOOKUP(C12,'Agripp Holds PU (EU, ASIA)'!$A$11:$AN$999,39,0)) -> 0 | J12: =IF(ISERROR(VLOOKUP($E12,$B$2:$D$1047,2,0)),"",VLOOKUP($E12,$B$2:$D$1047,2,0)) | K12: =IF(ISERROR(VLOOKUP($J12,TableauDatanew,4,0)),"",VLOOKUP($J12,TableauDatanew,4,0)) | L12: =IF(ISERROR(VLOOKUP($J12,TableauDatanew,5,0)),"",VLOOKUP($J12,TableauDatanew,5,0)) | M12: =IF(ISERROR(VLOOKUP($J12,TableauDatanew,6,0)),"",VLOOKUP($J12,TableauDatanew,6,0)) | N12: =IF(ISERROR(VLOOKUP($J12,TableauDatanew,13,0)),"",VLOOKUP($J12,TableauDatanew,13,0)) | O12: =IF(ISERROR(VLOOKUP($J12,TableauDatanew,11,0)),"",VLOOKUP($J12,TableauDatanew,11,0)) | P12: =IF(ISERROR(VLOOKUP($J12,TableauDatanew,8,0)),"",VLOOKUP($J12,TableauDatanew,8,0)) | Q12: =IF(ISERROR(VLOOKUP($J12,TableauDatanew,10,0)),"",VLOOKUP($J12,TableauDatanew,10,0)) | R12: =IF(ISERROR(VLOOKUP(J12,C:D,2,0)),"",VLOOKUP(J12,C:D,2,0)) | S12: =IF(ISERROR(VLOOKUP(J12,C:F,4,0)),"",VLOOKUP(J12,C:F,4,0)) | T12: =IF(S12="","",$T$1) | X12: WOODEN VOLUMES | Z12: Volumes | AA12: ='Summary(old)'!P12 -> EUR
A13: =IF(D13=0,"",1) | B13: =SUM($A$2:A13) -> 0 | C13: ='Agripp Holds PU (EU, ASIA)'!A22 -> HU012 | D13: =IF(VLOOKUP(C13,'Agripp Holds PU (EU, ASIA)'!$A$11:$AL$1003,37,0)="",0,VLOOKUP(C13,'Agripp Holds PU (EU, ASIA)'!$A$11:$AL$1003,37,0)) -> 0 | E13: 12 | F13: =IF(VLOOKUP(C13,'Agripp Holds PU (EU, ASIA)'!$A$11:$AN$999,39,0)="",0,VLOOKUP(C13,'Agripp Holds PU (EU, ASIA)'!$A$11:$AN$999,39,0)) -> 0 | J13: =IF(ISERROR(VLOOKUP($E13,$B$2:$D$1047,2,0)),"",VLOOKUP($E13,$B$2:$D$1047,2,0)) | K13: =IF(ISERROR(VLOOKUP($J13,TableauDatanew,4,0)),"",VLOOKUP($J13,TableauDatanew,4,0)) | L13: =IF(ISERROR(VLOOKUP($J13,TableauDatanew,5,0)),"",VLOOKUP($J13,TableauDatanew,5,0)) | M13: =IF(ISERROR(VLOOKUP($J13,TableauDatanew,6,0)),"",VLOOKUP($J13,TableauDatanew,6,0)) | N13: =IF(ISERROR(VLOOKUP($J13,TableauDatanew,13,0)),"",VLOOKUP($J13,TableauDatanew,13,0)) | O13: =IF(ISERROR(VLOOKUP($J13,TableauDatanew,11,0)),"",VLOOKUP($J13,TableauDatanew,11,0)) | P13: =IF(ISERROR(VLOOKUP($J13,TableauDatanew,8,0)),"",VLOOKUP($J13,TableauDatanew,8,0)) | Q13: =IF(ISERROR(VLOOKUP($J13,TableauDatanew,10,0)),"",VLOOKUP($J13,TableauDatanew,10,0)) | R13: =IF(ISERROR(VLOOKUP(J13,C:D,2,0)),"",VLOOKUP(J13,C:D,2,0)) | S13: =IF(ISERROR(VLOOKUP(J13,C:F,4,0)),"",VLOOKUP(J13,C:F,4,0)) | T13: =IF(S13="","",$T$1) | X13: FULL FRICTION | Z13: ='Agripp Woods (Asia, EU)'!D2 -> 0 | AA13: ='Agripp Woods (Asia, EU)'!E2 -> 0
A14: =IF(D14=0,"",1) | B14: =SUM($A$2:A14) -> 0 | C14: ='Agripp Holds PU (EU, ASIA)'!A23 -> HU013 | D14: =IF(VLOOKUP(C14,'Agripp Holds PU (EU, ASIA)'!$A$11:$AL$1003,37,0)="",0,VLOOKUP(C14,'Agripp Holds PU (EU, ASIA)'!$A$11:$AL$1003,37,0)) -> 0 | E14: 13 | F14: =IF(VLOOKUP(C14,'Agripp Holds PU (EU, ASIA)'!$A$11:$AN$999,39,0)="",0,VLOOKUP(C14,'Agripp Holds PU (EU, ASIA)'!$A$11:$AN$999,39,0)) -> 0 | J14: =IF(ISERROR(VLOOKUP($E14,$B$2:$D$1047,2,0)),"",VLOOKUP($E14,$B$2:$D$1047,2,0)) | K14: =IF(ISERROR(VLOOKUP($J14,TableauDatanew,4,0)),"",VLOOKUP($J14,TableauDatanew,4,0)) | L14: =IF(ISERROR(VLOOKUP($J14,TableauDatanew,5,0)),"",VLOOKUP($J14,TableauDatanew,5,0)) | M14: =IF(ISERROR(VLOOKUP($J14,TableauDatanew,6,0)),"",VLOOKUP($J14,TableauDatanew,6,0)) | N14: =IF(ISERROR(VLOOKUP($J14,TableauDatanew,13,0)),"",VLOOKUP($J14,TableauDatanew,13,0)) | O14: =IF(ISERROR(VLOOKUP($J14,TableauDatanew,11,0)),"",VLOOKUP($J14,TableauDatanew,11,0)) | P14: =IF(ISERROR(VLOOKUP($J14,TableauDatanew,8,0)),"",VLOOKUP($J14,TableauDatanew,8,0)) | Q14: =IF(ISERROR(VLOOKUP($J14,TableauDatanew,10,0)),"",VLOOKUP($J14,TableauDatanew,10,0)) | R14: =IF(ISERROR(VLOOKUP(J14,C:D,2,0)),"",VLOOKUP(J14,C:D,2,0)) | S14: =IF(ISERROR(VLOOKUP(J14,C:F,4,0)),"",VLOOKUP(J14,C:F,4,0)) | T14: =IF(S14="","",$T$1) | X14: DUAL TEXTURE | Z14: ='Agripp Woods (Asia, EU)'!D3 -> 0 | AA14: ='Agripp Woods (Asia, EU)'!E3 -> 0
A15: =IF(D15=0,"",1) | B15: =SUM($A$2:A15) -> 0 | C15: ='Agripp Holds PU (EU, ASIA)'!A24 -> HU014 | D15: =IF(VLOOKUP(C15,'Agripp Holds PU (EU, ASIA)'!$A$11:$AL$1003,37,0)="",0,VLOOKUP(C15,'Agripp Holds PU (EU, ASIA)'!$A$11:$AL$1003,37,0)) -> 0 | E15: 14 | F15: =IF(VLOOKUP(C15,'Agripp Holds PU (EU, ASIA)'!$A$11:$AN$999,39,0)="",0,VLOOKUP(C15,'Agripp Holds PU (EU, ASIA)'!$A$11:$AN$999,39,0)) -> 0 | J15: =IF(ISERROR(VLOOKUP($E15,$B$2:$D$1047,2,0)),"",VLOOKUP($E15,$B$2:$D$1047,2,0)) | K15: =IF(ISERROR(VLOOKUP($J15,TableauDatanew,4,0)),"",VLOOKUP($J15,TableauDatanew,4,0)) | L15: =IF(ISERROR(VLOOKUP($J15,TableauDatanew,5,0)),"",VLOOKUP($J15,TableauDatanew,5,0)) | M15: =IF(ISERROR(VLOOKUP($J15,TableauDatanew,6,0)),"",VLOOKUP($J15,TableauDatanew,6,0)) | N15: =IF(ISERROR(VLOOKUP($J15,TableauDatanew,13,0)),"",VLOOKUP($J15,TableauDatanew,13,0)) | O15: =IF(ISERROR(VLOOKUP($J15,TableauDatanew,11,0)),"",VLOOKUP($J15,TableauDatanew,11,0)) | P15: =IF(ISERROR(VLOOKUP($J15,TableauDatanew,8,0)),"",VLOOKUP($J15,TableauDatanew,8,0)) | Q15: =IF(ISERROR(VLOOKUP($J15,TableauDatanew,10,0)),"",VLOOKUP($J15,TableauDatanew,10,0)) | R15: =IF(ISERROR(VLOOKUP(J15,C:D,2,0)),"",VLOOKUP(J15,C:D,2,0)) | S15: =IF(ISERROR(VLOOKUP(J15,C:F,4,0)),"",VLOOKUP(J15,C:F,4,0)) | T15: =IF(S15="","",$T$1) | X15: Total | Z15: =SUM(Z13:Z14) -> 0 | AA15: =SUM(AA13:AA14) -> 0
A16: =IF(D16=0,"",1) | B16: =SUM($A$2:A16) -> 0 | C16: ='Agripp Holds PU (EU, ASIA)'!A25 -> HU015 | D16: =IF(VLOOKUP(C16,'Agripp Holds PU (EU, ASIA)'!$A$11:$AL$1003,37,0)="",0,VLOOKUP(C16,'Agripp Holds PU (EU, ASIA)'!$A$11:$AL$1003,37,0)) -> 0 | E16: 15 | F16: =IF(VLOOKUP(C16,'Agripp Holds PU (EU, ASIA)'!$A$11:$AN$999,39,0)="",0,VLOOKUP(C16,'Agripp Holds PU (EU, ASIA)'!$A$11:$AN$999,39,0)) -> 0 | J16: =IF(ISERROR(VLOOKUP($E16,$B$2:$D$1047,2,0)),"",VLOOKUP($E16,$B$2:$D$1047,2,0)) | K16: =IF(ISERROR(VLOOKUP($J16,TableauDatanew,4,0)),"",VLOOKUP($J16,TableauDatanew,4,0)) | L16: =IF(ISERROR(VLOOKUP($J16,TableauDatanew,5,0)),"",VLOOKUP($J16,TableauDatanew,5,0)) | M16: =IF(ISERROR(VLOOKUP($J16,TableauDatanew,6,0)),"",VLOOKUP($J16,TableauDatanew,6,0)) | N16: =IF(ISERROR(VLOOKUP($J16,TableauDatanew,13,0)),"",VLOOKUP($J16,TableauDatanew,13,0)) | O16: =IF(ISERROR(VLOOKUP($J16,TableauDatanew,11,0)),"",VLOOKUP($J16,TableauDatanew,11,0)) | P16: =IF(ISERROR(VLOOKUP($J16,TableauDatanew,8,0)),"",VLOOKUP($J16,TableauDatanew,8,0)) | Q16: =IF(ISERROR(VLOOKUP($J16,TableauDatanew,10,0)),"",VLOOKUP($J16,TableauDatanew,10,0)) | R16: =IF(ISERROR(VLOOKUP(J16,C:D,2,0)),"",VLOOKUP(J16,C:D,2,0)) | S16: =IF(ISERROR(VLOOKUP(J16,C:F,4,0)),"",VLOOKUP(J16,C:F,4,0)) | T16: =IF(S16="","",$T$1)
A17: =IF(D17=0,"",1) | B17: =SUM($A$2:A17) -> 0 | C17: ='Agripp Holds PU (EU, ASIA)'!A26 -> HU016 | D17: =IF(VLOOKUP(C17,'Agripp Holds PU (EU, ASIA)'!$A$11:$AL$1003,37,0)="",0,VLOOKUP(C17,'Agripp Holds PU (EU, ASIA)'!$A$11:$AL$1003,37,0)) -> 0 | E17: 16 | F17: =IF(VLOOKUP(C17,'Agripp Holds PU (EU, ASIA)'!$A$11:$AN$999,39,0)="",0,VLOOKUP(C17,'Agripp Holds PU (EU, ASIA)'!$A$11:$AN$999,39,0)) -> 0 | J17: =IF(ISERROR(VLOOKUP($E17,$B$2:$D$1047,2,0)),"",VLOOKUP($E17,$B$2:$D$1047,2,0)) | K17: =IF(ISERROR(VLOOKUP($J17,TableauDatanew,4,0)),"",VLOOKUP($J17,TableauDatanew,4,0)) | L17: =IF(ISERROR(VLOOKUP($J17,TableauDatanew,5,0)),"",VLOOKUP($J17,TableauDatanew,5,0)) | M17: =IF(ISERROR(VLOOKUP($J17,TableauDatanew,6,0)),"",VLOOKUP($J17,TableauDatanew,6,0)) | N17: =IF(ISERROR(VLOOKUP($J17,TableauDatanew,13,0)),"",VLOOKUP($J17,TableauDatanew,13,0)) | O17: =IF(ISERROR(VLOOKUP($J17,TableauDatanew,11,0)),"",VLOOKUP($J17,TableauDatanew,11,0)) | P17: =IF(ISERROR(VLOOKUP($J17,TableauDatanew,8,0)),"",VLOOKUP($J17,TableauDatanew,8,0)) | Q17: =IF(ISERROR(VLOOKUP($J17,TableauDatanew,10,0)),"",VLOOKUP($J17,TableauDatanew,10,0)) | R17: =IF(ISERROR(VLOOKUP(J17,C:D,2,0)),"",VLOOKUP(J17,C:D,2,0)) | S17: =IF(ISERROR(VLOOKUP(J17,C:F,4,0)),"",VLOOKUP(J17,C:F,4,0)) | T17: =IF(S17="","",$T$1) | X17: RECYCLED ABS MACROS | Y17: Sets | Z17: Volumes | AA17: EUR
A18: =IF(D18=0,"",1) | B18: =SUM($A$2:A18) -> 0 | C18: ='Agripp Holds PU (EU, ASIA)'!A27 -> HU017 | D18: =IF(VLOOKUP(C18,'Agripp Holds PU (EU, ASIA)'!$A$11:$AL$1003,37,0)="",0,VLOOKUP(C18,'Agripp Holds PU (EU, ASIA)'!$A$11:$AL$1003,37,0)) -> 0 | E18: 17 | F18: =IF(VLOOKUP(C18,'Agripp Holds PU (EU, ASIA)'!$A$11:$AN$999,39,0)="",0,VLOOKUP(C18,'Agripp Holds PU (EU, ASIA)'!$A$11:$AN$999,39,0)) -> 0 | J18: =IF(ISERROR(VLOOKUP($E18,$B$2:$D$1047,2,0)),"",VLOOKUP($E18,$B$2:$D$1047,2,0)) | K18: =IF(ISERROR(VLOOKUP($J18,TableauDatanew,4,0)),"",VLOOKUP($J18,TableauDatanew,4,0)) | L18: =IF(ISERROR(VLOOKUP($J18,TableauDatanew,5,0)),"",VLOOKUP($J18,TableauDatanew,5,0)) | M18: =IF(ISERROR(VLOOKUP($J18,TableauDatanew,6,0)),"",VLOOKUP($J18,TableauDatanew,6,0)) | N18: =IF(ISERROR(VLOOKUP($J18,TableauDatanew,13,0)),"",VLOOKUP($J18,TableauDatanew,13,0)) | O18: =IF(ISERROR(VLOOKUP($J18,TableauDatanew,11,0)),"",VLOOKUP($J18,TableauDatanew,11,0)) | P18: =IF(ISERROR(VLOOKUP($J18,TableauDatanew,8,0)),"",VLOOKUP($J18,TableauDatanew,8,0)) | Q18: =IF(ISERROR(VLOOKUP($J18,TableauDatanew,10,0)),"",VLOOKUP($J18,TableauDatanew,10,0)) | R18: =IF(ISERROR(VLOOKUP(J18,C:D,2,0)),"",VLOOKUP(J18,C:D,2,0)) | S18: =IF(ISERROR(VLOOKUP(J18,C:F,4,0)),"",VLOOKUP(J18,C:F,4,0)) | T18: =IF(S18="","",$T$1) | X18: NO TEXT | Y18: ='Agripp Recycled ABS Macros (EU)'!G2 -> 0 | Z18: ='Agripp Recycled ABS Macros (EU)'!H2 -> 0 | AA18: ='Agripp Recycled ABS Macros (EU)'!I2 -> 0
A19: =IF(D19=0,"",1) | B19: =SUM($A$2:A19) -> 0 | C19: ='Agripp Holds PU (EU, ASIA)'!A28 -> HU018 | D19: =IF(VLOOKUP(C19,'Agripp Holds PU (EU, ASIA)'!$A$11:$AL$1003,37,0)="",0,VLOOKUP(C19,'Agripp Holds PU (EU, ASIA)'!$A$11:$AL$1003,37,0)) -> 0 | E19: 18 | F19: =IF(VLOOKUP(C19,'Agripp Holds PU (EU, ASIA)'!$A$11:$AN$999,39,0)="",0,VLOOKUP(C19,'Agripp Holds PU (EU, ASIA)'!$A$11:$AN$999,39,0)) -> 0 | J19: =IF(ISERROR(VLOOKUP($E19,$B$2:$D$1047,2,0)),"",VLOOKUP($E19,$B$2:$D$1047,2,0)) | K19: =IF(ISERROR(VLOOKUP($J19,TableauDatanew,4,0)),"",VLOOKUP($J19,TableauDatanew,4,0)) | L19: =IF(ISERROR(VLOOKUP($J19,TableauDatanew,5,0)),"",VLOOKUP($J19,TableauDatanew,5,0)) | M19: =IF(ISERROR(VLOOKUP($J19,TableauDatanew,6,0)),"",VLOOKUP($J19,TableauDatanew,6,0)) | N19: =IF(ISERROR(VLOOKUP($J19,TableauDatanew,13,0)),"",VLOOKUP($J19,TableauDatanew,13,0)) | O19: =IF(ISERROR(VLOOKUP($J19,TableauDatanew,11,0)),"",VLOOKUP($J19,TableauDatanew,11,0)) | P19: =IF(ISERROR(VLOOKUP($J19,TableauDatanew,8,0)),"",VLOOKUP($J19,TableauDatanew,8,0)) | Q19: =IF(ISERROR(VLOOKUP($J19,TableauDatanew,10,0)),"",VLOOKUP($J19,TableauDatanew,10,0)) | R19: =IF(ISERROR(VLOOKUP(J19,C:D,2,0)),"",VLOOKUP(J19,C:D,2,0)) | S19: =IF(ISERROR(VLOOKUP(J19,C:F,4,0)),"",VLOOKUP(J19,C:F,4,0)) | T19: =IF(S19="","",$T$1) | X19: FULL FRICTION | Y19: ='Agripp Recycled ABS Macros (EU)'!G3 -> 0 | Z19: ='Agripp Recycled ABS Macros (EU)'!H3 -> 0 | AA19: ='Agripp Recycled ABS Macros (EU)'!I3 -> 0
A20: =IF(D20=0,"",1) | B20: =SUM($A$2:A20) -> 0 | C20: ='Agripp Holds PU (EU, ASIA)'!A29 -> HU019 | D20: =IF(VLOOKUP(C20,'Agripp Holds PU (EU, ASIA)'!$A$11:$AL$1003,37,0)="",0,VLOOKUP(C20,'Agripp Holds PU (EU, ASIA)'!$A$11:$AL$1003,37,0)) -> 0 | E20: 19 | F20: =IF(VLOOKUP(C20,'Agripp Holds PU (EU, ASIA)'!$A$11:$AN$999,39,0)="",0,VLOOKUP(C20,'Agripp Holds PU (EU, ASIA)'!$A$11:$AN$999,39,0)) -> 0 | J20: =IF(ISERROR(VLOOKUP($E20,$B$2:$D$1047,2,0)),"",VLOOKUP($E20,$B$2:$D$1047,2,0)) | K20: =IF(ISERROR(VLOOKUP($J20,TableauDatanew,4,0)),"",VLOOKUP($J20,TableauDatanew,4,0)) | L20: =IF(ISERROR(VLOOKUP($J20,TableauDatanew,5,0)),"",VLOOKUP($J20,TableauDatanew,5,0)) | M20: =IF(ISERROR(VLOOKUP($J20,TableauDatanew,6,0)),"",VLOOKUP($J20,TableauDatanew,6,0)) | N20: =IF(ISERROR(VLOOKUP($J20,TableauDatanew,13,0)),"",VLOOKUP($J20,TableauDatanew,13,0)) | O20: =IF(ISERROR(VLOOKUP($J20,TableauDatanew,11,0)),"",VLOOKUP($J20,TableauDatanew,11,0)) | P20: =IF(ISERROR(VLOOKUP($J20,TableauDatanew,8,0)),"",VLOOKUP($J20,TableauDatanew,8,0)) | Q20: =IF(ISERROR(VLOOKUP($J20,TableauDatanew,10,0)),"",VLOOKUP($J20,TableauDatanew,10,0)) | R20: =IF(ISERROR(VLOOKUP(J20,C:D,2,0)),"",VLOOKUP(J20,C:D,2,0)) | S20: =IF(ISERROR(VLOOKUP(J20,C:F,4,0)),"",VLOOKUP(J20,C:F,4,0)) | T20: =IF(S20="","",$T$1) | X20: DUAL TEXTURE | Y20: ='Agripp Recycled ABS Macros (EU)'!G4 -> 0 | Z20: ='Agripp Recycled ABS Macros (EU)'!H4 -> 0 | AA20: ='Agripp Recycled ABS Macros (EU)'!I4 -> 0
A21: =IF(D21=0,"",1) | B21: =SUM($A$2:A21) -> 0 | C21: ='Agripp Holds PU (EU, ASIA)'!A30 -> HU020 | D21: =IF(VLOOKUP(C21,'Agripp Holds PU (EU, ASIA)'!$A$11:$AL$1003,37,0)="",0,VLOOKUP(C21,'Agripp Holds PU (EU, ASIA)'!$A$11:$AL$1003,37,0)) -> 0 | E21: 20 | F21: =IF(VLOOKUP(C21,'Agripp Holds PU (EU, ASIA)'!$A$11:$AN$999,39,0)="",0,VLOOKUP(C21,'Agripp Holds PU (EU, ASIA)'!$A$11:$AN$999,39,0)) -> 0 | J21: =IF(ISERROR(VLOOKUP($E21,$B$2:$D$1047,2,0)),"",VLOOKUP($E21,$B$2:$D$1047,2,0)) | K21: =IF(ISERROR(VLOOKUP($J21,TableauDatanew,4,0)),"",VLOOKUP($J21,TableauDatanew,4,0)) | L21: =IF(ISERROR(VLOOKUP($J21,TableauDatanew,5,0)),"",VLOOKUP($J21,TableauDatanew,5,0)) | M21: =IF(ISERROR(VLOOKUP($J21,TableauDatanew,6,0)),"",VLOOKUP($J21,TableauDatanew,6,0)) | N21: =IF(ISERROR(VLOOKUP($J21,TableauDatanew,13,0)),"",VLOOKUP($J21,TableauDatanew,13,0)) | O21: =IF(ISERROR(VLOOKUP($J21,TableauDatanew,11,0)),"",VLOOKUP($J21,TableauDatanew,11,0)) | P21: =IF(ISERROR(VLOOKUP($J21,TableauDatanew,8,0)),"",VLOOKUP($J21,TableauDatanew,8,0)) | Q21: =IF(ISERROR(VLOOKUP($J21,TableauDatanew,10,0)),"",VLOOKUP($J21,TableauDatanew,10,0)) | R21: =IF(ISERROR(VLOOKUP(J21,C:D,2,0)),"",VLOOKUP(J21,C:D,2,0)) | S21: =IF(ISERROR(VLOOKUP(J21,C:F,4,0)),"",VLOOKUP(J21,C:F,4,0)) | T21: =IF(S21="","",$T$1) | X21: Total | Y21: =SUM(Y18:Y20) -> 0 | Z21: =SUM(Z18:Z20) -> 0 | AA21: =SUM(AA18:AA20) -> 0
A22: =IF(D22=0,"",1) | B22: =SUM($A$2:A22) -> 0 | C22: ='Agripp Holds PU (EU, ASIA)'!A31 -> HU021 | D22: =IF(VLOOKUP(C22,'Agripp Holds PU (EU, ASIA)'!$A$11:$AL$1003,37,0)="",0,VLOOKUP(C22,'Agripp Holds PU (EU, ASIA)'!$A$11:$AL$1003,37,0)) -> 0 | E22: 21 | F22: =IF(VLOOKUP(C22,'Agripp Holds PU (EU, ASIA)'!$A$11:$AN$999,39,0)="",0,VLOOKUP(C22,'Agripp Holds PU (EU, ASIA)'!$A$11:$AN$999,39,0)) -> 0 | J22: =IF(ISERROR(VLOOKUP($E22,$B$2:$D$1047,2,0)),"",VLOOKUP($E22,$B$2:$D$1047,2,0)) | K22: =IF(ISERROR(VLOOKUP($J22,TableauDatanew,4,0)),"",VLOOKUP($J22,TableauDatanew,4,0)) | L22: =IF(ISERROR(VLOOKUP($J22,TableauDatanew,5,0)),"",VLOOKUP($J22,TableauDatanew,5,0)) | M22: =IF(ISERROR(VLOOKUP($J22,TableauDatanew,6,0)),"",VLOOKUP($J22,TableauDatanew,6,0)) | N22: =IF(ISERROR(VLOOKUP($J22,TableauDatanew,13,0)),"",VLOOKUP($J22,TableauDatanew,13,0)) | O22: =IF(ISERROR(VLOOKUP($J22,TableauDatanew,11,0)),"",VLOOKUP($J22,TableauDatanew,11,0)) | P22: =IF(ISERROR(VLOOKUP($J22,TableauDatanew,8,0)),"",VLOOKUP($J22,TableauDatanew,8,0)) | Q22: =IF(ISERROR(VLOOKUP($J22,TableauDatanew,10,0)),"",VLOOKUP($J22,TableauDatanew,10,0)) | R22: =IF(ISERROR(VLOOKUP(J22,C:D,2,0)),"",VLOOKUP(J22,C:D,2,0)) | S22: =IF(ISERROR(VLOOKUP(J22,C:F,4,0)),"",VLOOKUP(J22,C:F,4,0)) | T22: =IF(S22="","",$T$1)
A23: =IF(D23=0,"",1) | B23: =SUM($A$2:A23) -> 0 | C23: ='Agripp Holds PU (EU, ASIA)'!A32 -> HU022 | D23: =IF(VLOOKUP(C23,'Agripp Holds PU (EU, ASIA)'!$A$11:$AL$1003,37,0)="",0,VLOOKUP(C23,'Agripp Holds PU (EU, ASIA)'!$A$11:$AL$1003,37,0)) -> 0 | E23: 22 | F23: =IF(VLOOKUP(C23,'Agripp Holds PU (EU, ASIA)'!$A$11:$AN$999,39,0)="",0,VLOOKUP(C23,'Agripp Holds PU (EU, ASIA)'!$A$11:$AN$999,39,0)) -> 0 | J23: =IF(ISERROR(VLOOKUP($E23,$B$2:$D$1047,2,0)),"",VLOOKUP($E23,$B$2:$D$1047,2,0)) | K23: =IF(ISERROR(VLOOKUP($J23,TableauDatanew,4,0)),"",VLOOKUP($J23,TableauDatanew,4,0)) | L23: =IF(ISERROR(VLOOKUP($J23,TableauDatanew,5,0)),"",VLOOKUP($J23,TableauDatanew,5,0)) | M23: =IF(ISERROR(VLOOKUP($J23,TableauDatanew,6,0)),"",VLOOKUP($J23,TableauDatanew,6,0)) | N23: =IF(ISERROR(VLOOKUP($J23,TableauDatanew,13,0)),"",VLOOKUP($J23,TableauDatanew,13,0)) | O23: =IF(ISERROR(VLOOKUP($J23,TableauDatanew,11,0)),"",VLOOKUP($J23,TableauDatanew,11,0)) | P23: =IF(ISERROR(VLOOKUP($J23,TableauDatanew,8,0)),"",VLOOKUP($J23,TableauDatanew,8,0)) | Q23: =IF(ISERROR(VLOOKUP($J23,TableauDatanew,10,0)),"",VLOOKUP($J23,TableauDatanew,10,0)) | R23: =IF(ISERROR(VLOOKUP(J23,C:D,2,0)),"",VLOOKUP(J23,C:D,2,0)) | S23: =IF(ISERROR(VLOOKUP(J23,C:F,4,0)),"",VLOOKUP(J23,C:F,4,0)) | T23: =IF(S23="","",$T$1)
A24: =IF(D24=0,"",1) | B24: =SUM($A$2:A24) -> 0 | C24: ='Agripp Holds PU (EU, ASIA)'!A33 -> HU023 | D24: =IF(VLOOKUP(C24,'Agripp Holds PU (EU, ASIA)'!$A$11:$AL$1003,37,0)="",0,VLOOKUP(C24,'Agripp Holds PU (EU, ASIA)'!$A$11:$AL$1003,37,0)) -> 0 | E24: 23 | F24: =IF(VLOOKUP(C24,'Agripp Holds PU (EU, ASIA)'!$A$11:$AN$999,39,0)="",0,VLOOKUP(C24,'Agripp Holds PU (EU, ASIA)'!$A$11:$AN$999,39,0)) -> 0 | J24: =IF(ISERROR(VLOOKUP($E24,$B$2:$D$1047,2,0)),"",VLOOKUP($E24,$B$2:$D$1047,2,0)) | K24: =IF(ISERROR(VLOOKUP($J24,TableauDatanew,4,0)),"",VLOOKUP($J24,TableauDatanew,4,0)) | L24: =IF(ISERROR(VLOOKUP($J24,TableauDatanew,5,0)),"",VLOOKUP($J24,TableauDatanew,5,0)) | M24: =IF(ISERROR(VLOOKUP($J24,TableauDatanew,6,0)),"",VLOOKUP($J24,TableauDatanew,6,0)) | N24: =IF(ISERROR(VLOOKUP($J24,TableauDatanew,13,0)),"",VLOOKUP($J24,TableauDatanew,13,0)) | O24: =IF(ISERROR(VLOOKUP($J24,TableauDatanew,11,0)),"",VLOOKUP($J24,TableauDatanew,11,0)) | P24: =IF(ISERROR(VLOOKUP($J24,TableauDatanew,8,0)),"",VLOOKUP($J24,TableauDatanew,8,0)) | Q24: =IF(ISERROR(VLOOKUP($J24,TableauDatanew,10,0)),"",VLOOKUP($J24,TableauDatanew,10,0)) | R24: =IF(ISERROR(VLOOKUP(J24,C:D,2,0)),"",VLOOKUP(J24,C:D,2,0)) | S24: =IF(ISERROR(VLOOKUP(J24,C:F,4,0)),"",VLOOKUP(J24,C:F,4,0)) | T24: =IF(S24="","",$T$1) | X24: WEIGHT KG
A25: =IF(D25=0,"",1) | B25: =SUM($A$2:A25) -> 0 | C25: ='Agripp Holds PU (EU, ASIA)'!A34 -> HU024 | D25: =IF(VLOOKUP(C25,'Agripp Holds PU (EU, ASIA)'!$A$11:$AL$1003,37,0)="",0,VLOOKUP(C25,'Agripp Holds PU (EU, ASIA)'!$A$11:$AL$1003,37,0)) -> 0 | E25: 24 | F25: =IF(VLOOKUP(C25,'Agripp Holds PU (EU, ASIA)'!$A$11:$AN$999,39,0)="",0,VLOOKUP(C25,'Agripp Holds PU (EU, ASIA)'!$A$11:$AN$999,39,0)) -> 0 | J25: =IF(ISERROR(VLOOKUP($E25,$B$2:$D$1047,2,0)),"",VLOOKUP($E25,$B$2:$D$1047,2,0)) | K25: =IF(ISERROR(VLOOKUP($J25,TableauDatanew,4,0)),"",VLOOKUP($J25,TableauDatanew,4,0)) | L25: =IF(ISERROR(VLOOKUP($J25,TableauDatanew,5,0)),"",VLOOKUP($J25,TableauDatanew,5,0)) | M25: =IF(ISERROR(VLOOKUP($J25,TableauDatanew,6,0)),"",VLOOKUP($J25,TableauDatanew,6,0)) | N25: =IF(ISERROR(VLOOKUP($J25,TableauDatanew,13,0)),"",VLOOKUP($J25,TableauDatanew,13,0)) | O25: =IF(ISERROR(VLOOKUP($J25,TableauDatanew,11,0)),"",VLOOKUP($J25,TableauDatanew,11,0)) | P25: =IF(ISERROR(VLOOKUP($J25,TableauDatanew,8,0)),"",VLOOKUP($J25,TableauDatanew,8,0)) | Q25: =IF(ISERROR(VLOOKUP($J25,TableauDatanew,10,0)),"",VLOOKUP($J25,TableauDatanew,10,0)) | R25: =IF(ISERROR(VLOOKUP(J25,C:D,2,0)),"",VLOOKUP(J25,C:D,2,0)) | S25: =IF(ISERROR(VLOOKUP(J25,C:F,4,0)),"",VLOOKUP(J25,C:F,4,0)) | T25: =IF(S25="","",$T$1) | X25: Weight PU | Y25: ='Agripp Holds PU (EU, ASIA)'!I4 -> 0
A26: =IF(D26=0,"",1) | B26: =SUM($A$2:A26) -> 0 | C26: ='Agripp Holds PU (EU, ASIA)'!A35 -> HU025 | D26: =IF(VLOOKUP(C26,'Agripp Holds PU (EU, ASIA)'!$A$11:$AL$1003,37,0)="",0,VLOOKUP(C26,'Agripp Holds PU (EU, ASIA)'!$A$11:$AL$1003,37,0)) -> 0 | E26: 25 | F26: =IF(VLOOKUP(C26,'Agripp Holds PU (EU, ASIA)'!$A$11:$AN$999,39,0)="",0,VLOOKUP(C26,'Agripp Holds PU (EU, ASIA)'!$A$11:$AN$999,39,0)) -> 0 | J26: =IF(ISERROR(VLOOKUP($E26,$B$2:$D$1047,2,0)),"",VLOOKUP($E26,$B$2:$D$1047,2,0)) | K26: =IF(ISERROR(VLOOKUP($J26,TableauDatanew,4,0)),"",VLOOKUP($J26,TableauDatanew,4,0)) | L26: =IF(ISERROR(VLOOKUP($J26,TableauDatanew,5,0)),"",VLOOKUP($J26,TableauDatanew,5,0)) | M26: =IF(ISERROR(VLOOKUP($J26,TableauDatanew,6,0)),"",VLOOKUP($J26,TableauDatanew,6,0)) | N26: =IF(ISERROR(VLOOKUP($J26,TableauDatanew,13,0)),"",VLOOKUP($J26,TableauDatanew,13,0)) | O26: =IF(ISERROR(VLOOKUP($J26,TableauDatanew,11,0)),"",VLOOKUP($J26,TableauDatanew,11,0)) | P26: =IF(ISERROR(VLOOKUP($J26,TableauDatanew,8,0)),"",VLOOKUP($J26,TableauDatanew,8,0)) | Q26: =IF(ISERROR(VLOOKUP($J26,TableauDatanew,10,0)),"",VLOOKUP($J26,TableauDatanew,10,0)) | R26: =IF(ISERROR(VLOOKUP(J26,C:D,2,0)),"",VLOOKUP(J26,C:D,2,0)) | S26: =IF(ISERROR(VLOOKUP(J26,C:F,4,0)),"",VLOOKUP(J26,C:F,4,0)) | T26: =IF(S26="","",$T$1) | X26: Weight PE | Y26: ='Agripp Holds PE (EU)'!F4 -> 0
A27: =IF(D27=0,"",1) | B27: =SUM($A$2:A27) -> 0 | C27: ='Agripp Holds PU (EU, ASIA)'!A36 -> HU026 | D27: =IF(VLOOKUP(C27,'Agripp Holds PU (EU, ASIA)'!$A$11:$AL$1003,37,0)="",0,VLOOKUP(C27,'Agripp Holds PU (EU, ASIA)'!$A$11:$AL$1003,37,0)) -> 0 | E27: 26 | F27: =IF(VLOOKUP(C27,'Agripp Holds PU (EU, ASIA)'!$A$11:$AN$999,39,0)="",0,VLOOKUP(C27,'Agripp Holds PU (EU, ASIA)'!$A$11:$AN$999,39,0)) -> 0 | J27: =IF(ISERROR(VLOOKUP($E27,$B$2:$D$1047,2,0)),"",VLOOKUP($E27,$B$2:$D$1047,2,0)) | K27: =IF(ISERROR(VLOOKUP($J27,TableauDatanew,4,0)),"",VLOOKUP($J27,TableauDatanew,4,0)) | L27: =IF(ISERROR(VLOOKUP($J27,TableauDatanew,5,0)),"",VLOOKUP($J27,TableauDatanew,5,0)) | M27: =IF(ISERROR(VLOOKUP($J27,TableauDatanew,6,0)),"",VLOOKUP($J27,TableauDatanew,6,0)) | N27: =IF(ISERROR(VLOOKUP($J27,TableauDatanew,13,0)),"",VLOOKUP($J27,TableauDatanew,13,0)) | O27: =IF(ISERROR(VLOOKUP($J27,TableauDatanew,11,0)),"",VLOOKUP($J27,TableauDatanew,11,0)) | P27: =IF(ISERROR(VLOOKUP($J27,TableauDatanew,8,0)),"",VLOOKUP($J27,TableauDatanew,8,0)) | Q27: =IF(ISERROR(VLOOKUP($J27,TableauDatanew,10,0)),"",VLOOKUP($J27,TableauDatanew,10,0)) | R27: =IF(ISERROR(VLOOKUP(J27,C:D,2,0)),"",VLOOKUP(J27,C:D,2,0)) | S27: =IF(ISERROR(VLOOKUP(J27,C:F,4,0)),"",VLOOKUP(J27,C:F,4,0)) | T27: =IF(S27="","",$T$1) | X27: Total | Z27: =Y25+Y26 -> 0 | AA27: KG
A28: =IF(D28=0,"",1) | B28: =SUM($A$2:A28) -> 0 | C28: ='Agripp Holds PU (EU, ASIA)'!A37 -> HU027 | D28: =IF(VLOOKUP(C28,'Agripp Holds PU (EU, ASIA)'!$A$11:$AL$1003,37,0)="",0,VLOOKUP(C28,'Agripp Holds PU (EU, ASIA)'!$A$11:$AL$1003,37,0)) -> 0 | E28: 27 | F28: =IF(VLOOKUP(C28,'Agripp Holds PU (EU, ASIA)'!$A$11:$AN$999,39,0)="",0,VLOOKUP(C28,'Agripp Holds PU (EU, ASIA)'!$A$11:$AN$999,39,0)) -> 0 | J28: =IF(ISERROR(VLOOKUP($E28,$B$2:$D$1047,2,0)),"",VLOOKUP($E28,$B$2:$D$1047,2,0)) | K28: =IF(ISERROR(VLOOKUP($J28,TableauDatanew,4,0)),"",VLOOKUP($J28,TableauDatanew,4,0)) | L28: =IF(ISERROR(VLOOKUP($J28,TableauDatanew,5,0)),"",VLOOKUP($J28,TableauDatanew,5,0)) | M28: =IF(ISERROR(VLOOKUP($J28,TableauDatanew,6,0)),"",VLOOKUP($J28,TableauDatanew,6,0)) | N28: =IF(ISERROR(VLOOKUP($J28,TableauDatanew,13,0)),"",VLOOKUP($J28,TableauDatanew,13,0)) | O28: =IF(ISERROR(VLOOKUP($J28,TableauDatanew,11,0)),"",VLOOKUP($J28,TableauDatanew,11,0)) | P28: =IF(ISERROR(VLOOKUP($J28,TableauDatanew,8,0)),"",VLOOKUP($J28,TableauDatanew,8,0)) | Q28: =IF(ISERROR(VLOOKUP($J28,TableauDatanew,10,0)),"",VLOOKUP($J28,TableauDatanew,10,0)) | R28: =IF(ISERROR(VLOOKUP(J28,C:D,2,0)),"",VLOOKUP(J28,C:D,2,0)) | S28: =IF(ISERROR(VLOOKUP(J28,C:F,4,0)),"",VLOOKUP(J28,C:F,4,0)) | T28: =IF(S28="","",$T$1)
