Workbook

Sheet Information
A4: Billing data | E4: Delivery data | J4: 30 mm | K4: 40 mm | L4: 50 mm | M4: 60 mm | N4: 70 mm | O4: 80 mm | P4: 90 mm | Q4: 100 mm | R4: 110 mm | S4: 120 mm | T4: 130 mm | U4: 140 mm | V4: 150 mm | W4: 160 mm | X4: 170 mm | Y4: 180 mm | Z4: 190 mm | AA4: 200 mm | AB4: 210 mm | AC4: 220 mm | AD4: 230 mm
A5: Company name | E5: Company name | J5: ='Polyester holds'!Y149+Fiberglass!AU133 -> 0 | K5: ='Polyester holds'!Z149+Fiberglass!AV133 -> 0 | L5: ='Polyester holds'!AA149+Fiberglass!AW133 -> 0 | M5: ='Polyester holds'!AB149+Fiberglass!AX133 -> 0 | N5: ='Polyester holds'!AC149+Fiberglass!AY133 -> 0 | O5: ='Polyester holds'!AD149+Fiberglass!AZ133 -> 0 | P5: ='Polyester holds'!AE149+Fiberglass!BA133 -> 0 | Q5: ='Polyester holds'!AF149+Fiberglass!BB133 -> 0 | ... AD5: ='Polyester holds'!AS149+Fiberglass!BO133 -> 0
A6: Company address | E6: Company address
A7: City | E7: City
A8: ZIP | E8: ZIP
A9: Country | E9: Country
A10: VAT number | E10: Responsible person
A11: Responsible person | E11: Telephone
A12: Telephone | E12: Email
A13: Email | E13: Delivery deadline
A15: Product information | B15: Sets | C15: Pieces | D15: Total | E15: Total weight kg
A16: Polyester holds | B16: ='Polyester holds'!T149 -> 0 | C16: ='Polyester holds'!U149 -> 0 | D16: ='Polyester holds'!V149 -> 0 | E16: ='Polyester holds'!W149 -> 0
A17: Fiberglass volumes | B17: =Fiberglass!S133 -> 0 | C17: =Fiberglass!T133 -> 0 | D17: =Fiberglass!U133 -> 0 | E17: =Fiberglass!V133 -> 0
A18: Plywood volumes | B18: ='Plywood volumes'!O69 -> 0 | C18: ='Plywood volumes'!P69 -> 0 | D18: ='Plywood volumes'!Q69 -> 0 | E18: ='Plywood volumes'!R69 -> 0
A19: Total | B19: =SUM(B16:B18) -> 0 | C19: =SUM(C16:C18) -> 0 | D19: =SUM(D16:D18) -> 0 | E19: =SUM(E16:E18) -> 0
A21: Additional notes:
A26: Please Note: | B26: Prices are excluding VAT and shipping
B27: Orders to: tz.bonev@holdsandwalls.at

Sheet Polyester holds
A1: Name | B1: Holds | C1: Price | D1: Weight | E1: Yellow | F1: Orange | G1: Light Blue | H1: Red | I1: Purple | J1: Blue | K1: Green | L1: Grey | M1: Mint 6027 | N1: Black | O1: White | P1: Fl.Yellow | Q1: Fl.Orange | R1: Fl.Pink | S1: Fl.Green | T1: Sets | U1: Pcs | V1: Total | W1: Total weight | Y1: 30 mm | Z1: 40 mm | AA1: 50 mm | AB1: 60 mm | AC1: 70 mm | AD1: 80 mm | AE1: 90 mm | AF1: 100 mm | AG1: 110 mm | AH1: 120 mm | AI1: 130 mm | AJ1: 140 mm | AK1: 150 mm | AL1: 160 mm | AM1: 170 mm | AN1: 180 mm | AO1: 190 mm | AP1: 200 mm | AQ1: 210 mm | AR1: 220 mm | AS1: 230 mm | AU1: 30 mm | AV1: 40 mm | AW1: 50 mm | AX1: 60 mm | AY1: 70 mm | AZ1: 80 mm | BA1: 90 mm | BB1: 100 mm | BC1: 110 mm | BD1: 120 mm | BE1: 130 mm | BF1: 140 mm | BG1: 150 mm | BH1: 160 mm | BI1: 170 mm | BJ1: 180 mm | BK1: 190 mm | BL1: 200 mm | BM1: 210 mm | BN1: 220 mm | BO1: 230 mm
A2: Competition style
A3: Slap 1 NEW | B3: 10 | C3: 150 | D3: 7.3 | T3: =SUM(E3:S3) -> 0 | U3: =T3*B3 -> 0 | V3: =T3*C3 -> 0 | W3: =D3*T3 -> 0 | AE3: 4 | AF3: 4 | AG3: 1 | AH3: 1
A4: Slap 2 NEW | B4: 10 | C4: 215 | D4: 10.6 | T4: =SUM(E4:S4) -> 0 | U4: =T4*B4 -> 0 | V4: =T4*C4 -> 0 | W4: =D4*T4 -> 0 | AE4: 1 | AF4: 1 | AG4: 1 | AH4: 3 | AI4: 2 | AJ4: 1 | AK4: 1
A5: Slap 3 NEW | B5: 10 | C5: 150 | D5: 7 | T5: =SUM(E5:S5) -> 0 | U5: =T5*B5 -> 0 | V5: =T5*C5 -> 0 | W5: =D5*T5 -> 0 | AC5: 3 | AD5: 3 | AE5: 4
A6: Slap 4 NEW | B6: 10 | C6: 150 | D6: 7.5 | T6: =SUM(E6:S6) -> 0 | U6: =T6*B6 -> 0 | V6: =T6*C6 -> 0 | W6: =D6*T6 -> 0 | AC6: 1 | AD6: 2 | AE6: 4 | AF6: 3
A7: Slap 5 NEW | B7: 4 | C7: 150 | D7: 7.8 | T7: =SUM(E7:S7) -> 0 | U7: =T7*B7 -> 0 | V7: =T7*C7 -> 0 | W7: =D7*T7 -> 0 | AF7: 2 | AG7: 2
A8: Slap 6 NEW | B8: 4 | C8: 148 | D8: 6.5 | T8: =SUM(E8:S8) -> 0 | U8: =T8*B8 -> 0 | V8: =T8*C8 -> 0 | W8: =D8*T8 -> 0 | AE8: 1 | AG8: 1 | AH8: 2
A9: Slap 7 NEW | B9: 5 | C9: 197 | D9: 8.7 | T9: =SUM(E9:S9) -> 0 | U9: =T9*B9 -> 0 | V9: =T9*C9 -> 0 | W9: =D9*T9 -> 0 | AF9: 1 | AG9: 2 | AI9: 1 | AJ9: 1
A10: Slap 8 NEW | B10: 4 | C10: 140 | D10: 6.2 | T10: =SUM(E10:S10) -> 0 | U10: =T10*B10 -> 0 | V10: =T10*C10 -> 0 | W10: =D10*T10 -> 0 | AH10: 1 | AI10: 1 | AJ10: 2
A11: Slap 9 NEW | B11: 4 | C11: 148 | D11: 6.5 | T11: =SUM(E11:S11) -> 0 | U11: =T11*B11 -> 0 | V11: =T11*C11 -> 0 | W11: =D11*T11 -> 0 | AJ11: 2 | AK11: 2
A12: Slap 10 NEW | B12: 3 | C12: 130 | D12: 5.8 | T12: =SUM(E12:S12) -> 0 | U12: =T12*B12 -> 0 | V12: =T12*C12 -> 0 | W12: =D12*T12 -> 0 | AI12: 2 | AK12: 1
A13: Slap 11 NEW | B13: 4 | C13: 148 | D13: 6.6 | T13: =SUM(E13:S13) -> 0 | U13: =T13*B13 -> 0 | V13: =T13*C13 -> 0 | W13: =D13*T13 -> 0 | AG13: 1 | AI13: 3
A14: Slap 12 NEW | B14: 4 | C14: 150 | D14: 7.5 | T14: =SUM(E14:S14) -> 0 | U14: =T14*B14 -> 0 | V14: =T14*C14 -> 0 | W14: =D14*T14 -> 0 | AH14: 1 | AI14: 3
A15: Slap 13 NEW | B15: 3 | C15: 142 | D15: 7 | T15: =SUM(E15:S15) -> 0 | U15: =T15*B15 -> 0 | V15: =T15*C15 -> 0 | W15: =D15*T15 -> 0 | AF15: 2 | AG15: 1
A16: Slap 14 NEW | B16: 2 | C16: 118 | D16: 5.2 | T16: =SUM(E16:S16) -> 0 | U16: =T16*B16 -> 0 | V16: =T16*C16 -> 0 | W16: =D16*T16 -> 0 | AH16: 1 | AI16: 1
A17: Slap 15 NEW | B17: 3 | C17: 142 | D17: 6.5 | T17: =SUM(E17:S17) -> 0 | U17: =T17*B17 -> 0 | V17: =T17*C17 -> 0 | W17: =D17*T17 -> 0 | AK17: 3
A18: Slap 16 NEW | B18: 2 | C18: 120 | D18: 5.7 | T18: =SUM(E18:S18) -> 0 | U18: =T18*B18 -> 0 | V18: =T18*C18 -> 0 | W18: =D18*T18 -> 0 | AJ18: 1 | AK18: 1
A19: Feet 1 NEW | B19: 10 | C19: 24 | D19: 0.5 | T19: =SUM(E19:S19) -> 0 | U19: =T19*B19 -> 0 | V19: =T19*C19 -> 0 | W19: =D19*T19 -> 0 | Y19: 10
A20: Feet 2 NEW | B20: 10 | C20: 24 | D20: 0.6 | T20: =SUM(E20:S20) -> 0 | U20: =T20*B20 -> 0 | V20: =T20*C20 -> 0 | W20: =D20*T20 -> 0 | Y20: 10
A21: Feet 3 NEW | B21: 10 | C21: 24 | D21: 0.6 | T21: =SUM(E21:S21) -> 0 | U21: =T21*B21 -> 0 | V21: =T21*C21 -> 0 | W21: =D21*T21 -> 0 | Y21: 10
A22: Feet 4 NEW | B22: 10 | C22: 28 | D22: 0.7 | T22: =SUM(E22:S22) -> 0 | U22: =T22*B22 -> 0 | V22: =T22*C22 -> 0 | W22: =D22*T22 -> 0 | Y22: 10
A23: Feet 5 NEW | B23: 10 | C23: 34 | D23: 0.85 | T23: =SUM(E23:S23) -> 0 | U23: =T23*B23 -> 0 | V23: =T23*C23 -> 0 | W23: =D23*T23 -> 0 | Y23: 10
A24: Feet 1 - 5 Pack NEW | B24: 50 | C24: 131.32 | D24: 3.25 | T24: =SUM(E24:S24) -> 0 | U24: =T24*B24 -> 0 | V24: =T24*C24 -> 0 | W24: =D24*T24 -> 0 | Y24: 50
A25: Thorn 1 | B25: 30 | C25: 71.83 | D25: 1.78 | T25: =SUM(E25:S25) -> 0 | U25: =T25*B25 -> 0 | V25: =T25*C25 -> 0 | W25: =D25*T25 -> 0 | AU25: =Y25*T25 -> 0 | AV25: =T25*Z25 -> 0 | AW25: =AA25*T25 -> 0 | AX25: =AB25*T25 -> 0 | AY25: =AC25*T25 -> 0 | AZ25: =AD25*T25 -> 0 | BA25: =AE25*T25 -> 0 | BB25: =AF25*T25 -> 0 | BC25: =AG25*T25 -> 0 | BD25: =AH25*T25 -> 0 | BE25: =AI25*T25 -> 0 | BF25: =AJ25*T25 -> 0 | BG25: =AK25*T25 -> 0 | BH25: =AL25*T25 -> 0 | BI25: =AM25*T25 -> 0 | BJ25: =AN25*T25 -> 0 | BK25: =AO25*T25 -> 0 | BL25: =AP25*T25 -> 0 | BM25: =AQ25*T25 -> 0 | BN25: =AR25*T25 -> 0 | BO25: =AS25*T25 -> 0
A26: Thorn 2 NEW | B26: 20 | C26: 40 | D26: 1 | T26: =SUM(E26:S26) -> 0 | U26: =T26*B26 -> 0 | V26: =T26*C26 -> 0 | W26: =D26*T26 -> 0
A27: Thorn 3 NEW | B27: 20 | C27: 40 | D27: 0.8 | T27: =SUM(E27:S27) -> 0 | U27: =T27*B27 -> 0 | V27: =T27*C27 -> 0 | W27: =D27*T27 -> 0
A28: Thorn 4 NEW | B28: 20 | C28: 40 | D28: 0.9 | T28: =SUM(E28:S28) -> 0 | U28: =T28*B28 -> 0 | V28: =T28*C28 -> 0 | W28: =D28*T28 -> 0
A29: Thorn 5 NEW | B29: 20 | C29: 40 | D29: 1 | T29: =SUM(E29:S29) -> 0 | U29: =T29*B29 -> 0 | V29: =T29*C29 -> 0 | W29: =D29*T29 -> 0
A30: Thorn 6 NEW | B30: 20 | C30: 50 | D30: 1.4 | T30: =SUM(E30:S30) -> 0 | U30: =T30*B30 -> 0 | V30: =T30*C30 -> 0 | W30: =D30*T30 -> 0
A31: Thorn 1-6 Pack NEW | B31: 130 | C31: 276.19 | D31: 6.88 | T31: =SUM(E31:S31) -> 0 | U31: =T31*B31 -> 0 | V31: =T31*C31 -> 0 | W31: =D31*T31 -> 0
A32: Bless | B32: 3 | C32: 140 | D32: 6.2 | T32: =SUM(E32:S32) -> 0 | U32: =T32*B32 -> 0 | V32: =T32*C32 -> 0 | W32: =D32*T32 -> 0 | AH32: 3 | AU32: =Y32*T32 -> 0 | AV32: =T32*Z32 -> 0 | AW32: =AA32*T32 -> 0 | AX32: =AB32*T32 -> 0 | AY32: =AC32*T32 -> 0 | AZ32: =AD32*T32 -> 0 | BA32: =AE32*T32 -> 0 | BB32: =AF32*T32 -> 0 | BC32: =AG32*T32 -> 0 | BD32: =AH32*T32 -> 0 | BE32: =AI32*T32 -> 0 | BF32: =AJ32*T32 -> 0 | BG32: =AK32*T32 -> 0 | BH32: =AL32*T32 -> 0 | BI32: =AM32*T32 -> 0 | BJ32: =AN32*T32 -> 0 | BK32: =AO32*T32 -> 0 | BL32: =AP32*T32 -> 0 | BM32: =AQ32*T32 -> 0 | BN32: =AR32*T32 -> 0 | BO32: =AS32*T32 -> 0
A33: Parasites | B33: 20 | C33: 100 | D33: 5.3 | T33: =SUM(E33:S33) -> 0 | U33: =T33*B33 -> 0 | V33: =T33*C33 -> 0 | W33: =D33*T33 -> 0
A34: Kite | B34: 15 | C34: 120 | D34: 6.5 | T34: =SUM(E34:S34) -> 0 | U34: =T34*B34 -> 0 | V34: =T34*C34 -> 0 | W34: =D34*T34 -> 0
A35: Sticky | B35: 20 | C35: 110 | D35: 5.7 | T35: =SUM(E35:S35) -> 0 | U35: =T35*B35 -> 0 | V35: =T35*C35 -> 0 | W35: =D35*T35 -> 0 | Z35: 15 | AA35: 5 | AU35: =Y35*T35 -> 0 | AV35: =T35*Z35 -> 0 | AW35: =AA35*T35 -> 0 | AX35: =AB35*T35 -> 0 | AY35: =AC35*T35 -> 0 | AZ35: =AD35*T35 -> 0 | BA35: =AE35*T35 -> 0 | BB35: =AF35*T35 -> 0 | BC35: =AG35*T35 -> 0 | BD35: =AH35*T35 -> 0 | BE35: =AI35*T35 -> 0 | BF35: =AJ35*T35 -> 0 | BG35: =AK35*T35 -> 0 | BH35: =AL35*T35 -> 0 | BI35: =AM35*T35 -> 0 | BJ35: =AN35*T35 -> 0 | BK35: =AO35*T35 -> 0 | BL35: =AP35*T35 -> 0 | BM35: =AQ35*T35 -> 0 | BN35: =AR35*T35 -> 0 | BO35: =AS35*T35 -> 0
A36: Rookie | B36: 20 | C36: 224 | D36: 11.2 | T36: =SUM(E36:S36) -> 0 | U36: =T36*B36 -> 0 | V36: =T36*C36 -> 0 | W36: =D36*T36 -> 0 | AA36: 6 | AB36: 5 | AC36: 7 | AF36: 2 | AU36: =Y36*T36 -> 0 | AV36: =T36*Z36 -> 0 | AW36: =AA36*T36 -> 0 | AX36: =AB36*T36 -> 0 | AY36: =AC36*T36 -> 0 | AZ36: =AD36*T36 -> 0 | BA36: =AE36*T36 -> 0 | BB36: =AF36*T36 -> 0 | BC36: =AG36*T36 -> 0 | BD36: =AH36*T36 -> 0 | BE36: =AI36*T36 -> 0 | BF36: =AJ36*T36 -> 0 | BG36: =AK36*T36 -> 0 | BH36: =AL36*T36 -> 0 | BI36: =AM36*T36 -> 0 | BJ36: =AN36*T36 -> 0 | BK36: =AO36*T36 -> 0 | BL36: =AP36*T36 -> 0 | BM36: =AQ36*T36 -> 0 | BN36: =AR36*T36 -> 0 | BO36: =AS36*T36 -> 0
A37: Novice | B37: 30 | C37: 315 | D37: 15.7 | T37: =SUM(E37:S37) -> 0 | U37: =T37*B37 -> 0 | V37: =T37*C37 -> 0 | W37: =D37*T37 -> 0 | Z37: 8 | AA37: 13 | AB37: 8 | AC37: 1 | AU37: =Y37*T37 -> 0 | AV37: =T37*Z37 -> 0 | AW37: =AA37*T37 -> 0 | AX37: =AB37*T37 -> 0 | AY37: =AC37*T37 -> 0 | AZ37: =AD37*T37 -> 0 | BA37: =AE37*T37 -> 0 | BB37: =AF37*T37 -> 0 | BC37: =AG37*T37 -> 0 | BD37: =AH37*T37 -> 0 | BE37: =AI37*T37 -> 0 | BF37: =AJ37*T37 -> 0 | BG37: =AK37*T37 -> 0 | BH37: =AL37*T37 -> 0 | BI37: =AM37*T37 -> 0 | BJ37: =AN37*T37 -> 0 | BK37: =AO37*T37 -> 0 | BL37: =AP37*T37 -> 0 | BM37: =AQ37*T37 -> 0 | BN37: =AR37*T37 -> 0 | BO37: =AS37*T37 -> 0
A38: Greedy grip | B38: 15 | C38: 254 | D38: 12.7 | T38: =SUM(E38:S38) -> 0 | U38: =T38*B38 -> 0 | V38: =T38*C38 -> 0 | W38: =D38*T38 -> 0 | AB38: 3 | AC38: 2 | AD38: 2 | AE38: 7 | AF38: 1 | AU38: =Y38*T38 -> 0 | AV38: =T38*Z38 -> 0 | AW38: =AA38*T38 -> 0 | AX38: =AB38*T38 -> 0 | AY38: =AC38*T38 -> 0 | AZ38: =AD38*T38 -> 0 | BA38: =AE38*T38 -> 0 | BB38: =AF38*T38 -> 0 | BC38: =AG38*T38 -> 0 | BD38: =AH38*T38 -> 0 | BE38: =AI38*T38 -> 0 | BF38: =AJ38*T38 -> 0 | BG38: =AK38*T38 -> 0 | BH38: =AL38*T38 -> 0 | BI38: =AM38*T38 -> 0 | BJ38: =AN38*T38 -> 0 | BK38: =AO38*T38 -> 0 | BL38: =AP38*T38 -> 0 | BM38: =AQ38*T38 -> 0 | BN38: =AR38*T38 -> 0 | BO38: =AS38*T38 -> 0
A39: Ambush | B39: 15 | C39: 190 | D39: 9.3 | T39: =SUM(E39:S39) -> 0 | U39: =T39*B39 -> 0 | V39: =T39*C39 -> 0 | W39: =D39*T39 -> 0 | Z39: 3 | AA39: 4 | AB39: 3 | AC39: 5 | AU39: =Y39*T39 -> 0 | AV39: =T39*Z39 -> 0 | AW39: =AA39*T39 -> 0 | AX39: =AB39*T39 -> 0 | AY39: =AC39*T39 -> 0 | AZ39: =AD39*T39 -> 0 | BA39: =AE39*T39 -> 0 | BB39: =AF39*T39 -> 0 | BC39: =AG39*T39 -> 0 | BD39: =AH39*T39 -> 0 | BE39: =AI39*T39 -> 0 | BF39: =AJ39*T39 -> 0 | BG39: =AK39*T39 -> 0 | BH39: =AL39*T39 -> 0 | BI39: =AM39*T39 -> 0 | BJ39: =AN39*T39 -> 0 | BK39: =AO39*T39 -> 0 | BL39: =AP39*T39 -> 0 | BM39: =AQ39*T39 -> 0 | BN39: =AR39*T39 -> 0 | BO39: =AS39*T39 -> 0
A40: Gin Soda | B40: 20 | C40: 203.52 | D40: 13 | T40: =SUM(E40:S40) -> 0 | U40: =T40*B40 -> 0 | V40: =T40*C40 -> 0 | W40: =D40*T40 -> 0 | AU40: =Y40*T40 -> 0 | AV40: =T40*Z40 -> 0 | AW40: =AA40*T40 -> 0 | AX40: =AB40*T40 -> 0 | AY40: =AC40*T40 -> 0 | AZ40: =AD40*T40 -> 0 | BA40: =AE40*T40 -> 0 | BB40: =AF40*T40 -> 0 | BC40: =AG40*T40 -> 0 | BD40: =AH40*T40 -> 0 | BE40: =AI40*T40 -> 0 | BF40: =AJ40*T40 -> 0 | BG40: =AK40*T40 -> 0 | BH40: =AL40*T40 -> 0 | BI40: =AM40*T40 -> 0 | BJ40: =AN40*T40 -> 0 | BK40: =AO40*T40 -> 0 | BL40: =AP40*T40 -> 0 | BM40: =AQ40*T40 -> 0 | BN40: =AR40*T40 -> 0 | BO40: =AS40*T40 -> 0
...

Sheet Fiberglass
A1: Name | B1: Volumes | C1: Price | D1: Weight | E1: Yellow | F1: Orange | G1: Light Blue | H1: Red | I1: Purple | J1: Blue | K1: Green | L1: Grey | M1: Mint 6027 | N1: Black | O1: White | P1: Fl.Orange | Q1: Fl.Pink | R1: Fl.Green | S1: Sets | T1: Pcs | U1: Total | V1: Total weight | W1: Fixation | X1: Size | Y1: 30 mm | Z1: 40 mm | AA1: 50 mm | AB1: 60 mm | AC1: 70 mm | AD1: 80 mm | AE1: 90 mm | AF1: 100 mm | AG1: 110 mm | AH1: 120 mm | AI1: 130 mm | AJ1: 140 mm | AK1: 150 mm | AL1: 160 mm | AM1: 170 mm | AN1: 180 mm | AO1: 190 mm | AP1: 200 mm | AQ1: 210 mm | AR1: 220 mm | AS1: 230 mm | AU1: 30 mm | AV1: 40 mm | AW1: 50 mm | AX1: 60 mm | AY1: 70 mm | AZ1: 80 mm | BA1: 90 mm | BB1: 100 mm | BC1: 110 mm | BD1: 120 mm | BE1: 130 mm | BF1: 140 mm | BG1: 150 mm | BH1: 160 mm | BI1: 170 mm | BJ1: 180 mm | BK1: 190 mm | BL1: 200 mm | BM1: 210 mm | BN1: 220 mm | BO1: 230 mm
A2: Evolution Fiberglass
A3: Evolution Fiberglass - Set 10-2 Dual-Tex NEW | B3: 7 | C3: 1008 | D3: 5.1 | S3: =SUM(E3:R3) -> 0 | T3: =S3*B3 -> 0 | U3: =S3*C3 -> 0 | V3: =S3*D3 -> 0 | W3: Screw on | X3: XXS-M | AU3: =Y3*S3 -> 0 | AV3: =Z3*S3 -> 0 | AW3: =AA3*S3 -> 0 | AX3: =AB3*S3 -> 0 | AY3: =AC3*S3 -> 0 | AZ3: =AD3*S3 -> 0 | BA3: =AE3*S3 -> 0 | BB3: =AF3*S3 -> 0 | BC3: =AG3*S3 -> 0 | BD3: =AH3*S3 -> 0 | BE3: =AI3*S3 -> 0 | BF3: =AJ3*S3 -> 0 | BG3: =AK3*S3 -> 0 | BH3: =AL3*S3 -> 0 | BI3: =AM3*S3 -> 0 | BJ3: =AN3*S3 -> 0 | BK3: =AO3*S3 -> 0 | BL3: =AP3*S3 -> 0 | BM3: =AQ3*S3 -> 0 | BN3: =AR3*S3 -> 0 | BO3: =AS3*S3 -> 0
A4: Evolution Fiberglass - Set 10-1 Dual-Tex NEW | B4: 7 | C4: 1000 | D4: 8.95 | S4: =SUM(E4:R4) -> 0 | T4: =S4*B4 -> 0 | U4: =S4*C4 -> 0 | V4: =S4*D4 -> 0 | W4: Screw on | X4: XXS-M | AU4: =Y4*S4 -> 0 | AV4: =Z4*S4 -> 0 | AW4: =AA4*S4 -> 0 | AX4: =AB4*S4 -> 0 | AY4: =AC4*S4 -> 0 | AZ4: =AD4*S4 -> 0 | BA4: =AE4*S4 -> 0 | BB4: =AF4*S4 -> 0 | BC4: =AG4*S4 -> 0 | BD4: =AH4*S4 -> 0 | BE4: =AI4*S4 -> 0 | BF4: =AJ4*S4 -> 0 | BG4: =AK4*S4 -> 0 | BH4: =AL4*S4 -> 0 | BI4: =AM4*S4 -> 0 | BJ4: =AN4*S4 -> 0 | BK4: =AO4*S4 -> 0 | BL4: =AP4*S4 -> 0 | BM4: =AQ4*S4 -> 0 | BN4: =AR4*S4 -> 0 | BO4: =AS4*S4 -> 0
A5: Evolution Fiberglass - Set 9-2 NEW | B5: 7 | C5: 850 | D5: 4.3 | S5: =SUM(E5:R5) -> 0 | T5: =S5*B5 -> 0 | U5: =S5*C5 -> 0 | V5: =S5*D5 -> 0 | W5: Screw on | X5: XXS-M | AU5: =Y5*S5 -> 0 | AV5: =Z5*S5 -> 0 | AW5: =AA5*S5 -> 0 | AX5: =AB5*S5 -> 0 | AY5: =AC5*S5 -> 0 | AZ5: =AD5*S5 -> 0 | BA5: =AE5*S5 -> 0 | BB5: =AF5*S5 -> 0 | BC5: =AG5*S5 -> 0 | BD5: =AH5*S5 -> 0 | BE5: =AI5*S5 -> 0 | BF5: =AJ5*S5 -> 0 | BG5: =AK5*S5 -> 0 | BH5: =AL5*S5 -> 0 | BI5: =AM5*S5 -> 0 | BJ5: =AN5*S5 -> 0 | BK5: =AO5*S5 -> 0 | BL5: =AP5*S5 -> 0 | BM5: =AQ5*S5 -> 0 | BN5: =AR5*S5 -> 0 | BO5: =AS5*S5 -> 0
A6: Evolution Fiberglass - Set 9-1 NEW | B6: 7 | C6: 850 | D6: 4.6 | S6: =SUM(E6:R6) -> 0 | T6: =S6*B6 -> 0 | U6: =S6*C6 -> 0 | V6: =S6*D6 -> 0 | W6: Screw on | X6: XXS-M | AU6: =Y6*S6 -> 0 | AV6: =Z6*S6 -> 0 | AW6: =AA6*S6 -> 0 | AX6: =AB6*S6 -> 0 | AY6: =AC6*S6 -> 0 | AZ6: =AD6*S6 -> 0 | BA6: =AE6*S6 -> 0 | BB6: =AF6*S6 -> 0 | BC6: =AG6*S6 -> 0 | BD6: =AH6*S6 -> 0 | BE6: =AI6*S6 -> 0 | BF6: =AJ6*S6 -> 0 | BG6: =AK6*S6 -> 0 | BH6: =AL6*S6 -> 0 | BI6: =AM6*S6 -> 0 | BJ6: =AN6*S6 -> 0 | BK6: =AO6*S6 -> 0 | BL6: =AP6*S6 -> 0 | BM6: =AQ6*S6 -> 0 | BN6: =AR6*S6 -> 0 | BO6: =AS6*S6 -> 0
A7: Evolution Fiberglass - Set 8 Dual-Tex | B7: 11 | C7: 800 | D7: 8 | S7: =SUM(E7:R7) -> 0 | T7: =S7*B7 -> 0 | U7: =S7*C7 -> 0 | V7: =S7*D7 -> 0 | W7: Screw on | X7: XXS-M | AU7: =Y7*S7 -> 0 | AV7: =Z7*S7 -> 0 | AW7: =AA7*S7 -> 0 | AX7: =AB7*S7 -> 0 | AY7: =AC7*S7 -> 0 | AZ7: =AD7*S7 -> 0 | BA7: =AE7*S7 -> 0 | BB7: =AF7*S7 -> 0 | BC7: =AG7*S7 -> 0 | BD7: =AH7*S7 -> 0 | BE7: =AI7*S7 -> 0 | BF7: =AJ7*S7 -> 0 | BG7: =AK7*S7 -> 0 | BH7: =AL7*S7 -> 0 | BI7: =AM7*S7 -> 0 | BJ7: =AN7*S7 -> 0 | BK7: =AO7*S7 -> 0 | BL7: =AP7*S7 -> 0 | BM7: =AQ7*S7 -> 0 | BN7: =AR7*S7 -> 0 | BO7: =AS7*S7 -> 0
A8: Evolution Fiberglass - Set 7 Dual-Tex | B8: 12 | C8: 780 | D8: 6 | S8: =SUM(E8:R8) -> 0 | T8: =S8*B8 -> 0 | U8: =S8*C8 -> 0 | V8: =S8*D8 -> 0 | W8: Screw on | X8: XXXS-S | AU8: =Y8*S8 -> 0 | AV8: =Z8*S8 -> 0 | AW8: =AA8*S8 -> 0 | AX8: =AB8*S8 -> 0 | AY8: =AC8*S8 -> 0 | AZ8: =AD8*S8 -> 0 | BA8: =AE8*S8 -> 0 | BB8: =AF8*S8 -> 0 | BC8: =AG8*S8 -> 0 | BD8: =AH8*S8 -> 0 | BE8: =AI8*S8 -> 0 | BF8: =AJ8*S8 -> 0 | BG8: =AK8*S8 -> 0 | BH8: =AL8*S8 -> 0 | BI8: =AM8*S8 -> 0 | BJ8: =AN8*S8 -> 0 | BK8: =AO8*S8 -> 0 | BL8: =AP8*S8 -> 0 | BM8: =AQ8*S8 -> 0 | BN8: =AR8*S8 -> 0 | BO8: =AS8*S8 -> 0
A9: Evolution Fiberglass - Set 6 | B9: 20 | C9: 1290 | D9: 14 | S9: =SUM(E9:R9) -> 0 | T9: =S9*B9 -> 0 | U9: =S9*C9 -> 0 | V9: =S9*D9 -> 0 | W9: Screw on | X9: XXXS-M | AU9: =Y9*S9 -> 0 | AV9: =Z9*S9 -> 0 | AW9: =AA9*S9 -> 0 | AX9: =AB9*S9 -> 0 | AY9: =AC9*S9 -> 0 | AZ9: =AD9*S9 -> 0 | BA9: =AE9*S9 -> 0 | BB9: =AF9*S9 -> 0 | BC9: =AG9*S9 -> 0 | BD9: =AH9*S9 -> 0 | BE9: =AI9*S9 -> 0 | BF9: =AJ9*S9 -> 0 | BG9: =AK9*S9 -> 0 | BH9: =AL9*S9 -> 0 | BI9: =AM9*S9 -> 0 | BJ9: =AN9*S9 -> 0 | BK9: =AO9*S9 -> 0 | BL9: =AP9*S9 -> 0 | BM9: =AQ9*S9 -> 0 | BN9: =AR9*S9 -> 0 | BO9: =AS9*S9 -> 0
A10: Evolution Fiberglass - Set 5 Lead Dual-Tex | B10: 58 | C10: 2900 | D10: 18 | S10: =SUM(E10:R10) -> 0 | T10: =S10*B10 -> 0 | U10: =S10*C10 -> 0 | V10: =S10*D10 -> 0 | W10: Screw on | X10: XXXS-M | AU10: =Y10*S10 -> 0 | AV10: =Z10*S10 -> 0 | AW10: =AA10*S10 -> 0 | AX10: =AB10*S10 -> 0 | AY10: =AC10*S10 -> 0 | AZ10: =AD10*S10 -> 0 | BA10: =AE10*S10 -> 0 | BB10: =AF10*S10 -> 0 | BC10: =AG10*S10 -> 0 | BD10: =AH10*S10 -> 0 | BE10: =AI10*S10 -> 0 | BF10: =AJ10*S10 -> 0 | BG10: =AK10*S10 -> 0 | BH10: =AL10*S10 -> 0 | BI10: =AM10*S10 -> 0 | BJ10: =AN10*S10 -> 0 | BK10: =AO10*S10 -> 0 | BL10: =AP10*S10 -> 0 | BM10: =AQ10*S10 -> 0 | BN10: =AR10*S10 -> 0 | BO10: =AS10*S10 -> 0
A11: Evolution Fiberglass - Set 4 Dual-tex | B11: 21 | C11: 1590 | D11: 13 | S11: =SUM(E11:R11) -> 0 | T11: =S11*B11 -> 0 | U11: =S11*C11 -> 0 | V11: =S11*D11 -> 0 | W11: Screw on | X11: XXXS-M | AU11: =Y11*S11 -> 0 | AV11: =Z11*S11 -> 0 | AW11: =AA11*S11 -> 0 | AX11: =AB11*S11 -> 0 | AY11: =AC11*S11 -> 0 | AZ11: =AD11*S11 -> 0 | BA11: =AE11*S11 -> 0 | BB11: =AF11*S11 -> 0 | BC11: =AG11*S11 -> 0 | BD11: =AH11*S11 -> 0 | BE11: =AI11*S11 -> 0 | BF11: =AJ11*S11 -> 0 | BG11: =AK11*S11 -> 0 | BH11: =AL11*S11 -> 0 | BI11: =AM11*S11 -> 0 | BJ11: =AN11*S11 -> 0 | BK11: =AO11*S11 -> 0 | BL11: =AP11*S11 -> 0 | BM11: =AQ11*S11 -> 0 | BN11: =AR11*S11 -> 0 | BO11: =AS11*S11 -> 0
A12: Evolution Fiberglass - Set 3 | B12: 20 | C12: 1290 | D12: 14 | S12: =SUM(E12:R12) -> 0 | T12: =S12*B12 -> 0 | U12: =S12*C12 -> 0 | V12: =S12*D12 -> 0 | W12: Screw on | X12: XXXS-M | AU12: =Y12*S12 -> 0 | AV12: =Z12*S12 -> 0 | AW12: =AA12*S12 -> 0 | AX12: =AB12*S12 -> 0 | AY12: =AC12*S12 -> 0 | AZ12: =AD12*S12 -> 0 | BA12: =AE12*S12 -> 0 | BB12: =AF12*S12 -> 0 | BC12: =AG12*S12 -> 0 | BD12: =AH12*S12 -> 0 | BE12: =AI12*S12 -> 0 | BF12: =AJ12*S12 -> 0 | BG12: =AK12*S12 -> 0 | BH12: =AL12*S12 -> 0 | BI12: =AM12*S12 -> 0 | BJ12: =AN12*S12 -> 0 | BK12: =AO12*S12 -> 0 | BL12: =AP12*S12 -> 0 | BM12: =AQ12*S12 -> 0 | BN12: =AR12*S12 -> 0 | BO12: =AS12*S12 -> 0
A13: Evolution Fiberglass - Set 2 Dual-tex | B13: 20 | C13: 1590 | D13: 13 | S13: =SUM(E13:R13) -> 0 | T13: =S13*B13 -> 0 | U13: =S13*C13 -> 0 | V13: =S13*D13 -> 0 | W13: Screw on | X13: XXXS-M | AU13: =Y13*S13 -> 0 | AV13: =Z13*S13 -> 0 | AW13: =AA13*S13 -> 0 | AX13: =AB13*S13 -> 0 | AY13: =AC13*S13 -> 0 | AZ13: =AD13*S13 -> 0 | BA13: =AE13*S13 -> 0 | BB13: =AF13*S13 -> 0 | BC13: =AG13*S13 -> 0 | BD13: =AH13*S13 -> 0 | BE13: =AI13*S13 -> 0 | BF13: =AJ13*S13 -> 0 | BG13: =AK13*S13 -> 0 | BH13: =AL13*S13 -> 0 | BI13: =AM13*S13 -> 0 | BJ13: =AN13*S13 -> 0 | BK13: =AO13*S13 -> 0 | BL13: =AP13*S13 -> 0 | BM13: =AQ13*S13 -> 0 | BN13: =AR13*S13 -> 0 | BO13: =AS13*S13 -> 0
A14: Evolution Fiberglass - Set 2 | B14: 20 | C14: 1290 | D14: 13 | S14: =SUM(E14:R14) -> 0 | T14: =S14*B14 -> 0 | U14: =S14*C14 -> 0 | V14: =S14*D14 -> 0 | W14: Screw on | X14: XXXS-M | AU14: =Y14*S14 -> 0 | AV14: =Z14*S14 -> 0 | AW14: =AA14*S14 -> 0 | AX14: =AB14*S14 -> 0 | AY14: =AC14*S14 -> 0 | AZ14: =AD14*S14 -> 0 | BA14: =AE14*S14 -> 0 | BB14: =AF14*S14 -> 0 | BC14: =AG14*S14 -> 0 | BD14: =AH14*S14 -> 0 | BE14: =AI14*S14 -> 0 | BF14: =AJ14*S14 -> 0 | BG14: =AK14*S14 -> 0 | BH14: =AL14*S14 -> 0 | BI14: =AM14*S14 -> 0 | BJ14: =AN14*S14 -> 0 | BK14: =AO14*S14 -> 0 | BL14: =AP14*S14 -> 0 | BM14: =AQ14*S14 -> 0 | BN14: =AR14*S14 -> 0 | BO14: =AS14*S14 -> 0
A15: Evolution Fiberglass - Set 1 Dual-tex | B15: 20 | C15: 1590 | D15: 14 | S15: =SUM(E15:R15) -> 0 | T15: =S15*B15 -> 0 | U15: =S15*C15 -> 0 | V15: =S15*D15 -> 0 | W15: Bolt on and Screw on | X15: XXXS-M | AK15: 2 | AU15: =Y15*S15 -> 0 | AV15: =Z15*S15 -> 0 | AW15: =AA15*S15 -> 0 | AX15: =AB15*S15 -> 0 | AY15: =AC15*S15 -> 0 | AZ15: =AD15*S15 -> 0 | BA15: =AE15*S15 -> 0 | BB15: =AF15*S15 -> 0 | BC15: =AG15*S15 -> 0 | BD15: =AH15*S15 -> 0 | BE15: =AI15*S15 -> 0 | BF15: =AJ15*S15 -> 0 | BG15: =AK15*S15 -> 0 | BH15: =AL15*S15 -> 0 | BI15: =AM15*S15 -> 0 | BJ15: =AN15*S15 -> 0 | BK15: =AO15*S15 -> 0 | BL15: =AP15*S15 -> 0 | BM15: =AQ15*S15 -> 0 | BN15: =AR15*S15 -> 0 | BO15: =AS15*S15 -> 0
A16: Evolution Fiberglass - Set 1 | B16: 20 | C16: 1290 | D16: 14 | S16: =SUM(E16:R16) -> 0 | T16: =S16*B16 -> 0 | U16: =S16*C16 -> 0 | V16: =S16*D16 -> 0 | W16: Bolt on and Screw on | X16: XXXS-M | AK16: 2 | AU16: =Y16*S16 -> 0 | AV16: =Z16*S16 -> 0 | AW16: =AA16*S16 -> 0 | AX16: =AB16*S16 -> 0 | AY16: =AC16*S16 -> 0 | AZ16: =AD16*S16 -> 0 | BA16: =AE16*S16 -> 0 | BB16: =AF16*S16 -> 0 | BC16: =AG16*S16 -> 0 | BD16: =AH16*S16 -> 0 | BE16: =AI16*S16 -> 0 | BF16: =AJ16*S16 -> 0 | BG16: =AK16*S16 -> 0 | BH16: =AL16*S16 -> 0 | BI16: =AM16*S16 -> 0 | BJ16: =AN16*S16 -> 0 | BK16: =AO16*S16 -> 0 | BL16: =AP16*S16 -> 0 | BM16: =AQ16*S16 -> 0 | BN16: =AR16*S16 -> 0 | BO16: =AS16*S16 -> 0
A17: Classic Fiberglass | AU17: =Y17*S17 -> 0 | AV17: =Z17*S17 -> 0 | AW17: =AA17*S17 -> 0 | AX17: =AB17*S17 -> 0 | AY17: =AC17*S17 -> 0 | AZ17: =AD17*S17 -> 0 | BA17: =AE17*S17 -> 0 | BB17: =AF17*S17 -> 0 | BC17: =AG17*S17 -> 0 | BD17: =AH17*S17 -> 0 | BE17: =AI17*S17 -> 0 | BF17: =AJ17*S17 -> 0 | BG17: =AK17*S17 -> 0 | BH17: =AL17*S17 -> 0 | BI17: =AM17*S17 -> 0 | BJ17: =AN17*S17 -> 0 | BK17: =AO17*S17 -> 0 | BL17: =AP17*S17 -> 0 | BM17: =AQ17*S17 -> 0 | BN17: =AR17*S17 -> 0 | BO17: =AS17*S17 -> 0
A18: SET 69 - BOLD Dual-tex NEW | B18: 3 | C18: 575 | D18: 5.5 | S18: =SUM(E18:R18) -> 0 | T18: =S18*B18 -> 0 | U18: =S18*C18 -> 0 | V18: =S18*D18 -> 0 | W18: Screw on | X18: 3 M
A19: SET 68 - TAR NEW | B19: 3 | C19: 470 | D19: 3.75 | S19: =SUM(E19:R19) -> 0 | T19: =S19*B19 -> 0 | U19: =S19*C19 -> 0 | V19: =S19*D19 -> 0 | W19: Screw on | X19: 3 М
A20: SET 65 - SEDUCTION Dual-Tex | B20: 2 | C20: 490 | D20: 5.5 | S20: =SUM(E20:R20) -> 0 | T20: =S20*B20 -> 0 | U20: =S20*C20 -> 0 | V20: =S20*D20 -> 0 | W20: Screw on | X20: 2 XL
A21: SET 63 - SIDE VIEW 3 Dual-Tex | B21: 2 | C21: 330 | D21: 2.4 | S21: =SUM(E21:R21) -> 0 | T21: =S21*B21 -> 0 | U21: =S21*C21 -> 0 | V21: =S21*D21 -> 0 | W21: Screw on | X21: 2 S
A22: SET 62 - SIDE VIEW 2 Dual-Tex | B22: 2 | C22: 330 | D22: 1.6 | S22: =SUM(E22:R22) -> 0 | T22: =S22*B22 -> 0 | U22: =S22*C22 -> 0 | V22: =S22*D22 -> 0 | W22: Screw on | X22: 2 S
A23: SET 61 - SIDE VIEW 1 Dual-Tex | B23: 2 | C23: 330 | D23: 1.8 | S23: =SUM(E23:R23) -> 0 | T23: =S23*B23 -> 0 | U23: =S23*C23 -> 0 | V23: =S23*D23 -> 0 | W23: Screw on | X23: 2 S
A24: SET 64 - TRAP 3 Dual-Tex | B24: 3 | C24: 495 | D24: 2.4 | S24: =SUM(E24:R24) -> 0 | T24: =S24*B24 -> 0 | U24: =S24*C24 -> 0 | V24: =S24*D24 -> 0 | W24: Screw on | X24: 3 S
A25: SET 60 - TRAP 2 Dual-Tex | B25: 3 | C25: 495 | D25: 2.4 | S25: =SUM(E25:R25) -> 0 | T25: =S25*B25 -> 0 | U25: =S25*C25 -> 0 | V25: =S25*D25 -> 0 | W25: Screw on | X25: 3 S
A26: SET 59 - TRAP 1 Dual-Tex | B26: 3 | C26: 495 | D26: 2.3 | S26: =SUM(E26:R26) -> 0 | T26: =S26*B26 -> 0 | U26: =S26*C26 -> 0 | V26: =S26*D26 -> 0 | W26: Screw on | X26: 3 S
A27: SET 55 - DOGON Dual-Tex | B27: 2 | C27: 590 | D27: 6.9 | S27: =SUM(E27:R27) -> 0 | T27: =S27*B27 -> 0 | U27: =S27*C27 -> 0 | V27: =S27*D27 -> 0 | W27: Screw on | X27: 2 XXL | AU27: =Y27*S27 -> 0 | AV27: =Z27*S27 -> 0 | AW27: =AA27*S27 -> 0 | AX27: =AB27*S27 -> 0 | AY27: =AC27*S27 -> 0 | AZ27: =AD27*S27 -> 0 | BA27: =AE27*S27 -> 0 | BB27: =AF27*S27 -> 0 | BC27: =AG27*S27 -> 0 | BD27: =AH27*S27 -> 0 | BE27: =AI27*S27 -> 0 | BF27: =AJ27*S27 -> 0 | BG27: =AK27*S27 -> 0 | BH27: =AL27*S27 -> 0 | BI27: =AM27*S27 -> 0 | BJ27: =AN27*S27 -> 0 | BK27: =AO27*S27 -> 0 | BL27: =AP27*S27 -> 0 | BM27: =AQ27*S27 -> 0 | BN27: =AR27*S27 -> 0 | BO27: =AS27*S27 -> 0
A28: SET 53 - TROOPERS Dual-Tex | B28: 6 | C28: 950 | D28: 6.8 | S28: =SUM(E28:R28) -> 0 | T28: =S28*B28 -> 0 | U28: =S28*C28 -> 0 | V28: =S28*D28 -> 0 | W28: Screw on | X28: 6 S | AU28: =Y28*S28 -> 0 | AV28: =Z28*S28 -> 0 | AW28: =AA28*S28 -> 0 | AX28: =AB28*S28 -> 0 | AY28: =AC28*S28 -> 0 | AZ28: =AD28*S28 -> 0 | BA28: =AE28*S28 -> 0 | BB28: =AF28*S28 -> 0 | BC28: =AG28*S28 -> 0 | BD28: =AH28*S28 -> 0 | BE28: =AI28*S28 -> 0 | BF28: =AJ28*S28 -> 0 | BG28: =AK28*S28 -> 0 | BH28: =AL28*S28 -> 0 | BI28: =AM28*S28 -> 0 | BJ28: =AN28*S28 -> 0 | BK28: =AO28*S28 -> 0 | BL28: =AP28*S28 -> 0 | BM28: =AQ28*S28 -> 0 | BN28: =AR28*S28 -> 0 | BO28: =AS28*S28 -> 0
A29: SET 52 - SCARS Dual-Tex | B29: 2 | C29: 590 | D29: 7 | S29: =SUM(E29:R29) -> 0 | T29: =S29*B29 -> 0 | U29: =S29*C29 -> 0 | V29: =S29*D29 -> 0 | W29: Screw on | X29: 2 XXL | AU29: =Y29*S29 -> 0 | AV29: =Z29*S29 -> 0 | AW29: =AA29*S29 -> 0 | AX29: =AB29*S29 -> 0 | AY29: =AC29*S29 -> 0 | AZ29: =AD29*S29 -> 0 | BA29: =AE29*S29 -> 0 | BB29: =AF29*S29 -> 0 | BC29: =AG29*S29 -> 0 | BD29: =AH29*S29 -> 0 | BE29: =AI29*S29 -> 0 | BF29: =AJ29*S29 -> 0 | BG29: =AK29*S29 -> 0 | BH29: =AL29*S29 -> 0 | BI29: =AM29*S29 -> 0 | BJ29: =AN29*S29 -> 0 | BK29: =AO29*S29 -> 0 | BL29: =AP29*S29 -> 0 | BM29: =AQ29*S29 -> 0 | BN29: =AR29*S29 -> 0 | BO29: =AS29*S29 -> 0
A30: SET 51 - COINCIDENCE Dual-Tex | B30: 1 | C30: 290 | D30: 4.2 | S30: =SUM(E30:R30) -> 0 | T30: =S30*B30 -> 0 | U30: =S30*C30 -> 0 | V30: =S30*D30 -> 0 | W30: Screw on | X30: 1 XXL | AU30: =Y30*S30 -> 0 | AV30: =Z30*S30 -> 0 | AW30: =AA30*S30 -> 0 | AX30: =AB30*S30 -> 0 | AY30: =AC30*S30 -> 0 | AZ30: =AD30*S30 -> 0 | BA30: =AE30*S30 -> 0 | BB30: =AF30*S30 -> 0 | BC30: =AG30*S30 -> 0 | BD30: =AH30*S30 -> 0 | BE30: =AI30*S30 -> 0 | BF30: =AJ30*S30 -> 0 | BG30: =AK30*S30 -> 0 | BH30: =AL30*S30 -> 0 | BI30: =AM30*S30 -> 0 | BJ30: =AN30*S30 -> 0 | BK30: =AO30*S30 -> 0 | BL30: =AP30*S30 -> 0 | BM30: =AQ30*S30 -> 0 | BN30: =AR30*S30 -> 0 | BO30: =AS30*S30 -> 0
A31: SET 50 - PIMPLE POPPER Dual-Tex | B31: 1 | C31: 320 | D31: 6 | S31: =SUM(E31:R31) -> 0 | T31: =S31*B31 -> 0 | U31: =S31*C31 -> 0 | V31: =S31*D31 -> 0 | W31: Screw on | X31: 1 XXXL | AU31: =Y31*S31 -> 0 | AV31: =Z31*S31 -> 0 | AW31: =AA31*S31 -> 0 | AX31: =AB31*S31 -> 0 | AY31: =AC31*S31 -> 0 | AZ31: =AD31*S31 -> 0 | BA31: =AE31*S31 -> 0 | BB31: =AF31*S31 -> 0 | BC31: =AG31*S31 -> 0 | BD31: =AH31*S31 -> 0 | BE31: =AI31*S31 -> 0 | BF31: =AJ31*S31 -> 0 | BG31: =AK31*S31 -> 0 | BH31: =AL31*S31 -> 0 | BI31: =AM31*S31 -> 0 | BJ31: =AN31*S31 -> 0 | BK31: =AO31*S31 -> 0 | BL31: =AP31*S31 -> 0 | BM31: =AQ31*S31 -> 0 | BN31: =AR31*S31 -> 0 | BO31: =AS31*S31 -> 0
A32: SET 49 - WISHBONE Dual-Tex | B32: 2 | C32: 580 | D32: 7 | S32: =SUM(E32:R32) -> 0 | T32: =S32*B32 -> 0 | U32: =S32*C32 -> 0 | V32: =S32*D32 -> 0 | W32: Screw on | X32: 2 XXL | AU32: =Y32*S32 -> 0 | AV32: =Z32*S32 -> 0 | AW32: =AA32*S32 -> 0 | AX32: =AB32*S32 -> 0 | AY32: =AC32*S32 -> 0 | AZ32: =AD32*S32 -> 0 | BA32: =AE32*S32 -> 0 | BB32: =AF32*S32 -> 0 | BC32: =AG32*S32 -> 0 | BD32: =AH32*S32 -> 0 | BE32: =AI32*S32 -> 0 | BF32: =AJ32*S32 -> 0 | BG32: =AK32*S32 -> 0 | BH32: =AL32*S32 -> 0 | BI32: =AM32*S32 -> 0 | BJ32: =AN32*S32 -> 0 | BK32: =AO32*S32 -> 0 | BL32: =AP32*S32 -> 0 | BM32: =AQ32*S32 -> 0 | BN32: =AR32*S32 -> 0 | BO32: =AS32*S32 -> 0
A33: SET 48 - WHIRLPOOL Dual-Tex | B33: 8 | C33: 1600 | D33: 8.55 | S33: =SUM(E33:R33) -> 0 | T33: =S33*B33 -> 0 | U33: =S33*C33 -> 0 | V33: =S33*D33 -> 0 | W33: Screw on | X33: 2 S, 4 M, 2 L | AU33: =Y33*S33 -> 0 | AV33: =Z33*S33 -> 0 | AW33: =AA33*S33 -> 0 | AX33: =AB33*S33 -> 0 | AY33: =AC33*S33 -> 0 | AZ33: =AD33*S33 -> 0 | BA33: =AE33*S33 -> 0 | BB33: =AF33*S33 -> 0 | BC33: =AG33*S33 -> 0 | BD33: =AH33*S33 -> 0 | BE33: =AI33*S33 -> 0 | BF33: =AJ33*S33 -> 0 | BG33: =AK33*S33 -> 0 | BH33: =AL33*S33 -> 0 | BI33: =AM33*S33 -> 0 | BJ33: =AN33*S33 -> 0 | BK33: =AO33*S33 -> 0 | BL33: =AP33*S33 -> 0 | BM33: =AQ33*S33 -> 0 | BN33: =AR33*S33 -> 0 | BO33: =AS33*S33 -> 0
A34: SET 47 - SEQUENCE 2 | B34: 4 | C34: 710 | D34: 6 | S34: =SUM(E34:R34) -> 0 | T34: =S34*B34 -> 0 | U34: =S34*C34 -> 0 | V34: =S34*D34 -> 0 | W34: Screw on | X34: 4 S | AU34: =Y34*S34 -> 0 | AV34: =Z34*S34 -> 0 | AW34: =AA34*S34 -> 0 | AX34: =AB34*S34 -> 0 | AY34: =AC34*S34 -> 0 | AZ34: =AD34*S34 -> 0 | BA34: =AE34*S34 -> 0 | BB34: =AF34*S34 -> 0 | BC34: =AG34*S34 -> 0 | BD34: =AH34*S34 -> 0 | BE34: =AI34*S34 -> 0 | BF34: =AJ34*S34 -> 0 | BG34: =AK34*S34 -> 0 | BH34: =AL34*S34 -> 0 | BI34: =AM34*S34 -> 0 | BJ34: =AN34*S34 -> 0 | BK34: =AO34*S34 -> 0 | BL34: =AP34*S34 -> 0 | BM34: =AQ34*S34 -> 0 | BN34: =AR34*S34 -> 0 | BO34: =AS34*S34 -> 0
A35: SET 46 - SEQUENCE 1 | B35: 5 | C35: 765 | D35: 3.2 | S35: =SUM(E35:R35) -> 0 | T35: =S35*B35 -> 0 | U35: =S35*C35 -> 0 | V35: =S35*D35 -> 0 | W35: Screw on | X35: 5 XS | AU35: =Y35*S35 -> 0 | AV35: =Z35*S35 -> 0 | AW35: =AA35*S35 -> 0 | AX35: =AB35*S35 -> 0 | AY35: =AC35*S35 -> 0 | AZ35: =AD35*S35 -> 0 | BA35: =AE35*S35 -> 0 | BB35: =AF35*S35 -> 0 | BC35: =AG35*S35 -> 0 | BD35: =AH35*S35 -> 0 | BE35: =AI35*S35 -> 0 | BF35: =AJ35*S35 -> 0 | BG35: =AK35*S35 -> 0 | BH35: =AL35*S35 -> 0 | BI35: =AM35*S35 -> 0 | BJ35: =AN35*S35 -> 0 | BK35: =AO35*S35 -> 0 | BL35: =AP35*S35 -> 0 | BM35: =AQ35*S35 -> 0 | BN35: =AR35*S35 -> 0 | BO35: =AS35*S35 -> 0
A36: SET 45 - MACHETE GRANDE Dual-Tex | B36: 2 | C36: 560 | D36: 6.8 | S36: =SUM(E36:R36) -> 0 | T36: =S36*B36 -> 0 | U36: =S36*C36 -> 0 | V36: =S36*D36 -> 0 | W36: Screw on | X36: 1 XL, 1 XXL | AU36: =Y36*S36 -> 0 | AV36: =Z36*S36 -> 0 | AW36: =AA36*S36 -> 0 | AX36: =AB36*S36 -> 0 | AY36: =AC36*S36 -> 0 | AZ36: =AD36*S36 -> 0 | BA36: =AE36*S36 -> 0 | BB36: =AF36*S36 -> 0 | BC36: =AG36*S36 -> 0 | BD36: =AH36*S36 -> 0 | BE36: =AI36*S36 -> 0 | BF36: =AJ36*S36 -> 0 | BG36: =AK36*S36 -> 0 | BH36: =AL36*S36 -> 0 | BI36: =AM36*S36 -> 0 | BJ36: =AN36*S36 -> 0 | BK36: =AO36*S36 -> 0 | BL36: =AP36*S36 -> 0 | BM36: =AQ36*S36 -> 0 | BN36: =AR36*S36 -> 0 | BO36: =AS36*S36 -> 0
A37: Mega Cash 44-3 Dual-Tex | B37: 1 | C37: 245 | D37: 4.9 | S37: =SUM(E37:R37) -> 0 | T37: =S37*B37 -> 0 | U37: =S37*C37 -> 0 | V37: =S37*D37 -> 0 | W37: Screw on | X37: 1 XL | AU37: =Y37*S37 -> 0 | AV37: =Z37*S37 -> 0 | AW37: =AA37*S37 -> 0 | AX37: =AB37*S37 -> 0 | AY37: =AC37*S37 -> 0 | AZ37: =AD37*S37 -> 0 | BA37: =AE37*S37 -> 0 | BB37: =AF37*S37 -> 0 | BC37: =AG37*S37 -> 0 | BD37: =AH37*S37 -> 0 | BE37: =AI37*S37 -> 0 | BF37: =AJ37*S37 -> 0 | BG37: =AK37*S37 -> 0 | BH37: =AL37*S37 -> 0 | BI37: =AM37*S37 -> 0 | BJ37: =AN37*S37 -> 0 | BK37: =AO37*S37 -> 0 | BL37: =AP37*S37 -> 0 | BM37: =AQ37*S37 -> 0 | BN37: =AR37*S37 -> 0 | BO37: =AS37*S37 -> 0
A38: SET 44 - Mega Cash Dual-Tex | B38: 2 | C38: 490 | D38: 8.7 | S38: =SUM(E38:R38) -> 0 | T38: =S38*B38 -> 0 | U38: =S38*C38 -> 0 | V38: =S38*D38 -> 0 | W38: Screw on | X38: 2 XL | AU38: =Y38*S38 -> 0 | AV38: =Z38*S38 -> 0 | AW38: =AA38*S38 -> 0 | AX38: =AB38*S38 -> 0 | AY38: =AC38*S38 -> 0 | AZ38: =AD38*S38 -> 0 | BA38: =AE38*S38 -> 0 | BB38: =AF38*S38 -> 0 | BC38: =AG38*S38 -> 0 | BD38: =AH38*S38 -> 0 | BE38: =AI38*S38 -> 0 | BF38: =AJ38*S38 -> 0 | BG38: =AK38*S38 -> 0 | BH38: =AL38*S38 -> 0 | BI38: =AM38*S38 -> 0 | BJ38: =AN38*S38 -> 0 | BK38: =AO38*S38 -> 0 | BL38: =AP38*S38 -> 0 | BM38: =AQ38*S38 -> 0 | BN38: =AR38*S38 -> 0 | BO38: =AS38*S38 -> 0
... A44: MONSTER 1 | B44: 1 | C44: 480 | D44: 9 | S44: =SUM(E44:R44) -> 0 | T44: =S44*B44 -> 0 | U44: =S44*C44 -> 0 | V44: =S44*D44 -> 0 | W44: Screw on | X44: Mega | AU44: =Y44*S44 -> 0 | AV44: =Z44*S44 -> 0 | AW44: =AA44*S44 -> 0 | AX44: =AB44*S44 -> 0 | AY44: =AC44*S44 -> 0 | AZ44: =AD44*S44 -> 0 | BA44: =AE44*S44 -> 0 | BB44: =AF44*S44 -> 0 | BC44: =AG44*S44 -> 0 | BD44: =AH44*S44 -> 0 | BE44: =AI44*S44 -> 0 | BF44: =AJ44*S44 -> 0 | BG44: =AK44*S44 -> 0 | BH44: =AL44*S44 -> 0 | BI44: =AM44*S44 -> 0 | BJ44: =AN44*S44 -> 0 | BK44: =AO44*S44 -> 0 | BL44: =AP44*S44 -> 0 | BM44: =AQ44*S44 -> 0 | BN44: =AR44*S44 -> 0 | BO44: =AS44*S44 -> 0
A45: ClosedCell Volumes (CCV) | AU45: =Y45*S45 -> 0 | AV45: =Z45*S45 -> 0 | AW45: =AA45*S45 -> 0 | AX45: =AB45*S45 -> 0 | AY45: =AC45*S45 -> 0 | AZ45: =AD45*S45 -> 0 | BA45: =AE45*S45 -> 0 | BB45: =AF45*S45 -> 0 | BC45: =AG45*S45 -> 0 | BD45: =AH45*S45 -> 0 | BE45: =AI45*S45 -> 0 | BF45: =AJ45*S45 -> 0 | BG45: =AK45*S45 -> 0 | BH45: =AL45*S45 -> 0 | BI45: =AM45*S45 -> 0 | BJ45: =AN45*S45 -> 0 | BK45: =AO45*S45 -> 0 | BL45: =AP45*S45 -> 0 | BM45: =AQ45*S45 -> 0 | BN45: =AR45*S45 -> 0 | BO45: =AS45*S45 -> 0
...

Sheet Plywood volumes
A1: Name | B1: Price | C1: Weight | D1: Yellow | E1: Orange | F1: Light Blue | G1: Red | H1: Purple | I1: Blue | J1: Green | K1: Grey | L1: Black | M1: White | N1: Magenta | O1: Sets | P1: Pcs | Q1: Total | R1: Total weight
A2: PLW 19.01-04 SET | B2: 360 | C2: 5.6 | O2: =SUM(D2:N2) -> 0 | P2: =O2*4 -> 0 | Q2: =O2*B2 -> 0 | R2: =O2*C2 -> 0
A3: PLW 19.05-08 DT SET | B3: 460 | C3: 5.6 | O3: =SUM(D3:N3) -> 0 | P3: =O3*4 -> 0 | Q3: =O3*B3 -> 0 | R3: =O3*C3 -> 0
A4: PLW 19.09-12 DT SET | B4: 460 | C4: 5.6 | O4: =SUM(D4:N4) -> 0 | P4: =O4*4 -> 0 | Q4: =O4*B4 -> 0 | R4: =O4*C4 -> 0
A5: PLW 20.01-03 SET | B5: 504.7 | C5: 26.5 | O5: =SUM(D5:N5) -> 0 | P5: =O5*3 -> 0 | Q5: =O5*B5 -> 0 | R5: =O5*C5 -> 0
A6: PLW 20.01-03 CUT SET | B6: 504.7 | C6: 27 | O6: =SUM(D6:N6) -> 0 | P6: =O6*6 -> 0 | Q6: =O6*B6 -> 0 | R6: =O6*C6 -> 0
A7: PLW 20.04-06 DT SET | B7: 607.6 | C7: 26.5 | O7: =SUM(D7:N7) -> 0 | P7: =O7*3 -> 0 | Q7: =O7*B7 -> 0 | R7: =O7*C7 -> 0
A8: PLW 20.04-06 DT CUT SET | B8: 607.6 | C8: 27 | O8: =SUM(D8:N8) -> 0 | P8: =O8*6 -> 0 | Q8: =O8*B8 -> 0 | R8: =O8*C8 -> 0
A9: PLW 21.01-05 SET | B9: 450 | C9: 8.6 | O9: =SUM(D9:N9) -> 0 | P9: =O9*5 -> 0 | Q9: =O9*B9 -> 0 | R9: =O9*C9 -> 0
A10: PLW 21.06-10 DT SET | B10: 575 | C10: 8.6 | O10: =SUM(D10:N10) -> 0 | P10: =O10*5 -> 0 | Q10: =O10*B10 -> 0 | R10: =O10*C10 -> 0
A11: PLW 21.11-15 DT SET | B11: 575 | C11: 8.6 | O11: =SUM(D11:N11) -> 0 | P11: =O11*5 -> 0 | Q11: =O11*B11 -> 0 | R11: =O11*C11 -> 0
A12: PLW 22.01-02 SET | B12: 333.2 | C12: 17.3 | O12: =SUM(D12:N12) -> 0 | P12: =O12*2 -> 0 | Q12: =O12*B12 -> 0 | R12: =O12*C12 -> 0
A13: PLW 22.01 | B13: 180 | C13: 10 | O13: =SUM(D13:N13) -> 0 | P13: =O13*1 -> 0 | Q13: =O13*B13 -> 0 | R13: =O13*C13 -> 0
A14: PLW 22.02 | B14: 160 | C14: 7.3 | O14: =SUM(D14:N14) -> 0 | P14: =O14*1 -> 0 | Q14: =O14*B14 -> 0 | R14: =O14*C14 -> 0
A15: PLW 23.01-03 SET | B15: 380 | C15: 10.2 | O15: =SUM(D15:N15) -> 0 | P15: =O15*3 -> 0 | Q15: =O15*B15 -> 0 | R15: =O15*C15 -> 0
A16: PLW 24.01-03 SET | B16: 380 | C16: 10.5 | O16: =SUM(D16:N16) -> 0 | P16: =O16*3 -> 0 | Q16: =O16*B16 -> 0 | R16: =O16*C16 -> 0
A17: PLW 25.01-05 SET | B17: 625 | C17: 16.4 | O17: =SUM(D17:N17) -> 0 | P17: =O17*5 -> 0 | Q17: =O17*B17 -> 0 | R17: =O17*C17 -> 0
A18: PLW 25.06-10 DT SET | B18: 750 | C18: 16.4 | O18: =SUM(D18:N18) -> 0 | P18: =O18*5 -> 0 | Q18: =O18*B18 -> 0 | R18: =O18*C18 -> 0
A19: PLW 26.01-03 SET | B19: 485.1 | C19: 23.8 | O19: =SUM(D19:N19) -> 0 | P19: =O19*3 -> 0 | Q19: =O19*B19 -> 0 | R19: =O19*C19 -> 0
A20: PLW 26.01 | B20: 210 | C20: 13.4 | O20: =SUM(D20:N20) -> 0 | P20: =O20*1 -> 0 | Q20: =O20*B20 -> 0 | R20: =O20*C20 -> 0
A21: PLW 26.02 | B21: 160 | C21: 7.1 | O21: =SUM(D21:N21) -> 0 | P21: =O21*1 -> 0 | Q21: =O21*B21 -> 0 | R21: =O21*C21 -> 0
A22: PLW 26.03 | B22: 125 | C22: 3.3 | O22: =SUM(D22:N22) -> 0 | P22: =O22*1 -> 0 | Q22: =O22*B22 -> 0 | R22: =O22*C22 -> 0
A23: PLW 26.04-06 DT SET | B23: 578.2 | C23: 23.8 | O23: =SUM(D23:N23) -> 0 | P23: =O23*3 -> 0 | Q23: =O23*B23 -> 0 | R23: =O23*C23 -> 0
A24: PLW 26.04 DT | B24: 250 | C24: 13.4 | O24: =SUM(D24:N24) -> 0 | P24: =O24*1 -> 0 | Q24: =O24*B24 -> 0 | R24: =O24*C24 -> 0
A25: PLW 26.05 DT | B25: 190 | C25: 7.1 | O25: =SUM(D25:N25) -> 0 | P25: =O25*1 -> 0 | Q25: =O25*B25 -> 0 | R25: =O25*C25 -> 0
A26: PLW 26.06 DT | B26: 150 | C26: 3.3 | O26: =SUM(D26:N26) -> 0 | P26: =O26*1 -> 0 | Q26: =O26*B26 -> 0 | R26: =O26*C26 -> 0
A27: PLW 27.01-08 SET | B27: 760 | C27: 16 | O27: =SUM(D27:N27) -> 0 | P27: =O27*8 -> 0 | Q27: =O27*B27 -> 0 | R27: =O27*C27 -> 0
A28: PLW 28.01-02 SET | B28: 362.6 | C28: 21.5 | O28: =SUM(D28:N28) -> 0 | P28: =O28*2 -> 0 | Q28: =O28*B28 -> 0 | R28: =O28*C28 -> 0
A29: PLW 28.01 | B29: 200 | C29: 12.5 | O29: =SUM(D29:N29) -> 0 | P29: =O29*1 -> 0 | Q29: =O29*B29 -> 0 | R29: =O29*C29 -> 0
A30: PLW 28.02 | B30: 170 | C30: 9 | O30: =SUM(D30:N30) -> 0 | P30: =O30*1 -> 0 | Q30: =O30*B30 -> 0 | R30: =O30*C30 -> 0
A31: PLW 28.01-02 CUT SET | B31: 362.6 | C31: 22 | O31: =SUM(D31:N31) -> 0 | P31: =O31*4 -> 0 | Q31: =O31*B31 -> 0 | R31: =O31*C31 -> 0
A32: PLW 28.01 CUT | B32: 200 | C32: 13 | O32: =SUM(D32:N32) -> 0 | P32: =O32*2 -> 0 | Q32: =O32*B32 -> 0 | R32: =O32*C32 -> 0
A33: PLW 28.02 CUT | B33: 170 | C33: 9.5 | O33: =SUM(D33:N33) -> 0 | P33: =O33*2 -> 0 | Q33: =O33*B33 -> 0 | R33: =O33*C33 -> 0
A34: PLW 28.01-08 SET | B34: 1420.8 | C34: 86 | O34: =SUM(D34:N34) -> 0 | P34: =O34*8 -> 0 | Q34: =O34*B34 -> 0 | R34: =O34*C34 -> 0
A35: PLW 29.01 | B35: 170 | C35: 9 | O35: =SUM(D35:N35) -> 0 | P35: =O35*1 -> 0 | Q35: =O35*B35 -> 0 | R35: =O35*C35 -> 0
A36: PLW 1 | B36: 45.95 | C36: 0.465 | O36: =SUM(D36:N36) -> 0 | P36: =O36*1 -> 0 | Q36: =O36*B36 -> 0 | R36: =O36*C36 -> 0
A37: PLW 2-1 | B37: 68.93 | C37: 1.1 | O37: =SUM(D37:N37) -> 0 | P37: =O37*1 -> 0 | Q37: =O37*B37 -> 0 | R37: =O37*C37 -> 0
A38: PLW 2-2 DT | B38: 76.59 | C38: 1.1 | O38: =SUM(D38:N38) -> 0 | P38: =O38*1 -> 0 | Q38: =O38*B38 -> 0 | R38: =O38*C38 -> 0
A39: PLW 3-1 | B39: 91.91 | C39: 3.3 | O39: =SUM(D39:N39) -> 0 | P39: =O39*1 -> 0 | Q39: =O39*B39 -> 0 | R39: =O39*C39 -> 0
A40: PLW 3-2 Flat | B40: 91.91 | C40: 2.5 | O40: =SUM(D40:N40) -> 0 | P40: =O40*1 -> 0 | Q40: =O40*B40 -> 0 | R40: =O40*C40 -> 0
...
