Workbook

Sheet Information
A4: Billing data | E4: Delivery data | J4: 30 mm | K4: 40 mm | L4: 50 mm | M4: 60 mm | N4: 70 mm | O4: 80 mm | P4: 90 mm | Q4: 100 mm | R4: 110 mm | S4: 120 mm | T4: 130 mm | U4: 140 mm | V4: 150 mm | W4: 160 mm | X4: 170 mm | Y4: 180 mm | Z4: 190 mm | AA4: 200 mm | AB4: 210 mm | AC4: 220 mm | AD4: 230 mm
A5: Company name | E5: Company name | J5: ='Polyester holds'!Y149+Fiberglass!AU133 -> 0 | K5: ='Polyester holds'!Z149+Fiberglass!AV133 -> 0 | L5: ='Polyester holds'!AA149+Fiberglass!AW133 -> 0 | M5: ='Polyester holds'!AB149+Fiberglass!AX133 -> 0 | N5: ='Polyester holds'!AC149+Fiberglass!AY133 -> 0 | O5: ='Polyester holds'!AD149+Fiberglass!AZ133 -> 0 | P5: ='Polyester holds'!AE149+Fiberglass!BA133 -> 0 | Q5: ='Polyester holds'!AF149+Fiberglass!BB133 -> 0 | ... AD5: ='Polyester holds'!AS149+Fiberglass!BO133 -> 0
A6: Company address | E6: Company address
A7: City | E7: City
A8: ZIP | E8: ZIP
A9: Country | E9: Country
A10: VAT number | E10: Responsible person
A11: Responsible person | E11: Telephone
A12: Telephone | E12: Email
A13: Email | E13: Delivery deadline
A15: Product information | B15: Sets | C15: Pieces | D15: Total | E15: Total weight kg
A16: Polyester holds | B16: ='Polyester holds'!T149 -> 0 | C16: ='Polyester holds'!U149 -> 0 | D16: ='Polyester holds'!V149 -> 0 | E16: ='Polyester holds'!W149 -> 0
A17: Fiberglass volumes | B17: =Fiberglass!S133 -> 0 | C17: =Fiberglass!T133 -> 0 | D17: =Fiberglass!U133 -> 0 | E17: =Fiberglass!V133 -> 0
A18: Plywood volumes | B18: ='Plywood volumes'!O69 -> 0 | C18: ='Plywood volumes'!P69 -> 0 | D18: ='Plywood volumes'!Q69 -> 0 | E18: ='Plywood volumes'!R69 -> 0
A19: Total | B19: =SUM(B16:B18) -> 0 | C19: =SUM(C16:C18) -> 0 | D19: =SUM(D16:D18) -> 0 | E19: =SUM(E16:E18) -> 0
A21: Additional notes:
A26: Please Note: | B26: Prices are excluding VAT and shipping
B27: Orders to: tz.bonev@holdsandwalls.at

Sheet Polyester holds
A1: Name | B1: Holds | C1: Price | D1: Weight | E1: Yellow | F1: Orange | G1: Light Blue | H1: Red | I1: Purple | J1: Blue | K1: Green | L1: Grey | M1: Mint 6027 | N1: Black | O1: White | P1: Fl.Yellow | Q1: Fl.Orange | R1: Fl.Pink | S1: Fl.Green | T1: Sets | U1: Pcs | V1: Total | W1: Total weight | Y1: 30 mm | Z1: 40 mm | AA1: 50 mm | AB1: 60 mm | AC1: 70 mm | AD1: 80 mm | AE1: 90 mm | AF1: 100 mm | AG1: 110 mm | AH1: 120 mm | AI1: 130 mm | AJ1: 140 mm | AK1: 150 mm | AL1: 160 mm | AM1: 170 mm | AN1: 180 mm | AO1: 190 mm | AP1: 200 mm | AQ1: 210 mm | AR1: 220 mm | AS1: 230 mm | AU1: 30 mm | AV1: 40 mm | AW1: 50 mm | AX1: 60 mm | AY1: 70 mm | AZ1: 80 mm | BA1: 90 mm | BB1: 100 mm | BC1: 110 mm | BD1: 120 mm | BE1: 130 mm | BF1: 140 mm | BG1: 150 mm | BH1: 160 mm | BI1: 170 mm | BJ1: 180 mm | BK1: 190 mm | BL1: 200 mm | BM1: 210 mm | BN1: 220 mm | BO1: 230 mm
A2: Competition style
A3: Slap 1 NEW | B3: 10 | C3: 150 | D3: 7.3 | T3: =SUM(E3:S3) -> 0 | U3: =T3*B3 -> 0 | V3: =T3*C3 -> 0 | W3: =D3*T3 -> 0 | AE3: 4 | AF3: 4 | AG3: 1 | AH3: 1
A4: Slap 2 NEW | B4: 10 | C4: 215 | D4: 10.6 | T4: =SUM(E4:S4) -> 0 | U4: =T4*B4 -> 0 | V4: =T4*C4 -> 0 | W4: =D4*T4 -> 0 | AE4: 1 | AF4: 1 | AG4: 1 | AH4: 3 | AI4: 2 | AJ4: 1 | AK4: 1
A5: Slap 3 NEW | B5: 10 | C5: 150 | D5: 7 | T5: =SUM(E5:S5) -> 0 | U5: =T5*B5 -> 0 | V5: =T5*C5 -> 0 | W5: =D5*T5 -> 0 | AC5: 3 | AD5: 3 | AE5: 4
A6: Slap 4 NEW | B6: 10 | C6: 150 | D6: 7.5 | T6: =SUM(E6:S6) -> 0 | U6: =T6*B6 -> 0 | V6: =T6*C6 -> 0 | W6: =D6*T6 -> 0 | AC6: 1 | AD6: 2 | AE6: 4 | AF6: 3
A7: Slap 5 NEW | B7: 4 | C7: 150 | D7: 7.8 | T7: =SUM(E7:S7) -> 0 | U7: =T7*B7 -> 0 | V7: =T7*C7 -> 0 | W7: =D7*T7 -> 0 | AF7: 2 | AG7: 2
A8: Slap 6 NEW | B8: 4 | C8: 148 | D8: 6.5 | T8: =SUM(E8:S8) -> 0 | U8: =T8*B8 -> 0 | V8: =T8*C8 -> 0 | W8: =D8*T8 -> 0 | AE8: 1 | AG8: 1 | AH8: 2
A9: Slap 7 NEW | B9: 5 | C9: 197 | D9: 8.7 | T9: =SUM(E9:S9) -> 0 | U9: =T9*B9 -> 0 | V9: =T9*C9 -> 0 | W9: =D9*T9 -> 0 | AF9: 1 | AG9: 2 | AI9: 1 | AJ9: 1
A10: Slap 8 NEW | B10: 4 | C10: 140 | D10: 6.2 | T10: =SUM(E10:S10) -> 0 | U10: =T10*B10 -> 0 | V10: =T10*C10 -> 0 | W10: =D10*T10 -> 0 | AH10: 1 | AI10: 1 | AJ10: 2
A11: Slap 9 NEW | B11: 4 | C11: 148 | D11: 6.5 | T11: =SUM(E11:S11) -> 0 | U11: =T11*B11 -> 0 | V11: =T11*C11 -> 0 | W11: =D11*T11 -> 0 | AJ11: 2 | AK11: 2
A12: Slap 10 NEW | B12: 3 | C12: 130 | D12: 5.8 | T12: =SUM(E12:S12) -> 0 | U12: =T12*B12 -> 0 | V12: =T12*C12 -> 0 | W12: =D12*T12 -> 0 | AI12: 2 | AK12: 1
A13: Slap 11 NEW | B13: 4 | C13: 148 | D13: 6.6 | T13: =SUM(E13:S13) -> 0 | U13: =T13*B13 -> 0 | V13: =T13*C13 -> 0 | W13: =D13*T13 -> 0 | AG13: 1 | AI13: 3
A14: Slap 12 NEW | B14: 4 | C14: 150 | D14: 7.5 | T14: =SUM(E14:S14) -> 0 | U14: =T14*B14 -> 0 | V14: =T14*C14 -> 0 | W14: =D14*T14 -> 0 | AH14: 1 | AI14: 3
A15: Slap 13 NEW | B15: 3 | C15: 142 | D15: 7 | T15: =SUM(E15:S15) -> 0 | U15: =T15*B15 -> 0 | V15: =T15*C15 -> 0 | W15: =D15*T15 -> 0 | AF15: 2 | AG15: 1
A16: Slap 14 NEW | B16: 2 | C16: 118 | D16: 5.2 | T16: =SUM(E16:S16) -> 0 | U16: =T16*B16 -> 0 | V16: =T16*C16 -> 0 | W16: =D16*T16 -> 0 | AH16: 1 | AI16: 1
A17: Slap 15 NEW | B17: 3 | C17: 142 | D17: 6.5 | T17: =SUM(E17:S17) -> 0 | U17: =T17*B17 -> 0 | V17: =T17*C17 -> 0 | W17: =D17*T17 -> 0 | AK17: 3
A18: Slap 16 NEW | B18: 2 | C18: 120 | D18: 5.7 | T18: =SUM(E18:S18) -> 0 | U18: =T18*B18 -> 0 | V18: =T18*C18 -> 0 | W18: =D18*T18 -> 0 | AJ18: 1 | AK18: 1
A19: Feet 1 NEW | B19: 10 | C19: 24 | D19: 0.5 | T19: =SUM(E19:S19) -> 0 | U19: =T19*B19 -> 0 | V19: =T19*C19 -> 0 | W19: =D19*T19 -> 0 | Y19: 10
A20: Feet 2 NEW | B20: 10 | C20: 24 | D20: 0.6 | T20: =SUM(E20:S20) -> 0 | U20: =T20*B20 -> 0 | V20: =T20*C20 -> 0 | W20: =D20*T20 -> 0 | Y20: 10
A21: Feet 3 NEW | B21: 10 | C21: 24 | D21: 0.6 | T21: =SUM(E21:S21) -> 0 | U21: =T21*B21 -> 0 | V21: =T21*C21 -> 0 | W21: =D21*T21 -> 0 | Y21: 10
A22: Feet 4 NEW | B22: 10 | C22: 28 | D22: 0.7 | T22: =SUM(E22:S22) -> 0 | U22: =T22*B22 -> 0 | V22: =T22*C22 -> 0 | W22: =D22*T22 -> 0 | Y22: 10
A23: Feet 5 NEW | B23: 10 | C23: 34 | D23: 0.85 | T23: =SUM(E23:S23) -> 0 | U23: =T23*B23 -> 0 | V23: =T23*C23 -> 0 | W23: =D23*T23 -> 0 | Y23: 10
A24: Feet 1 - 5 Pack NEW | B24: 50 | C24: 131.32 | D24: 3.25 | T24: =SUM(E24:S24) -> 0 | U24: =T24*B24 -> 0 | V24: =T24*C24 -> 0 | W24: =D24*T24 -> 0 | Y24: 50
A25: Thorn 1 | B25: 30 | C25: 71.83 | D25: 1.78 | T25: =SUM(E25:S25) -> 0 | U25: =T25*B25 -> 0 | V25: =T25*C25 -> 0 | W25: =D25*T25 -> 0 | AU25: =Y25*T25 -> 0 | AV25: =T25*Z25 -> 0 | AW25: =AA25*T25 -> 0 | AX25: =AB25*T25 -> 0 | AY25: =AC25*T25 -> 0 | AZ25: =AD25*T25 -> 0 | BA25: =AE25*T25 -> 0 | BB25: =AF25*T25 -> 0 | BC25: =AG25*T25 -> 0 | BD25: =AH25*T25 -> 0 | BE25: =AI25*T25 -> 0 | BF25: =AJ25*T25 -> 0 | BG25: =AK25*T25 -> 0 | BH25: =AL25*T25 -> 0 | BI25: =AM25*T25 -> 0 | BJ25: =AN25*T25 -> 0 | BK25: =AO25*T25 -> 0 | BL25: =AP25*T25 -> 0 | BM25: =AQ25*T25 -> 0 | BN25: =AR25*T25 -> 0 | BO25: =AS25*T25 -> 0
A26: Thorn 2 NEW | B26: 20 | C26: 40 | D26: 1 | T26: =SUM(E26:S26) -> 0 | U26: =T26*B26 -> 0 | V26: =T26*C26 -> 0 | W26: =D26*T26 -> 0
A27: Thorn 3 NEW | B27: 20 | C27: 40 | D27: 0.8 | T27: =SUM(E27:S27) -> 0 | U27: =T27*B27 -> 0 | V27: =T27*C27 -> 0 | W27: =D27*T27 -> 0
A28: Thorn 4 NEW | B28: 20 | C28: 40 | D28: 0.9 | T28: =SUM(E28:S28) -> 0 | U28: =T28*B28 -> 0 | V28: =T28*C28 -> 0 | W28: =D28*T28 -> 0
A29: Thorn 5 NEW | B29: 20 | C29: 40 | D29: 1 | T29: =SUM(E29:S29) -> 0 | U29: =T29*B29 -> 0 | V29: =T29*C29 -> 0 | W29: =D29*T29 -> 0
A30: Thorn 6 NEW | B30: 20 | C30: 50 | D30: 1.4 | T30: =SUM(E30:S30) -> 0 | U30: =T30*B30 -> 0 | V30: =T30*C30 -> 0 | W30: =D30*T30 -> 0
A31: Thorn 1-6 Pack NEW | B31: 130 | C31: 276.19 | D31: 6.88 | T31: =SUM(E31:S31) -> 0 | U31: =T31*B31 -> 0 | V31: =T31*C31 -> 0 | W31: =D31*T31 -> 0
A32: Bless | B32: 3 | C32: 140 | D32: 6.2 | T32: =SUM(E32:S32) -> 0 | U32: =T32*B32 -> 0 | V32: =T32*C32 -> 0 | W32: =D32*T32 -> 0 | AH32: 3 | AU32: =Y32*T32 -> 0 | AV32: =T32*Z32 -> 0 | AW32: =AA32*T32 -> 0 | AX32: =AB32*T32 -> 0 | AY32: =AC32*T32 -> 0 | AZ32: =AD32*T32 -> 0 | BA32: =AE32*T32 -> 0 | BB32: =AF32*T32 -> 0 | BC32: =AG32*T32 -> 0 | BD32: =AH32*T32 -> 0 | BE32: =AI32*T32 -> 0 | BF32: =AJ32*T32 -> 0 | BG32: =AK32*T32 -> 0 | BH32: =AL32*T32 -> 0 | BI32: =AM32*T32 -> 0 | BJ32: =AN32*T32 -> 0 | BK32: =AO32*T32 -> 0 | BL32: =AP32*T32 -> 0 | BM32: =AQ32*T32 -> 0 | BN32: =AR32*T32 -> 0 | BO32: =AS32*T32 -> 0
A33: Parasites | B33: 20 | C33: 100 | D33: 5.3 | T33: =SUM(E33:S33) -> 0 | U33: =T33*B33 -> 0 | V33: =T33*C33 -> 0 | W33: =D33*T33 -> 0
A34: Kite | B34: 15 | C34: 120 | D34: 6.5 | T34: =SUM(E34:S34) -> 0 | U34: =T34*B34 -> 0 | V34: =T34*C34 -> 0 | W34: =D34*T34 -> 0
A35: Sticky | B35: 20 | C35: 110 | D35: 5.7 | T35: =SUM(E35:S35) -> 0 | U35: =T35*B35 -> 0 | V35: =T35*C35 -> 0 | W35: =D35*T35 -> 0 | Z35: 15 | AA35: 5 | AU35: =Y35*T35 -> 0 | AV35: =T35*Z35 -> 0 | AW35: =AA35*T35 -> 0 | AX35: =AB35*T35 -> 0 | AY35: =AC35*T35 -> 0 | AZ35: =AD35*T35 -> 0 | BA35: =AE35*T35 -> 0 | BB35: =AF35*T35 -> 0 | BC35: =AG35*T35 -> 0 | BD35: =AH35*T35 -> 0 | BE35: =AI35*T35 -> 0 | BF35: =AJ35*T35 -> 0 | BG35: =AK35*T35 -> 0 | BH35: =AL35*T35 -> 0 | BI35: =AM35*T35 -> 0 | BJ35: =AN35*T35 -> 0 | BK35: =AO35*T35 -> 0 | BL35: =AP35*T35 -> 0 | BM35: =AQ35*T35 -> 0 | BN35: =AR35*T35 -> 0 | BO35: =AS35*T35 -> 0
A36: Rookie | B36: 20 | C36: 224 | D36: 11.2 | T36: =SUM(E36:S36) -> 0 | U36: =T36*B36 -> 0 | V36: =T36*C36 -> 0 | W36: =D36*T36 -> 0 | AA36: 6 | AB36: 5 | AC36: 7 | AF36: 2 | AU36: =Y36*T36 -> 0 | AV36: =T36*Z36 -> 0 | AW36: =AA36*T36 -> 0 | AX36: =AB36*T36 -> 0 | AY36: =AC36*T36 -> 0 | AZ36: =AD36*T36 -> 0 | BA36: =AE36*T36 -> 0 | BB36: =AF36*T36 -> 0 | BC36: =AG36*T36 -> 0 | BD36: =AH36*T36 -> 0 | BE36: =AI36*T36 -> 0 | BF36: =AJ36*T36 -> 0 | BG36: =AK36*T36 -> 0 | BH36: =AL36*T36 -> 0 | BI36: =AM36*T36 -> 0 | BJ36: =AN36*T36 -> 0 | BK36: =AO36*T36 -> 0 | BL36: =AP36*T36 -> 0 | BM36: =AQ36*T36 -> 0 | BN36: =AR36*T36 -> 0 | BO36: =AS36*T36 -> 0
A37: Novice | B37: 30 | C37: 315 | D37: 15.7 | T37: =SUM(E37:S37) -> 0 | U37: =T37*B37 -> 0 | V37: =T37*C37 -> 0 | W37: =D37*T37 -> 0 | Z37: 8 | AA37: 13 | AB37: 8 | AC37: 1 | AU37: =Y37*T37 -> 0 | AV37: =T37*Z37 -> 0 | AW37: =AA37*T37 -> 0 | AX37: =AB37*T37 -> 0 | AY37: =AC37*T37 -> 0 | AZ37: =AD37*T37 -> 0 | BA37: =AE37*T37 -> 0 | BB37: =AF37*T37 -> 0 | BC37: =AG37*T37 -> 0 | BD37: =AH37*T37 -> 0 | BE37: =AI37*T37 -> 0 | BF37: =AJ37*T37 -> 0 | BG37: =AK37*T37 -> 0 | BH37: =AL37*T37 -> 0 | BI37: =AM37*T37 -> 0 | BJ37: =AN37*T37 -> 0 | BK37: =AO37*T37 -> 0 | BL37: =AP37*T37 -> 0 | BM37: =AQ37*T37 -> 0 | BN37: =AR37*T37 -> 0 | BO37: =AS37*T37 -> 0
A38: Greedy grip | B38: 15 | C38: 254 | D38: 12.7 | T38: =SUM(E38:S38) -> 0 | U38: =T38*B38 -> 0 | V38: =T38*C38 -> 0 | W38: =D38*T38 -> 0 | AB38: 3 | AC38: 2 | AD38: 2 | AE38: 7 | AF38: 1 | AU38: =Y38*T38 -> 0 | AV38: =T38*Z38 -> 0 | AW38: =AA38*T38 -> 0 | AX38: =AB38*T38 -> 0 | AY38: =AC38*T38 -> 0 | AZ38: =AD38*T38 -> 0 | BA38: =AE38*T38 -> 0 | BB38: =AF38*T38 -> 0 | BC38: =AG38*T38 -> 0 | BD38: =AH38*T38 -> 0 | BE38: =AI38*T38 -> 0 | BF38: =AJ38*T38 -> 0 | BG38: =AK38*T38 -> 0 | BH38: =AL38*T38 -> 0 | BI38: =AM38*T38 -> 0 | BJ38: =AN38*T38 -> 0 | BK38: =AO38*T38 -> 0 | BL38: =AP38*T38 -> 0 | BM38: =AQ38*T38 -> 0 | BN38: =AR38*T38 -> 0 | BO38: =AS38*T38 -> 0
A39: Ambush | B39: 15 | C39: 190 | D39: 9.3 | T39: =SUM(E39:S39) -> 0 | U39: =T39*B39 -> 0 | V39: =T39*C39 -> 0 | W39: =D39*T39 -> 0 | Z39: 3 | AA39: 4 | AB39: 3 | AC39: 5 | AU39: =Y39*T39 -> 0 | AV39: =T39*Z39 -> 0 | AW39: =AA39*T39 -> 0 | AX39: =AB39*T39 -> 0 | AY39: =AC39*T39 -> 0 | AZ39: =AD39*T39 -> 0 | BA39: =AE39*T39 -> 0 | BB39: =AF39*T39 -> 0 | BC39: =AG39*T39 -> 0 | BD39: =AH39*T39 -> 0 | BE39: =AI39*T39 -> 0 | BF39: =AJ39*T39 -> 0 | BG39: =AK39*T39 -> 0 | BH39: =AL39*T39 -> 0 | BI39: =AM39*T39 -> 0 | BJ39: =AN39*T39 -> 0 | BK39: =AO39*T39 -> 0 | BL39: =AP39*T39 -> 0 | BM39: =AQ39*T39 -> 0 | BN39: =AR39*T39 -> 0 | BO39: =AS39*T39 -> 0
A40: Gin Soda | B40: 20 | C40: 203.52 | D40: 13 | T40: =SUM(E40:S40) -> 0 | U40: =T40*B40 -> 0 | V40: =T40*C40 -> 0 | W40: =D40*T40 -> 0 | AU40: =Y40*T40 -> 0 | AV40: =T40*Z40 -> 0 | AW40: =AA40*T40 -> 0 | AX40: =AB40*T40 -> 0 | AY40: =AC40*T40 -> 0 | AZ40: =AD40*T40 -> 0 | BA40: =AE40*T40 -> 0 | BB40: =AF40*T40 -> 0 | BC40: =AG40*T40 -> 0 | BD40: =AH40*T40 -> 0 | BE40: =AI40*T40 -> 0 | BF40: =AJ40*T40 -> 0 | BG40: =AK40*T40 -> 0 | BH40: =AL40*T40 -> 0 | BI40: =AM40*T40 -> 0 | BJ40: =AN40*T40 -> 0 | BK40: =AO40*T40 -> 0 | BL40: =AP40*T40 -> 0 | BM40: =AQ40*T40 -> 0 | BN40: =AR40*T40 -> 0 | BO40: =AS40*T40 -> 0
A41: Ketones | B41: 23 | C41: 203.52 | D41: 10.5 | T41: =SUM(E41:S41) -> 0 | U41: =T41*B41 -> 0 | V41: =T41*C41 -> 0 | W41: =D41*T41 -> 0 | AU41: =Y41*T41 -> 0 | AV41: =T41*Z41 -> 0 | AW41: =AA41*T41 -> 0 | AX41: =AB41*T41 -> 0 | AY41: =AC41*T41 -> 0 | AZ41: =AD41*T41 -> 0 | BA41: =AE41*T41 -> 0 | BB41: =AF41*T41 -> 0 | BC41: =AG41*T41 -> 0 | BD41: =AH41*T41 -> 0 | BE41: =AI41*T41 -> 0 | BF41: =AJ41*T41 -> 0 | BG41: =AK41*T41 -> 0 | BH41: =AL41*T41 -> 0 | BI41: =AM41*T41 -> 0 | BJ41: =AN41*T41 -> 0 | BK41: =AO41*T41 -> 0 | BL41: =AP41*T41 -> 0 | BM41: =AQ41*T41 -> 0 | BN41: =AR41*T41 -> 0 | BO41: =AS41*T41 -> 0
A42: Low Carb | B42: 20 | C42: 203.52 | D42: 10.2 | T42: =SUM(E42:S42) -> 0 | U42: =T42*B42 -> 0 | V42: =T42*C42 -> 0 | W42: =D42*T42 -> 0 | AU42: =Y42*T42 -> 0 | AV42: =T42*Z42 -> 0 | AW42: =AA42*T42 -> 0 | AX42: =AB42*T42 -> 0 | AY42: =AC42*T42 -> 0 | AZ42: =AD42*T42 -> 0 | BA42: =AE42*T42 -> 0 | BB42: =AF42*T42 -> 0 | BC42: =AG42*T42 -> 0 | BD42: =AH42*T42 -> 0 | BE42: =AI42*T42 -> 0 | BF42: =AJ42*T42 -> 0 | BG42: =AK42*T42 -> 0 | BH42: =AL42*T42 -> 0 | BI42: =AM42*T42 -> 0 | BJ42: =AN42*T42 -> 0 | BK42: =AO42*T42 -> 0 | BL42: =AP42*T42 -> 0 | BM42: =AQ42*T42 -> 0 | BN42: =AR42*T42 -> 0 | BO42: =AS42*T42 -> 0
A43: Hi Fat | B43: 20 | C43: 203.52 | D43: 11.2 | T43: =SUM(E43:S43) -> 0 | U43: =T43*B43 -> 0 | V43: =T43*C43 -> 0 | W43: =D43*T43 -> 0 | AU43: =Y43*T43 -> 0 | AV43: =T43*Z43 -> 0 | AW43: =AA43*T43 -> 0 | AX43: =AB43*T43 -> 0 | AY43: =AC43*T43 -> 0 | AZ43: =AD43*T43 -> 0 | BA43: =AE43*T43 -> 0 | BB43: =AF43*T43 -> 0 | BC43: =AG43*T43 -> 0 | BD43: =AH43*T43 -> 0 | BE43: =AI43*T43 -> 0 | BF43: =AJ43*T43 -> 0 | BG43: =AK43*T43 -> 0 | BH43: =AL43*T43 -> 0 | BI43: =AM43*T43 -> 0 | BJ43: =AN43*T43 -> 0 | BK43: =AO43*T43 -> 0 | BL43: =AP43*T43 -> 0 | BM43: =AQ43*T43 -> 0 | BN43: =AR43*T43 -> 0 | BO43: =AS43*T43 -> 0
A44: Bricks 1 | B44: 5 | C44: 189.36 | D44: 11.73 | T44: =SUM(E44:S44) -> 0 | U44: =T44*B44 -> 0 | V44: =T44*C44 -> 0 | W44: =D44*T44 -> 0 | AD44: 1 | AG44: 2 | AI44: 2 | AU44: =Y44*T44 -> 0 | AV44: =T44*Z44 -> 0 | AW44: =AA44*T44 -> 0 | AX44: =AB44*T44 -> 0 | AY44: =AC44*T44 -> 0 | AZ44: =AD44*T44 -> 0 | BA44: =AE44*T44 -> 0 | BB44: =AF44*T44 -> 0 | BC44: =AG44*T44 -> 0 | BD44: =AH44*T44 -> 0 | BE44: =AI44*T44 -> 0 | BF44: =AJ44*T44 -> 0 | BG44: =AK44*T44 -> 0 | BH44: =AL44*T44 -> 0 | BI44: =AM44*T44 -> 0 | BJ44: =AN44*T44 -> 0 | BK44: =AO44*T44 -> 0 | BL44: =AP44*T44 -> 0 | BM44: =AQ44*T44 -> 0 | BN44: =AR44*T44 -> 0 | BO44: =AS44*T44 -> 0
A45: Bricks 2 | B45: 15 | C45: 91.41 | D45: 5.53 | T45: =SUM(E45:S45) -> 0 | U45: =T45*B45 -> 0 | V45: =T45*C45 -> 0 | W45: =D45*T45 -> 0 | Z45: 6 | AB45: 3 | AC45: 4 | AD45: 2 | AU45: =Y45*T45 -> 0 | AV45: =T45*Z45 -> 0 | AW45: =AA45*T45 -> 0 | AX45: =AB45*T45 -> 0 | AY45: =AC45*T45 -> 0 | AZ45: =AD45*T45 -> 0 | BA45: =AE45*T45 -> 0 | BB45: =AF45*T45 -> 0 | BC45: =AG45*T45 -> 0 | BD45: =AH45*T45 -> 0 | BE45: =AI45*T45 -> 0 | BF45: =AJ45*T45 -> 0 | BG45: =AK45*T45 -> 0 | BH45: =AL45*T45 -> 0 | BI45: =AM45*T45 -> 0 | BJ45: =AN45*T45 -> 0 | BK45: =AO45*T45 -> 0 | BL45: =AP45*T45 -> 0 | BM45: =AQ45*T45 -> 0 | BN45: =AR45*T45 -> 0 | BO45: =AS45*T45 -> 0
A46: Bricks 1-2 Pack | B46: 20 | C46: 274.24 | D46: 17.26 | T46: =SUM(E46:S46) -> 0 | U46: =T46*B46 -> 0 | V46: =T46*C46 -> 0 | W46: =D46*T46 -> 0 | Z46: 6 | AB46: 3 | AC46: 4 | AD46: 3 | AG46: 2 | AI46: 2 | AU46: =Y46*T46 -> 0 | AV46: =T46*Z46 -> 0 | AW46: =AA46*T46 -> 0 | AX46: =AB46*T46 -> 0 | AY46: =AC46*T46 -> 0 | AZ46: =AD46*T46 -> 0 | BA46: =AE46*T46 -> 0 | BB46: =AF46*T46 -> 0 | BC46: =AG46*T46 -> 0 | BD46: =AH46*T46 -> 0 | BE46: =AI46*T46 -> 0 | BF46: =AJ46*T46 -> 0 | BG46: =AK46*T46 -> 0 | BH46: =AL46*T46 -> 0 | BI46: =AM46*T46 -> 0 | BJ46: =AN46*T46 -> 0 | BK46: =AO46*T46 -> 0 | BL46: =AP46*T46 -> 0 | BM46: =AQ46*T46 -> 0 | BN46: =AR46*T46 -> 0 | BO46: =AS46*T46 -> 0
A47: Punch | B47: 5 | C47: 182.83 | D47: 9.1 | T47: =SUM(E47:S47) -> 0 | U47: =T47*B47 -> 0 | V47: =T47*C47 -> 0 | W47: =D47*T47 -> 0 | AD47: 1 | AH47: 1 | AJ47: 3 | AU47: =Y47*T47 -> 0 | AV47: =T47*Z47 -> 0 | AW47: =AA47*T47 -> 0 | AX47: =AB47*T47 -> 0 | AY47: =AC47*T47 -> 0 | AZ47: =AD47*T47 -> 0 | BA47: =AE47*T47 -> 0 | BB47: =AF47*T47 -> 0 | BC47: =AG47*T47 -> 0 | BD47: =AH47*T47 -> 0 | BE47: =AI47*T47 -> 0 | BF47: =AJ47*T47 -> 0 | BG47: =AK47*T47 -> 0 | BH47: =AL47*T47 -> 0 | BI47: =AM47*T47 -> 0 | BJ47: =AN47*T47 -> 0 | BK47: =AO47*T47 -> 0 | BL47: =AP47*T47 -> 0 | BM47: =AQ47*T47 -> 0 | BN47: =AR47*T47 -> 0 | BO47: =AS47*T47 -> 0
A48: Drops 1 | B48: 4 | C48: 182.83 | D48: 10.1 | T48: =SUM(E48:S48) -> 0 | U48: =T48*B48 -> 0 | V48: =T48*C48 -> 0 | W48: =D48*T48 -> 0 | AH48: 1 | AI48: 1 | AU48: =Y48*T48 -> 0 | AV48: =T48*Z48 -> 0 | AW48: =AA48*T48 -> 0 | AX48: =AB48*T48 -> 0 | AY48: =AC48*T48 -> 0 | AZ48: =AD48*T48 -> 0 | BA48: =AE48*T48 -> 0 | BB48: =AF48*T48 -> 0 | BC48: =AG48*T48 -> 0 | BD48: =AH48*T48 -> 0 | BE48: =AI48*T48 -> 0 | BF48: =AJ48*T48 -> 0 | BG48: =AK48*T48 -> 0 | BH48: =AL48*T48 -> 0 | BI48: =AM48*T48 -> 0 | BJ48: =AN48*T48 -> 0 | BK48: =AO48*T48 -> 0 | BL48: =AP48*T48 -> 0 | BM48: =AQ48*T48 -> 0 | BN48: =AR48*T48 -> 0 | BO48: =AS48*T48 -> 0
A49: Drops 2 | B49: 10 | C49: 65.3 | D49: 3.32 | T49: =SUM(E49:S49) -> 0 | U49: =T49*B49 -> 0 | V49: =T49*C49 -> 0 | W49: =D49*T49 -> 0 | AD49: 10 | AU49: =Y49*T49 -> 0 | AV49: =T49*Z49 -> 0 | AW49: =AA49*T49 -> 0 | AX49: =AB49*T49 -> 0 | AY49: =AC49*T49 -> 0 | AZ49: =AD49*T49 -> 0 | BA49: =AE49*T49 -> 0 | BB49: =AF49*T49 -> 0 | BC49: =AG49*T49 -> 0 | BD49: =AH49*T49 -> 0 | BE49: =AI49*T49 -> 0 | BF49: =AJ49*T49 -> 0 | BG49: =AK49*T49 -> 0 | BH49: =AL49*T49 -> 0 | BI49: =AM49*T49 -> 0 | BJ49: =AN49*T49 -> 0 | BK49: =AO49*T49 -> 0 | BL49: =AP49*T49 -> 0 | BM49: =AQ49*T49 -> 0 | BN49: =AR49*T49 -> 0 | BO49: =AS49*T49 -> 0
A50: Vacuum | B50: 6 | C50: 78.36 | D50: 4.017 | T50: =SUM(E50:S50) -> 0 | U50: =T50*B50 -> 0 | V50: =T50*C50 -> 0 | W50: =D50*T50 -> 0 | AU50: =Y50*T50 -> 0 | AV50: =T50*Z50 -> 0 | AW50: =AA50*T50 -> 0 | AX50: =AB50*T50 -> 0 | AY50: =AC50*T50 -> 0 | AZ50: =AD50*T50 -> 0 | BA50: =AE50*T50 -> 0 | BB50: =AF50*T50 -> 0 | BC50: =AG50*T50 -> 0 | BD50: =AH50*T50 -> 0 | BE50: =AI50*T50 -> 0 | BF50: =AJ50*T50 -> 0 | BG50: =AK50*T50 -> 0 | BH50: =AL50*T50 -> 0 | BI50: =AM50*T50 -> 0 | BJ50: =AN50*T50 -> 0 | BK50: =AO50*T50 -> 0 | BL50: =AP50*T50 -> 0 | BM50: =AQ50*T50 -> 0 | BN50: =AR50*T50 -> 0 | BO50: =AS50*T50 -> 0
A51: Blades 1 | B51: 8 | C51: 97.94 | D51: 3.05 | T51: =SUM(E51:S51) -> 0 | U51: =T51*B51 -> 0 | V51: =T51*C51 -> 0 | W51: =D51*T51 -> 0 | AU51: =Y51*T51 -> 0 | AV51: =T51*Z51 -> 0 | AW51: =AA51*T51 -> 0 | AX51: =AB51*T51 -> 0 | AY51: =AC51*T51 -> 0 | AZ51: =AD51*T51 -> 0 | BA51: =AE51*T51 -> 0 | BB51: =AF51*T51 -> 0 | BC51: =AG51*T51 -> 0 | BD51: =AH51*T51 -> 0 | BE51: =AI51*T51 -> 0 | BF51: =AJ51*T51 -> 0 | BG51: =AK51*T51 -> 0 | BH51: =AL51*T51 -> 0 | BI51: =AM51*T51 -> 0 | BJ51: =AN51*T51 -> 0 | BK51: =AO51*T51 -> 0 | BL51: =AP51*T51 -> 0 | BM51: =AQ51*T51 -> 0 | BN51: =AR51*T51 -> 0 | BO51: =AS51*T51 -> 0
A52: Blades 2 | B52: 10 | C52: 124.06 | D52: 5.1 | T52: =SUM(E52:S52) -> 0 | U52: =T52*B52 -> 0 | V52: =T52*C52 -> 0 | W52: =D52*T52 -> 0 | AB52: 10 | AU52: =Y52*T52 -> 0 | AV52: =T52*Z52 -> 0 | AW52: =AA52*T52 -> 0 | AX52: =AB52*T52 -> 0 | AY52: =AC52*T52 -> 0 | AZ52: =AD52*T52 -> 0 | BA52: =AE52*T52 -> 0 | BB52: =AF52*T52 -> 0 | BC52: =AG52*T52 -> 0 | BD52: =AH52*T52 -> 0 | BE52: =AI52*T52 -> 0 | BF52: =AJ52*T52 -> 0 | BG52: =AK52*T52 -> 0 | BH52: =AL52*T52 -> 0 | BI52: =AM52*T52 -> 0 | BJ52: =AN52*T52 -> 0 | BK52: =AO52*T52 -> 0 | BL52: =AP52*T52 -> 0 | BM52: =AQ52*T52 -> 0 | BN52: =AR52*T52 -> 0 | BO52: =AS52*T52 -> 0
A53: Grim Reaper | B53: 15 | C53: 195.89 | D53: 10.77 | T53: =SUM(E53:S53) -> 0 | U53: =T53*B53 -> 0 | V53: =T53*C53 -> 0 | W53: =D53*T53 -> 0 | Y53: 5 | Z53: 7 | AA53: 2 | AB53: 1 | AU53: =Y53*T53 -> 0 | AV53: =T53*Z53 -> 0 | AW53: =AA53*T53 -> 0 | AX53: =AB53*T53 -> 0 | AY53: =AC53*T53 -> 0 | AZ53: =AD53*T53 -> 0 | BA53: =AE53*T53 -> 0 | BB53: =AF53*T53 -> 0 | BC53: =AG53*T53 -> 0 | BD53: =AH53*T53 -> 0 | BE53: =AI53*T53 -> 0 | BF53: =AJ53*T53 -> 0 | BG53: =AK53*T53 -> 0 | BH53: =AL53*T53 -> 0 | BI53: =AM53*T53 -> 0 | BJ53: =AN53*T53 -> 0 | BK53: =AO53*T53 -> 0 | BL53: =AP53*T53 -> 0 | BM53: =AQ53*T53 -> 0 | BN53: =AR53*T53 -> 0 | BO53: =AS53*T53 -> 0
A54: Wallet 1 | B54: 5 | C54: 54.84 | D54: 2.98 | T54: =SUM(E54:S54) -> 0 | U54: =T54*B54 -> 0 | V54: =T54*C54 -> 0 | W54: =D54*T54 -> 0 | AA54: 5 | AU54: =Y54*T54 -> 0 | AV54: =T54*Z54 -> 0 | AW54: =AA54*T54 -> 0 | AX54: =AB54*T54 -> 0 | AY54: =AC54*T54 -> 0 | AZ54: =AD54*T54 -> 0 | BA54: =AE54*T54 -> 0 | BB54: =AF54*T54 -> 0 | BC54: =AG54*T54 -> 0 | BD54: =AH54*T54 -> 0 | BE54: =AI54*T54 -> 0 | BF54: =AJ54*T54 -> 0 | BG54: =AK54*T54 -> 0 | BH54: =AL54*T54 -> 0 | BI54: =AM54*T54 -> 0 | BJ54: =AN54*T54 -> 0 | BK54: =AO54*T54 -> 0 | BL54: =AP54*T54 -> 0 | BM54: =AQ54*T54 -> 0 | BN54: =AR54*T54 -> 0 | BO54: =AS54*T54 -> 0
A55: Wallet 2 | B55: 5 | C55: 104.47 | D55: 6.17 | T55: =SUM(E55:S55) -> 0 | U55: =T55*B55 -> 0 | V55: =T55*C55 -> 0 | W55: =D55*T55 -> 0 | AD55: 5 | AU55: =Y55*T55 -> 0 | AV55: =T55*Z55 -> 0 | AW55: =AA55*T55 -> 0 | AX55: =AB55*T55 -> 0 | AY55: =AC55*T55 -> 0 | AZ55: =AD55*T55 -> 0 | BA55: =AE55*T55 -> 0 | BB55: =AF55*T55 -> 0 | BC55: =AG55*T55 -> 0 | BD55: =AH55*T55 -> 0 | BE55: =AI55*T55 -> 0 | BF55: =AJ55*T55 -> 0 | BG55: =AK55*T55 -> 0 | BH55: =AL55*T55 -> 0 | BI55: =AM55*T55 -> 0 | BJ55: =AN55*T55 -> 0 | BK55: =AO55*T55 -> 0 | BL55: =AP55*T55 -> 0 | BM55: =AQ55*T55 -> 0 | BN55: =AR55*T55 -> 0 | BO55: =AS55*T55 -> 0
A56: Wallet 3 | B56: 5 | C56: 115 | D56: 6.8 | T56: =SUM(E56:S56) -> 0 | U56: =T56*B56 -> 0 | V56: =T56*C56 -> 0 | W56: =D56*T56 -> 0 | AB56: 3 | AC56: 1 | AD56: 1 | AU56: =Y56*T56 -> 0 | AV56: =T56*Z56 -> 0 | AW56: =AA56*T56 -> 0 | AX56: =AB56*T56 -> 0 | AY56: =AC56*T56 -> 0 | AZ56: =AD56*T56 -> 0 | BA56: =AE56*T56 -> 0 | BB56: =AF56*T56 -> 0 | BC56: =AG56*T56 -> 0 | BD56: =AH56*T56 -> 0 | BE56: =AI56*T56 -> 0 | BF56: =AJ56*T56 -> 0 | BG56: =AK56*T56 -> 0 | BH56: =AL56*T56 -> 0 | BI56: =AM56*T56 -> 0 | BJ56: =AN56*T56 -> 0 | BK56: =AO56*T56 -> 0 | BL56: =AP56*T56 -> 0 | BM56: =AQ56*T56 -> 0 | BN56: =AR56*T56 -> 0 | BO56: =AS56*T56 -> 0
A57: Trigger | B57: 5 | C57: 58.77 | D57: 1.8 | T57: =SUM(E57:S57) -> 0 | U57: =T57*B57 -> 0 | V57: =T57*C57 -> 0 | W57: =D57*T57 -> 0 | AA57: 5 | AU57: =Y57*T57 -> 0 | AV57: =T57*Z57 -> 0 | AW57: =AA57*T57 -> 0 | AX57: =AB57*T57 -> 0 | AY57: =AC57*T57 -> 0 | AZ57: =AD57*T57 -> 0 | BA57: =AE57*T57 -> 0 | BB57: =AF57*T57 -> 0 | BC57: =AG57*T57 -> 0 | BD57: =AH57*T57 -> 0 | BE57: =AI57*T57 -> 0 | BF57: =AJ57*T57 -> 0 | BG57: =AK57*T57 -> 0 | BH57: =AL57*T57 -> 0 | BI57: =AM57*T57 -> 0 | BJ57: =AN57*T57 -> 0 | BK57: =AO57*T57 -> 0 | BL57: =AP57*T57 -> 0 | BM57: =AQ57*T57 -> 0 | BN57: =AR57*T57 -> 0 | BO57: =AS57*T57 -> 0
A58: Addicted to 1 | B58: 10 | C58: 124.06 | D58: 7.155 | T58: =SUM(E58:S58) -> 0 | U58: =T58*B58 -> 0 | V58: =T58*C58 -> 0 | W58: =D58*T58 -> 0 | AA58: 2 | AB58: 5 | AC58: 3 | AU58: =Y58*T58 -> 0 | AV58: =T58*Z58 -> 0 | AW58: =AA58*T58 -> 0 | AX58: =AB58*T58 -> 0 | AY58: =AC58*T58 -> 0 | AZ58: =AD58*T58 -> 0 | BA58: =AE58*T58 -> 0 | BB58: =AF58*T58 -> 0 | BC58: =AG58*T58 -> 0 | BD58: =AH58*T58 -> 0 | BE58: =AI58*T58 -> 0 | BF58: =AJ58*T58 -> 0 | BG58: =AK58*T58 -> 0 | BH58: =AL58*T58 -> 0 | BI58: =AM58*T58 -> 0 | BJ58: =AN58*T58 -> 0 | BK58: =AO58*T58 -> 0 | BL58: =AP58*T58 -> 0 | BM58: =AQ58*T58 -> 0 | BN58: =AR58*T58 -> 0 | BO58: =AS58*T58 -> 0
A59: Addicted to 2 | B59: 5 | C59: 104.47 | D59: 5.1 | T59: =SUM(E59:S59) -> 0 | U59: =T59*B59 -> 0 | V59: =T59*C59 -> 0 | W59: =D59*T59 -> 0 | AC59: 1 | AD59: 3 | AE59: 1 | AU59: =Y59*T59 -> 0 | AV59: =T59*Z59 -> 0 | AW59: =AA59*T59 -> 0 | AX59: =AB59*T59 -> 0 | AY59: =AC59*T59 -> 0 | AZ59: =AD59*T59 -> 0 | BA59: =AE59*T59 -> 0 | BB59: =AF59*T59 -> 0 | BC59: =AG59*T59 -> 0 | BD59: =AH59*T59 -> 0 | BE59: =AI59*T59 -> 0 | BF59: =AJ59*T59 -> 0 | BG59: =AK59*T59 -> 0 | BH59: =AL59*T59 -> 0 | BI59: =AM59*T59 -> 0 | BJ59: =AN59*T59 -> 0 | BK59: =AO59*T59 -> 0 | BL59: =AP59*T59 -> 0 | BM59: =AQ59*T59 -> 0 | BN59: =AR59*T59 -> 0 | BO59: =AS59*T59 -> 0
A60: Addicted to 3 | B60: 5 | C60: 97.94 | D60: 5.75 | T60: =SUM(E60:S60) -> 0 | U60: =T60*B60 -> 0 | V60: =T60*C60 -> 0 | W60: =D60*T60 -> 0 | AA60: 1 | AC60: 3 | AD60: 1 | AU60: =Y60*T60 -> 0 | AV60: =T60*Z60 -> 0 | AW60: =AA60*T60 -> 0 | AX60: =AB60*T60 -> 0 | AY60: =AC60*T60 -> 0 | AZ60: =AD60*T60 -> 0 | BA60: =AE60*T60 -> 0 | BB60: =AF60*T60 -> 0 | BC60: =AG60*T60 -> 0 | BD60: =AH60*T60 -> 0 | BE60: =AI60*T60 -> 0 | BF60: =AJ60*T60 -> 0 | BG60: =AK60*T60 -> 0 | BH60: =AL60*T60 -> 0 | BI60: =AM60*T60 -> 0 | BJ60: =AN60*T60 -> 0 | BK60: =AO60*T60 -> 0 | BL60: =AP60*T60 -> 0 | BM60: =AQ60*T60 -> 0 | BN60: =AR60*T60 -> 0 | BO60: =AS60*T60 -> 0
A61: Addicted to 4 | B61: 5 | C61: 104.47 | D61: 5.615 | T61: =SUM(E61:S61) -> 0 | U61: =T61*B61 -> 0 | V61: =T61*C61 -> 0 | W61: =D61*T61 -> 0 | AC61: 3 | AD61: 2 | AU61: =Y61*T61 -> 0 | AV61: =T61*Z61 -> 0 | AW61: =AA61*T61 -> 0 | AX61: =AB61*T61 -> 0 | AY61: =AC61*T61 -> 0 | AZ61: =AD61*T61 -> 0 | BA61: =AE61*T61 -> 0 | BB61: =AF61*T61 -> 0 | BC61: =AG61*T61 -> 0 | BD61: =AH61*T61 -> 0 | BE61: =AI61*T61 -> 0 | BF61: =AJ61*T61 -> 0 | BG61: =AK61*T61 -> 0 | BH61: =AL61*T61 -> 0 | BI61: =AM61*T61 -> 0 | BJ61: =AN61*T61 -> 0 | BK61: =AO61*T61 -> 0 | BL61: =AP61*T61 -> 0 | BM61: =AQ61*T61 -> 0 | BN61: =AR61*T61 -> 0 | BO61: =AS61*T61 -> 0
A62: Addicted to 5 | B62: 5 | C62: 104.47 | D62: 5.285 | T62: =SUM(E62:S62) -> 0 | U62: =T62*B62 -> 0 | V62: =T62*C62 -> 0 | W62: =D62*T62 -> 0 | AC62: 2 | AD62: 2 | AE62: 1 | AU62: =Y62*T62 -> 0 | AV62: =T62*Z62 -> 0 | AW62: =AA62*T62 -> 0 | AX62: =AB62*T62 -> 0 | AY62: =AC62*T62 -> 0 | AZ62: =AD62*T62 -> 0 | BA62: =AE62*T62 -> 0 | BB62: =AF62*T62 -> 0 | BC62: =AG62*T62 -> 0 | BD62: =AH62*T62 -> 0 | BE62: =AI62*T62 -> 0 | BF62: =AJ62*T62 -> 0 | BG62: =AK62*T62 -> 0 | BH62: =AL62*T62 -> 0 | BI62: =AM62*T62 -> 0 | BJ62: =AN62*T62 -> 0 | BK62: =AO62*T62 -> 0 | BL62: =AP62*T62 -> 0 | BM62: =AQ62*T62 -> 0 | BN62: =AR62*T62 -> 0 | BO62: =AS62*T62 -> 0
A63: Addicted to 1-5 Pack | B63: 30 | C63: 522.37 | D63: 32.385 | T63: =SUM(E63:S63) -> 0 | U63: =T63*B63 -> 0 | V63: =T63*C63 -> 0 | W63: =D63*T63 -> 0 | Y63: =Y58+Y59+Y60+Y61+Y62 -> 0 | Z63: =Z58+Z59+Z60+Z61+Z62 -> 0 | AA63: =AA58+AA59+AA60+AA61+AA62 -> 3 | AB63: =AB58+AB59+AB60+AB61+AB62 -> 5 | AC63: =AC58+AC59+AC60+AC61+AC62 -> 12 | AD63: =AD58+AD59+AD60+AD61+AD62 -> 8 | AE63: =AE58+AE59+AE60+AE61+AE62 -> 2 | AF63: =AF58+AF59+AF60+AF61+AF62 -> 0 | ... AS63: =AS58+AS59+AS60+AS61+AS62 -> 0 | AU63: =Y63*T63 -> 0 | AV63: =T63*Z63 -> 0 | AW63: =AA63*T63 -> 0 | AX63: =AB63*T63 -> 0 | AY63: =AC63*T63 -> 0 | AZ63: =AD63*T63 -> 0 | BA63: =AE63*T63 -> 0 | BB63: =AF63*T63 -> 0 | BC63: =AG63*T63 -> 0 | BD63: =AH63*T63 -> 0 | BE63: =AI63*T63 -> 0 | BF63: =AJ63*T63 -> 0 | BG63: =AK63*T63 -> 0 | BH63: =AL63*T63 -> 0 | BI63: =AM63*T63 -> 0 | BJ63: =AN63*T63 -> 0 | BK63: =AO63*T63 -> 0 | BL63: =AP63*T63 -> 0 | BM63: =AQ63*T63 -> 0 | BN63: =AR63*T63 -> 0 | BO63: =AS63*T63 -> 0
A64: Cats | B64: 6 | C64: 159.32 | D64: 8.5 | T64: =SUM(E64:S64) -> 0 | U64: =T64*B64 -> 0 | V64: =T64*C64 -> 0 | W64: =D64*T64 -> 0 | AC64: 1 | AE64: 2 | AF64: 2 | AG64: 1 | AU64: =Y64*T64 -> 0 | AV64: =T64*Z64 -> 0 | AW64: =AA64*T64 -> 0 | AX64: =AB64*T64 -> 0 | AY64: =AC64*T64 -> 0 | AZ64: =AD64*T64 -> 0 | BA64: =AE64*T64 -> 0 | BB64: =AF64*T64 -> 0 | BC64: =AG64*T64 -> 0 | BD64: =AH64*T64 -> 0 | BE64: =AI64*T64 -> 0 | BF64: =AJ64*T64 -> 0 | BG64: =AK64*T64 -> 0 | BH64: =AL64*T64 -> 0 | BI64: =AM64*T64 -> 0 | BJ64: =AN64*T64 -> 0 | BK64: =AO64*T64 -> 0 | BL64: =AP64*T64 -> 0 | BM64: =AQ64*T64 -> 0 | BN64: =AR64*T64 -> 0 | BO64: =AS64*T64 -> 0
A65: Pachamama 1 | B65: 3 | C65: 154.1 | D65: 6.8 | T65: =SUM(E65:S65) -> 0 | U65: =T65*B65 -> 0 | V65: =T65*C65 -> 0 | W65: =D65*T65 -> 0 | AG65: 2 | AH65: 1 | AU65: =Y65*T65 -> 0 | AV65: =T65*Z65 -> 0 | AW65: =AA65*T65 -> 0 | AX65: =AB65*T65 -> 0 | AY65: =AC65*T65 -> 0 | AZ65: =AD65*T65 -> 0 | BA65: =AE65*T65 -> 0 | BB65: =AF65*T65 -> 0 | BC65: =AG65*T65 -> 0 | BD65: =AH65*T65 -> 0 | BE65: =AI65*T65 -> 0 | BF65: =AJ65*T65 -> 0 | BG65: =AK65*T65 -> 0 | BH65: =AL65*T65 -> 0 | BI65: =AM65*T65 -> 0 | BJ65: =AN65*T65 -> 0 | BK65: =AO65*T65 -> 0 | BL65: =AP65*T65 -> 0 | BM65: =AQ65*T65 -> 0 | BN65: =AR65*T65 -> 0 | BO65: =AS65*T65 -> 0
A66: Pachamama 2 | B66: 3 | C66: 150.18 | D66: 6 | T66: =SUM(E66:S66) -> 0 | U66: =T66*B66 -> 0 | V66: =T66*C66 -> 0 | W66: =D66*T66 -> 0 | AD66: 1 | AE66: 1 | AF66: 1 | AU66: =Y66*T66 -> 0 | AV66: =T66*Z66 -> 0 | AW66: =AA66*T66 -> 0 | AX66: =AB66*T66 -> 0 | AY66: =AC66*T66 -> 0 | AZ66: =AD66*T66 -> 0 | BA66: =AE66*T66 -> 0 | BB66: =AF66*T66 -> 0 | BC66: =AG66*T66 -> 0 | BD66: =AH66*T66 -> 0 | BE66: =AI66*T66 -> 0 | BF66: =AJ66*T66 -> 0 | BG66: =AK66*T66 -> 0 | BH66: =AL66*T66 -> 0 | BI66: =AM66*T66 -> 0 | BJ66: =AN66*T66 -> 0 | BK66: =AO66*T66 -> 0 | BL66: =AP66*T66 -> 0 | BM66: =AQ66*T66 -> 0 | BN66: =AR66*T66 -> 0 | BO66: =AS66*T66 -> 0
A67: Pachamama 3 | B67: 8 | C67: 300 | D67: 13 | T67: =SUM(E67:S67) -> 0 | U67: =T67*B67 -> 0 | V67: =T67*C67 -> 0 | W67: =D67*T67 -> 0 | AD67: 2 | AE67: 1 | AF67: 3 | AH67: 1 | AJ67: 1 | AU67: =Y67*T67 -> 0 | AV67: =T67*Z67 -> 0 | AW67: =AA67*T67 -> 0 | AX67: =AB67*T67 -> 0 | AY67: =AC67*T67 -> 0 | AZ67: =AD67*T67 -> 0 | BA67: =AE67*T67 -> 0 | BB67: =AF67*T67 -> 0 | BC67: =AG67*T67 -> 0 | BD67: =AH67*T67 -> 0 | BE67: =AI67*T67 -> 0 | BF67: =AJ67*T67 -> 0 | BG67: =AK67*T67 -> 0 | BH67: =AL67*T67 -> 0 | BI67: =AM67*T67 -> 0 | BJ67: =AN67*T67 -> 0 | BK67: =AO67*T67 -> 0 | BL67: =AP67*T67 -> 0 | BM67: =AQ67*T67 -> 0 | BN67: =AR67*T67 -> 0 | BO67: =AS67*T67 -> 0
A68: AC/DC | B68: 6 | C68: 39.18 | D68: 1.698 | T68: =SUM(E68:S68) -> 0 | U68: =T68*B68 -> 0 | V68: =T68*C68 -> 0 | W68: =D68*T68 -> 0 | Z68: 6 | AU68: =Y68*T68 -> 0 | AV68: =T68*Z68 -> 0 | AW68: =AA68*T68 -> 0 | AX68: =AB68*T68 -> 0 | AY68: =AC68*T68 -> 0 | AZ68: =AD68*T68 -> 0 | BA68: =AE68*T68 -> 0 | BB68: =AF68*T68 -> 0 | BC68: =AG68*T68 -> 0 | BD68: =AH68*T68 -> 0 | BE68: =AI68*T68 -> 0 | BF68: =AJ68*T68 -> 0 | BG68: =AK68*T68 -> 0 | BH68: =AL68*T68 -> 0 | BI68: =AM68*T68 -> 0 | BJ68: =AN68*T68 -> 0 | BK68: =AO68*T68 -> 0 | BL68: =AP68*T68 -> 0 | BM68: =AQ68*T68 -> 0 | BN68: =AR68*T68 -> 0 | BO68: =AS68*T68 -> 0
A69: Damnation 1 | B69: 5 | C69: 95.34 | D69: 4.2 | T69: =SUM(E69:S69) -> 0 | U69: =T69*B69 -> 0 | V69: =T69*C69 -> 0 | W69: =D69*T69 -> 0 | AD69: 3 | AE69: 2 | AU69: =Y69*T69 -> 0 | AV69: =T69*Z69 -> 0 | AW69: =AA69*T69 -> 0 | AX69: =AB69*T69 -> 0 | AY69: =AC69*T69 -> 0 | AZ69: =AD69*T69 -> 0 | BA69: =AE69*T69 -> 0 | BB69: =AF69*T69 -> 0 | BC69: =AG69*T69 -> 0 | BD69: =AH69*T69 -> 0 | BE69: =AI69*T69 -> 0 | BF69: =AJ69*T69 -> 0 | BG69: =AK69*T69 -> 0 | BH69: =AL69*T69 -> 0 | BI69: =AM69*T69 -> 0 | BJ69: =AN69*T69 -> 0 | BK69: =AO69*T69 -> 0 | BL69: =AP69*T69 -> 0 | BM69: =AQ69*T69 -> 0 | BN69: =AR69*T69 -> 0 | BO69: =AS69*T69 -> 0
A70: Damnation 2 | B70: 5 | C70: 96.64 | D70: 4.23 | T70: =SUM(E70:S70) -> 0 | U70: =T70*B70 -> 0 | V70: =T70*C70 -> 0 | W70: =D70*T70 -> 0 | AE70: 5 | AU70: =Y70*T70 -> 0 | AV70: =T70*Z70 -> 0 | AW70: =AA70*T70 -> 0 | AX70: =AB70*T70 -> 0 | AY70: =AC70*T70 -> 0 | AZ70: =AD70*T70 -> 0 | BA70: =AE70*T70 -> 0 | BB70: =AF70*T70 -> 0 | BC70: =AG70*T70 -> 0 | BD70: =AH70*T70 -> 0 | BE70: =AI70*T70 -> 0 | BF70: =AJ70*T70 -> 0 | BG70: =AK70*T70 -> 0 | BH70: =AL70*T70 -> 0 | BI70: =AM70*T70 -> 0 | BJ70: =AN70*T70 -> 0 | BK70: =AO70*T70 -> 0 | BL70: =AP70*T70 -> 0 | BM70: =AQ70*T70 -> 0 | BN70: =AR70*T70 -> 0 | BO70: =AS70*T70 -> 0
A71: Damnation 3 | B71: 10 | C71: 107.08 | D71: 4.715 | T71: =SUM(E71:S71) -> 0 | U71: =T71*B71 -> 0 | V71: =T71*C71 -> 0 | W71: =D71*T71 -> 0 | AB71: 10 | AU71: =Y71*T71 -> 0 | AV71: =T71*Z71 -> 0 | AW71: =AA71*T71 -> 0 | AX71: =AB71*T71 -> 0 | AY71: =AC71*T71 -> 0 | AZ71: =AD71*T71 -> 0 | BA71: =AE71*T71 -> 0 | BB71: =AF71*T71 -> 0 | BC71: =AG71*T71 -> 0 | BD71: =AH71*T71 -> 0 | BE71: =AI71*T71 -> 0 | BF71: =AJ71*T71 -> 0 | BG71: =AK71*T71 -> 0 | BH71: =AL71*T71 -> 0 | BI71: =AM71*T71 -> 0 | BJ71: =AN71*T71 -> 0 | BK71: =AO71*T71 -> 0 | BL71: =AP71*T71 -> 0 | BM71: =AQ71*T71 -> 0 | BN71: =AR71*T71 -> 0 | BO71: =AS71*T71 -> 0
A72: Doomed 1 | B72: 4 | C72: 173.69 | D72: 7.4 | T72: =SUM(E72:S72) -> 0 | U72: =T72*B72 -> 0 | V72: =T72*C72 -> 0 | W72: =D72*T72 -> 0 | AD72: 1 | AI72: 3 | AU72: =Y72*T72 -> 0 | AV72: =T72*Z72 -> 0 | AW72: =AA72*T72 -> 0 | AX72: =AB72*T72 -> 0 | AY72: =AC72*T72 -> 0 | AZ72: =AD72*T72 -> 0 | BA72: =AE72*T72 -> 0 | BB72: =AF72*T72 -> 0 | BC72: =AG72*T72 -> 0 | BD72: =AH72*T72 -> 0 | BE72: =AI72*T72 -> 0 | BF72: =AJ72*T72 -> 0 | BG72: =AK72*T72 -> 0 | BH72: =AL72*T72 -> 0 | BI72: =AM72*T72 -> 0 | BJ72: =AN72*T72 -> 0 | BK72: =AO72*T72 -> 0 | BL72: =AP72*T72 -> 0 | BM72: =AQ72*T72 -> 0 | BN72: =AR72*T72 -> 0 | BO72: =AS72*T72 -> 0
A73: Doomed 2 | B73: 3 | C73: 176.3 | D73: 7.8 | T73: =SUM(E73:S73) -> 0 | U73: =T73*B73 -> 0 | V73: =T73*C73 -> 0 | W73: =D73*T73 -> 0 | AH73: 1 | AJ73: 2 | AU73: =Y73*T73 -> 0 | AV73: =T73*Z73 -> 0 | AW73: =AA73*T73 -> 0 | AX73: =AB73*T73 -> 0 | AY73: =AC73*T73 -> 0 | AZ73: =AD73*T73 -> 0 | BA73: =AE73*T73 -> 0 | BB73: =AF73*T73 -> 0 | BC73: =AG73*T73 -> 0 | BD73: =AH73*T73 -> 0 | BE73: =AI73*T73 -> 0 | BF73: =AJ73*T73 -> 0 | BG73: =AK73*T73 -> 0 | BH73: =AL73*T73 -> 0 | BI73: =AM73*T73 -> 0 | BJ73: =AN73*T73 -> 0 | BK73: =AO73*T73 -> 0 | BL73: =AP73*T73 -> 0 | BM73: =AQ73*T73 -> 0 | BN73: =AR73*T73 -> 0 | BO73: =AS73*T73 -> 0
A74: Doomed 3 | B74: 3 | C74: 174 | D74: 7.7 | T74: =SUM(E74:S74) -> 0 | U74: =T74*B74 -> 0 | V74: =T74*C74 -> 0 | W74: =D74*T74 -> 0 | AH74: 3
A75: Compressor | B75: 5 | C75: 151.48 | D75: 6.6 | T75: =SUM(E75:S75) -> 0 | U75: =T75*B75 -> 0 | V75: =T75*C75 -> 0 | W75: =D75*T75 -> 0 | AD75: 2 | AE75: 2 | AF75: 1 | AU75: =Y75*T75 -> 0 | AV75: =T75*Z75 -> 0 | AW75: =AA75*T75 -> 0 | AX75: =AB75*T75 -> 0 | AY75: =AC75*T75 -> 0 | AZ75: =AD75*T75 -> 0 | BA75: =AE75*T75 -> 0 | BB75: =AF75*T75 -> 0 | BC75: =AG75*T75 -> 0 | BD75: =AH75*T75 -> 0 | BE75: =AI75*T75 -> 0 | BF75: =AJ75*T75 -> 0 | BG75: =AK75*T75 -> 0 | BH75: =AL75*T75 -> 0 | BI75: =AM75*T75 -> 0 | BJ75: =AN75*T75 -> 0 | BK75: =AO75*T75 -> 0 | BL75: =AP75*T75 -> 0 | BM75: =AQ75*T75 -> 0 | BN75: =AR75*T75 -> 0 | BO75: =AS75*T75 -> 0
A76: Smiles 1 | B76: 3 | C76: 104.47 | D76: 4.2 | T76: =SUM(E76:S76) -> 0 | U76: =T76*B76 -> 0 | V76: =T76*C76 -> 0 | W76: =D76*T76 -> 0 | AU76: =Y76*T76 -> 0 | AV76: =T76*Z76 -> 0 | AW76: =AA76*T76 -> 0 | AX76: =AB76*T76 -> 0 | AY76: =AC76*T76 -> 0 | AZ76: =AD76*T76 -> 0 | BA76: =AE76*T76 -> 0 | BB76: =AF76*T76 -> 0 | BC76: =AG76*T76 -> 0 | BD76: =AH76*T76 -> 0 | BE76: =AI76*T76 -> 0 | BF76: =AJ76*T76 -> 0 | BG76: =AK76*T76 -> 0 | BH76: =AL76*T76 -> 0 | BI76: =AM76*T76 -> 0 | BJ76: =AN76*T76 -> 0 | BK76: =AO76*T76 -> 0 | BL76: =AP76*T76 -> 0 | BM76: =AQ76*T76 -> 0 | BN76: =AR76*T76 -> 0 | BO76: =AS76*T76 -> 0
A77: Smiles 2 | B77: 4 | C77: 143.65 | D77: 6.034 | T77: =SUM(E77:S77) -> 0 | U77: =T77*B77 -> 0 | V77: =T77*C77 -> 0 | W77: =D77*T77 -> 0 | AU77: =Y77*T77 -> 0 | AV77: =T77*Z77 -> 0 | AW77: =AA77*T77 -> 0 | AX77: =AB77*T77 -> 0 | AY77: =AC77*T77 -> 0 | AZ77: =AD77*T77 -> 0 | BA77: =AE77*T77 -> 0 | BB77: =AF77*T77 -> 0 | BC77: =AG77*T77 -> 0 | BD77: =AH77*T77 -> 0 | BE77: =AI77*T77 -> 0 | BF77: =AJ77*T77 -> 0 | BG77: =AK77*T77 -> 0 | BH77: =AL77*T77 -> 0 | BI77: =AM77*T77 -> 0 | BJ77: =AN77*T77 -> 0 | BK77: =AO77*T77 -> 0 | BL77: =AP77*T77 -> 0 | BM77: =AQ77*T77 -> 0 | BN77: =AR77*T77 -> 0 | BO77: =AS77*T77 -> 0
A78: Smiles 3 | B78: 5 | C78: 58.77 | D78: 2.516 | T78: =SUM(E78:S78) -> 0 | U78: =T78*B78 -> 0 | V78: =T78*C78 -> 0 | W78: =D78*T78 -> 0 | AU78: =Y78*T78 -> 0 | AV78: =T78*Z78 -> 0 | AW78: =AA78*T78 -> 0 | AX78: =AB78*T78 -> 0 | AY78: =AC78*T78 -> 0 | AZ78: =AD78*T78 -> 0 | BA78: =AE78*T78 -> 0 | BB78: =AF78*T78 -> 0 | BC78: =AG78*T78 -> 0 | BD78: =AH78*T78 -> 0 | BE78: =AI78*T78 -> 0 | BF78: =AJ78*T78 -> 0 | BG78: =AK78*T78 -> 0 | BH78: =AL78*T78 -> 0 | BI78: =AM78*T78 -> 0 | BJ78: =AN78*T78 -> 0 | BK78: =AO78*T78 -> 0 | BL78: =AP78*T78 -> 0 | BM78: =AQ78*T78 -> 0 | BN78: =AR78*T78 -> 0 | BO78: =AS78*T78 -> 0
A79: Arcane 1 | B79: 5 | C79: 143.65 | D79: 6.3 | T79: =SUM(E79:S79) -> 0 | U79: =T79*B79 -> 0 | V79: =T79*C79 -> 0 | W79: =D79*T79 -> 0 | AD79: 4 | AE79: 1 | AU79: =Y79*T79 -> 0 | AV79: =T79*Z79 -> 0 | AW79: =AA79*T79 -> 0 | AX79: =AB79*T79 -> 0 | AY79: =AC79*T79 -> 0 | AZ79: =AD79*T79 -> 0 | BA79: =AE79*T79 -> 0 | BB79: =AF79*T79 -> 0 | BC79: =AG79*T79 -> 0 | BD79: =AH79*T79 -> 0 | BE79: =AI79*T79 -> 0 | BF79: =AJ79*T79 -> 0 | BG79: =AK79*T79 -> 0 | BH79: =AL79*T79 -> 0 | BI79: =AM79*T79 -> 0 | BJ79: =AN79*T79 -> 0 | BK79: =AO79*T79 -> 0 | BL79: =AP79*T79 -> 0 | BM79: =AQ79*T79 -> 0 | BN79: =AR79*T79 -> 0 | BO79: =AS79*T79 -> 0
A80: Arcane 2 | B80: 3 | C80: 143.65 | D80: 6.2 | T80: =SUM(E80:S80) -> 0 | U80: =T80*B80 -> 0 | V80: =T80*C80 -> 0 | W80: =D80*T80 -> 0 | AD80: 1 | AE80: 1 | AG80: 1 | AU80: =Y80*T80 -> 0 | AV80: =T80*Z80 -> 0 | AW80: =AA80*T80 -> 0 | AX80: =AB80*T80 -> 0 | AY80: =AC80*T80 -> 0 | AZ80: =AD80*T80 -> 0 | BA80: =AE80*T80 -> 0 | BB80: =AF80*T80 -> 0 | BC80: =AG80*T80 -> 0 | BD80: =AH80*T80 -> 0 | BE80: =AI80*T80 -> 0 | BF80: =AJ80*T80 -> 0 | BG80: =AK80*T80 -> 0 | BH80: =AL80*T80 -> 0 | BI80: =AM80*T80 -> 0 | BJ80: =AN80*T80 -> 0 | BK80: =AO80*T80 -> 0 | BL80: =AP80*T80 -> 0 | BM80: =AQ80*T80 -> 0 | BN80: =AR80*T80 -> 0 | BO80: =AS80*T80 -> 0
A81: Arcane 3 | B81: 3 | C81: 188.05 | D81: 8.15 | T81: =SUM(E81:S81) -> 0 | U81: =T81*B81 -> 0 | V81: =T81*C81 -> 0 | W81: =D81*T81 -> 0 | AF81: 1 | AI81: 2 | AU81: =Y81*T81 -> 0 | AV81: =T81*Z81 -> 0 | AW81: =AA81*T81 -> 0 | AX81: =AB81*T81 -> 0 | AY81: =AC81*T81 -> 0 | AZ81: =AD81*T81 -> 0 | BA81: =AE81*T81 -> 0 | BB81: =AF81*T81 -> 0 | BC81: =AG81*T81 -> 0 | BD81: =AH81*T81 -> 0 | BE81: =AI81*T81 -> 0 | BF81: =AJ81*T81 -> 0 | BG81: =AK81*T81 -> 0 | BH81: =AL81*T81 -> 0 | BI81: =AM81*T81 -> 0 | BJ81: =AN81*T81 -> 0 | BK81: =AO81*T81 -> 0 | BL81: =AP81*T81 -> 0 | BM81: =AQ81*T81 -> 0 | BN81: =AR81*T81 -> 0 | BO81: =AS81*T81 -> 0
A82: Arcane 4 | B82: 5 | C82: 150.18 | D82: 7.1 | T82: =SUM(E82:S82) -> 0 | U82: =T82*B82 -> 0 | V82: =T82*C82 -> 0 | W82: =D82*T82 -> 0 | AB82: 5 | AU82: =Y82*T82 -> 0 | AV82: =T82*Z82 -> 0 | AW82: =AA82*T82 -> 0 | AX82: =AB82*T82 -> 0 | AY82: =AC82*T82 -> 0 | AZ82: =AD82*T82 -> 0 | BA82: =AE82*T82 -> 0 | BB82: =AF82*T82 -> 0 | BC82: =AG82*T82 -> 0 | BD82: =AH82*T82 -> 0 | BE82: =AI82*T82 -> 0 | BF82: =AJ82*T82 -> 0 | BG82: =AK82*T82 -> 0 | BH82: =AL82*T82 -> 0 | BI82: =AM82*T82 -> 0 | BJ82: =AN82*T82 -> 0 | BK82: =AO82*T82 -> 0 | BL82: =AP82*T82 -> 0 | BM82: =AQ82*T82 -> 0 | BN82: =AR82*T82 -> 0 | BO82: =AS82*T82 -> 0
A83: Arcane 5 | B83: 3 | C83: 121.45 | D83: 5.175 | T83: =SUM(E83:S83) -> 0 | U83: =T83*B83 -> 0 | V83: =T83*C83 -> 0 | W83: =D83*T83 -> 0 | AD83: 1 | AE83: 2 | AU83: =Y83*T83 -> 0 | AV83: =T83*Z83 -> 0 | AW83: =AA83*T83 -> 0 | AX83: =AB83*T83 -> 0 | AY83: =AC83*T83 -> 0 | AZ83: =AD83*T83 -> 0 | BA83: =AE83*T83 -> 0 | BB83: =AF83*T83 -> 0 | BC83: =AG83*T83 -> 0 | BD83: =AH83*T83 -> 0 | BE83: =AI83*T83 -> 0 | BF83: =AJ83*T83 -> 0 | BG83: =AK83*T83 -> 0 | BH83: =AL83*T83 -> 0 | BI83: =AM83*T83 -> 0 | BJ83: =AN83*T83 -> 0 | BK83: =AO83*T83 -> 0 | BL83: =AP83*T83 -> 0 | BM83: =AQ83*T83 -> 0 | BN83: =AR83*T83 -> 0 | BO83: =AS83*T83 -> 0
A84: Arcane 6 | B84: 3 | C84: 150.18 | D84: 6.7 | T84: =SUM(E84:S84) -> 0 | U84: =T84*B84 -> 0 | V84: =T84*C84 -> 0 | W84: =D84*T84 -> 0 | AA84: 1 | AC84: 1 | AE84: 1 | AU84: =Y84*T84 -> 0 | AV84: =T84*Z84 -> 0 | AW84: =AA84*T84 -> 0 | AX84: =AB84*T84 -> 0 | AY84: =AC84*T84 -> 0 | AZ84: =AD84*T84 -> 0 | BA84: =AE84*T84 -> 0 | BB84: =AF84*T84 -> 0 | BC84: =AG84*T84 -> 0 | BD84: =AH84*T84 -> 0 | BE84: =AI84*T84 -> 0 | BF84: =AJ84*T84 -> 0 | BG84: =AK84*T84 -> 0 | BH84: =AL84*T84 -> 0 | BI84: =AM84*T84 -> 0 | BJ84: =AN84*T84 -> 0 | BK84: =AO84*T84 -> 0 | BL84: =AP84*T84 -> 0 | BM84: =AQ84*T84 -> 0 | BN84: =AR84*T84 -> 0 | BO84: =AS84*T84 -> 0
A85: Arcane 7 | B85: 6 | C85: 117.53 | D85: 5.2 | T85: =SUM(E85:S85) -> 0 | U85: =T85*B85 -> 0 | V85: =T85*C85 -> 0 | W85: =D85*T85 -> 0 | Z85: 3 | AB85: 3 | AU85: =Y85*T85 -> 0 | AV85: =T85*Z85 -> 0 | AW85: =AA85*T85 -> 0 | AX85: =AB85*T85 -> 0 | AY85: =AC85*T85 -> 0 | AZ85: =AD85*T85 -> 0 | BA85: =AE85*T85 -> 0 | BB85: =AF85*T85 -> 0 | BC85: =AG85*T85 -> 0 | BD85: =AH85*T85 -> 0 | BE85: =AI85*T85 -> 0 | BF85: =AJ85*T85 -> 0 | BG85: =AK85*T85 -> 0 | BH85: =AL85*T85 -> 0 | BI85: =AM85*T85 -> 0 | BJ85: =AN85*T85 -> 0 | BK85: =AO85*T85 -> 0 | BL85: =AP85*T85 -> 0 | BM85: =AQ85*T85 -> 0 | BN85: =AR85*T85 -> 0 | BO85: =AS85*T85 -> 0
A86: Arcane 1-7 Pack | B86: 28 | C86: 992.5 | D86: 43.9 | T86: =SUM(E86:S86) -> 0 | U86: =T86*B86 -> 0 | V86: =T86*C86 -> 0 | W86: =D86*T86 -> 0 | Y86: =SUM(Y79:Y85) -> 0 | Z86: =SUM(Z79:Z85) -> 3 | AA86: =SUM(AA79:AA85) -> 1 | AB86: =SUM(AB79:AB85) -> 8 | AC86: =SUM(AC79:AC85) -> 1 | AD86: =SUM(AD79:AD85) -> 6 | AE86: =SUM(AE79:AE85) -> 5 | AF86: =SUM(AF79:AF85) -> 1 | ... AS86: =SUM(AS79:AS85) -> 0 | AU86: =Y86*T86 -> 0 | AV86: =T86*Z86 -> 0 | AW86: =AA86*T86 -> 0 | AX86: =AB86*T86 -> 0 | AY86: =AC86*T86 -> 0 | AZ86: =AD86*T86 -> 0 | BA86: =AE86*T86 -> 0 | BB86: =AF86*T86 -> 0 | BC86: =AG86*T86 -> 0 | BD86: =AH86*T86 -> 0 | BE86: =AI86*T86 -> 0 | BF86: =AJ86*T86 -> 0 | BG86: =AK86*T86 -> 0 | BH86: =AL86*T86 -> 0 | BI86: =AM86*T86 -> 0 | BJ86: =AN86*T86 -> 0 | BK86: =AO86*T86 -> 0 | BL86: =AP86*T86 -> 0 | BM86: =AQ86*T86 -> 0 | BN86: =AR86*T86 -> 0 | BO86: =AS86*T86 -> 0
A87: Pills 1 | B87: 15 | C87: 84.88 | D87: 2.65 | T87: =SUM(E87:S87) -> 0 | U87: =T87*B87 -> 0 | V87: =T87*C87 -> 0 | W87: =D87*T87 -> 0 | Y87: 15 | AU87: =Y87*T87 -> 0 | AV87: =T87*Z87 -> 0 | AW87: =AA87*T87 -> 0 | AX87: =AB87*T87 -> 0 | AY87: =AC87*T87 -> 0 | AZ87: =AD87*T87 -> 0 | BA87: =AE87*T87 -> 0 | BB87: =AF87*T87 -> 0 | BC87: =AG87*T87 -> 0 | BD87: =AH87*T87 -> 0 | BE87: =AI87*T87 -> 0 | BF87: =AJ87*T87 -> 0 | BG87: =AK87*T87 -> 0 | BH87: =AL87*T87 -> 0 | BI87: =AM87*T87 -> 0 | BJ87: =AN87*T87 -> 0 | BK87: =AO87*T87 -> 0 | BL87: =AP87*T87 -> 0 | BM87: =AQ87*T87 -> 0 | BN87: =AR87*T87 -> 0 | BO87: =AS87*T87 -> 0
A88: Pills 2 | B88: 10 | C88: 58.77 | D88: 1.76 | T88: =SUM(E88:S88) -> 0 | U88: =T88*B88 -> 0 | V88: =T88*C88 -> 0 | W88: =D88*T88 -> 0 | Z88: 10 | AU88: =Y88*T88 -> 0 | AV88: =T88*Z88 -> 0 | AW88: =AA88*T88 -> 0 | AX88: =AB88*T88 -> 0 | AY88: =AC88*T88 -> 0 | AZ88: =AD88*T88 -> 0 | BA88: =AE88*T88 -> 0 | BB88: =AF88*T88 -> 0 | BC88: =AG88*T88 -> 0 | BD88: =AH88*T88 -> 0 | BE88: =AI88*T88 -> 0 | BF88: =AJ88*T88 -> 0 | BG88: =AK88*T88 -> 0 | BH88: =AL88*T88 -> 0 | BI88: =AM88*T88 -> 0 | BJ88: =AN88*T88 -> 0 | BK88: =AO88*T88 -> 0 | BL88: =AP88*T88 -> 0 | BM88: =AQ88*T88 -> 0 | BN88: =AR88*T88 -> 0 | BO88: =AS88*T88 -> 0
A89: Dune 1 | B89: 5 | C89: 143.65 | D89: 4.5 | T89: =SUM(E89:S89) -> 0 | U89: =T89*B89 -> 0 | V89: =T89*C89 -> 0 | W89: =D89*T89 -> 0 | AU89: =Y89*T89 -> 0 | AV89: =T89*Z89 -> 0 | AW89: =AA89*T89 -> 0 | AX89: =AB89*T89 -> 0 | AY89: =AC89*T89 -> 0 | AZ89: =AD89*T89 -> 0 | BA89: =AE89*T89 -> 0 | BB89: =AF89*T89 -> 0 | BC89: =AG89*T89 -> 0 | BD89: =AH89*T89 -> 0 | BE89: =AI89*T89 -> 0 | BF89: =AJ89*T89 -> 0 | BG89: =AK89*T89 -> 0 | BH89: =AL89*T89 -> 0 | BI89: =AM89*T89 -> 0 | BJ89: =AN89*T89 -> 0 | BK89: =AO89*T89 -> 0 | BL89: =AP89*T89 -> 0 | BM89: =AQ89*T89 -> 0 | BN89: =AR89*T89 -> 0 | BO89: =AS89*T89 -> 0
A90: Dune 2 | B90: 5 | C90: 117.53 | D90: 3.41 | T90: =SUM(E90:S90) -> 0 | U90: =T90*B90 -> 0 | V90: =T90*C90 -> 0 | W90: =D90*T90 -> 0 | AU90: =Y90*T90 -> 0 | AV90: =T90*Z90 -> 0 | AW90: =AA90*T90 -> 0 | AX90: =AB90*T90 -> 0 | AY90: =AC90*T90 -> 0 | AZ90: =AD90*T90 -> 0 | BA90: =AE90*T90 -> 0 | BB90: =AF90*T90 -> 0 | BC90: =AG90*T90 -> 0 | BD90: =AH90*T90 -> 0 | BE90: =AI90*T90 -> 0 | BF90: =AJ90*T90 -> 0 | BG90: =AK90*T90 -> 0 | BH90: =AL90*T90 -> 0 | BI90: =AM90*T90 -> 0 | BJ90: =AN90*T90 -> 0 | BK90: =AO90*T90 -> 0 | BL90: =AP90*T90 -> 0 | BM90: =AQ90*T90 -> 0 | BN90: =AR90*T90 -> 0 | BO90: =AS90*T90 -> 0
A91: Dune 3 | B91: 6 | C91: 26.12 | D91: 0.757 | T91: =SUM(E91:S91) -> 0 | U91: =T91*B91 -> 0 | V91: =T91*C91 -> 0 | W91: =D91*T91 -> 0 | AU91: =Y91*T91 -> 0 | AV91: =T91*Z91 -> 0 | AW91: =AA91*T91 -> 0 | AX91: =AB91*T91 -> 0 | AY91: =AC91*T91 -> 0 | AZ91: =AD91*T91 -> 0 | BA91: =AE91*T91 -> 0 | BB91: =AF91*T91 -> 0 | BC91: =AG91*T91 -> 0 | BD91: =AH91*T91 -> 0 | BE91: =AI91*T91 -> 0 | BF91: =AJ91*T91 -> 0 | BG91: =AK91*T91 -> 0 | BH91: =AL91*T91 -> 0 | BI91: =AM91*T91 -> 0 | BJ91: =AN91*T91 -> 0 | BK91: =AO91*T91 -> 0 | BL91: =AP91*T91 -> 0 | BM91: =AQ91*T91 -> 0 | BN91: =AR91*T91 -> 0 | BO91: =AS91*T91 -> 0
A92: Dune 4 NEW | B92: 3 | C92: 124 | D92: 5.4 | T92: =SUM(E92:S92) -> 0 | U92: =T92*B92 -> 0 | V92: =T92*C92 -> 0 | W92: =D92*T92 -> 0 | AU92: =Y92*T92 -> 0 | AV92: =T92*Z92 -> 0 | AW92: =AA92*T92 -> 0 | AX92: =AB92*T92 -> 0 | AY92: =AC92*T92 -> 0 | AZ92: =AD92*T92 -> 0 | BA92: =AE92*T92 -> 0 | BB92: =AF92*T92 -> 0 | BC92: =AG92*T92 -> 0 | BD92: =AH92*T92 -> 0 | BE92: =AI92*T92 -> 0 | BF92: =AJ92*T92 -> 0 | BG92: =AK92*T92 -> 0 | BH92: =AL92*T92 -> 0 | BI92: =AM92*T92 -> 0 | BJ92: =AN92*T92 -> 0 | BK92: =AO92*T92 -> 0 | BL92: =AP92*T92 -> 0 | BM92: =AQ92*T92 -> 0 | BN92: =AR92*T92 -> 0 | BO92: =AS92*T92 -> 0
A93: Silence | B93: 3 | C93: 126.67 | D93: 5.8 | T93: =SUM(E93:S93) -> 0 | U93: =T93*B93 -> 0 | V93: =T93*C93 -> 0 | W93: =D93*T93 -> 0 | AU93: =Y93*T93 -> 0 | AV93: =T93*Z93 -> 0 | AW93: =AA93*T93 -> 0 | AX93: =AB93*T93 -> 0 | AY93: =AC93*T93 -> 0 | AZ93: =AD93*T93 -> 0 | BA93: =AE93*T93 -> 0 | BB93: =AF93*T93 -> 0 | BC93: =AG93*T93 -> 0 | BD93: =AH93*T93 -> 0 | BE93: =AI93*T93 -> 0 | BF93: =AJ93*T93 -> 0 | BG93: =AK93*T93 -> 0 | BH93: =AL93*T93 -> 0 | BI93: =AM93*T93 -> 0 | BJ93: =AN93*T93 -> 0 | BK93: =AO93*T93 -> 0 | BL93: =AP93*T93 -> 0 | BM93: =AQ93*T93 -> 0 | BN93: =AR93*T93 -> 0 | BO93: =AS93*T93 -> 0
A94: Leaves 1 | B94: 4 | C94: 84.88 | D94: 3.55 | T94: =SUM(E94:S94) -> 0 | U94: =T94*B94 -> 0 | V94: =T94*C94 -> 0 | W94: =D94*T94 -> 0 | Y94: 1 | Z94: 3 | AU94: =Y94*T94 -> 0 | AV94: =T94*Z94 -> 0 | AW94: =AA94*T94 -> 0 | AX94: =AB94*T94 -> 0 | AY94: =AC94*T94 -> 0 | AZ94: =AD94*T94 -> 0 | BA94: =AE94*T94 -> 0 | BB94: =AF94*T94 -> 0 | BC94: =AG94*T94 -> 0 | BD94: =AH94*T94 -> 0 | BE94: =AI94*T94 -> 0 | BF94: =AJ94*T94 -> 0 | BG94: =AK94*T94 -> 0 | BH94: =AL94*T94 -> 0 | BI94: =AM94*T94 -> 0 | BJ94: =AN94*T94 -> 0 | BK94: =AO94*T94 -> 0 | BL94: =AP94*T94 -> 0 | BM94: =AQ94*T94 -> 0 | BN94: =AR94*T94 -> 0 | BO94: =AS94*T94 -> 0
A95: Leaves 2 | B95: 2 | C95: 78.36 | D95: 3.15 | T95: =SUM(E95:S95) -> 0 | U95: =T95*B95 -> 0 | V95: =T95*C95 -> 0 | W95: =D95*T95 -> 0 | AU95: =Y95*T95 -> 0 | AV95: =T95*Z95 -> 0 | AW95: =AA95*T95 -> 0 | AX95: =AB95*T95 -> 0 | AY95: =AC95*T95 -> 0 | AZ95: =AD95*T95 -> 0 | BA95: =AE95*T95 -> 0 | BB95: =AF95*T95 -> 0 | BC95: =AG95*T95 -> 0 | BD95: =AH95*T95 -> 0 | BE95: =AI95*T95 -> 0 | BF95: =AJ95*T95 -> 0 | BG95: =AK95*T95 -> 0 | BH95: =AL95*T95 -> 0 | BI95: =AM95*T95 -> 0 | BJ95: =AN95*T95 -> 0 | BK95: =AO95*T95 -> 0 | BL95: =AP95*T95 -> 0 | BM95: =AQ95*T95 -> 0 | BN95: =AR95*T95 -> 0 | BO95: =AS95*T95 -> 0
A96: Urban | B96: 3 | C96: 156.71 | D96: 6.3 | T96: =SUM(E96:S96) -> 0 | U96: =T96*B96 -> 0 | V96: =T96*C96 -> 0 | W96: =D96*T96 -> 0 | AF96: 1 | AI96: 2 | AU96: =Y96*T96 -> 0 | AV96: =T96*Z96 -> 0 | AW96: =AA96*T96 -> 0 | AX96: =AB96*T96 -> 0 | AY96: =AC96*T96 -> 0 | AZ96: =AD96*T96 -> 0 | BA96: =AE96*T96 -> 0 | BB96: =AF96*T96 -> 0 | BC96: =AG96*T96 -> 0 | BD96: =AH96*T96 -> 0 | BE96: =AI96*T96 -> 0 | BF96: =AJ96*T96 -> 0 | BG96: =AK96*T96 -> 0 | BH96: =AL96*T96 -> 0 | BI96: =AM96*T96 -> 0 | BJ96: =AN96*T96 -> 0 | BK96: =AO96*T96 -> 0 | BL96: =AP96*T96 -> 0 | BM96: =AQ96*T96 -> 0 | BN96: =AR96*T96 -> 0 | BO96: =AS96*T96 -> 0
A97: Stealth | B97: 6 | C97: 84.88 | D97: 4.015 | T97: =SUM(E97:S97) -> 0 | U97: =T97*B97 -> 0 | V97: =T97*C97 -> 0 | W97: =D97*T97 -> 0 | Z97: 6 | AU97: =Y97*T97 -> 0 | AV97: =T97*Z97 -> 0 | AW97: =AA97*T97 -> 0 | AX97: =AB97*T97 -> 0 | AY97: =AC97*T97 -> 0 | AZ97: =AD97*T97 -> 0 | BA97: =AE97*T97 -> 0 | BB97: =AF97*T97 -> 0 | BC97: =AG97*T97 -> 0 | BD97: =AH97*T97 -> 0 | BE97: =AI97*T97 -> 0 | BF97: =AJ97*T97 -> 0 | BG97: =AK97*T97 -> 0 | BH97: =AL97*T97 -> 0 | BI97: =AM97*T97 -> 0 | BJ97: =AN97*T97 -> 0 | BK97: =AO97*T97 -> 0 | BL97: =AP97*T97 -> 0 | BM97: =AQ97*T97 -> 0 | BN97: =AR97*T97 -> 0 | BO97: =AS97*T97 -> 0
A98: The ultimate pinch | B98: 5 | C98: 151.48 | D98: 5.98 | T98: =SUM(E98:S98) -> 0 | U98: =T98*B98 -> 0 | V98: =T98*C98 -> 0 | W98: =D98*T98 -> 0 | AD98: 1 | AE98: 2 | AF98: 1 | AH98: 1 | AU98: =Y98*T98 -> 0 | AV98: =T98*Z98 -> 0 | AW98: =AA98*T98 -> 0 | AX98: =AB98*T98 -> 0 | AY98: =AC98*T98 -> 0 | AZ98: =AD98*T98 -> 0 | BA98: =AE98*T98 -> 0 | BB98: =AF98*T98 -> 0 | BC98: =AG98*T98 -> 0 | BD98: =AH98*T98 -> 0 | BE98: =AI98*T98 -> 0 | BF98: =AJ98*T98 -> 0 | BG98: =AK98*T98 -> 0 | BH98: =AL98*T98 -> 0 | BI98: =AM98*T98 -> 0 | BJ98: =AN98*T98 -> 0 | BK98: =AO98*T98 -> 0 | BL98: =AP98*T98 -> 0 | BM98: =AQ98*T98 -> 0 | BN98: =AR98*T98 -> 0 | BO98: =AS98*T98 -> 0
A99: Jugflakes | B99: 3 | C99: 121.45 | D99: 5.23 | T99: =SUM(E99:S99) -> 0 | U99: =T99*B99 -> 0 | V99: =T99*C99 -> 0 | W99: =D99*T99 -> 0 | AA99: 1 | AC99: 1 | AE99: 1 | AU99: =Y99*T99 -> 0 | AV99: =T99*Z99 -> 0 | AW99: =AA99*T99 -> 0 | AX99: =AB99*T99 -> 0 | AY99: =AC99*T99 -> 0 | AZ99: =AD99*T99 -> 0 | BA99: =AE99*T99 -> 0 | BB99: =AF99*T99 -> 0 | BC99: =AG99*T99 -> 0 | BD99: =AH99*T99 -> 0 | BE99: =AI99*T99 -> 0 | BF99: =AJ99*T99 -> 0 | BG99: =AK99*T99 -> 0 | BH99: =AL99*T99 -> 0 | BI99: =AM99*T99 -> 0 | BJ99: =AN99*T99 -> 0 | BK99: =AO99*T99 -> 0 | BL99: =AP99*T99 -> 0 | BM99: =AQ99*T99 -> 0 | BN99: =AR99*T99 -> 0 | BO99: =AS99*T99 -> 0
A100: Tongues 1 | B100: 10 | C100: 78.36 | D100: 3.05 | T100: =SUM(E100:S100) -> 0 | U100: =T100*B100 -> 0 | V100: =T100*C100 -> 0 | W100: =D100*T100 -> 0 | Z100: 10 | AU100: =Y100*T100 -> 0 | AV100: =T100*Z100 -> 0 | AW100: =AA100*T100 -> 0 | AX100: =AB100*T100 -> 0 | AY100: =AC100*T100 -> 0 | AZ100: =AD100*T100 -> 0 | BA100: =AE100*T100 -> 0 | BB100: =AF100*T100 -> 0 | BC100: =AG100*T100 -> 0 | BD100: =AH100*T100 -> 0 | BE100: =AI100*T100 -> 0 | BF100: =AJ100*T100 -> 0 | BG100: =AK100*T100 -> 0 | BH100: =AL100*T100 -> 0 | BI100: =AM100*T100 -> 0 | BJ100: =AN100*T100 -> 0 | BK100: =AO100*T100 -> 0 | BL100: =AP100*T100 -> 0 | BM100: =AQ100*T100 -> 0 | BN100: =AR100*T100 -> 0 | BO100: =AS100*T100 -> 0
...

Sheet Fiberglass
A1: Name | B1: Volumes | C1: Price | D1: Weight | E1: Yellow | F1: Orange | G1: Light Blue | H1: Red | I1: Purple | J1: Blue | K1: Green | L1: Grey | M1: Mint 6027 | N1: Black | O1: White | P1: Fl.Orange | Q1: Fl.Pink | R1: Fl.Green | S1: Sets | T1: Pcs | U1: Total | V1: Total weight | W1: Fixation | X1: Size | Y1: 30 mm | Z1: 40 mm | AA1: 50 mm | AB1: 60 mm | AC1: 70 mm | AD1: 80 mm | AE1: 90 mm | AF1: 100 mm | AG1: 110 mm | AH1: 120 mm | AI1: 130 mm | AJ1: 140 mm | AK1: 150 mm | AL1: 160 mm | AM1: 170 mm | AN1: 180 mm | AO1: 190 mm | AP1: 200 mm | AQ1: 210 mm | AR1: 220 mm | AS1: 230 mm | AU1: 30 mm | AV1: 40 mm | AW1: 50 mm | AX1: 60 mm | AY1: 70 mm | AZ1: 80 mm | BA1: 90 mm | BB1: 100 mm | BC1: 110 mm | BD1: 120 mm | BE1: 130 mm | BF1: 140 mm | BG1: 150 mm | BH1: 160 mm | BI1: 170 mm | BJ1: 180 mm | BK1: 190 mm | BL1: 200 mm | BM1: 210 mm | BN1: 220 mm | BO1: 230 mm
A2: Evolution Fiberglass
A3: Evolution Fiberglass - Set 10-2 Dual-Tex NEW | B3: 7 | C3: 1008 | D3: 5.1 | S3: =SUM(E3:R3) -> 0 | T3: =S3*B3 -> 0 | U3: =S3*C3 -> 0 | V3: =S3*D3 -> 0 | W3: Screw on | X3: XXS-M | AU3: =Y3*S3 -> 0 | AV3: =Z3*S3 -> 0 | AW3: =AA3*S3 -> 0 | AX3: =AB3*S3 -> 0 | AY3: =AC3*S3 -> 0 | AZ3: =AD3*S3 -> 0 | BA3: =AE3*S3 -> 0 | BB3: =AF3*S3 -> 0 | BC3: =AG3*S3 -> 0 | BD3: =AH3*S3 -> 0 | BE3: =AI3*S3 -> 0 | BF3: =AJ3*S3 -> 0 | BG3: =AK3*S3 -> 0 | BH3: =AL3*S3 -> 0 | BI3: =AM3*S3 -> 0 | BJ3: =AN3*S3 -> 0 | BK3: =AO3*S3 -> 0 | BL3: =AP3*S3 -> 0 | BM3: =AQ3*S3 -> 0 | BN3: =AR3*S3 -> 0 | BO3: =AS3*S3 -> 0
A4: Evolution Fiberglass - Set 10-1 Dual-Tex NEW | B4: 7 | C4: 1000 | D4: 8.95 | S4: =SUM(E4:R4) -> 0 | T4: =S4*B4 -> 0 | U4: =S4*C4 -> 0 | V4: =S4*D4 -> 0 | W4: Screw on | X4: XXS-M | AU4: =Y4*S4 -> 0 | AV4: =Z4*S4 -> 0 | AW4: =AA4*S4 -> 0 | AX4: =AB4*S4 -> 0 | AY4: =AC4*S4 -> 0 | AZ4: =AD4*S4 -> 0 | BA4: =AE4*S4 -> 0 | BB4: =AF4*S4 -> 0 | BC4: =AG4*S4 -> 0 | BD4: =AH4*S4 -> 0 | BE4: =AI4*S4 -> 0 | BF4: =AJ4*S4 -> 0 | BG4: =AK4*S4 -> 0 | BH4: =AL4*S4 -> 0 | BI4: =AM4*S4 -> 0 | BJ4: =AN4*S4 -> 0 | BK4: =AO4*S4 -> 0 | BL4: =AP4*S4 -> 0 | BM4: =AQ4*S4 -> 0 | BN4: =AR4*S4 -> 0 | BO4: =AS4*S4 -> 0
A5: Evolution Fiberglass - Set 9-2 NEW | B5: 7 | C5: 850 | D5: 4.3 | S5: =SUM(E5:R5) -> 0 | T5: =S5*B5 -> 0 | U5: =S5*C5 -> 0 | V5: =S5*D5 -> 0 | W5: Screw on | X5: XXS-M | AU5: =Y5*S5 -> 0 | AV5: =Z5*S5 -> 0 | AW5: =AA5*S5 -> 0 | AX5: =AB5*S5 -> 0 | AY5: =AC5*S5 -> 0 | AZ5: =AD5*S5 -> 0 | BA5: =AE5*S5 -> 0 | BB5: =AF5*S5 -> 0 | BC5: =AG5*S5 -> 0 | BD5: =AH5*S5 -> 0 | BE5: =AI5*S5 -> 0 | BF5: =AJ5*S5 -> 0 | BG5: =AK5*S5 -> 0 | BH5: =AL5*S5 -> 0 | BI5: =AM5*S5 -> 0 | BJ5: =AN5*S5 -> 0 | BK5: =AO5*S5 -> 0 | BL5: =AP5*S5 -> 0 | BM5: =AQ5*S5 -> 0 | BN5: =AR5*S5 -> 0 | BO5: =AS5*S5 -> 0
A6: Evolution Fiberglass - Set 9-1 NEW | B6: 7 | C6: 850 | D6: 4.6 | S6: =SUM(E6:R6) -> 0 | T6: =S6*B6 -> 0 | U6: =S6*C6 -> 0 | V6: =S6*D6 -> 0 | W6: Screw on | X6: XXS-M | AU6: =Y6*S6 -> 0 | AV6: =Z6*S6 -> 0 | AW6: =AA6*S6 -> 0 | AX6: =AB6*S6 -> 0 | AY6: =AC6*S6 -> 0 | AZ6: =AD6*S6 -> 0 | BA6: =AE6*S6 -> 0 | BB6: =AF6*S6 -> 0 | BC6: =AG6*S6 -> 0 | BD6: =AH6*S6 -> 0 | BE6: =AI6*S6 -> 0 | BF6: =AJ6*S6 -> 0 | BG6: =AK6*S6 -> 0 | BH6: =AL6*S6 -> 0 | BI6: =AM6*S6 -> 0 | BJ6: =AN6*S6 -> 0 | BK6: =AO6*S6 -> 0 | BL6: =AP6*S6 -> 0 | BM6: =AQ6*S6 -> 0 | BN6: =AR6*S6 -> 0 | BO6: =AS6*S6 -> 0
A7: Evolution Fiberglass - Set 8 Dual-Tex | B7: 11 | C7: 800 | D7: 8 | S7: =SUM(E7:R7) -> 0 | T7: =S7*B7 -> 0 | U7: =S7*C7 -> 0 | V7: =S7*D7 -> 0 | W7: Screw on | X7: XXS-M | AU7: =Y7*S7 -> 0 | AV7: =Z7*S7 -> 0 | AW7: =AA7*S7 -> 0 | AX7: =AB7*S7 -> 0 | AY7: =AC7*S7 -> 0 | AZ7: =AD7*S7 -> 0 | BA7: =AE7*S7 -> 0 | BB7: =AF7*S7 -> 0 | BC7: =AG7*S7 -> 0 | BD7: =AH7*S7 -> 0 | BE7: =AI7*S7 -> 0 | BF7: =AJ7*S7 -> 0 | BG7: =AK7*S7 -> 0 | BH7: =AL7*S7 -> 0 | BI7: =AM7*S7 -> 0 | BJ7: =AN7*S7 -> 0 | BK7: =AO7*S7 -> 0 | BL7: =AP7*S7 -> 0 | BM7: =AQ7*S7 -> 0 | BN7: =AR7*S7 -> 0 | BO7: =AS7*S7 -> 0
A8: Evolution Fiberglass - Set 7 Dual-Tex | B8: 12 | C8: 780 | D8: 6 | S8: =SUM(E8:R8) -> 0 | T8: =S8*B8 -> 0 | U8: =S8*C8 -> 0 | V8: =S8*D8 -> 0 | W8: Screw on | X8: XXXS-S | AU8: =Y8*S8 -> 0 | AV8: =Z8*S8 -> 0 | AW8: =AA8*S8 -> 0 | AX8: =AB8*S8 -> 0 | AY8: =AC8*S8 -> 0 | AZ8: =AD8*S8 -> 0 | BA8: =AE8*S8 -> 0 | BB8: =AF8*S8 -> 0 | BC8: =AG8*S8 -> 0 | BD8: =AH8*S8 -> 0 | BE8: =AI8*S8 -> 0 | BF8: =AJ8*S8 -> 0 | BG8: =AK8*S8 -> 0 | BH8: =AL8*S8 -> 0 | BI8: =AM8*S8 -> 0 | BJ8: =AN8*S8 -> 0 | BK8: =AO8*S8 -> 0 | BL8: =AP8*S8 -> 0 | BM8: =AQ8*S8 -> 0 | BN8: =AR8*S8 -> 0 | BO8: =AS8*S8 -> 0
A9: Evolution Fiberglass - Set 6 | B9: 20 | C9: 1290 | D9: 14 | S9: =SUM(E9:R9) -> 0 | T9: =S9*B9 -> 0 | U9: =S9*C9 -> 0 | V9: =S9*D9 -> 0 | W9: Screw on | X9: XXXS-M | AU9: =Y9*S9 -> 0 | AV9: =Z9*S9 -> 0 | AW9: =AA9*S9 -> 0 | AX9: =AB9*S9 -> 0 | AY9: =AC9*S9 -> 0 | AZ9: =AD9*S9 -> 0 | BA9: =AE9*S9 -> 0 | BB9: =AF9*S9 -> 0 | BC9: =AG9*S9 -> 0 | BD9: =AH9*S9 -> 0 | BE9: =AI9*S9 -> 0 | BF9: =AJ9*S9 -> 0 | BG9: =AK9*S9 -> 0 | BH9: =AL9*S9 -> 0 | BI9: =AM9*S9 -> 0 | BJ9: =AN9*S9 -> 0 | BK9: =AO9*S9 -> 0 | BL9: =AP9*S9 -> 0 | BM9: =AQ9*S9 -> 0 | BN9: =AR9*S9 -> 0 | BO9: =AS9*S9 -> 0
A10: Evolution Fiberglass - Set 5 Lead Dual-Tex | B10: 58 | C10: 2900 | D10: 18 | S10: =SUM(E10:R10) -> 0 | T10: =S10*B10 -> 0 | U10: =S10*C10 -> 0 | V10: =S10*D10 -> 0 | W10: Screw on | X10: XXXS-M | AU10: =Y10*S10 -> 0 | AV10: =Z10*S10 -> 0 | AW10: =AA10*S10 -> 0 | AX10: =AB10*S10 -> 0 | AY10: =AC10*S10 -> 0 | AZ10: =AD10*S10 -> 0 | BA10: =AE10*S10 -> 0 | BB10: =AF10*S10 -> 0 | BC10: =AG10*S10 -> 0 | BD10: =AH10*S10 -> 0 | BE10: =AI10*S10 -> 0 | BF10: =AJ10*S10 -> 0 | BG10: =AK10*S10 -> 0 | BH10: =AL10*S10 -> 0 | BI10: =AM10*S10 -> 0 | BJ10: =AN10*S10 -> 0 | BK10: =AO10*S10 -> 0 | BL10: =AP10*S10 -> 0 | BM10: =AQ10*S10 -> 0 | BN10: =AR10*S10 -> 0 | BO10: =AS10*S10 -> 0
A11: Evolution Fiberglass - Set 4 Dual-tex | B11: 21 | C11: 1590 | D11: 13 | S11: =SUM(E11:R11) -> 0 | T11: =S11*B11 -> 0 | U11: =S11*C11 -> 0 | V11: =S11*D11 -> 0 | W11: Screw on | X11: XXXS-M | AU11: =Y11*S11 -> 0 | AV11: =Z11*S11 -> 0 | AW11: =AA11*S11 -> 0 | AX11: =AB11*S11 -> 0 | AY11: =AC11*S11 -> 0 | AZ11: =AD11*S11 -> 0 | BA11: =AE11*S11 -> 0 | BB11: =AF11*S11 -> 0 | BC11: =AG11*S11 -> 0 | BD11: =AH11*S11 -> 0 | BE11: =AI11*S11 -> 0 | BF11: =AJ11*S11 -> 0 | BG11: =AK11*S11 -> 0 | BH11: =AL11*S11 -> 0 | BI11: =AM11*S11 -> 0 | BJ11: =AN11*S11 -> 0 | BK11: =AO11*S11 -> 0 | BL11: =AP11*S11 -> 0 | BM11: =AQ11*S11 -> 0 | BN11: =AR11*S11 -> 0 | BO11: =AS11*S11 -> 0
A12: Evolution Fiberglass - Set 3 | B12: 20 | C12: 1290 | D12: 14 | S12: =SUM(E12:R12) -> 0 | T12: =S12*B12 -> 0 | U12: =S12*C12 -> 0 | V12: =S12*D12 -> 0 | W12: Screw on | X12: XXXS-M | AU12: =Y12*S12 -> 0 | AV12: =Z12*S12 -> 0 | AW12: =AA12*S12 -> 0 | AX12: =AB12*S12 -> 0 | AY12: =AC12*S12 -> 0 | AZ12: =AD12*S12 -> 0 | BA12: =AE12*S12 -> 0 | BB12: =AF12*S12 -> 0 | BC12: =AG12*S12 -> 0 | BD12: =AH12*S12 -> 0 | BE12: =AI12*S12 -> 0 | BF12: =AJ12*S12 -> 0 | BG12: =AK12*S12 -> 0 | BH12: =AL12*S12 -> 0 | BI12: =AM12*S12 -> 0 | BJ12: =AN12*S12 -> 0 | BK12: =AO12*S12 -> 0 | BL12: =AP12*S12 -> 0 | BM12: =AQ12*S12 -> 0 | BN12: =AR12*S12 -> 0 | BO12: =AS12*S12 -> 0
A13: Evolution Fiberglass - Set 2 Dual-tex | B13: 20 | C13: 1590 | D13: 13 | S13: =SUM(E13:R13) -> 0 | T13: =S13*B13 -> 0 | U13: =S13*C13 -> 0 | V13: =S13*D13 -> 0 | W13: Screw on | X13: XXXS-M | AU13: =Y13*S13 -> 0 | AV13: =Z13*S13 -> 0 | AW13: =AA13*S13 -> 0 | AX13: =AB13*S13 -> 0 | AY13: =AC13*S13 -> 0 | AZ13: =AD13*S13 -> 0 | BA13: =AE13*S13 -> 0 | BB13: =AF13*S13 -> 0 | BC13: =AG13*S13 -> 0 | BD13: =AH13*S13 -> 0 | BE13: =AI13*S13 -> 0 | BF13: =AJ13*S13 -> 0 | BG13: =AK13*S13 -> 0 | BH13: =AL13*S13 -> 0 | BI13: =AM13*S13 -> 0 | BJ13: =AN13*S13 -> 0 | BK13: =AO13*S13 -> 0 | BL13: =AP13*S13 -> 0 | BM13: =AQ13*S13 -> 0 | BN13: =AR13*S13 -> 0 | BO13: =AS13*S13 -> 0
A14: Evolution Fiberglass - Set 2 | B14: 20 | C14: 1290 | D14: 13 | S14: =SUM(E14:R14) -> 0 | T14: =S14*B14 -> 0 | U14: =S14*C14 -> 0 | V14: =S14*D14 -> 0 | W14: Screw on | X14: XXXS-M | AU14: =Y14*S14 -> 0 | AV14: =Z14*S14 -> 0 | AW14: =AA14*S14 -> 0 | AX14: =AB14*S14 -> 0 | AY14: =AC14*S14 -> 0 | AZ14: =AD14*S14 -> 0 | BA14: =AE14*S14 -> 0 | BB14: =AF14*S14 -> 0 | BC14: =AG14*S14 -> 0 | BD14: =AH14*S14 -> 0 | BE14: =AI14*S14 -> 0 | BF14: =AJ14*S14 -> 0 | BG14: =AK14*S14 -> 0 | BH14: =AL14*S14 -> 0 | BI14: =AM14*S14 -> 0 | BJ14: =AN14*S14 -> 0 | BK14: =AO14*S14 -> 0 | BL14: =AP14*S14 -> 0 | BM14: =AQ14*S14 -> 0 | BN14: =AR14*S14 -> 0 | BO14: =AS14*S14 -> 0
A15: Evolution Fiberglass - Set 1 Dual-tex | B15: 20 | C15: 1590 | D15: 14 | S15: =SUM(E15:R15) -> 0 | T15: =S15*B15 -> 0 | U15: =S15*C15 -> 0 | V15: =S15*D15 -> 0 | W15: Bolt on and Screw on | X15: XXXS-M | AK15: 2 | AU15: =Y15*S15 -> 0 | AV15: =Z15*S15 -> 0 | AW15: =AA15*S15 -> 0 | AX15: =AB15*S15 -> 0 | AY15: =AC15*S15 -> 0 | AZ15: =AD15*S15 -> 0 | BA15: =AE15*S15 -> 0 | BB15: =AF15*S15 -> 0 | BC15: =AG15*S15 -> 0 | BD15: =AH15*S15 -> 0 | BE15: =AI15*S15 -> 0 | BF15: =AJ15*S15 -> 0 | BG15: =AK15*S15 -> 0 | BH15: =AL15*S15 -> 0 | BI15: =AM15*S15 -> 0 | BJ15: =AN15*S15 -> 0 | BK15: =AO15*S15 -> 0 | BL15: =AP15*S15 -> 0 | BM15: =AQ15*S15 -> 0 | BN15: =AR15*S15 -> 0 | BO15: =AS15*S15 -> 0
A16: Evolution Fiberglass - Set 1 | B16: 20 | C16: 1290 | D16: 14 | S16: =SUM(E16:R16) -> 0 | T16: =S16*B16 -> 0 | U16: =S16*C16 -> 0 | V16: =S16*D16 -> 0 | W16: Bolt on and Screw on | X16: XXXS-M | AK16: 2 | AU16: =Y16*S16 -> 0 | AV16: =Z16*S16 -> 0 | AW16: =AA16*S16 -> 0 | AX16: =AB16*S16 -> 0 | AY16: =AC16*S16 -> 0 | AZ16: =AD16*S16 -> 0 | BA16: =AE16*S16 -> 0 | BB16: =AF16*S16 -> 0 | BC16: =AG16*S16 -> 0 | BD16: =AH16*S16 -> 0 | BE16: =AI16*S16 -> 0 | BF16: =AJ16*S16 -> 0 | BG16: =AK16*S16 -> 0 | BH16: =AL16*S16 -> 0 | BI16: =AM16*S16 -> 0 | BJ16: =AN16*S16 -> 0 | BK16: =AO16*S16 -> 0 | BL16: =AP16*S16 -> 0 | BM16: =AQ16*S16 -> 0 | BN16: =AR16*S16 -> 0 | BO16: =AS16*S16 -> 0
A17: Classic Fiberglass | AU17: =Y17*S17 -> 0 | AV17: =Z17*S17 -> 0 | AW17: =AA17*S17 -> 0 | AX17: =AB17*S17 -> 0 | AY17: =AC17*S17 -> 0 | AZ17: =AD17*S17 -> 0 | BA17: =AE17*S17 -> 0 | BB17: =AF17*S17 -> 0 | BC17: =AG17*S17 -> 0 | BD17: =AH17*S17 -> 0 | BE17: =AI17*S17 -> 0 | BF17: =AJ17*S17 -> 0 | BG17: =AK17*S17 -> 0 | BH17: =AL17*S17 -> 0 | BI17: =AM17*S17 -> 0 | BJ17: =AN17*S17 -> 0 | BK17: =AO17*S17 -> 0 | BL17: =AP17*S17 -> 0 | BM17: =AQ17*S17 -> 0 | BN17: =AR17*S17 -> 0 | BO17: =AS17*S17 -> 0
A18: SET 69 - BOLD Dual-tex NEW | B18: 3 | C18: 575 | D18: 5.5 | S18: =SUM(E18:R18) -> 0 | T18: =S18*B18 -> 0 | U18: =S18*C18 -> 0 | V18: =S18*D18 -> 0 | W18: Screw on | X18: 3 M
A19: SET 68 - TAR NEW | B19: 3 | C19: 470 | D19: 3.75 | S19: =SUM(E19:R19) -> 0 | T19: =S19*B19 -> 0 | U19: =S19*C19 -> 0 | V19: =S19*D19 -> 0 | W19: Screw on | X19: 3 М
A20: SET 65 - SEDUCTION Dual-Tex | B20: 2 | C20: 490 | D20: 5.5 | S20: =SUM(E20:R20) -> 0 | T20: =S20*B20 -> 0 | U20: =S20*C20 -> 0 | V20: =S20*D20 -> 0 | W20: Screw on | X20: 2 XL
A21: SET 63 - SIDE VIEW 3 Dual-Tex | B21: 2 | C21: 330 | D21: 2.4 | S21: =SUM(E21:R21) -> 0 | T21: =S21*B21 -> 0 | U21: =S21*C21 -> 0 | V21: =S21*D21 -> 0 | W21: Screw on | X21: 2 S
A22: SET 62 - SIDE VIEW 2 Dual-Tex | B22: 2 | C22: 330 | D22: 1.6 | S22: =SUM(E22:R22) -> 0 | T22: =S22*B22 -> 0 | U22: =S22*C22 -> 0 | V22: =S22*D22 -> 0 | W22: Screw on | X22: 2 S
A23: SET 61 - SIDE VIEW 1 Dual-Tex | B23: 2 | C23: 330 | D23: 1.8 | S23: =SUM(E23:R23) -> 0 | T23: =S23*B23 -> 0 | U23: =S23*C23 -> 0 | V23: =S23*D23 -> 0 | W23: Screw on | X23: 2 S
A24: SET 64 - TRAP 3 Dual-Tex | B24: 3 | C24: 495 | D24: 2.4 | S24: =SUM(E24:R24) -> 0 | T24: =S24*B24 -> 0 | U24: =S24*C24 -> 0 | V24: =S24*D24 -> 0 | W24: Screw on | X24: 3 S
A25: SET 60 - TRAP 2 Dual-Tex | B25: 3 | C25: 495 | D25: 2.4 | S25: =SUM(E25:R25) -> 0 | T25: =S25*B25 -> 0 | U25: =S25*C25 -> 0 | V25: =S25*D25 -> 0 | W25: Screw on | X25: 3 S
A26: SET 59 - TRAP 1 Dual-Tex | B26: 3 | C26: 495 | D26: 2.3 | S26: =SUM(E26:R26) -> 0 | T26: =S26*B26 -> 0 | U26: =S26*C26 -> 0 | V26: =S26*D26 -> 0 | W26: Screw on | X26: 3 S
A27: SET 55 - DOGON Dual-Tex | B27: 2 | C27: 590 | D27: 6.9 | S27: =SUM(E27:R27) -> 0 | T27: =S27*B27 -> 0 | U27: =S27*C27 -> 0 | V27: =S27*D27 -> 0 | W27: Screw on | X27: 2 XXL | AU27: =Y27*S27 -> 0 | AV27: =Z27*S27 -> 0 | AW27: =AA27*S27 -> 0 | AX27: =AB27*S27 -> 0 | AY27: =AC27*S27 -> 0 | AZ27: =AD27*S27 -> 0 | BA27: =AE27*S27 -> 0 | BB27: =AF27*S27 -> 0 | BC27: =AG27*S27 -> 0 | BD27: =AH27*S27 -> 0 | BE27: =AI27*S27 -> 0 | BF27: =AJ27*S27 -> 0 | BG27: =AK27*S27 -> 0 | BH27: =AL27*S27 -> 0 | BI27: =AM27*S27 -> 0 | BJ27: =AN27*S27 -> 0 | BK27: =AO27*S27 -> 0 | BL27: =AP27*S27 -> 0 | BM27: =AQ27*S27 -> 0 | BN27: =AR27*S27 -> 0 | BO27: =AS27*S27 -> 0
A28: SET 53 - TROOPERS Dual-Tex | B28: 6 | C28: 950 | D28: 6.8 | S28: =SUM(E28:R28) -> 0 | T28: =S28*B28 -> 0 | U28: =S28*C28 -> 0 | V28: =S28*D28 -> 0 | W28: Screw on | X28: 6 S | AU28: =Y28*S28 -> 0 | AV28: =Z28*S28 -> 0 | AW28: =AA28*S28 -> 0 | AX28: =AB28*S28 -> 0 | AY28: =AC28*S28 -> 0 | AZ28: =AD28*S28 -> 0 | BA28: =AE28*S28 -> 0 | BB28: =AF28*S28 -> 0 | BC28: =AG28*S28 -> 0 | BD28: =AH28*S28 -> 0 | BE28: =AI28*S28 -> 0 | BF28: =AJ28*S28 -> 0 | BG28: =AK28*S28 -> 0 | BH28: =AL28*S28 -> 0 | BI28: =AM28*S28 -> 0 | BJ28: =AN28*S28 -> 0 | BK28: =AO28*S28 -> 0 | BL28: =AP28*S28 -> 0 | BM28: =AQ28*S28 -> 0 | BN28: =AR28*S28 -> 0 | BO28: =AS28*S28 -> 0
A29: SET 52 - SCARS Dual-Tex | B29: 2 | C29: 590 | D29: 7 | S29: =SUM(E29:R29) -> 0 | T29: =S29*B29 -> 0 | U29: =S29*C29 -> 0 | V29: =S29*D29 -> 0 | W29: Screw on | X29: 2 XXL | AU29: =Y29*S29 -> 0 | AV29: =Z29*S29 -> 0 | AW29: =AA29*S29 -> 0 | AX29: =AB29*S29 -> 0 | AY29: =AC29*S29 -> 0 | AZ29: =AD29*S29 -> 0 | BA29: =AE29*S29 -> 0 | BB29: =AF29*S29 -> 0 | BC29: =AG29*S29 -> 0 | BD29: =AH29*S29 -> 0 | BE29: =AI29*S29 -> 0 | BF29: =AJ29*S29 -> 0 | BG29: =AK29*S29 -> 0 | BH29: =AL29*S29 -> 0 | BI29: =AM29*S29 -> 0 | BJ29: =AN29*S29 -> 0 | BK29: =AO29*S29 -> 0 | BL29: =AP29*S29 -> 0 | BM29: =AQ29*S29 -> 0 | BN29: =AR29*S29 -> 0 | BO29: =AS29*S29 -> 0
A30: SET 51 - COINCIDENCE Dual-Tex | B30: 1 | C30: 290 | D30: 4.2 | S30: =SUM(E30:R30) -> 0 | T30: =S30*B30 -> 0 | U30: =S30*C30 -> 0 | V30: =S30*D30 -> 0 | W30: Screw on | X30: 1 XXL | AU30: =Y30*S30 -> 0 | AV30: =Z30*S30 -> 0 | AW30: =AA30*S30 -> 0 | AX30: =AB30*S30 -> 0 | AY30: =AC30*S30 -> 0 | AZ30: =AD30*S30 -> 0 | BA30: =AE30*S30 -> 0 | BB30: =AF30*S30 -> 0 | BC30: =AG30*S30 -> 0 | BD30: =AH30*S30 -> 0 | BE30: =AI30*S30 -> 0 | BF30: =AJ30*S30 -> 0 | BG30: =AK30*S30 -> 0 | BH30: =AL30*S30 -> 0 | BI30: =AM30*S30 -> 0 | BJ30: =AN30*S30 -> 0 | BK30: =AO30*S30 -> 0 | BL30: =AP30*S30 -> 0 | BM30: =AQ30*S30 -> 0 | BN30: =AR30*S30 -> 0 | BO30: =AS30*S30 -> 0
A31: SET 50 - PIMPLE POPPER Dual-Tex | B31: 1 | C31: 320 | D31: 6 | S31: =SUM(E31:R31) -> 0 | T31: =S31*B31 -> 0 | U31: =S31*C31 -> 0 | V31: =S31*D31 -> 0 | W31: Screw on | X31: 1 XXXL | AU31: =Y31*S31 -> 0 | AV31: =Z31*S31 -> 0 | AW31: =AA31*S31 -> 0 | AX31: =AB31*S31 -> 0 | AY31: =AC31*S31 -> 0 | AZ31: =AD31*S31 -> 0 | BA31: =AE31*S31 -> 0 | BB31: =AF31*S31 -> 0 | BC31: =AG31*S31 -> 0 | BD31: =AH31*S31 -> 0 | BE31: =AI31*S31 -> 0 | BF31: =AJ31*S31 -> 0 | BG31: =AK31*S31 -> 0 | BH31: =AL31*S31 -> 0 | BI31: =AM31*S31 -> 0 | BJ31: =AN31*S31 -> 0 | BK31: =AO31*S31 -> 0 | BL31: =AP31*S31 -> 0 | BM31: =AQ31*S31 -> 0 | BN31: =AR31*S31 -> 0 | BO31: =AS31*S31 -> 0
A32: SET 49 - WISHBONE Dual-Tex | B32: 2 | C32: 580 | D32: 7 | S32: =SUM(E32:R32) -> 0 | T32: =S32*B32 -> 0 | U32: =S32*C32 -> 0 | V32: =S32*D32 -> 0 | W32: Screw on | X32: 2 XXL | AU32: =Y32*S32 -> 0 | AV32: =Z32*S32 -> 0 | AW32: =AA32*S32 -> 0 | AX32: =AB32*S32 -> 0 | AY32: =AC32*S32 -> 0 | AZ32: =AD32*S32 -> 0 | BA32: =AE32*S32 -> 0 | BB32: =AF32*S32 -> 0 | BC32: =AG32*S32 -> 0 | BD32: =AH32*S32 -> 0 | BE32: =AI32*S32 -> 0 | BF32: =AJ32*S32 -> 0 | BG32: =AK32*S32 -> 0 | BH32: =AL32*S32 -> 0 | BI32: =AM32*S32 -> 0 | BJ32: =AN32*S32 -> 0 | BK32: =AO32*S32 -> 0 | BL32: =AP32*S32 -> 0 | BM32: =AQ32*S32 -> 0 | BN32: =AR32*S32 -> 0 | BO32: =AS32*S32 -> 0
A33: SET 48 - WHIRLPOOL Dual-Tex | B33: 8 | C33: 1600 | D33: 8.55 | S33: =SUM(E33:R33) -> 0 | T33: =S33*B33 -> 0 | U33: =S33*C33 -> 0 | V33: =S33*D33 -> 0 | W33: Screw on | X33: 2 S, 4 M, 2 L | AU33: =Y33*S33 -> 0 | AV33: =Z33*S33 -> 0 | AW33: =AA33*S33 -> 0 | AX33: =AB33*S33 -> 0 | AY33: =AC33*S33 -> 0 | AZ33: =AD33*S33 -> 0 | BA33: =AE33*S33 -> 0 | BB33: =AF33*S33 -> 0 | BC33: =AG33*S33 -> 0 | BD33: =AH33*S33 -> 0 | BE33: =AI33*S33 -> 0 | BF33: =AJ33*S33 -> 0 | BG33: =AK33*S33 -> 0 | BH33: =AL33*S33 -> 0 | BI33: =AM33*S33 -> 0 | BJ33: =AN33*S33 -> 0 | BK33: =AO33*S33 -> 0 | BL33: =AP33*S33 -> 0 | BM33: =AQ33*S33 -> 0 | BN33: =AR33*S33 -> 0 | BO33: =AS33*S33 -> 0
A34: SET 47 - SEQUENCE 2 | B34: 4 | C34: 710 | D34: 6 | S34: =SUM(E34:R34) -> 0 | T34: =S34*B34 -> 0 | U34: =S34*C34 -> 0 | V34: =S34*D34 -> 0 | W34: Screw on | X34: 4 S | AU34: =Y34*S34 -> 0 | AV34: =Z34*S34 -> 0 | AW34: =AA34*S34 -> 0 | AX34: =AB34*S34 -> 0 | AY34: =AC34*S34 -> 0 | AZ34: =AD34*S34 -> 0 | BA34: =AE34*S34 -> 0 | BB34: =AF34*S34 -> 0 | BC34: =AG34*S34 -> 0 | BD34: =AH34*S34 -> 0 | BE34: =AI34*S34 -> 0 | BF34: =AJ34*S34 -> 0 | BG34: =AK34*S34 -> 0 | BH34: =AL34*S34 -> 0 | BI34: =AM34*S34 -> 0 | BJ34: =AN34*S34 -> 0 | BK34: =AO34*S34 -> 0 | BL34: =AP34*S34 -> 0 | BM34: =AQ34*S34 -> 0 | BN34: =AR34*S34 -> 0 | BO34: =AS34*S34 -> 0
A35: SET 46 - SEQUENCE 1 | B35: 5 | C35: 765 | D35: 3.2 | S35: =SUM(E35:R35) -> 0 | T35: =S35*B35 -> 0 | U35: =S35*C35 -> 0 | V35: =S35*D35 -> 0 | W35: Screw on | X35: 5 XS | AU35: =Y35*S35 -> 0 | AV35: =Z35*S35 -> 0 | AW35: =AA35*S35 -> 0 | AX35: =AB35*S35 -> 0 | AY35: =AC35*S35 -> 0 | AZ35: =AD35*S35 -> 0 | BA35: =AE35*S35 -> 0 | BB35: =AF35*S35 -> 0 | BC35: =AG35*S35 -> 0 | BD35: =AH35*S35 -> 0 | BE35: =AI35*S35 -> 0 | BF35: =AJ35*S35 -> 0 | BG35: =AK35*S35 -> 0 | BH35: =AL35*S35 -> 0 | BI35: =AM35*S35 -> 0 | BJ35: =AN35*S35 -> 0 | BK35: =AO35*S35 -> 0 | BL35: =AP35*S35 -> 0 | BM35: =AQ35*S35 -> 0 | BN35: =AR35*S35 -> 0 | BO35: =AS35*S35 -> 0
A36: SET 45 - MACHETE GRANDE Dual-Tex | B36: 2 | C36: 560 | D36: 6.8 | S36: =SUM(E36:R36) -> 0 | T36: =S36*B36 -> 0 | U36: =S36*C36 -> 0 | V36: =S36*D36 -> 0 | W36: Screw on | X36: 1 XL, 1 XXL | AU36: =Y36*S36 -> 0 | AV36: =Z36*S36 -> 0 | AW36: =AA36*S36 -> 0 | AX36: =AB36*S36 -> 0 | AY36: =AC36*S36 -> 0 | AZ36: =AD36*S36 -> 0 | BA36: =AE36*S36 -> 0 | BB36: =AF36*S36 -> 0 | BC36: =AG36*S36 -> 0 | BD36: =AH36*S36 -> 0 | BE36: =AI36*S36 -> 0 | BF36: =AJ36*S36 -> 0 | BG36: =AK36*S36 -> 0 | BH36: =AL36*S36 -> 0 | BI36: =AM36*S36 -> 0 | BJ36: =AN36*S36 -> 0 | BK36: =AO36*S36 -> 0 | BL36: =AP36*S36 -> 0 | BM36: =AQ36*S36 -> 0 | BN36: =AR36*S36 -> 0 | BO36: =AS36*S36 -> 0
A37: Mega Cash 44-3 Dual-Tex | B37: 1 | C37: 245 | D37: 4.9 | S37: =SUM(E37:R37) -> 0 | T37: =S37*B37 -> 0 | U37: =S37*C37 -> 0 | V37: =S37*D37 -> 0 | W37: Screw on | X37: 1 XL | AU37: =Y37*S37 -> 0 | AV37: =Z37*S37 -> 0 | AW37: =AA37*S37 -> 0 | AX37: =AB37*S37 -> 0 | AY37: =AC37*S37 -> 0 | AZ37: =AD37*S37 -> 0 | BA37: =AE37*S37 -> 0 | BB37: =AF37*S37 -> 0 | BC37: =AG37*S37 -> 0 | BD37: =AH37*S37 -> 0 | BE37: =AI37*S37 -> 0 | BF37: =AJ37*S37 -> 0 | BG37: =AK37*S37 -> 0 | BH37: =AL37*S37 -> 0 | BI37: =AM37*S37 -> 0 | BJ37: =AN37*S37 -> 0 | BK37: =AO37*S37 -> 0 | BL37: =AP37*S37 -> 0 | BM37: =AQ37*S37 -> 0 | BN37: =AR37*S37 -> 0 | BO37: =AS37*S37 -> 0
A38: SET 44 - Mega Cash Dual-Tex | B38: 2 | C38: 490 | D38: 8.7 | S38: =SUM(E38:R38) -> 0 | T38: =S38*B38 -> 0 | U38: =S38*C38 -> 0 | V38: =S38*D38 -> 0 | W38: Screw on | X38: 2 XL | AU38: =Y38*S38 -> 0 | AV38: =Z38*S38 -> 0 | AW38: =AA38*S38 -> 0 | AX38: =AB38*S38 -> 0 | AY38: =AC38*S38 -> 0 | AZ38: =AD38*S38 -> 0 | BA38: =AE38*S38 -> 0 | BB38: =AF38*S38 -> 0 | BC38: =AG38*S38 -> 0 | BD38: =AH38*S38 -> 0 | BE38: =AI38*S38 -> 0 | BF38: =AJ38*S38 -> 0 | BG38: =AK38*S38 -> 0 | BH38: =AL38*S38 -> 0 | BI38: =AM38*S38 -> 0 | BJ38: =AN38*S38 -> 0 | BK38: =AO38*S38 -> 0 | BL38: =AP38*S38 -> 0 | BM38: =AQ38*S38 -> 0 | BN38: =AR38*S38 -> 0 | BO38: =AS38*S38 -> 0
... A44: MONSTER 1 | B44: 1 | C44: 480 | D44: 9 | S44: =SUM(E44:R44) -> 0 | T44: =S44*B44 -> 0 | U44: =S44*C44 -> 0 | V44: =S44*D44 -> 0 | W44: Screw on | X44: Mega | AU44: =Y44*S44 -> 0 | AV44: =Z44*S44 -> 0 | AW44: =AA44*S44 -> 0 | AX44: =AB44*S44 -> 0 | AY44: =AC44*S44 -> 0 | AZ44: =AD44*S44 -> 0 | BA44: =AE44*S44 -> 0 | BB44: =AF44*S44 -> 0 | BC44: =AG44*S44 -> 0 | BD44: =AH44*S44 -> 0 | BE44: =AI44*S44 -> 0 | BF44: =AJ44*S44 -> 0 | BG44: =AK44*S44 -> 0 | BH44: =AL44*S44 -> 0 | BI44: =AM44*S44 -> 0 | BJ44: =AN44*S44 -> 0 | BK44: =AO44*S44 -> 0 | BL44: =AP44*S44 -> 0 | BM44: =AQ44*S44 -> 0 | BN44: =AR44*S44 -> 0 | BO44: =AS44*S44 -> 0
A45: ClosedCell Volumes (CCV) | AU45: =Y45*S45 -> 0 | AV45: =Z45*S45 -> 0 | AW45: =AA45*S45 -> 0 | AX45: =AB45*S45 -> 0 | AY45: =AC45*S45 -> 0 | AZ45: =AD45*S45 -> 0 | BA45: =AE45*S45 -> 0 | BB45: =AF45*S45 -> 0 | BC45: =AG45*S45 -> 0 | BD45: =AH45*S45 -> 0 | BE45: =AI45*S45 -> 0 | BF45: =AJ45*S45 -> 0 | BG45: =AK45*S45 -> 0 | BH45: =AL45*S45 -> 0 | BI45: =AM45*S45 -> 0 | BJ45: =AN45*S45 -> 0 | BK45: =AO45*S45 -> 0 | BL45: =AP45*S45 -> 0 | BM45: =AQ45*S45 -> 0 | BN45: =AR45*S45 -> 0 | BO45: =AS45*S45 -> 0
A46: SET 58 - MEDUZA 2 | B46: 4 | C46: 550 | D46: 6.2 | S46: =SUM(E46:R46) -> 0 | T46: =S46*B46 -> 0 | U46: =S46*C46 -> 0 | V46: =S46*D46 -> 0 | W46: Screw on | X46: 2 S, 2 M | AU46: =Y46*S46 -> 0 | AV46: =Z46*S46 -> 0 | AW46: =AA46*S46 -> 0 | AX46: =AB46*S46 -> 0 | AY46: =AC46*S46 -> 0 | AZ46: =AD46*S46 -> 0 | BA46: =AE46*S46 -> 0 | BB46: =AF46*S46 -> 0 | BC46: =AG46*S46 -> 0 | BD46: =AH46*S46 -> 0 | BE46: =AI46*S46 -> 0 | BF46: =AJ46*S46 -> 0 | BG46: =AK46*S46 -> 0 | BH46: =AL46*S46 -> 0 | BI46: =AM46*S46 -> 0 | BJ46: =AN46*S46 -> 0 | BK46: =AO46*S46 -> 0 | BL46: =AP46*S46 -> 0 | BM46: =AQ46*S46 -> 0 | BN46: =AR46*S46 -> 0 | BO46: =AS46*S46 -> 0
A47: SET 57 - MEDUZA 1 | B47: 4 | C47: 520 | D47: 5.4 | S47: =SUM(E47:R47) -> 0 | T47: =S47*B47 -> 0 | U47: =S47*C47 -> 0 | V47: =S47*D47 -> 0 | W47: Screw on | X47: 4 S | AU47: =Y47*S47 -> 0 | AV47: =Z47*S47 -> 0 | AW47: =AA47*S47 -> 0 | AX47: =AB47*S47 -> 0 | AY47: =AC47*S47 -> 0 | AZ47: =AD47*S47 -> 0 | BA47: =AE47*S47 -> 0 | BB47: =AF47*S47 -> 0 | BC47: =AG47*S47 -> 0 | BD47: =AH47*S47 -> 0 | BE47: =AI47*S47 -> 0 | BF47: =AJ47*S47 -> 0 | BG47: =AK47*S47 -> 0 | BH47: =AL47*S47 -> 0 | BI47: =AM47*S47 -> 0 | BJ47: =AN47*S47 -> 0 | BK47: =AO47*S47 -> 0 | BL47: =AP47*S47 -> 0 | BM47: =AQ47*S47 -> 0 | BN47: =AR47*S47 -> 0 | BO47: =AS47*S47 -> 0
A48: SET 56 - THE PUB 2 | B48: 5 | C48: 600 | D48: 7.83 | S48: =SUM(E48:R48) -> 0 | T48: =S48*B48 -> 0 | U48: =S48*C48 -> 0 | V48: =S48*D48 -> 0 | W48: Screw on | X48: 2 S, 3 XS | AU48: =Y48*S48 -> 0 | AV48: =Z48*S48 -> 0 | AW48: =AA48*S48 -> 0 | AX48: =AB48*S48 -> 0 | AY48: =AC48*S48 -> 0 | AZ48: =AD48*S48 -> 0 | BA48: =AE48*S48 -> 0 | BB48: =AF48*S48 -> 0 | BC48: =AG48*S48 -> 0 | BD48: =AH48*S48 -> 0 | BE48: =AI48*S48 -> 0 | BF48: =AJ48*S48 -> 0 | BG48: =AK48*S48 -> 0 | BH48: =AL48*S48 -> 0 | BI48: =AM48*S48 -> 0 | BJ48: =AN48*S48 -> 0 | BK48: =AO48*S48 -> 0 | BL48: =AP48*S48 -> 0 | BM48: =AQ48*S48 -> 0 | BN48: =AR48*S48 -> 0 | BO48: =AS48*S48 -> 0
A49: SET 54 - THE PUB 1 | B49: 5 | C49: 660 | D49: 8.15 | S49: =SUM(E49:R49) -> 0 | T49: =S49*B49 -> 0 | U49: =S49*C49 -> 0 | V49: =S49*D49 -> 0 | W49: Screw on | X49: 5 S | AU49: =Y49*S49 -> 0 | AV49: =Z49*S49 -> 0 | AW49: =AA49*S49 -> 0 | AX49: =AB49*S49 -> 0 | AY49: =AC49*S49 -> 0 | AZ49: =AD49*S49 -> 0 | BA49: =AE49*S49 -> 0 | BB49: =AF49*S49 -> 0 | BC49: =AG49*S49 -> 0 | BD49: =AH49*S49 -> 0 | BE49: =AI49*S49 -> 0 | BF49: =AJ49*S49 -> 0 | BG49: =AK49*S49 -> 0 | BH49: =AL49*S49 -> 0 | BI49: =AM49*S49 -> 0 | BJ49: =AN49*S49 -> 0 | BK49: =AO49*S49 -> 0 | BL49: =AP49*S49 -> 0 | BM49: =AQ49*S49 -> 0 | BN49: =AR49*S49 -> 0 | BO49: =AS49*S49 -> 0
A50: SET 39 - GIN SODA | B50: 3 | C50: 363 | D50: 4.9 | S50: =SUM(E50:R50) -> 0 | T50: =S50*B50 -> 0 | U50: =S50*C50 -> 0 | V50: =S50*D50 -> 0 | W50: Screw on | X50: 3 S | AU50: =Y50*S50 -> 0 | AV50: =Z50*S50 -> 0 | AW50: =AA50*S50 -> 0 | AX50: =AB50*S50 -> 0 | AY50: =AC50*S50 -> 0 | AZ50: =AD50*S50 -> 0 | BA50: =AE50*S50 -> 0 | BB50: =AF50*S50 -> 0 | BC50: =AG50*S50 -> 0 | BD50: =AH50*S50 -> 0 | BE50: =AI50*S50 -> 0 | BF50: =AJ50*S50 -> 0 | BG50: =AK50*S50 -> 0 | BH50: =AL50*S50 -> 0 | BI50: =AM50*S50 -> 0 | BJ50: =AN50*S50 -> 0 | BK50: =AO50*S50 -> 0 | BL50: =AP50*S50 -> 0 | BM50: =AQ50*S50 -> 0 | BN50: =AR50*S50 -> 0 | BO50: =AS50*S50 -> 0
A51: SET 38 - KETONES | B51: 3 | C51: 330 | D51: 3.85 | S51: =SUM(E51:R51) -> 0 | T51: =S51*B51 -> 0 | U51: =S51*C51 -> 0 | V51: =S51*D51 -> 0 | W51: Screw on | X51: 3 XS | AU51: =Y51*S51 -> 0 | AV51: =Z51*S51 -> 0 | AW51: =AA51*S51 -> 0 | AX51: =AB51*S51 -> 0 | AY51: =AC51*S51 -> 0 | AZ51: =AD51*S51 -> 0 | BA51: =AE51*S51 -> 0 | BB51: =AF51*S51 -> 0 | BC51: =AG51*S51 -> 0 | BD51: =AH51*S51 -> 0 | BE51: =AI51*S51 -> 0 | BF51: =AJ51*S51 -> 0 | BG51: =AK51*S51 -> 0 | BH51: =AL51*S51 -> 0 | BI51: =AM51*S51 -> 0 | BJ51: =AN51*S51 -> 0 | BK51: =AO51*S51 -> 0 | BL51: =AP51*S51 -> 0 | BM51: =AQ51*S51 -> 0 | BN51: =AR51*S51 -> 0 | BO51: =AS51*S51 -> 0
A52: SET 37 - LOW CARB | B52: 3 | C52: 363 | D52: 4.8 | S52: =SUM(E52:R52) -> 0 | T52: =S52*B52 -> 0 | U52: =S52*C52 -> 0 | V52: =S52*D52 -> 0 | W52: Screw on | X52: 3 S | AU52: =Y52*S52 -> 0 | AV52: =Z52*S52 -> 0 | AW52: =AA52*S52 -> 0 | AX52: =AB52*S52 -> 0 | AY52: =AC52*S52 -> 0 | AZ52: =AD52*S52 -> 0 | BA52: =AE52*S52 -> 0 | BB52: =AF52*S52 -> 0 | BC52: =AG52*S52 -> 0 | BD52: =AH52*S52 -> 0 | BE52: =AI52*S52 -> 0 | BF52: =AJ52*S52 -> 0 | BG52: =AK52*S52 -> 0 | BH52: =AL52*S52 -> 0 | BI52: =AM52*S52 -> 0 | BJ52: =AN52*S52 -> 0 | BK52: =AO52*S52 -> 0 | BL52: =AP52*S52 -> 0 | BM52: =AQ52*S52 -> 0 | BN52: =AR52*S52 -> 0 | BO52: =AS52*S52 -> 0
A53: SET 36 - HI FAT | B53: 3 | C53: 363 | D53: 5.66 | S53: =SUM(E53:R53) -> 0 | T53: =S53*B53 -> 0 | U53: =S53*C53 -> 0 | V53: =S53*D53 -> 0 | W53: Screw on | X53: 3 S | AU53: =Y53*S53 -> 0 | AV53: =Z53*S53 -> 0 | AW53: =AA53*S53 -> 0 | AX53: =AB53*S53 -> 0 | AY53: =AC53*S53 -> 0 | AZ53: =AD53*S53 -> 0 | BA53: =AE53*S53 -> 0 | BB53: =AF53*S53 -> 0 | BC53: =AG53*S53 -> 0 | BD53: =AH53*S53 -> 0 | BE53: =AI53*S53 -> 0 | BF53: =AJ53*S53 -> 0 | BG53: =AK53*S53 -> 0 | BH53: =AL53*S53 -> 0 | BI53: =AM53*S53 -> 0 | BJ53: =AN53*S53 -> 0 | BK53: =AO53*S53 -> 0 | BL53: =AP53*S53 -> 0 | BM53: =AQ53*S53 -> 0 | BN53: =AR53*S53 -> 0 | BO53: =AS53*S53 -> 0
A54: SET 35 - LIPSTICK 3 Dual-tex | B54: 2 | C54: 594 | D54: 8 | S54: =SUM(E54:R54) -> 0 | T54: =S54*B54 -> 0 | U54: =S54*C54 -> 0 | V54: =S54*D54 -> 0 | W54: Screw on | X54: 2 XXL | AU54: =Y54*S54 -> 0 | AV54: =Z54*S54 -> 0 | AW54: =AA54*S54 -> 0 | AX54: =AB54*S54 -> 0 | AY54: =AC54*S54 -> 0 | AZ54: =AD54*S54 -> 0 | BA54: =AE54*S54 -> 0 | BB54: =AF54*S54 -> 0 | BC54: =AG54*S54 -> 0 | BD54: =AH54*S54 -> 0 | BE54: =AI54*S54 -> 0 | BF54: =AJ54*S54 -> 0 | BG54: =AK54*S54 -> 0 | BH54: =AL54*S54 -> 0 | BI54: =AM54*S54 -> 0 | BJ54: =AN54*S54 -> 0 | BK54: =AO54*S54 -> 0 | BL54: =AP54*S54 -> 0 | BM54: =AQ54*S54 -> 0 | BN54: =AR54*S54 -> 0 | BO54: =AS54*S54 -> 0
A55: SET 34 - LIPSTICK 2 Dual-tex | B55: 2 | C55: 430 | D55: 3 | S55: =SUM(E55:R55) -> 0 | T55: =S55*B55 -> 0 | U55: =S55*C55 -> 0 | V55: =S55*D55 -> 0 | W55: Screw on | X55: 1 M, 1 L | AU55: =Y55*S55 -> 0 | AV55: =Z55*S55 -> 0 | AW55: =AA55*S55 -> 0 | AX55: =AB55*S55 -> 0 | AY55: =AC55*S55 -> 0 | AZ55: =AD55*S55 -> 0 | BA55: =AE55*S55 -> 0 | BB55: =AF55*S55 -> 0 | BC55: =AG55*S55 -> 0 | BD55: =AH55*S55 -> 0 | BE55: =AI55*S55 -> 0 | BF55: =AJ55*S55 -> 0 | BG55: =AK55*S55 -> 0 | BH55: =AL55*S55 -> 0 | BI55: =AM55*S55 -> 0 | BJ55: =AN55*S55 -> 0 | BK55: =AO55*S55 -> 0 | BL55: =AP55*S55 -> 0 | BM55: =AQ55*S55 -> 0 | BN55: =AR55*S55 -> 0 | BO55: =AS55*S55 -> 0
A56: SET 33 - LIPSTICK 1 Dual-tex | B56: 2 | C56: 430 | D56: 3 | S56: =SUM(E56:R56) -> 0 | T56: =S56*B56 -> 0 | U56: =S56*C56 -> 0 | V56: =S56*D56 -> 0 | W56: Screw on | X56: 1 M, 1 L | AU56: =Y56*S56 -> 0 | AV56: =Z56*S56 -> 0 | AW56: =AA56*S56 -> 0 | AX56: =AB56*S56 -> 0 | AY56: =AC56*S56 -> 0 | AZ56: =AD56*S56 -> 0 | BA56: =AE56*S56 -> 0 | BB56: =AF56*S56 -> 0 | BC56: =AG56*S56 -> 0 | BD56: =AH56*S56 -> 0 | BE56: =AI56*S56 -> 0 | BF56: =AJ56*S56 -> 0 | BG56: =AK56*S56 -> 0 | BH56: =AL56*S56 -> 0 | BI56: =AM56*S56 -> 0 | BJ56: =AN56*S56 -> 0 | BK56: =AO56*S56 -> 0 | BL56: =AP56*S56 -> 0 | BM56: =AQ56*S56 -> 0 | BN56: =AR56*S56 -> 0 | BO56: =AS56*S56 -> 0
A57: SET 32 - INSULIN | B57: 6 | C57: 935 | D57: 10 | S57: =SUM(E57:R57) -> 0 | T57: =S57*B57 -> 0 | U57: =S57*C57 -> 0 | V57: =S57*D57 -> 0 | W57: Screw on | X57: 5 M, 1 L | AU57: =Y57*S57 -> 0 | AV57: =Z57*S57 -> 0 | AW57: =AA57*S57 -> 0 | AX57: =AB57*S57 -> 0 | AY57: =AC57*S57 -> 0 | AZ57: =AD57*S57 -> 0 | BA57: =AE57*S57 -> 0 | BB57: =AF57*S57 -> 0 | BC57: =AG57*S57 -> 0 | BD57: =AH57*S57 -> 0 | BE57: =AI57*S57 -> 0 | BF57: =AJ57*S57 -> 0 | BG57: =AK57*S57 -> 0 | BH57: =AL57*S57 -> 0 | BI57: =AM57*S57 -> 0 | BJ57: =AN57*S57 -> 0 | BK57: =AO57*S57 -> 0 | BL57: =AP57*S57 -> 0 | BM57: =AQ57*S57 -> 0 | BN57: =AR57*S57 -> 0 | BO57: =AS57*S57 -> 0
... A63: SET 26 - PERKA | B63: 3 | C63: 340 | D63: 3.87 | S63: =SUM(E63:R63) -> 0 | T63: =S63*B63 -> 0 | U63: =S63*C63 -> 0 | V63: =S63*D63 -> 0 | W63: Screw on | X63: 2 XS , 1 S | AU63: =Y63*S63 -> 0 | AV63: =Z63*S63 -> 0 | AW63: =AA63*S63 -> 0 | AX63: =AB63*S63 -> 0 | AY63: =AC63*S63 -> 0 | AZ63: =AD63*S63 -> 0 | BA63: =AE63*S63 -> 0 | BB63: =AF63*S63 -> 0 | BC63: =AG63*S63 -> 0 | BD63: =AH63*S63 -> 0 | BE63: =AI63*S63 -> 0 | BF63: =AJ63*S63 -> 0 | BG63: =AK63*S63 -> 0 | BH63: =AL63*S63 -> 0 | BI63: =AM63*S63 -> 0 | BJ63: =AN63*S63 -> 0 | BK63: =AO63*S63 -> 0 | BL63: =AP63*S63 -> 0 | BM63: =AQ63*S63 -> 0 | BN63: =AR63*S63 -> 0 | BO63: =AS63*S63 -> 0
A64: SET 25 - SHTIPKA | B64: 3 | C64: 493 | D64: 6.7 | S64: =SUM(E64:R64) -> 0 | T64: =S64*B64 -> 0 | U64: =S64*C64 -> 0 | V64: =S64*D64 -> 0 | W64: Bolt on and Screw on | X64: 1 S ,1 M , 1 L | AN64: 2 | AR64: 1 | AU64: =Y64*S64 -> 0 | AV64: =Z64*S64 -> 0 | AW64: =AA64*S64 -> 0 | AX64: =AB64*S64 -> 0 | AY64: =AC64*S64 -> 0 | AZ64: =AD64*S64 -> 0 | BA64: =AE64*S64 -> 0 | BB64: =AF64*S64 -> 0 | BC64: =AG64*S64 -> 0 | BD64: =AH64*S64 -> 0 | BE64: =AI64*S64 -> 0 | BF64: =AJ64*S64 -> 0 | BG64: =AK64*S64 -> 0 | BH64: =AL64*S64 -> 0 | BI64: =AM64*S64 -> 0 | BJ64: =AN64*S64 -> 0 | BK64: =AO64*S64 -> 0 | BL64: =AP64*S64 -> 0 | BM64: =AQ64*S64 -> 0 | BN64: =AR64*S64 -> 0 | BO64: =AS64*S64 -> 0
A65: SET 24 - GAIDA | B65: 3 | C65: 542 | D65: 7.75 | S65: =SUM(E65:R65) -> 0 | T65: =S65*B65 -> 0 | U65: =S65*C65 -> 0 | V65: =S65*D65 -> 0 | W65: Bolt on and Screw on | X65: 1 S , 2 L | AJ65: 1 | AR65: 2 | AU65: =Y65*S65 -> 0 | AV65: =Z65*S65 -> 0 | AW65: =AA65*S65 -> 0 | AX65: =AB65*S65 -> 0 | AY65: =AC65*S65 -> 0 | AZ65: =AD65*S65 -> 0 | BA65: =AE65*S65 -> 0 | BB65: =AF65*S65 -> 0 | BC65: =AG65*S65 -> 0 | BD65: =AH65*S65 -> 0 | BE65: =AI65*S65 -> 0 | BF65: =AJ65*S65 -> 0 | BG65: =AK65*S65 -> 0 | BH65: =AL65*S65 -> 0 | BI65: =AM65*S65 -> 0 | BJ65: =AN65*S65 -> 0 | BK65: =AO65*S65 -> 0 | BL65: =AP65*S65 -> 0 | BM65: =AQ65*S65 -> 0 | BN65: =AR65*S65 -> 0 | BO65: =AS65*S65 -> 0
A66: SET 23 - PAZVA | B66: 2 | C66: 370 | D66: 8.965 | S66: =SUM(E66:R66) -> 0 | T66: =S66*B66 -> 0 | U66: =S66*C66 -> 0 | V66: =S66*D66 -> 0 | W66: Screw on | X66: 1 M , 1 L | AU66: =Y66*S66 -> 0 | AV66: =Z66*S66 -> 0 | AW66: =AA66*S66 -> 0 | AX66: =AB66*S66 -> 0 | AY66: =AC66*S66 -> 0 | AZ66: =AD66*S66 -> 0 | BA66: =AE66*S66 -> 0 | BB66: =AF66*S66 -> 0 | BC66: =AG66*S66 -> 0 | BD66: =AH66*S66 -> 0 | BE66: =AI66*S66 -> 0 | BF66: =AJ66*S66 -> 0 | BG66: =AK66*S66 -> 0 | BH66: =AL66*S66 -> 0 | BI66: =AM66*S66 -> 0 | BJ66: =AN66*S66 -> 0 | BK66: =AO66*S66 -> 0 | BL66: =AP66*S66 -> 0 | BM66: =AQ66*S66 -> 0 | BN66: =AR66*S66 -> 0 | BO66: =AS66*S66 -> 0
A67: SET 22 - TAVA | B67: 4 | C67: 550 | D67: 6.23 | S67: =SUM(E67:R67) -> 0 | T67: =S67*B67 -> 0 | U67: =S67*C67 -> 0 | V67: =S67*D67 -> 0 | W67: Bolt on and Screw on | X67: 2 S, 2 M | AF67: 1 | AH67: 1 | AJ67: 1 | AP67: 1 | AU67: =Y67*S67 -> 0 | AV67: =Z67*S67 -> 0 | AW67: =AA67*S67 -> 0 | AX67: =AB67*S67 -> 0 | AY67: =AC67*S67 -> 0 | AZ67: =AD67*S67 -> 0 | BA67: =AE67*S67 -> 0 | BB67: =AF67*S67 -> 0 | BC67: =AG67*S67 -> 0 | BD67: =AH67*S67 -> 0 | BE67: =AI67*S67 -> 0 | BF67: =AJ67*S67 -> 0 | BG67: =AK67*S67 -> 0 | BH67: =AL67*S67 -> 0 | BI67: =AM67*S67 -> 0 | BJ67: =AN67*S67 -> 0 | BK67: =AO67*S67 -> 0 | BL67: =AP67*S67 -> 0 | BM67: =AQ67*S67 -> 0 | BN67: =AR67*S67 -> 0 | BO67: =AS67*S67 -> 0
A68: SET 21 - KIFLA | B68: 4 | C68: 520 | D68: 6 | S68: =SUM(E68:R68) -> 0 | T68: =S68*B68 -> 0 | U68: =S68*C68 -> 0 | V68: =S68*D68 -> 0 | W68: Bolt on and Screw on | X68: 4 S | AG68: 1 | AJ68: 1 | AK68: 2 | AU68: =Y68*S68 -> 0 | AV68: =Z68*S68 -> 0 | AW68: =AA68*S68 -> 0 | AX68: =AB68*S68 -> 0 | AY68: =AC68*S68 -> 0 | AZ68: =AD68*S68 -> 0 | BA68: =AE68*S68 -> 0 | BB68: =AF68*S68 -> 0 | BC68: =AG68*S68 -> 0 | BD68: =AH68*S68 -> 0 | BE68: =AI68*S68 -> 0 | BF68: =AJ68*S68 -> 0 | BG68: =AK68*S68 -> 0 | BH68: =AL68*S68 -> 0 | BI68: =AM68*S68 -> 0 | BJ68: =AN68*S68 -> 0 | BK68: =AO68*S68 -> 0 | BL68: =AP68*S68 -> 0 | BM68: =AQ68*S68 -> 0 | BN68: =AR68*S68 -> 0 | BO68: =AS68*S68 -> 0
A69: SET 20 - KITKA | B69: 5 | C69: 584 | D69: 5.9 | S69: =SUM(E69:R69) -> 0 | T69: =S69*B69 -> 0 | U69: =S69*C69 -> 0 | V69: =S69*D69 -> 0 | W69: Screw on | X69: 1 XS, 4 S | AU69: =Y69*S69 -> 0 | AV69: =Z69*S69 -> 0 | AW69: =AA69*S69 -> 0 | AX69: =AB69*S69 -> 0 | AY69: =AC69*S69 -> 0 | AZ69: =AD69*S69 -> 0 | BA69: =AE69*S69 -> 0 | BB69: =AF69*S69 -> 0 | BC69: =AG69*S69 -> 0 | BD69: =AH69*S69 -> 0 | BE69: =AI69*S69 -> 0 | BF69: =AJ69*S69 -> 0 | BG69: =AK69*S69 -> 0 | BH69: =AL69*S69 -> 0 | BI69: =AM69*S69 -> 0 | BJ69: =AN69*S69 -> 0 | BK69: =AO69*S69 -> 0 | BL69: =AP69*S69 -> 0 | BM69: =AQ69*S69 -> 0 | BN69: =AR69*S69 -> 0 | BO69: =AS69*S69 -> 0
A70: SET 19 - KALPAK | B70: 5 | C70: 609 | D70: 6.9 | S70: =SUM(E70:R70) -> 0 | T70: =S70*B70 -> 0 | U70: =S70*C70 -> 0 | V70: =S70*D70 -> 0 | W70: Screw on | X70: 5 S | AU70: =Y70*S70 -> 0 | AV70: =Z70*S70 -> 0 | AW70: =AA70*S70 -> 0 | AX70: =AB70*S70 -> 0 | AY70: =AC70*S70 -> 0 | AZ70: =AD70*S70 -> 0 | BA70: =AE70*S70 -> 0 | BB70: =AF70*S70 -> 0 | BC70: =AG70*S70 -> 0 | BD70: =AH70*S70 -> 0 | BE70: =AI70*S70 -> 0 | BF70: =AJ70*S70 -> 0 | BG70: =AK70*S70 -> 0 | BH70: =AL70*S70 -> 0 | BI70: =AM70*S70 -> 0 | BJ70: =AN70*S70 -> 0 | BK70: =AO70*S70 -> 0 | BL70: =AP70*S70 -> 0 | BM70: =AQ70*S70 -> 0 | BN70: =AR70*S70 -> 0 | BO70: =AS70*S70 -> 0
A71: SET 18 - PAFTI | B71: 3 | C71: 338 | D71: 3.5 | S71: =SUM(E71:R71) -> 0 | T71: =S71*B71 -> 0 | U71: =S71*C71 -> 0 | V71: =S71*D71 -> 0 | W71: Screw on | X71: 2 XS, 1 S | AU71: =Y71*S71 -> 0 | AV71: =Z71*S71 -> 0 | AW71: =AA71*S71 -> 0 | AX71: =AB71*S71 -> 0 | AY71: =AC71*S71 -> 0 | AZ71: =AD71*S71 -> 0 | BA71: =AE71*S71 -> 0 | BB71: =AF71*S71 -> 0 | BC71: =AG71*S71 -> 0 | BD71: =AH71*S71 -> 0 | BE71: =AI71*S71 -> 0 | BF71: =AJ71*S71 -> 0 | BG71: =AK71*S71 -> 0 | BH71: =AL71*S71 -> 0 | BI71: =AM71*S71 -> 0 | BJ71: =AN71*S71 -> 0 | BK71: =AO71*S71 -> 0 | BL71: =AP71*S71 -> 0 | BM71: =AQ71*S71 -> 0 | BN71: =AR71*S71 -> 0 | BO71: =AS71*S71 -> 0
A72: SET 17 - REKA | B72: 4 | C72: 532 | D72: 4.75 | S72: =SUM(E72:R72) -> 0 | T72: =S72*B72 -> 0 | U72: =S72*C72 -> 0 | V72: =S72*D72 -> 0 | W72: Screw on | X72: 3 S, 1 M | AU72: =Y72*S72 -> 0 | AV72: =Z72*S72 -> 0 | AW72: =AA72*S72 -> 0 | AX72: =AB72*S72 -> 0 | AY72: =AC72*S72 -> 0 | AZ72: =AD72*S72 -> 0 | BA72: =AE72*S72 -> 0 | BB72: =AF72*S72 -> 0 | BC72: =AG72*S72 -> 0 | BD72: =AH72*S72 -> 0 | BE72: =AI72*S72 -> 0 | BF72: =AJ72*S72 -> 0 | BG72: =AK72*S72 -> 0 | BH72: =AL72*S72 -> 0 | BI72: =AM72*S72 -> 0 | BJ72: =AN72*S72 -> 0 | BK72: =AO72*S72 -> 0 | BL72: =AP72*S72 -> 0 | BM72: =AQ72*S72 -> 0 | BN72: =AR72*S72 -> 0 | BO72: =AS72*S72 -> 0
A73: SET 16 - LIBE | B73: 4 | C73: 586 | D73: 8.3 | S73: =SUM(E73:R73) -> 0 | T73: =S73*B73 -> 0 | U73: =S73*C73 -> 0 | V73: =S73*D73 -> 0 | W73: Bolt on and Screw on | X73: 2 S, 1 M, 1 L | AK73: 2 | AL73: 1 | AR73: 1 | AU73: =Y73*S73 -> 0 | AV73: =Z73*S73 -> 0 | AW73: =AA73*S73 -> 0 | AX73: =AB73*S73 -> 0 | AY73: =AC73*S73 -> 0 | AZ73: =AD73*S73 -> 0 | BA73: =AE73*S73 -> 0 | BB73: =AF73*S73 -> 0 | BC73: =AG73*S73 -> 0 | BD73: =AH73*S73 -> 0 | BE73: =AI73*S73 -> 0 | BF73: =AJ73*S73 -> 0 | BG73: =AK73*S73 -> 0 | BH73: =AL73*S73 -> 0 | BI73: =AM73*S73 -> 0 | BJ73: =AN73*S73 -> 0 | BK73: =AO73*S73 -> 0 | BL73: =AP73*S73 -> 0 | BM73: =AQ73*S73 -> 0 | BN73: =AR73*S73 -> 0 | BO73: =AS73*S73 -> 0
A74: SET 15 - KOPCHE | B74: 5 | C74: 653 | D74: 8 | S74: =SUM(E74:R74) -> 0 | T74: =S74*B74 -> 0 | U74: =S74*C74 -> 0 | V74: =S74*D74 -> 0 | W74: Bolt on and Screw on | X74: 5 S | AI74: 2 | AJ74: 1 | AK74: 1 | AL74: 1 | AU74: =Y74*S74 -> 0 | AV74: =Z74*S74 -> 0 | AW74: =AA74*S74 -> 0 | AX74: =AB74*S74 -> 0 | AY74: =AC74*S74 -> 0 | AZ74: =AD74*S74 -> 0 | BA74: =AE74*S74 -> 0 | BB74: =AF74*S74 -> 0 | BC74: =AG74*S74 -> 0 | BD74: =AH74*S74 -> 0 | BE74: =AI74*S74 -> 0 | BF74: =AJ74*S74 -> 0 | BG74: =AK74*S74 -> 0 | BH74: =AL74*S74 -> 0 | BI74: =AM74*S74 -> 0 | BJ74: =AN74*S74 -> 0 | BK74: =AO74*S74 -> 0 | BL74: =AP74*S74 -> 0 | BM74: =AQ74*S74 -> 0 | BN74: =AR74*S74 -> 0 | BO74: =AS74*S74 -> 0
A75: SET 14 - DYAKON | B75: 2 | C75: 255 | D75: 2.6 | S75: =SUM(E75:R75) -> 0 | T75: =S75*B75 -> 0 | U75: =S75*C75 -> 0 | V75: =S75*D75 -> 0 | X75: 1 XS, 1 S | AU75: =Y75*S75 -> 0 | AV75: =Z75*S75 -> 0 | AW75: =AA75*S75 -> 0 | AX75: =AB75*S75 -> 0 | AY75: =AC75*S75 -> 0 | AZ75: =AD75*S75 -> 0 | BA75: =AE75*S75 -> 0 | BB75: =AF75*S75 -> 0 | BC75: =AG75*S75 -> 0 | BD75: =AH75*S75 -> 0 | BE75: =AI75*S75 -> 0 | BF75: =AJ75*S75 -> 0 | BG75: =AK75*S75 -> 0 | BH75: =AL75*S75 -> 0 | BI75: =AM75*S75 -> 0 | BJ75: =AN75*S75 -> 0 | BK75: =AO75*S75 -> 0 | BL75: =AP75*S75 -> 0 | BM75: =AQ75*S75 -> 0 | BN75: =AR75*S75 -> 0 | BO75: =AS75*S75 -> 0
A76: DYAKON 14-1 | B76: 1 | C76: 120 | D76: 1.2 | T76: =SUM(E76:R76) -> 0 | U76: =T76*C76 -> 0 | V76: =T76*D76 -> 0 | W76: Bolt on and Screw on | X76: 1 XS | AI76: 1 | AU76: =Y76*S76 -> 0 | AV76: =Z76*S76 -> 0 | AW76: =AA76*S76 -> 0 | AX76: =AB76*S76 -> 0 | AY76: =AC76*S76 -> 0 | AZ76: =AD76*S76 -> 0 | BA76: =AE76*S76 -> 0 | BB76: =AF76*S76 -> 0 | BC76: =AG76*S76 -> 0 | BD76: =AH76*S76 -> 0 | BE76: =AI76*S76 -> 0 | BF76: =AJ76*S76 -> 0 | BG76: =AK76*S76 -> 0 | BH76: =AL76*S76 -> 0 | BI76: =AM76*S76 -> 0 | BJ76: =AN76*S76 -> 0 | BK76: =AO76*S76 -> 0 | BL76: =AP76*S76 -> 0 | BM76: =AQ76*S76 -> 0 | BN76: =AR76*S76 -> 0 | BO76: =AS76*S76 -> 0
A77: DYAKON 14-2 | B77: 1 | C77: 135 | D77: 1.4 | T77: =SUM(E77:R77) -> 0 | U77: =T77*C77 -> 0 | V77: =T77*D77 -> 0 | W77: Screw on | X77: 1 S | AU77: =Y77*S77 -> 0 | AV77: =Z77*S77 -> 0 | AW77: =AA77*S77 -> 0 | AX77: =AB77*S77 -> 0 | AY77: =AC77*S77 -> 0 | AZ77: =AD77*S77 -> 0 | BA77: =AE77*S77 -> 0 | BB77: =AF77*S77 -> 0 | BC77: =AG77*S77 -> 0 | BD77: =AH77*S77 -> 0 | BE77: =AI77*S77 -> 0 | BF77: =AJ77*S77 -> 0 | BG77: =AK77*S77 -> 0 | BH77: =AL77*S77 -> 0 | BI77: =AM77*S77 -> 0 | BJ77: =AN77*S77 -> 0 | BK77: =AO77*S77 -> 0 | BL77: =AP77*S77 -> 0 | BM77: =AQ77*S77 -> 0 | BN77: =AR77*S77 -> 0 | BO77: =AS77*S77 -> 0
A78: SET 13 - CHERGA | B78: 3 | C78: 387 | D78: 4.4 | S78: =SUM(E78:R78) -> 0 | T78: =S78*B78 -> 0 | U78: =S78*C78 -> 0 | V78: =S78*D78 -> 0 | X78: 1 XS, 2 S | AU78: =Y78*S78 -> 0 | AV78: =Z78*S78 -> 0 | AW78: =AA78*S78 -> 0 | AX78: =AB78*S78 -> 0 | AY78: =AC78*S78 -> 0 | AZ78: =AD78*S78 -> 0 | BA78: =AE78*S78 -> 0 | BB78: =AF78*S78 -> 0 | BC78: =AG78*S78 -> 0 | BD78: =AH78*S78 -> 0 | BE78: =AI78*S78 -> 0 | BF78: =AJ78*S78 -> 0 | BG78: =AK78*S78 -> 0 | BH78: =AL78*S78 -> 0 | BI78: =AM78*S78 -> 0 | BJ78: =AN78*S78 -> 0 | BK78: =AO78*S78 -> 0 | BL78: =AP78*S78 -> 0 | BM78: =AQ78*S78 -> 0 | BN78: =AR78*S78 -> 0 | BO78: =AS78*S78 -> 0
A79: CHERGA 13-1 | B79: 1 | C79: 114 | D79: 1.1 | T79: =SUM(E79:R79) -> 0 | U79: =T79*C79 -> 0 | V79: =T79*D79 -> 0 | W79: Bolt on and Screw on | X79: 1 XS | AI79: 1 | AU79: =Y79*S79 -> 0 | AV79: =Z79*S79 -> 0 | AW79: =AA79*S79 -> 0 | AX79: =AB79*S79 -> 0 | AY79: =AC79*S79 -> 0 | AZ79: =AD79*S79 -> 0 | BA79: =AE79*S79 -> 0 | BB79: =AF79*S79 -> 0 | BC79: =AG79*S79 -> 0 | BD79: =AH79*S79 -> 0 | BE79: =AI79*S79 -> 0 | BF79: =AJ79*S79 -> 0 | BG79: =AK79*S79 -> 0 | BH79: =AL79*S79 -> 0 | BI79: =AM79*S79 -> 0 | BJ79: =AN79*S79 -> 0 | BK79: =AO79*S79 -> 0 | BL79: =AP79*S79 -> 0 | BM79: =AQ79*S79 -> 0 | BN79: =AR79*S79 -> 0 | BO79: =AS79*S79 -> 0
A80: CHERGA 13-2 | B80: 1 | C80: 138 | D80: 1.7 | T80: =SUM(E80:R80) -> 0 | U80: =T80*C80 -> 0 | V80: =T80*D80 -> 0 | W80: Bolt on and Screw on | X80: 1 S | AJ80: 1 | AU80: =Y80*S80 -> 0 | AV80: =Z80*S80 -> 0 | AW80: =AA80*S80 -> 0 | AX80: =AB80*S80 -> 0 | AY80: =AC80*S80 -> 0 | AZ80: =AD80*S80 -> 0 | BA80: =AE80*S80 -> 0 | BB80: =AF80*S80 -> 0 | BC80: =AG80*S80 -> 0 | BD80: =AH80*S80 -> 0 | BE80: =AI80*S80 -> 0 | BF80: =AJ80*S80 -> 0 | BG80: =AK80*S80 -> 0 | BH80: =AL80*S80 -> 0 | BI80: =AM80*S80 -> 0 | BJ80: =AN80*S80 -> 0 | BK80: =AO80*S80 -> 0 | BL80: =AP80*S80 -> 0 | BM80: =AQ80*S80 -> 0 | BN80: =AR80*S80 -> 0 | BO80: =AS80*S80 -> 0
A81: CHERGA 13-3 | B81: 1 | C81: 135 | D81: 1.6 | T81: =SUM(E81:R81) -> 0 | U81: =T81*C81 -> 0 | V81: =T81*D81 -> 0 | W81: Screw on | X81: 1 S | AU81: =Y81*S81 -> 0 | AV81: =Z81*S81 -> 0 | AW81: =AA81*S81 -> 0 | AX81: =AB81*S81 -> 0 | AY81: =AC81*S81 -> 0 | AZ81: =AD81*S81 -> 0 | BA81: =AE81*S81 -> 0 | BB81: =AF81*S81 -> 0 | BC81: =AG81*S81 -> 0 | BD81: =AH81*S81 -> 0 | BE81: =AI81*S81 -> 0 | BF81: =AJ81*S81 -> 0 | BG81: =AK81*S81 -> 0 | BH81: =AL81*S81 -> 0 | BI81: =AM81*S81 -> 0 | BJ81: =AN81*S81 -> 0 | BK81: =AO81*S81 -> 0 | BL81: =AP81*S81 -> 0 | BM81: =AQ81*S81 -> 0 | BN81: =AR81*S81 -> 0 | BO81: =AS81*S81 -> 0
A82: SET 12 - YURGAN | B82: 4 | C82: 528 | D82: 5.75 | S82: =SUM(E82:R82) -> 0 | T82: =S82*B82 -> 0 | U82: =S82*C82 -> 0 | V82: =S82*D82 -> 0 | X82: 1 XS, 2 S, 1 M | AU82: =Y82*S82 -> 0 | AV82: =Z82*S82 -> 0 | AW82: =AA82*S82 -> 0 | AX82: =AB82*S82 -> 0 | AY82: =AC82*S82 -> 0 | AZ82: =AD82*S82 -> 0 | BA82: =AE82*S82 -> 0 | BB82: =AF82*S82 -> 0 | BC82: =AG82*S82 -> 0 | BD82: =AH82*S82 -> 0 | BE82: =AI82*S82 -> 0 | BF82: =AJ82*S82 -> 0 | BG82: =AK82*S82 -> 0 | BH82: =AL82*S82 -> 0 | BI82: =AM82*S82 -> 0 | BJ82: =AN82*S82 -> 0 | BK82: =AO82*S82 -> 0 | BL82: =AP82*S82 -> 0 | BM82: =AQ82*S82 -> 0 | BN82: =AR82*S82 -> 0 | BO82: =AS82*S82 -> 0
A83: YURGAN 12-1 | B83: 1 | C83: 111 | D83: 1.15 | T83: =SUM(E83:R83) -> 0 | U83: =T83*C83 -> 0 | V83: =T83*D83 -> 0 | W83: Bolt on and Screw on | X83: 1 XS | AL83: 1 | AU83: =Y83*S83 -> 0 | AV83: =Z83*S83 -> 0 | AW83: =AA83*S83 -> 0 | AX83: =AB83*S83 -> 0 | AY83: =AC83*S83 -> 0 | AZ83: =AD83*S83 -> 0 | BA83: =AE83*S83 -> 0 | BB83: =AF83*S83 -> 0 | BC83: =AG83*S83 -> 0 | BD83: =AH83*S83 -> 0 | BE83: =AI83*S83 -> 0 | BF83: =AJ83*S83 -> 0 | BG83: =AK83*S83 -> 0 | BH83: =AL83*S83 -> 0 | BI83: =AM83*S83 -> 0 | BJ83: =AN83*S83 -> 0 | BK83: =AO83*S83 -> 0 | BL83: =AP83*S83 -> 0 | BM83: =AQ83*S83 -> 0 | BN83: =AR83*S83 -> 0 | BO83: =AS83*S83 -> 0
A84: YURGAN 12-2 | B84: 1 | C84: 135 | D84: 1.4 | T84: =SUM(E84:R84) -> 0 | U84: =T84*C84 -> 0 | V84: =T84*D84 -> 0 | W84: Bolt on and Screw on | X84: 1 S | AK84: 1 | AU84: =Y84*S84 -> 0 | AV84: =Z84*S84 -> 0 | AW84: =AA84*S84 -> 0 | AX84: =AB84*S84 -> 0 | AY84: =AC84*S84 -> 0 | AZ84: =AD84*S84 -> 0 | BA84: =AE84*S84 -> 0 | BB84: =AF84*S84 -> 0 | BC84: =AG84*S84 -> 0 | BD84: =AH84*S84 -> 0 | BE84: =AI84*S84 -> 0 | BF84: =AJ84*S84 -> 0 | BG84: =AK84*S84 -> 0 | BH84: =AL84*S84 -> 0 | BI84: =AM84*S84 -> 0 | BJ84: =AN84*S84 -> 0 | BK84: =AO84*S84 -> 0 | BL84: =AP84*S84 -> 0 | BM84: =AQ84*S84 -> 0 | BN84: =AR84*S84 -> 0 | BO84: =AS84*S84 -> 0
A85: YURGAN 12-3 | B85: 1 | C85: 135 | D85: 1.4 | T85: =SUM(E85:R85) -> 0 | U85: =T85*C85 -> 0 | V85: =T85*D85 -> 0 | W85: Bolt on and Screw on | X85: 1 S | AG85: 1 | AU85: =Y85*S85 -> 0 | AV85: =Z85*S85 -> 0 | AW85: =AA85*S85 -> 0 | AX85: =AB85*S85 -> 0 | AY85: =AC85*S85 -> 0 | AZ85: =AD85*S85 -> 0 | BA85: =AE85*S85 -> 0 | BB85: =AF85*S85 -> 0 | BC85: =AG85*S85 -> 0 | BD85: =AH85*S85 -> 0 | BE85: =AI85*S85 -> 0 | BF85: =AJ85*S85 -> 0 | BG85: =AK85*S85 -> 0 | BH85: =AL85*S85 -> 0 | BI85: =AM85*S85 -> 0 | BJ85: =AN85*S85 -> 0 | BK85: =AO85*S85 -> 0 | BL85: =AP85*S85 -> 0 | BM85: =AQ85*S85 -> 0 | BN85: =AR85*S85 -> 0 | BO85: =AS85*S85 -> 0
A86: YURGAN 12-4 | B86: 1 | C86: 147 | D86: 1.8 | T86: =SUM(E86:R86) -> 0 | U86: =T86*C86 -> 0 | V86: =T86*D86 -> 0 | W86: Screw on | X86: 1 M | AU86: =Y86*S86 -> 0 | AV86: =Z86*S86 -> 0 | AW86: =AA86*S86 -> 0 | AX86: =AB86*S86 -> 0 | AY86: =AC86*S86 -> 0 | AZ86: =AD86*S86 -> 0 | BA86: =AE86*S86 -> 0 | BB86: =AF86*S86 -> 0 | BC86: =AG86*S86 -> 0 | BD86: =AH86*S86 -> 0 | BE86: =AI86*S86 -> 0 | BF86: =AJ86*S86 -> 0 | BG86: =AK86*S86 -> 0 | BH86: =AL86*S86 -> 0 | BI86: =AM86*S86 -> 0 | BJ86: =AN86*S86 -> 0 | BK86: =AO86*S86 -> 0 | BL86: =AP86*S86 -> 0 | BM86: =AQ86*S86 -> 0 | BN86: =AR86*S86 -> 0 | BO86: =AS86*S86 -> 0
A87: SET 11 - HURKA | B87: 4 | C87: 532 | D87: 5.7 | S87: =SUM(E87:R87) -> 0 | T87: =S87*B87 -> 0 | U87: =S87*C87 -> 0 | V87: =S87*D87 -> 0 | X87: 1 XS, 2 S, 1 M | AU87: =Y87*S87 -> 0 | AV87: =Z87*S87 -> 0 | AW87: =AA87*S87 -> 0 | AX87: =AB87*S87 -> 0 | AY87: =AC87*S87 -> 0 | AZ87: =AD87*S87 -> 0 | BA87: =AE87*S87 -> 0 | BB87: =AF87*S87 -> 0 | BC87: =AG87*S87 -> 0 | BD87: =AH87*S87 -> 0 | BE87: =AI87*S87 -> 0 | BF87: =AJ87*S87 -> 0 | BG87: =AK87*S87 -> 0 | BH87: =AL87*S87 -> 0 | BI87: =AM87*S87 -> 0 | BJ87: =AN87*S87 -> 0 | BK87: =AO87*S87 -> 0 | BL87: =AP87*S87 -> 0 | BM87: =AQ87*S87 -> 0 | BN87: =AR87*S87 -> 0 | BO87: =AS87*S87 -> 0
A88: HURKA 11-1 | B88: 1 | C88: 110 | D88: 1 | T88: =SUM(E88:R88) -> 0 | U88: =T88*C88 -> 0 | V88: =T88*D88 -> 0 | W88: Bolt on and Screw on | X88: 1 XS | AH88: 1 | AU88: =Y88*S88 -> 0 | AV88: =Z88*S88 -> 0 | AW88: =AA88*S88 -> 0 | AX88: =AB88*S88 -> 0 | AY88: =AC88*S88 -> 0 | AZ88: =AD88*S88 -> 0 | BA88: =AE88*S88 -> 0 | BB88: =AF88*S88 -> 0 | BC88: =AG88*S88 -> 0 | BD88: =AH88*S88 -> 0 | BE88: =AI88*S88 -> 0 | BF88: =AJ88*S88 -> 0 | BG88: =AK88*S88 -> 0 | BH88: =AL88*S88 -> 0 | BI88: =AM88*S88 -> 0 | BJ88: =AN88*S88 -> 0 | BK88: =AO88*S88 -> 0 | BL88: =AP88*S88 -> 0 | BM88: =AQ88*S88 -> 0 | BN88: =AR88*S88 -> 0 | BO88: =AS88*S88 -> 0
A89: HURKA 11-2 | B89: 1 | C89: 135 | D89: 1.3 | T89: =SUM(E89:R89) -> 0 | U89: =T89*C89 -> 0 | V89: =T89*D89 -> 0 | W89: Bolt on and Screw on | X89: 1 S | AH89: 1 | AU89: =Y89*S89 -> 0 | AV89: =Z89*S89 -> 0 | AW89: =AA89*S89 -> 0 | AX89: =AB89*S89 -> 0 | AY89: =AC89*S89 -> 0 | AZ89: =AD89*S89 -> 0 | BA89: =AE89*S89 -> 0 | BB89: =AF89*S89 -> 0 | BC89: =AG89*S89 -> 0 | BD89: =AH89*S89 -> 0 | BE89: =AI89*S89 -> 0 | BF89: =AJ89*S89 -> 0 | BG89: =AK89*S89 -> 0 | BH89: =AL89*S89 -> 0 | BI89: =AM89*S89 -> 0 | BJ89: =AN89*S89 -> 0 | BK89: =AO89*S89 -> 0 | BL89: =AP89*S89 -> 0 | BM89: =AQ89*S89 -> 0 | BN89: =AR89*S89 -> 0 | BO89: =AS89*S89 -> 0
A90: HURKA 11-3 | B90: 1 | C90: 135 | D90: 1.5 | T90: =SUM(E90:R90) -> 0 | U90: =T90*C90 -> 0 | V90: =T90*D90 -> 0 | W90: Bolt on and Screw on | X90: 1 S | AK90: 1 | AU90: =Y90*S90 -> 0 | AV90: =Z90*S90 -> 0 | AW90: =AA90*S90 -> 0 | AX90: =AB90*S90 -> 0 | AY90: =AC90*S90 -> 0 | AZ90: =AD90*S90 -> 0 | BA90: =AE90*S90 -> 0 | BB90: =AF90*S90 -> 0 | BC90: =AG90*S90 -> 0 | BD90: =AH90*S90 -> 0 | BE90: =AI90*S90 -> 0 | BF90: =AJ90*S90 -> 0 | BG90: =AK90*S90 -> 0 | BH90: =AL90*S90 -> 0 | BI90: =AM90*S90 -> 0 | BJ90: =AN90*S90 -> 0 | BK90: =AO90*S90 -> 0 | BL90: =AP90*S90 -> 0 | BM90: =AQ90*S90 -> 0 | BN90: =AR90*S90 -> 0 | BO90: =AS90*S90 -> 0
A91: HURKA 11-4 | B91: 1 | C91: 152 | D91: 1.9 | T91: =SUM(E91:R91) -> 0 | U91: =T91*C91 -> 0 | V91: =T91*D91 -> 0 | W91: Screw on | X91: 1 M | AU91: =Y91*S91 -> 0 | AV91: =Z91*S91 -> 0 | AW91: =AA91*S91 -> 0 | AX91: =AB91*S91 -> 0 | AY91: =AC91*S91 -> 0 | AZ91: =AD91*S91 -> 0 | BA91: =AE91*S91 -> 0 | BB91: =AF91*S91 -> 0 | BC91: =AG91*S91 -> 0 | BD91: =AH91*S91 -> 0 | BE91: =AI91*S91 -> 0 | BF91: =AJ91*S91 -> 0 | BG91: =AK91*S91 -> 0 | BH91: =AL91*S91 -> 0 | BI91: =AM91*S91 -> 0 | BJ91: =AN91*S91 -> 0 | BK91: =AO91*S91 -> 0 | BL91: =AP91*S91 -> 0 | BM91: =AQ91*S91 -> 0 | BN91: =AR91*S91 -> 0 | BO91: =AS91*S91 -> 0
A92: SET 10 - ODAYA | B92: 4 | C92: 543 | D92: 6.8 | S92: =SUM(E92:R92) -> 0 | T92: =S92*B92 -> 0 | U92: =S92*C92 -> 0 | V92: =S92*D92 -> 0 | X92: 1 XS, 2 S, 1 L | AU92: =Y92*S92 -> 0 | AV92: =Z92*S92 -> 0 | AW92: =AA92*S92 -> 0 | AX92: =AB92*S92 -> 0 | AY92: =AC92*S92 -> 0 | AZ92: =AD92*S92 -> 0 | BA92: =AE92*S92 -> 0 | BB92: =AF92*S92 -> 0 | BC92: =AG92*S92 -> 0 | BD92: =AH92*S92 -> 0 | BE92: =AI92*S92 -> 0 | BF92: =AJ92*S92 -> 0 | BG92: =AK92*S92 -> 0 | BH92: =AL92*S92 -> 0 | BI92: =AM92*S92 -> 0 | BJ92: =AN92*S92 -> 0 | BK92: =AO92*S92 -> 0 | BL92: =AP92*S92 -> 0 | BM92: =AQ92*S92 -> 0 | BN92: =AR92*S92 -> 0 | BO92: =AS92*S92 -> 0
A93: ODAYA 10-1 | B93: 1 | C93: 120 | D93: 1.1 | T93: =SUM(E93:R93) -> 0 | U93: =T93*C93 -> 0 | V93: =T93*D93 -> 0 | W93: Screw on | X93: 1 S | AU93: =Y93*S93 -> 0 | AV93: =Z93*S93 -> 0 | AW93: =AA93*S93 -> 0 | AX93: =AB93*S93 -> 0 | AY93: =AC93*S93 -> 0 | AZ93: =AD93*S93 -> 0 | BA93: =AE93*S93 -> 0 | BB93: =AF93*S93 -> 0 | BC93: =AG93*S93 -> 0 | BD93: =AH93*S93 -> 0 | BE93: =AI93*S93 -> 0 | BF93: =AJ93*S93 -> 0 | BG93: =AK93*S93 -> 0 | BH93: =AL93*S93 -> 0 | BI93: =AM93*S93 -> 0 | BJ93: =AN93*S93 -> 0 | BK93: =AO93*S93 -> 0 | BL93: =AP93*S93 -> 0 | BM93: =AQ93*S93 -> 0 | BN93: =AR93*S93 -> 0 | BO93: =AS93*S93 -> 0
A94: ODAYA 10-2 | B94: 1 | C94: 128 | D94: 1.8 | T94: =SUM(E94:R94) -> 0 | U94: =T94*C94 -> 0 | V94: =T94*D94 -> 0 | W94: Bolt on and Screw on | X94: 1 S | AI94: 1 | AU94: =Y94*S94 -> 0 | AV94: =Z94*S94 -> 0 | AW94: =AA94*S94 -> 0 | AX94: =AB94*S94 -> 0 | AY94: =AC94*S94 -> 0 | AZ94: =AD94*S94 -> 0 | BA94: =AE94*S94 -> 0 | BB94: =AF94*S94 -> 0 | BC94: =AG94*S94 -> 0 | BD94: =AH94*S94 -> 0 | BE94: =AI94*S94 -> 0 | BF94: =AJ94*S94 -> 0 | BG94: =AK94*S94 -> 0 | BH94: =AL94*S94 -> 0 | BI94: =AM94*S94 -> 0 | BJ94: =AN94*S94 -> 0 | BK94: =AO94*S94 -> 0 | BL94: =AP94*S94 -> 0 | BM94: =AQ94*S94 -> 0 | BN94: =AR94*S94 -> 0 | BO94: =AS94*S94 -> 0
A95: ODAYA 10-3 | B95: 1 | C95: 110 | D95: 1.3 | T95: =SUM(E95:R95) -> 0 | U95: =T95*C95 -> 0 | V95: =T95*D95 -> 0 | W95: Screw on | X95: 1 XS | AU95: =Y95*S95 -> 0 | AV95: =Z95*S95 -> 0 | AW95: =AA95*S95 -> 0 | AX95: =AB95*S95 -> 0 | AY95: =AC95*S95 -> 0 | AZ95: =AD95*S95 -> 0 | BA95: =AE95*S95 -> 0 | BB95: =AF95*S95 -> 0 | BC95: =AG95*S95 -> 0 | BD95: =AH95*S95 -> 0 | BE95: =AI95*S95 -> 0 | BF95: =AJ95*S95 -> 0 | BG95: =AK95*S95 -> 0 | BH95: =AL95*S95 -> 0 | BI95: =AM95*S95 -> 0 | BJ95: =AN95*S95 -> 0 | BK95: =AO95*S95 -> 0 | BL95: =AP95*S95 -> 0 | BM95: =AQ95*S95 -> 0 | BN95: =AR95*S95 -> 0 | BO95: =AS95*S95 -> 0
A96: ODAYA 10-4 | B96: 1 | C96: 185 | D96: 2.6 | T96: =SUM(E96:R96) -> 0 | U96: =T96*C96 -> 0 | V96: =T96*D96 -> 0 | W96: Screw on | X96: 1 L | AU96: =Y96*S96 -> 0 | AV96: =Z96*S96 -> 0 | AW96: =AA96*S96 -> 0 | AX96: =AB96*S96 -> 0 | AY96: =AC96*S96 -> 0 | AZ96: =AD96*S96 -> 0 | BA96: =AE96*S96 -> 0 | BB96: =AF96*S96 -> 0 | BC96: =AG96*S96 -> 0 | BD96: =AH96*S96 -> 0 | BE96: =AI96*S96 -> 0 | BF96: =AJ96*S96 -> 0 | BG96: =AK96*S96 -> 0 | BH96: =AL96*S96 -> 0 | BI96: =AM96*S96 -> 0 | BJ96: =AN96*S96 -> 0 | BK96: =AO96*S96 -> 0 | BL96: =AP96*S96 -> 0 | BM96: =AQ96*S96 -> 0 | BN96: =AR96*S96 -> 0 | BO96: =AS96*S96 -> 0
A97: SET 9 - RID | B97: 3 | C97: 393 | D97: 4.8 | S97: =SUM(E97:R97) -> 0 | T97: =S97*B97 -> 0 | U97: =S97*C97 -> 0 | V97: =S97*D97 -> 0 | X97: 2 S, 1 M | AU97: =Y97*S97 -> 0 | AV97: =Z97*S97 -> 0 | AW97: =AA97*S97 -> 0 | AX97: =AB97*S97 -> 0 | AY97: =AC97*S97 -> 0 | AZ97: =AD97*S97 -> 0 | BA97: =AE97*S97 -> 0 | BB97: =AF97*S97 -> 0 | BC97: =AG97*S97 -> 0 | BD97: =AH97*S97 -> 0 | BE97: =AI97*S97 -> 0 | BF97: =AJ97*S97 -> 0 | BG97: =AK97*S97 -> 0 | BH97: =AL97*S97 -> 0 | BI97: =AM97*S97 -> 0 | BJ97: =AN97*S97 -> 0 | BK97: =AO97*S97 -> 0 | BL97: =AP97*S97 -> 0 | BM97: =AQ97*S97 -> 0 | BN97: =AR97*S97 -> 0 | BO97: =AS97*S97 -> 0
A98: RID 9-1 | B98: 1 | C98: 124 | D98: 1.6 | T98: =SUM(E98:R98) -> 0 | U98: =T98*C98 -> 0 | V98: =T98*D98 -> 0 | W98: Screw on | X98: 1 S | AU98: =Y98*S98 -> 0 | AV98: =Z98*S98 -> 0 | AW98: =AA98*S98 -> 0 | AX98: =AB98*S98 -> 0 | AY98: =AC98*S98 -> 0 | AZ98: =AD98*S98 -> 0 | BA98: =AE98*S98 -> 0 | BB98: =AF98*S98 -> 0 | BC98: =AG98*S98 -> 0 | BD98: =AH98*S98 -> 0 | BE98: =AI98*S98 -> 0 | BF98: =AJ98*S98 -> 0 | BG98: =AK98*S98 -> 0 | BH98: =AL98*S98 -> 0 | BI98: =AM98*S98 -> 0 | BJ98: =AN98*S98 -> 0 | BK98: =AO98*S98 -> 0 | BL98: =AP98*S98 -> 0 | BM98: =AQ98*S98 -> 0 | BN98: =AR98*S98 -> 0 | BO98: =AS98*S98 -> 0
A99: RID 9-2 | B99: 1 | C99: 124 | D99: 1.4 | T99: =SUM(E99:R99) -> 0 | U99: =T99*C99 -> 0 | V99: =T99*D99 -> 0 | W99: Screw on | X99: 1 S | AU99: =Y99*S99 -> 0 | AV99: =Z99*S99 -> 0 | AW99: =AA99*S99 -> 0 | AX99: =AB99*S99 -> 0 | AY99: =AC99*S99 -> 0 | AZ99: =AD99*S99 -> 0 | BA99: =AE99*S99 -> 0 | BB99: =AF99*S99 -> 0 | BC99: =AG99*S99 -> 0 | BD99: =AH99*S99 -> 0 | BE99: =AI99*S99 -> 0 | BF99: =AJ99*S99 -> 0 | BG99: =AK99*S99 -> 0 | BH99: =AL99*S99 -> 0 | BI99: =AM99*S99 -> 0 | BJ99: =AN99*S99 -> 0 | BK99: =AO99*S99 -> 0 | BL99: =AP99*S99 -> 0 | BM99: =AQ99*S99 -> 0 | BN99: =AR99*S99 -> 0 | BO99: =AS99*S99 -> 0
A100: RID 9-3 | B100: 1 | C100: 145 | D100: 1.8 | T100: =SUM(E100:R100) -> 0 | U100: =T100*C100 -> 0 | V100: =T100*D100 -> 0 | W100: Screw on | X100: 1 M | AU100: =Y100*S100 -> 0 | AV100: =Z100*S100 -> 0 | AW100: =AA100*S100 -> 0 | AX100: =AB100*S100 -> 0 | AY100: =AC100*S100 -> 0 | AZ100: =AD100*S100 -> 0 | BA100: =AE100*S100 -> 0 | BB100: =AF100*S100 -> 0 | BC100: =AG100*S100 -> 0 | BD100: =AH100*S100 -> 0 | BE100: =AI100*S100 -> 0 | BF100: =AJ100*S100 -> 0 | BG100: =AK100*S100 -> 0 | BH100: =AL100*S100 -> 0 | BI100: =AM100*S100 -> 0 | BJ100: =AN100*S100 -> 0 | BK100: =AO100*S100 -> 0 | BL100: =AP100*S100 -> 0 | BM100: =AQ100*S100 -> 0 | BN100: =AR100*S100 -> 0 | BO100: =AS100*S100 -> 0
A101: SET 8 - STAN | B101: 4 | C101: 577 | D101: 7.6 | S101: =SUM(E101:R101) -> 0 | T101: =S101*B101 -> 0 | U101: =S101*C101 -> 0 | V101: =S101*D101 -> 0 | X101: 2 S, 2 M | AU101: =Y101*S101 -> 0 | AV101: =Z101*S101 -> 0 | AW101: =AA101*S101 -> 0 | AX101: =AB101*S101 -> 0 | AY101: =AC101*S101 -> 0 | AZ101: =AD101*S101 -> 0 | BA101: =AE101*S101 -> 0 | BB101: =AF101*S101 -> 0 | BC101: =AG101*S101 -> 0 | BD101: =AH101*S101 -> 0 | BE101: =AI101*S101 -> 0 | BF101: =AJ101*S101 -> 0 | BG101: =AK101*S101 -> 0 | BH101: =AL101*S101 -> 0 | BI101: =AM101*S101 -> 0 | BJ101: =AN101*S101 -> 0 | BK101: =AO101*S101 -> 0 | BL101: =AP101*S101 -> 0 | BM101: =AQ101*S101 -> 0 | BN101: =AR101*S101 -> 0 | BO101: =AS101*S101 -> 0
A102: STAN 8-1 | B102: 1 | C102: 135 | D102: 1.5 | T102: =SUM(E102:R102) -> 0 | U102: =T102*C102 -> 0 | V102: =T102*D102 -> 0 | W102: Bolt on and Screw on | X102: 1 S | AO102: 1 | AU102: =Y102*S102 -> 0 | AV102: =Z102*S102 -> 0 | AW102: =AA102*S102 -> 0 | AX102: =AB102*S102 -> 0 | AY102: =AC102*S102 -> 0 | AZ102: =AD102*S102 -> 0 | BA102: =AE102*S102 -> 0 | BB102: =AF102*S102 -> 0 | BC102: =AG102*S102 -> 0 | BD102: =AH102*S102 -> 0 | BE102: =AI102*S102 -> 0 | BF102: =AJ102*S102 -> 0 | BG102: =AK102*S102 -> 0 | BH102: =AL102*S102 -> 0 | BI102: =AM102*S102 -> 0 | BJ102: =AN102*S102 -> 0 | BK102: =AO102*S102 -> 0 | BL102: =AP102*S102 -> 0 | BM102: =AQ102*S102 -> 0 | BN102: =AR102*S102 -> 0 | BO102: =AS102*S102 -> 0
A103: STAN 8-2 | B103: 1 | C103: 162 | D103: 2.6 | T103: =SUM(E103:R103) -> 0 | U103: =T103*C103 -> 0 | V103: =T103*D103 -> 0 | W103: Screw on | X103: 1 M | AU103: =Y103*S103 -> 0 | AV103: =Z103*S103 -> 0 | AW103: =AA103*S103 -> 0 | AX103: =AB103*S103 -> 0 | AY103: =AC103*S103 -> 0 | AZ103: =AD103*S103 -> 0 | BA103: =AE103*S103 -> 0 | BB103: =AF103*S103 -> 0 | BC103: =AG103*S103 -> 0 | BD103: =AH103*S103 -> 0 | BE103: =AI103*S103 -> 0 | BF103: =AJ103*S103 -> 0 | BG103: =AK103*S103 -> 0 | BH103: =AL103*S103 -> 0 | BI103: =AM103*S103 -> 0 | BJ103: =AN103*S103 -> 0 | BK103: =AO103*S103 -> 0 | BL103: =AP103*S103 -> 0 | BM103: =AQ103*S103 -> 0 | BN103: =AR103*S103 -> 0 | BO103: =AS103*S103 -> 0
A104: STAN 8-3 | B104: 1 | C104: 128 | D104: 1.6 | T104: =SUM(E104:R104) -> 0 | U104: =T104*C104 -> 0 | V104: =T104*D104 -> 0 | W104: Bolt on and Screw on | X104: 1 S | AP104: 1 | AU104: =Y104*S104 -> 0 | AV104: =Z104*S104 -> 0 | AW104: =AA104*S104 -> 0 | AX104: =AB104*S104 -> 0 | AY104: =AC104*S104 -> 0 | AZ104: =AD104*S104 -> 0 | BA104: =AE104*S104 -> 0 | BB104: =AF104*S104 -> 0 | BC104: =AG104*S104 -> 0 | BD104: =AH104*S104 -> 0 | BE104: =AI104*S104 -> 0 | BF104: =AJ104*S104 -> 0 | BG104: =AK104*S104 -> 0 | BH104: =AL104*S104 -> 0 | BI104: =AM104*S104 -> 0 | BJ104: =AN104*S104 -> 0 | BK104: =AO104*S104 -> 0 | BL104: =AP104*S104 -> 0 | BM104: =AQ104*S104 -> 0 | BN104: =AR104*S104 -> 0 | BO104: =AS104*S104 -> 0
A105: STAN 8-4 | B105: 1 | C105: 152 | D105: 1.9 | T105: =SUM(E105:R105) -> 0 | U105: =T105*C105 -> 0 | V105: =T105*D105 -> 0 | W105: Screw on | X105: 1 M | AU105: =Y105*S105 -> 0 | AV105: =Z105*S105 -> 0 | AW105: =AA105*S105 -> 0 | AX105: =AB105*S105 -> 0 | AY105: =AC105*S105 -> 0 | AZ105: =AD105*S105 -> 0 | BA105: =AE105*S105 -> 0 | BB105: =AF105*S105 -> 0 | BC105: =AG105*S105 -> 0 | BD105: =AH105*S105 -> 0 | BE105: =AI105*S105 -> 0 | BF105: =AJ105*S105 -> 0 | BG105: =AK105*S105 -> 0 | BH105: =AL105*S105 -> 0 | BI105: =AM105*S105 -> 0 | BJ105: =AN105*S105 -> 0 | BK105: =AO105*S105 -> 0 | BL105: =AP105*S105 -> 0 | BM105: =AQ105*S105 -> 0 | BN105: =AR105*S105 -> 0 | BO105: =AS105*S105 -> 0
A106: SET 7 - GEGA | B106: 2 | C106: 295 | D106: 4 | S106: =SUM(E106:R106) -> 0 | T106: =S106*B106 -> 0 | U106: =S106*C106 -> 0 | V106: =S106*D106 -> 0 | X106: 1 S, 1M | AU106: =Y106*S106 -> 0 | AV106: =Z106*S106 -> 0 | AW106: =AA106*S106 -> 0 | AX106: =AB106*S106 -> 0 | AY106: =AC106*S106 -> 0 | AZ106: =AD106*S106 -> 0 | BA106: =AE106*S106 -> 0 | BB106: =AF106*S106 -> 0 | BC106: =AG106*S106 -> 0 | BD106: =AH106*S106 -> 0 | BE106: =AI106*S106 -> 0 | BF106: =AJ106*S106 -> 0 | BG106: =AK106*S106 -> 0 | BH106: =AL106*S106 -> 0 | BI106: =AM106*S106 -> 0 | BJ106: =AN106*S106 -> 0 | BK106: =AO106*S106 -> 0 | BL106: =AP106*S106 -> 0 | BM106: =AQ106*S106 -> 0 | BN106: =AR106*S106 -> 0 | BO106: =AS106*S106 -> 0
A107: GEGA 7-1 | B107: 1 | C107: 135 | D107: 1.7 | T107: =SUM(E107:R107) -> 0 | U107: =T107*C107 -> 0 | V107: =T107*D107 -> 0 | W107: Screw on | X107: 1 S | AU107: =Y107*S107 -> 0 | AV107: =Z107*S107 -> 0 | AW107: =AA107*S107 -> 0 | AX107: =AB107*S107 -> 0 | AY107: =AC107*S107 -> 0 | AZ107: =AD107*S107 -> 0 | BA107: =AE107*S107 -> 0 | BB107: =AF107*S107 -> 0 | BC107: =AG107*S107 -> 0 | BD107: =AH107*S107 -> 0 | BE107: =AI107*S107 -> 0 | BF107: =AJ107*S107 -> 0 | BG107: =AK107*S107 -> 0 | BH107: =AL107*S107 -> 0 | BI107: =AM107*S107 -> 0 | BJ107: =AN107*S107 -> 0 | BK107: =AO107*S107 -> 0 | BL107: =AP107*S107 -> 0 | BM107: =AQ107*S107 -> 0 | BN107: =AR107*S107 -> 0 | BO107: =AS107*S107 -> 0
A108: GEGA 7-2 | B108: 1 | C108: 160 | D108: 2.3 | T108: =SUM(E108:R108) -> 0 | U108: =T108*C108 -> 0 | V108: =T108*D108 -> 0 | W108: Screw on | X108: 1 M | AU108: =Y108*S108 -> 0 | AV108: =Z108*S108 -> 0 | AW108: =AA108*S108 -> 0 | AX108: =AB108*S108 -> 0 | AY108: =AC108*S108 -> 0 | AZ108: =AD108*S108 -> 0 | BA108: =AE108*S108 -> 0 | BB108: =AF108*S108 -> 0 | BC108: =AG108*S108 -> 0 | BD108: =AH108*S108 -> 0 | BE108: =AI108*S108 -> 0 | BF108: =AJ108*S108 -> 0 | BG108: =AK108*S108 -> 0 | BH108: =AL108*S108 -> 0 | BI108: =AM108*S108 -> 0 | BJ108: =AN108*S108 -> 0 | BK108: =AO108*S108 -> 0 | BL108: =AP108*S108 -> 0 | BM108: =AQ108*S108 -> 0 | BN108: =AR108*S108 -> 0 | BO108: =AS108*S108 -> 0
A109: SET 6 - DUVAR | B109: 2 | C109: 357 | D109: 4.3 | S109: =SUM(E109:R109) -> 0 | T109: =S109*B109 -> 0 | U109: =S109*C109 -> 0 | V109: =S109*D109 -> 0 | X109: 1 M, 1 L | AU109: =Y109*S109 -> 0 | AV109: =Z109*S109 -> 0 | AW109: =AA109*S109 -> 0 | AX109: =AB109*S109 -> 0 | AY109: =AC109*S109 -> 0 | AZ109: =AD109*S109 -> 0 | BA109: =AE109*S109 -> 0 | BB109: =AF109*S109 -> 0 | BC109: =AG109*S109 -> 0 | BD109: =AH109*S109 -> 0 | BE109: =AI109*S109 -> 0 | BF109: =AJ109*S109 -> 0 | BG109: =AK109*S109 -> 0 | BH109: =AL109*S109 -> 0 | BI109: =AM109*S109 -> 0 | BJ109: =AN109*S109 -> 0 | BK109: =AO109*S109 -> 0 | BL109: =AP109*S109 -> 0 | BM109: =AQ109*S109 -> 0 | BN109: =AR109*S109 -> 0 | BO109: =AS109*S109 -> 0
A110: DUVAR 6-1 | B110: 1 | C110: 153 | D110: 1.8 | T110: =SUM(E110:R110) -> 0 | U110: =T110*C110 -> 0 | V110: =T110*D110 -> 0 | W110: Screw on | X110: 1 M | AU110: =Y110*S110 -> 0 | AV110: =Z110*S110 -> 0 | AW110: =AA110*S110 -> 0 | AX110: =AB110*S110 -> 0 | AY110: =AC110*S110 -> 0 | AZ110: =AD110*S110 -> 0 | BA110: =AE110*S110 -> 0 | BB110: =AF110*S110 -> 0 | BC110: =AG110*S110 -> 0 | BD110: =AH110*S110 -> 0 | BE110: =AI110*S110 -> 0 | BF110: =AJ110*S110 -> 0 | BG110: =AK110*S110 -> 0 | BH110: =AL110*S110 -> 0 | BI110: =AM110*S110 -> 0 | BJ110: =AN110*S110 -> 0 | BK110: =AO110*S110 -> 0 | BL110: =AP110*S110 -> 0 | BM110: =AQ110*S110 -> 0 | BN110: =AR110*S110 -> 0 | BO110: =AS110*S110 -> 0
...

Sheet Plywood volumes
A1: Name | B1: Price | C1: Weight | D1: Yellow | E1: Orange | F1: Light Blue | G1: Red | H1: Purple | I1: Blue | J1: Green | K1: Grey | L1: Black | M1: White | N1: Magenta | O1: Sets | P1: Pcs | Q1: Total | R1: Total weight
A2: PLW 19.01-04 SET | B2: 360 | C2: 5.6 | O2: =SUM(D2:N2) -> 0 | P2: =O2*4 -> 0 | Q2: =O2*B2 -> 0 | R2: =O2*C2 -> 0
A3: PLW 19.05-08 DT SET | B3: 460 | C3: 5.6 | O3: =SUM(D3:N3) -> 0 | P3: =O3*4 -> 0 | Q3: =O3*B3 -> 0 | R3: =O3*C3 -> 0
A4: PLW 19.09-12 DT SET | B4: 460 | C4: 5.6 | O4: =SUM(D4:N4) -> 0 | P4: =O4*4 -> 0 | Q4: =O4*B4 -> 0 | R4: =O4*C4 -> 0
A5: PLW 20.01-03 SET | B5: 504.7 | C5: 26.5 | O5: =SUM(D5:N5) -> 0 | P5: =O5*3 -> 0 | Q5: =O5*B5 -> 0 | R5: =O5*C5 -> 0
A6: PLW 20.01-03 CUT SET | B6: 504.7 | C6: 27 | O6: =SUM(D6:N6) -> 0 | P6: =O6*6 -> 0 | Q6: =O6*B6 -> 0 | R6: =O6*C6 -> 0
A7: PLW 20.04-06 DT SET | B7: 607.6 | C7: 26.5 | O7: =SUM(D7:N7) -> 0 | P7: =O7*3 -> 0 | Q7: =O7*B7 -> 0 | R7: =O7*C7 -> 0
A8: PLW 20.04-06 DT CUT SET | B8: 607.6 | C8: 27 | O8: =SUM(D8:N8) -> 0 | P8: =O8*6 -> 0 | Q8: =O8*B8 -> 0 | R8: =O8*C8 -> 0
A9: PLW 21.01-05 SET | B9: 450 | C9: 8.6 | O9: =SUM(D9:N9) -> 0 | P9: =O9*5 -> 0 | Q9: =O9*B9 -> 0 | R9: =O9*C9 -> 0
A10: PLW 21.06-10 DT SET | B10: 575 | C10: 8.6 | O10: =SUM(D10:N10) -> 0 | P10: =O10*5 -> 0 | Q10: =O10*B10 -> 0 | R10: =O10*C10 -> 0
A11: PLW 21.11-15 DT SET | B11: 575 | C11: 8.6 | O11: =SUM(D11:N11) -> 0 | P11: =O11*5 -> 0 | Q11: =O11*B11 -> 0 | R11: =O11*C11 -> 0
A12: PLW 22.01-02 SET | B12: 333.2 | C12: 17.3 | O12: =SUM(D12:N12) -> 0 | P12: =O12*2 -> 0 | Q12: =O12*B12 -> 0 | R12: =O12*C12 -> 0
A13: PLW 22.01 | B13: 180 | C13: 10 | O13: =SUM(D13:N13) -> 0 | P13: =O13*1 -> 0 | Q13: =O13*B13 -> 0 | R13: =O13*C13 -> 0
A14: PLW 22.02 | B14: 160 | C14: 7.3 | O14: =SUM(D14:N14) -> 0 | P14: =O14*1 -> 0 | Q14: =O14*B14 -> 0 | R14: =O14*C14 -> 0
A15: PLW 23.01-03 SET | B15: 380 | C15: 10.2 | O15: =SUM(D15:N15) -> 0 | P15: =O15*3 -> 0 | Q15: =O15*B15 -> 0 | R15: =O15*C15 -> 0
A16: PLW 24.01-03 SET | B16: 380 | C16: 10.5 | O16: =SUM(D16:N16) -> 0 | P16: =O16*3 -> 0 | Q16: =O16*B16 -> 0 | R16: =O16*C16 -> 0
A17: PLW 25.01-05 SET | B17: 625 | C17: 16.4 | O17: =SUM(D17:N17) -> 0 | P17: =O17*5 -> 0 | Q17: =O17*B17 -> 0 | R17: =O17*C17 -> 0
A18: PLW 25.06-10 DT SET | B18: 750 | C18: 16.4 | O18: =SUM(D18:N18) -> 0 | P18: =O18*5 -> 0 | Q18: =O18*B18 -> 0 | R18: =O18*C18 -> 0
A19: PLW 26.01-03 SET | B19: 485.1 | C19: 23.8 | O19: =SUM(D19:N19) -> 0 | P19: =O19*3 -> 0 | Q19: =O19*B19 -> 0 | R19: =O19*C19 -> 0
A20: PLW 26.01 | B20: 210 | C20: 13.4 | O20: =SUM(D20:N20) -> 0 | P20: =O20*1 -> 0 | Q20: =O20*B20 -> 0 | R20: =O20*C20 -> 0
A21: PLW 26.02 | B21: 160 | C21: 7.1 | O21: =SUM(D21:N21) -> 0 | P21: =O21*1 -> 0 | Q21: =O21*B21 -> 0 | R21: =O21*C21 -> 0
A22: PLW 26.03 | B22: 125 | C22: 3.3 | O22: =SUM(D22:N22) -> 0 | P22: =O22*1 -> 0 | Q22: =O22*B22 -> 0 | R22: =O22*C22 -> 0
A23: PLW 26.04-06 DT SET | B23: 578.2 | C23: 23.8 | O23: =SUM(D23:N23) -> 0 | P23: =O23*3 -> 0 | Q23: =O23*B23 -> 0 | R23: =O23*C23 -> 0
A24: PLW 26.04 DT | B24: 250 | C24: 13.4 | O24: =SUM(D24:N24) -> 0 | P24: =O24*1 -> 0 | Q24: =O24*B24 -> 0 | R24: =O24*C24 -> 0
A25: PLW 26.05 DT | B25: 190 | C25: 7.1 | O25: =SUM(D25:N25) -> 0 | P25: =O25*1 -> 0 | Q25: =O25*B25 -> 0 | R25: =O25*C25 -> 0
A26: PLW 26.06 DT | B26: 150 | C26: 3.3 | O26: =SUM(D26:N26) -> 0 | P26: =O26*1 -> 0 | Q26: =O26*B26 -> 0 | R26: =O26*C26 -> 0
A27: PLW 27.01-08 SET | B27: 760 | C27: 16 | O27: =SUM(D27:N27) -> 0 | P27: =O27*8 -> 0 | Q27: =O27*B27 -> 0 | R27: =O27*C27 -> 0
A28: PLW 28.01-02 SET | B28: 362.6 | C28: 21.5 | O28: =SUM(D28:N28) -> 0 | P28: =O28*2 -> 0 | Q28: =O28*B28 -> 0 | R28: =O28*C28 -> 0
A29: PLW 28.01 | B29: 200 | C29: 12.5 | O29: =SUM(D29:N29) -> 0 | P29: =O29*1 -> 0 | Q29: =O29*B29 -> 0 | R29: =O29*C29 -> 0
A30: PLW 28.02 | B30: 170 | C30: 9 | O30: =SUM(D30:N30) -> 0 | P30: =O30*1 -> 0 | Q30: =O30*B30 -> 0 | R30: =O30*C30 -> 0
A31: PLW 28.01-02 CUT SET | B31: 362.6 | C31: 22 | O31: =SUM(D31:N31) -> 0 | P31: =O31*4 -> 0 | Q31: =O31*B31 -> 0 | R31: =O31*C31 -> 0
A32: PLW 28.01 CUT | B32: 200 | C32: 13 | O32: =SUM(D32:N32) -> 0 | P32: =O32*2 -> 0 | Q32: =O32*B32 -> 0 | R32: =O32*C32 -> 0
A33: PLW 28.02 CUT | B33: 170 | C33: 9.5 | O33: =SUM(D33:N33) -> 0 | P33: =O33*2 -> 0 | Q33: =O33*B33 -> 0 | R33: =O33*C33 -> 0
A34: PLW 28.01-08 SET | B34: 1420.8 | C34: 86 | O34: =SUM(D34:N34) -> 0 | P34: =O34*8 -> 0 | Q34: =O34*B34 -> 0 | R34: =O34*C34 -> 0
A35: PLW 29.01 | B35: 170 | C35: 9 | O35: =SUM(D35:N35) -> 0 | P35: =O35*1 -> 0 | Q35: =O35*B35 -> 0 | R35: =O35*C35 -> 0
A36: PLW 1 | B36: 45.95 | C36: 0.465 | O36: =SUM(D36:N36) -> 0 | P36: =O36*1 -> 0 | Q36: =O36*B36 -> 0 | R36: =O36*C36 -> 0
A37: PLW 2-1 | B37: 68.93 | C37: 1.1 | O37: =SUM(D37:N37) -> 0 | P37: =O37*1 -> 0 | Q37: =O37*B37 -> 0 | R37: =O37*C37 -> 0
A38: PLW 2-2 DT | B38: 76.59 | C38: 1.1 | O38: =SUM(D38:N38) -> 0 | P38: =O38*1 -> 0 | Q38: =O38*B38 -> 0 | R38: =O38*C38 -> 0
A39: PLW 3-1 | B39: 91.91 | C39: 3.3 | O39: =SUM(D39:N39) -> 0 | P39: =O39*1 -> 0 | Q39: =O39*B39 -> 0 | R39: =O39*C39 -> 0
A40: PLW 3-2 Flat | B40: 91.91 | C40: 2.5 | O40: =SUM(D40:N40) -> 0 | P40: =O40*1 -> 0 | Q40: =O40*B40 -> 0 | R40: =O40*C40 -> 0
A41: PLW 4 | B41: 99.57 | C41: 3.4 | O41: =SUM(D41:N41) -> 0 | P41: =O41*1 -> 0 | Q41: =O41*B41 -> 0 | R41: =O41*C41 -> 0
A42: PLW 5 | B42: 137.86 | C42: 4.85 | O42: =SUM(D42:N42) -> 0 | P42: =O42*1 -> 0 | Q42: =O42*B42 -> 0 | R42: =O42*C42 -> 0
A43: PLW 6-1 | B43: 153.18 | C43: 7 | O43: =SUM(D43:N43) -> 0 | P43: =O43*1 -> 0 | Q43: =O43*B43 -> 0 | R43: =O43*C43 -> 0
A44: PLW 6-2 DT | B44: 168.5 | C44: 7 | O44: =SUM(D44:N44) -> 0 | P44: =O44*1 -> 0 | Q44: =O44*B44 -> 0 | R44: =O44*C44 -> 0
A45: PLW 7 | B45: 145.52 | C45: 6 | O45: =SUM(D45:N45) -> 0 | P45: =O45*1 -> 0 | Q45: =O45*B45 -> 0 | R45: =O45*C45 -> 0
A46: PLW 8 | B46: 145.52 | C46: 7 | O46: =SUM(D46:N46) -> 0 | P46: =O46*1 -> 0 | Q46: =O46*B46 -> 0 | R46: =O46*C46 -> 0
... A64: M 3 | B64: 206.79 | C64: 8 | O64: =SUM(D64:N64) -> 0 | P64: =O64*1 -> 0 | Q64: =O64*B64 -> 0 | R64: =O64*C64 -> 0
A65: M 1 + M 1 | B65: 482.52 | C65: 26 | O65: =SUM(D65:N65) -> 0 | P65: =O65*2 -> 0 | Q65: =O65*B65 -> 0 | R65: =O65*C65 -> 0
A66: M 2 + M 3 | B66: 375.29 | C66: 15 | O66: =SUM(D66:N66) -> 0 | P66: =O66*2 -> 0 | Q66: =O66*B66 -> 0 | R66: =O66*C66 -> 0
A67: M 4-2 DT + M 4-3 DT | B67: 490.18 | C67: 7.4 | O67: =SUM(D67:N67) -> 0 | P67: =O67*2 -> 0 | Q67: =O67*B67 -> 0 | R67: =O67*C67 -> 0
A68: M 5-2 DT + M 5-3 DT | B68: 551.45 | C68: 10 | O68: =SUM(D68:N68) -> 0 | P68: =O68*2 -> 0 | Q68: =O68*B68 -> 0 | R68: =O68*C68 -> 0
A69: Total: | O69: =SUM(O2:O68) -> 0 | P69: =SUM(P2:P68) -> 0 | Q69: =SUM(Q2:Q68) -> 0 | R69: =SUM(R2:R68) -> 0
