Workbook

Sheet Summary of order
I2: order list: NOV. 2025
E5: Costumer:
B6: 360LINE D.O.O. BAČ 49A SI- 6253 KNEŽAK VAT: SI32177330
E7: Delivery address:
B12: DISCOUNT | D12: %
E15: Sum pieces | F15: Sum kg | G15: Price without VAT | I15: prod. Quota
D16: PLYWOOD volumes | E16: =SUM('Simpl. all tex-DT PLYWOOD'!AA5+'(more) Simpl. Textures PLYWOOD'!O5+'Simpl. & Wide boyz PLYWOOD'!P5) -> 0 | F16: =SUM('Simpl. all tex-DT PLYWOOD'!L3+'(more) Simpl. Textures PLYWOOD'!L3+'Simpl. & Wide boyz PLYWOOD'!N3) -> 0 | G16: =SUM('Simpl. all tex-DT PLYWOOD'!L1+'(more) Simpl. Textures PLYWOOD'!L1+'Simpl. & Wide boyz PLYWOOD'!N1) -> 0 | I16: =SUM('Simpl. all tex-DT PLYWOOD'!AC2+'(more) Simpl. Textures PLYWOOD'!Q2+'Simpl. & Wide boyz PLYWOOD'!R1) -> 0
D17: GRP macros | E17: ='Simpl. GRP'!AC6 -> 0 | F17: ='Simpl. GRP'!J3 -> 0 | G17: ='Simpl. GRP'!J1 -> 0 | I17: ='Simpl. GRP'!AE2 -> 0
D18: PU holds | E18: ='Simpl.& Wide boyz PU'!U5 -> 0 | F18: ='Simpl.& Wide boyz PU'!J3 -> 0 | G18: ='Simpl.& Wide boyz PU'!J1 -> 0 | I18: ='Simpl.& Wide boyz PU'!W2 -> 0
D19: SUM without vat | E19: =SUM(E16:E18) -> 0 | F19: =SUM(F16:F18) -> 0 | G19: =SUM(G16:H18) -> 0 | I19: =SUM(I16:I18) -> 0
D20: ="DISCOUNT "&C12&" %" -> DISCOUNT % | G20: =SUM(G19:H19)*C12/100 -> 0
D21: SUM (price wtihout VAT) | G21: =G19-G20 -> 0
B24: No. of pcs. by COLOR | C24: ='Simpl. GRP'!K7 -> BLACK RAL 9005 | D24: ='Simpl. GRP'!L7 -> WHITE | E24: ='Simpl. GRP'!M7 -> RED RAL 3000 | F24: ='Simpl. GRP'!N7 -> YELLOW RAL 1018 | G24: ='Simpl. GRP'!O7 -> BLUE RAL 5015 | H24: ='Simpl. GRP'!P7 -> BRIGHT GREEN RAL 6018 | I24: ='Simpl. GRP'!Q7 -> PURE GREEN RAL 6037 | J24: ='Simpl. GRP'!R7 -> APRICOT ORANGE RAL 1033 | ... P24: ='Simpl. GRP'!X7 -> DEEP ROSE RAL4008 | Q24: natural | R24: ='Simpl. GRP'!Y7 -> FLUORO PINK | S24: ='Simpl. GRP'!Z7 -> FLUORO ORANGE | T24: ='Simpl. GRP'!AA7 -> FLUORO YELLOW | U24: ='Simpl. GRP'!AB7 -> FLUORO GREEN | V24: ='Simpl.& Wide boyz PU'!T6 -> BROWN RAL 8003
C25: ='Simpl. all tex-DT PLYWOOD'!M5+'(more) Simpl. Textures PLYWOOD'!N5+'Simpl. & Wide boyz PLYWOOD'!O5+'Simpl. GRP'!K6+'Simpl.& Wide boyz PU'!K5 -> 0 | D25: ='Simpl. all tex-DT PLYWOOD'!N5+'Simpl. GRP'!L6+'Simpl.& Wide boyz PU'!L5 -> 0 | E25: ='Simpl. all tex-DT PLYWOOD'!O5+'Simpl. GRP'!M6+'Simpl.& Wide boyz PU'!M5 -> 0 | F25: ='Simpl. all tex-DT PLYWOOD'!P5+'Simpl. GRP'!N6+'Simpl.& Wide boyz PU'!N5 -> 0 | G25: ='Simpl. all tex-DT PLYWOOD'!Q5+'Simpl. GRP'!O6+'Simpl.& Wide boyz PU'!O5 -> 0 | H25: ='Simpl. all tex-DT PLYWOOD'!R5+'Simpl. GRP'!P6+'Simpl.& Wide boyz PU'!P5 -> 0 | I25: ='Simpl. all tex-DT PLYWOOD'!S5+'Simpl. GRP'!Q6 -> 0 | J25: ='Simpl. all tex-DT PLYWOOD'!T5+'Simpl. GRP'!R6 -> 0 | K25: ='Simpl. all tex-DT PLYWOOD'!U5+'Simpl. GRP'!S6 -> 0 | L25: ='Simpl. all tex-DT PLYWOOD'!V5+'Simpl. GRP'!T6+'Simpl.& Wide boyz PU'!Q5 -> 0 | M25: ='Simpl. all tex-DT PLYWOOD'!W5+'Simpl. GRP'!U6 -> 0 | N25: ='Simpl. all tex-DT PLYWOOD'!X5+'Simpl. GRP'!V6+'Simpl.& Wide boyz PU'!R5 -> 0 | O25: ='Simpl. all tex-DT PLYWOOD'!Y5+'Simpl. GRP'!W6+'Simpl.& Wide boyz PU'!S5 -> 0 | P25: ='Simpl. all tex-DT PLYWOOD'!Z5+'Simpl. GRP'!X6 -> 0 | Q25: ='(more) Simpl. Textures PLYWOOD'!M5 -> 0 | R25: ='Simpl. GRP'!Y6 -> 0 | S25: ='Simpl. GRP'!Z6 -> 0 | T25: ='Simpl. GRP'!AA6 -> 0 | U25: ='Simpl. GRP'!AB6 -> 0 | V25: ='Simpl.& Wide boyz PU'!T5 -> 0
B27: No. of pcs. by TEXTURE | C27: all texture | D27: dual texture | E27: colored no tex. | F27: natural texture | G27: natural no tex. | H27: No tex. PU
C28: ='Simpl. all tex-DT PLYWOOD'!BP5+'Simpl. GRP'!BV6+'Simpl.& Wide boyz PU'!BE5 -> 0 | D28: ='Simpl. all tex-DT PLYWOOD'!BQ5+'Simpl. GRP'!BW6 -> 0 | E28: ='(more) Simpl. Textures PLYWOOD'!AQ5+'Simpl. & Wide boyz PLYWOOD'!AT5 -> 0 | F28: ='(more) Simpl. Textures PLYWOOD'!AR5 -> 0 | G28: ='(more) Simpl. Textures PLYWOOD'!AS5 -> 0 | H28: ='Simpl.& Wide boyz PU'!BG5 -> 0
B30: No. of pcs. by SIZE - GRP/plywood SIZE | C30: XS | D30: S | E30: M | F30: L | G30: XL | H30: 2XL | I30: 3XL | J30: 4XL | K30: various
C31: ='Simpl. all tex-DT PLYWOOD'!BF5+'(more) Simpl. Textures PLYWOOD'!AG5+'Simpl. & Wide boyz PLYWOOD'!AH5+'Simpl. GRP'!BL6 -> 0 | D31: ='Simpl. all tex-DT PLYWOOD'!BG5+'(more) Simpl. Textures PLYWOOD'!AH5+'Simpl. & Wide boyz PLYWOOD'!AI5+'Simpl. GRP'!BM6 -> 0 | E31: ='Simpl. all tex-DT PLYWOOD'!BH5+'(more) Simpl. Textures PLYWOOD'!AI5+'Simpl. & Wide boyz PLYWOOD'!AJ5+'Simpl. GRP'!BN6 -> 0 | F31: ='Simpl. all tex-DT PLYWOOD'!BI5+'(more) Simpl. Textures PLYWOOD'!AJ5+'Simpl. & Wide boyz PLYWOOD'!AK5+'Simpl. GRP'!BO6 -> 0 | G31: ='Simpl. all tex-DT PLYWOOD'!BJ5+'(more) Simpl. Textures PLYWOOD'!AK5+'Simpl. & Wide boyz PLYWOOD'!AL5+'Simpl. GRP'!BP6 -> 0 | H31: ='Simpl. all tex-DT PLYWOOD'!BK5+'(more) Simpl. Textures PLYWOOD'!AL5+'Simpl. & Wide boyz PLYWOOD'!AM5+'Simpl. GRP'!BQ6 -> 0 | I31: ='Simpl. all tex-DT PLYWOOD'!BL5+'(more) Simpl. Textures PLYWOOD'!AM5+'Simpl. & Wide boyz PLYWOOD'!AN5+'Simpl. GRP'!BR6 -> 0 | J31: ='Simpl. all tex-DT PLYWOOD'!BM5+'(more) Simpl. Textures PLYWOOD'!AN5+'Simpl. & Wide boyz PLYWOOD'!AO5+'Simpl. GRP'!BS6 -> 0 | K31: ='Simpl. all tex-DT PLYWOOD'!BN5+'(more) Simpl. Textures PLYWOOD'!AO5+'Simpl. & Wide boyz PLYWOOD'!AP5+'Simpl. GRP'!BT6 -> 0
B33: No. of pcs. by SIZE - PU SIZE | C33: XS | D33: S | E33: M | F33: L | G33: XL | H33: 2XL | I33: 3XL | J33: 4XL | K33: various
C34: ='Simpl.& Wide boyz PU'!AU5 -> 0 | D34: ='Simpl.& Wide boyz PU'!AV5 -> 0 | E34: ='Simpl.& Wide boyz PU'!AW5 -> 0 | F34: ='Simpl.& Wide boyz PU'!AX5 -> 0 | G34: ='Simpl.& Wide boyz PU'!AY5 -> 0 | H34: ='Simpl.& Wide boyz PU'!AZ5 -> 0 | I34: ='Simpl.& Wide boyz PU'!BA5 -> 0 | J34: ='Simpl.& Wide boyz PU'!BB5 -> 0 | K34: ='Simpl.& Wide boyz PU'!BC5 -> 0
B36: No. of pcs. by TYPE | C36: jug | D36: ledge | E36: edge | F36: incut | G36: pinch | H36: feature | I36: low profile | J36: arete | K36: square | L36: positive | M36: pyramid | N36: high profile | O36: rectangle | P36: Footholds | Q36: crack | R36: sloper | S36: various
C37: ='Simpl. all tex-DT PLYWOOD'!BV5+'(more) Simpl. Textures PLYWOOD'!AX5+'Simpl. & Wide boyz PLYWOOD'!AY5+'Simpl. GRP'!CB6+'Simpl.& Wide boyz PU'!BL5 -> 0 | D37: ='Simpl. all tex-DT PLYWOOD'!BW5+'(more) Simpl. Textures PLYWOOD'!AY5+'Simpl. & Wide boyz PLYWOOD'!AZ5+'Simpl. GRP'!CC6+'Simpl.& Wide boyz PU'!BM5 -> 0 | E37: ='Simpl. all tex-DT PLYWOOD'!BX5+'(more) Simpl. Textures PLYWOOD'!AZ5+'Simpl. & Wide boyz PLYWOOD'!BA5+'Simpl. GRP'!CD6 -> 0 | F37: ='Simpl. all tex-DT PLYWOOD'!BZ5+'(more) Simpl. Textures PLYWOOD'!BB5+'Simpl. & Wide boyz PLYWOOD'!BC5+'Simpl. GRP'!CF6 -> 0 | G37: ='Simpl. all tex-DT PLYWOOD'!CB5+'(more) Simpl. Textures PLYWOOD'!BD5+'Simpl. & Wide boyz PLYWOOD'!BE5+'Simpl. GRP'!CH6 -> 0 | H37: ='Simpl. all tex-DT PLYWOOD'!CE5+'(more) Simpl. Textures PLYWOOD'!BG5+'Simpl. & Wide boyz PLYWOOD'!BH5+'Simpl. GRP'!CK6 -> 0 | I37: ='Simpl. all tex-DT PLYWOOD'!CF5+'(more) Simpl. Textures PLYWOOD'!BH5+'Simpl. & Wide boyz PLYWOOD'!BI5 -> 0 | J37: ='Simpl. all tex-DT PLYWOOD'!CG5+'(more) Simpl. Textures PLYWOOD'!BI5+'Simpl. & Wide boyz PLYWOOD'!BJ5+'Simpl. GRP'!CM6 -> 0 | K37: ='Simpl. all tex-DT PLYWOOD'!CH5+'(more) Simpl. Textures PLYWOOD'!BJ5+'Simpl. & Wide boyz PLYWOOD'!BK5 -> 0 | L37: ='Simpl. all tex-DT PLYWOOD'!CI5+'(more) Simpl. Textures PLYWOOD'!BK5+'Simpl. & Wide boyz PLYWOOD'!BL5+'Simpl. GRP'!CO6 -> 0 | M37: ='Simpl. all tex-DT PLYWOOD'!CJ5+'(more) Simpl. Textures PLYWOOD'!BL5+'Simpl. & Wide boyz PLYWOOD'!BM5 -> 0 | N37: ='Simpl. all tex-DT PLYWOOD'!CK5+'(more) Simpl. Textures PLYWOOD'!BM5+'Simpl. & Wide boyz PLYWOOD'!BN5 -> 0 | O37: ='Simpl. all tex-DT PLYWOOD'!CL5+'(more) Simpl. Textures PLYWOOD'!BN5+'Simpl. & Wide boyz PLYWOOD'!BO5 -> 0 | P37: ='Simpl.& Wide boyz PU'!BJ5 -> 0 | Q37: ='Simpl. & Wide boyz PLYWOOD'!BQ5 -> 0 | R37: ='Simpl. GRP'!BY6+'Simpl.& Wide boyz PU'!BI5 -> 0 | S37: ='Simpl. all tex-DT PLYWOOD'!CM5+'(more) Simpl. Textures PLYWOOD'!BO5+'Simpl. & Wide boyz PLYWOOD'!BP5+'Simpl. GRP'!CP6 -> 0
B39: No. of SCREWS needed | C39: 50mm | D39: 70mm | E39: longer
C40: ='Simpl. all tex-DT PLYWOOD'!AZ6+'(more) Simpl. Textures PLYWOOD'!AB6+'Simpl. & Wide boyz PLYWOOD'!AB6+'Simpl. GRP'!BG7+'Simpl.& Wide boyz PU'!AP6 -> 0 | D40: ='Simpl. all tex-DT PLYWOOD'!BB6+'(more) Simpl. Textures PLYWOOD'!AD6+'Simpl. GRP'!BI7+'Simpl. & Wide boyz PLYWOOD'!AD6+'Simpl.& Wide boyz PU'!AR6 -> 0 | E40: ='Simpl. GRP'!BK7+'Simpl. all tex-DT PLYWOOD'!BD6+'(more) Simpl. Textures PLYWOOD'!AF6+'Simpl. & Wide boyz PLYWOOD'!AF6+'Simpl.& Wide boyz PU'!AT6 -> 0
B43: BANK DETAILS:
B44: SI56 3300 0001 0251 921
B45: SWIFT: SI56 3300 0001 0251 921
B46: Bic: HAABSI22
B47: Addiko Bank d.d.
B48: Address: Dunajska cesta 117, 1000 Ljubljana
B50: COMPANY NAME: 360LINE D.O.O.
B51: ADDRESS: Bač 49 A, 6253 Knežak, Slovenia (EU)

Sheet Simpl. GRP
A1: 10cm CUBE symbol for sizing is representing PLYWOOD material | I1: Sum price without VAT | J1: =SUM(AC10:AC34) -> 0 | L1: EUR | Y1: please note: PRICE FOR FLUORESCENT COLORS IS 10% HIGHER
I2: Sum SETS | J2: =SUM(K10:AB34) -> 0 | AC2: SUM production quota: | AE2: =AH6 -> 0
I3: SUM | J3: =SUM(AK10:AK34) -> 0 | L3: kg | CQ3: Ordered production quota
Y5: new | Z5: new | AA5: new | AB5: new | AC5: SUM of pcs.
J6: Sum pcs. by colour: | K6: =SUM(AL10:AL34) -> 0 | L6: =SUM(AM10:AM34) -> 0 | M6: =SUM(AN10:AN34) -> 0 | N6: =SUM(AO10:AO34) -> 0 | O6: =SUM(AP10:AP34) -> 0 | P6: =SUM(AQ10:AQ34) -> 0 | Q6: =SUM(AR10:AR34) -> 0 | R6: =SUM(AS10:AS34) -> 0 | ... AB6: =SUM(BC10:BC34) -> 0 | AC6: =SUM(K6:AB6) -> 0 | AG6: SUM: | AH6: =SUM(AH9:AH88) -> 0 | BL6: =SUM(BL9:BL42) -> 0 | BM6: =SUM(BM9:BM42) -> 0 | BN6: =SUM(BN9:BN42) -> 0 | BO6: =SUM(BO9:BO42) -> 0 | BP6: =SUM(BP9:BP42) -> 0 | BQ6: =SUM(BQ9:BQ42) -> 0 | BR6: =SUM(BR9:BR42) -> 0 | BS6: =SUM(BS9:BS42) -> 0 | BT6: =SUM(BT9:BT42) -> 0 | BV6: =SUM(BV9:BV42) -> 0 | BW6: =SUM(BW9:BW42) -> 0 | BY6: =SUM(BY9:BY42) -> 0 | BZ6: =SUM(BZ9:BZ42) -> 0 | CA6: =SUM(CA9:CA42) -> 0 | CB6: =SUM(CB9:CB42) -> 0 | CC6: =SUM(CC9:CC42) -> 0 | CD6: =SUM(CD9:CD42) -> 0 | CE6: =SUM(CE9:CE42) -> 0 | CF6: =SUM(CF9:CF42) -> 0 | ... CP6: =SUM(CP9:CP42) -> 0
A7: NEW | C7: ID | D7: TEXTURE | E7: SIZE | F7: DIMENSIONS | G7: TYPE | H7: PCS. IN SET | I7: FIXING | J7: PRICE WITHOUT VAT | K7: BLACK RAL 9005 | L7: WHITE | M7: RED RAL 3000 | N7: YELLOW RAL 1018 | O7: BLUE RAL 5015 | P7: BRIGHT GREEN RAL 6018 | Q7: PURE GREEN RAL 6037 | R7: APRICOT ORANGE RAL 1033 | S7: DEEP ORANGE RAL 2011 | T7: PINK RAL 4003 | U7: GREY RAL 7001 | V7: PURPLE S4050-R60B/M | W7: MINT RAL6027 | X7: DEEP ROSE RAL4008 | Y7: FLUORO PINK | Z7: FLUORO ORANGE | AA7: FLUORO YELLOW | AB7: FLUORO GREEN | AC7: Sum | AD7: ordered | AE7: NEW | AG7: Production quota pet set | AH7: Ordered production quota | AJ7: kg | AK7: sum kg | AL7: black | AM7: white | AN7: red | AO7: yellow | AP7: blue | AQ7: green | AR7: pure green | AS7: orange | AT7: deep orange | AU7: pink | AV7: grey | AW7: purple | AX7: mint | AY7: deep rose | AZ7: =Y7 -> FLUORO PINK | BA7: =Z7 -> FLUORO ORANGE | BB7: =AA7 -> FLUORO YELLOW | BC7: =AB7 -> FLUORO GREEN | BD7: norma | BE7: no of fix points | BF7: screws 50 mm | BG7: =SUM(BG10:BG34) -> 0 | BH7: screws 70 mm | BI7: =SUM(BI10:BI34) -> 0 | BJ7: screw longer mm | BK7: =SUM(BK10:BK34) -> 0 | BL7: XS | BM7: S | BN7: M | BO7: L | BP7: XL | BQ7: 2XL | BR7: 3XL | BS7: 4XL | BT7: various | BV7: all texture | BW7: dual texture | BY7: sloper | BZ7: footholds | CA7: micros | CB7: jug | CC7: ledge | CD7: edge | CE7: crimp | CF7: incut | CG7: dish | CH7: pinch | CI7: pocket | CJ7: insert | CK7: feature | CL7: scoop | CM7: arete | CN7: square | CO7: positive | CP7: various
K8: 01 | L8: 02 | M8: 03 | N8: 04 | O8: 05 | P8: 06 | Q8: 15 | R8: 07 | S8: 08 | T8: 09 | U8: 10 | V8: 11 | W8: 12 | X8: 13 | Y8: 19 | Z8: 34 | AA8: 36 | AB8: 35
C9: Simpl. SURFERS GRP | BE9: =SUM(BE10:BE34) -> 0
A10: NEW | C10: SMPL-51-DT-GRP | D10: Dual tex. | E10: S | F10: 31x12,5x3 31x12,5x4 cm | G10: sloper | H10: 2 | I10: screws | J10: 318 | AC10: =SUM(K10:AB10)*J10 -> 0 | AD10: =IF(SUM(K10:AB10)>0,"Yes","No") -> No | AE10: =IF(A10="New","Yes","No") -> Yes | AG10: 2 | AH10: =AG10*SUM(K10:AB10) -> 0 | AJ10: 0.74 | AK10: =SUM(K10:AB10)*AJ10 -> 0 | AL10: =K10*H10 -> 0 | AM10: =L10*H10 -> 0 | AN10: =M10*H10 -> 0 | AO10: =N10*H10 -> 0 | AP10: =O10*H10 -> 0 | AQ10: =P10*H10 -> 0 | AR10: =Q10*H10 -> 0 | AS10: =R10*H10 -> 0 | AT10: =S10*H10 -> 0 | AU10: =T10*H10 -> 0 | AV10: =U10*H10 -> 0 | AW10: =V10*H10 -> 0 | AX10: =W10*H10 -> 0 | AY10: =X10*$H10 -> 0 | AZ10: =Y10*$H10 -> 0 | BA10: =Z10*$H10 -> 0 | BB10: =AA10*$H10 -> 0 | BC10: =AB10*$H10 -> 0 | BD10: =AG10 -> 2 | BE10: =SUM(BG10+BI10+BK10) -> 0 | BF10: 6 | BG10: =BF10*SUM(K10:X10) -> 0 | BI10: =BH10*SUM(K10:X10) -> 0 | BK10: =BJ10*SUM(K10:X10) -> 0 | BL10: =IF(E10="XS",IF(SUM(K10:AB10)>0,SUM(K10:AB10),0),0)*H10 -> 0 | BM10: =IF(E10="S",IF(SUM(K10:AB10)>0,SUM(K10:AB10),0),0)*H10 -> 0 | BN10: =IF(E10="M",IF(SUM(K10:AB10)>0,SUM(K10:AB10),0),0)*H10 -> 0 | BO10: =IF(E10="L",IF(SUM(K10:AB10)>0,SUM(K10:AB10),0),0)*H10 -> 0 | BP10: =IF(E10="XL",IF(SUM(K10:AB10)>0,SUM(K10:AB10),0),0)*H10 -> 0 | BQ10: =IF(E10="2XL",IF(SUM(K10:AB10)>0,SUM(K10:AB10),0),0)*H10 -> 0 | BR10: =IF(E10="3XL",IF(SUM(K10:AB10)>0,SUM(K10:AB10),0),0)*H10 -> 0 | BS10: =IF(E10="4XL",IF(SUM(K10:AB10)>0,SUM(K10:AB10),0),0)*H10 -> 0 | BT10: =IF(E10="various",IF(SUM(K10:AB10)>0,SUM(K10:AB10),0),0)*H10 -> 0 | BV10: =IF(D10="All tex.",IF(SUM(K10:AB10)>0,SUM(K10:AB10),0),0)*H10 -> 0 | BW10: =IF(D10="Dual tex.",IF(SUM(K10:AB10)>0,SUM(K10:AB10),0),0)*H10 -> 0 | BY10: =IF(G10="sloper",IF(SUM(K10:AB10)>0,SUM(K10:AB10),0),0)*H10 -> 0 | BZ10: =IF(G10="footholds",IF(SUM(K10:AB10)>0,SUM(K10:AB10),0),0)*H10 -> 0 | CA10: =IF(G10="micros",IF(SUM(K10:AB10)>0,SUM(K10:AB10),0),0)*H10 -> 0 | CB10: =IF(G10="jug",IF(SUM(K10:AB10)>0,SUM(K10:AB10),0),0)*H10 -> 0 | CC10: =IF(G10="ledge",IF(SUM(K10:AB10)>0,SUM(K10:AB10),0),0)*H10 -> 0 | CD10: =IF(G10="edge",IF(SUM(K10:AB10)>0,SUM(K10:AB10),0),0)*H10 -> 0 | CE10: =IF(G10="crimp",IF(SUM(K10:AB10)>0,SUM(K10:AB10),0),0)*H10 -> 0 | CF10: =IF(G10="incut",IF(SUM(K10:AB10)>0,SUM(K10:AB10),0),0)*H10 -> 0 | CG10: =IF(G10="dish",IF(SUM(K10:AB10)>0,SUM(K10:AB10),0),0)*H10 -> 0 | CH10: =IF(G10="pinch",IF(SUM(K10:AB10)>0,SUM(K10:AB10),0),0)*H10 -> 0 | CI10: =IF(G10="pocket",IF(SUM(K10:AB10)>0,SUM(K10:AB10),0),0)*H10 -> 0 | CJ10: =IF(G10="insert",IF(SUM(K10:AB10)>0,SUM(K10:AB10),0),0)*H10 -> 0 | CK10: =IF(G10="feature",IF(SUM(K10:AB10)>0,SUM(K10:AB10),0),0)*H10 -> 0 | CL10: =IF(G10="scoop",IF(SUM(K10:AB10)>0,SUM(K10:AB10),0),0)*H10 -> 0 | CM10: =IF(G10="arete",IF(SUM(K10:AB10)>0,SUM(K10:AB10),0),0)*H10 -> 0 | CN10: =IF(G10="square",IF(SUM(K10:AB10)>0,SUM(K10:AB10),0),0)*H10 -> 0 | CO10: =IF(G10="positive",IF(SUM(K10:AB10)>0,SUM(K10:AB10),0),0)*H10 -> 0 | CP10: =IF(G10="various",IF(SUM(K10:X10)>0,SUM(K10:X10),0),0)*H10 -> 0
A11: NEW | C11: SMPL-52-DT-GRP | D11: Dual tex. | E11: M | F11: 43,5x15x4,5 39x15x5 cm | G11: sloper | H11: 2 | I11: screws | J11: 340 | AC11: =SUM(K11:AB11)*J11 -> 0 | AD11: =IF(SUM(K11:AB11)>0,"Yes","No") -> No | AE11: =IF(A11="New","Yes","No") -> Yes | AG11: 2 | AH11: =AG11*SUM(K11:AB11) -> 0 | AJ11: 1.11 | AK11: =SUM(K11:AB11)*AJ11 -> 0 | AL11: =K11*H11 -> 0 | AM11: =L11*H11 -> 0 | AN11: =M11*H11 -> 0 | AO11: =N11*H11 -> 0 | AP11: =O11*H11 -> 0 | AQ11: =P11*H11 -> 0 | AR11: =Q11*H11 -> 0 | AS11: =R11*H11 -> 0 | AT11: =S11*H11 -> 0 | AU11: =T11*H11 -> 0 | AV11: =U11*H11 -> 0 | AW11: =V11*H11 -> 0 | AX11: =W11*H11 -> 0 | AY11: =X11*H11 -> 0 | AZ11: =Y11*$H11 -> 0 | BA11: =Z11*$H11 -> 0 | BB11: =AA11*$H11 -> 0 | BC11: =AB11*$H11 -> 0 | BD11: =AG11 -> 2 | BE11: =SUM(BG11+BI11+BK11) -> 0 | BF11: 8 | BG11: =BF11*SUM(K11:X11) -> 0 | BI11: =BH11*SUM(K11:X11) -> 0 | BK11: =BJ11*SUM(K11:X11) -> 0 | BL11: =IF(E11="XS",IF(SUM(K11:AB11)>0,SUM(K11:AB11),0),0)*H11 -> 0 | BM11: =IF(E11="S",IF(SUM(K11:AB11)>0,SUM(K11:AB11),0),0)*H11 -> 0 | BN11: =IF(E11="M",IF(SUM(K11:AB11)>0,SUM(K11:AB11),0),0)*H11 -> 0 | BO11: =IF(E11="L",IF(SUM(K11:AB11)>0,SUM(K11:AB11),0),0)*H11 -> 0 | BP11: =IF(E11="XL",IF(SUM(K11:AB11)>0,SUM(K11:AB11),0),0)*H11 -> 0 | BQ11: =IF(E11="2XL",IF(SUM(K11:AB11)>0,SUM(K11:AB11),0),0)*H11 -> 0 | BR11: =IF(E11="3XL",IF(SUM(K11:AB11)>0,SUM(K11:AB11),0),0)*H11 -> 0 | BS11: =IF(E11="4XL",IF(SUM(K11:AB11)>0,SUM(K11:AB11),0),0)*H11 -> 0 | BT11: =IF(E11="various",IF(SUM(K11:AB11)>0,SUM(K11:AB11),0),0)*H11 -> 0 | BV11: =IF(D11="All tex.",IF(SUM(K11:AB11)>0,SUM(K11:AB11),0),0)*H11 -> 0 | BW11: =IF(D11="Dual tex.",IF(SUM(K11:AB11)>0,SUM(K11:AB11),0),0)*H11 -> 0 | BY11: =IF(G11="sloper",IF(SUM(K11:AB11)>0,SUM(K11:AB11),0),0)*H11 -> 0 | BZ11: =IF(G11="footholds",IF(SUM(K11:AB11)>0,SUM(K11:AB11),0),0)*H11 -> 0 | CA11: =IF(G11="micros",IF(SUM(K11:AB11)>0,SUM(K11:AB11),0),0)*H11 -> 0 | CB11: =IF(G11="jug",IF(SUM(K11:AB11)>0,SUM(K11:AB11),0),0)*H11 -> 0 | CC11: =IF(G11="ledge",IF(SUM(K11:AB11)>0,SUM(K11:AB11),0),0)*H11 -> 0 | CD11: =IF(G11="edge",IF(SUM(K11:AB11)>0,SUM(K11:AB11),0),0)*H11 -> 0 | CE11: =IF(G11="crimp",IF(SUM(K11:AB11)>0,SUM(K11:AB11),0),0)*H11 -> 0 | CF11: =IF(G11="incut",IF(SUM(K11:AB11)>0,SUM(K11:AB11),0),0)*H11 -> 0 | CG11: =IF(G11="dish",IF(SUM(K11:AB11)>0,SUM(K11:AB11),0),0)*H11 -> 0 | CH11: =IF(G11="pinch",IF(SUM(K11:AB11)>0,SUM(K11:AB11),0),0)*H11 -> 0 | CI11: =IF(G11="pocket",IF(SUM(K11:AB11)>0,SUM(K11:AB11),0),0)*H11 -> 0 | CJ11: =IF(G11="insert",IF(SUM(K11:AB11)>0,SUM(K11:AB11),0),0)*H11 -> 0 | CK11: =IF(G11="feature",IF(SUM(K11:AB11)>0,SUM(K11:AB11),0),0)*H11 -> 0 | CL11: =IF(G11="scoop",IF(SUM(K11:AB11)>0,SUM(K11:AB11),0),0)*H11 -> 0 | CM11: =IF(G11="arete",IF(SUM(K11:AB11)>0,SUM(K11:AB11),0),0)*H11 -> 0 | CN11: =IF(G11="square",IF(SUM(K11:AB11)>0,SUM(K11:AB11),0),0)*H11 -> 0 | CO11: =IF(G11="positive",IF(SUM(K11:AB11)>0,SUM(K11:AB11),0),0)*H11 -> 0 | CP11: =IF(G11="various",IF(SUM(K11:X11)>0,SUM(K11:X11),0),0)*H11 -> 0
A12: NEW | C12: SMPL-61-DT-GRP | D12: Dual tex. | E12: M | F12: 48x22x3 cm | G12: sloper | H12: 1 | I12: screws | J12: 179 | AC12: =SUM(K12:AB12)*J12 -> 0 | AD12: =IF(SUM(K12:AB12)>0,"Yes","No") -> No | AE12: =IF(A12="New","Yes","No") -> Yes | AG12: 1 | AH12: =AG12*SUM(K12:AB12) -> 0 | AJ12: 0.86 | AK12: =SUM(K12:AB12)*AJ12 -> 0 | AL12: =K12*H12 -> 0 | AM12: =L12*H12 -> 0 | AN12: =M12*H12 -> 0 | AO12: =N12*H12 -> 0 | AP12: =O12*H12 -> 0 | AQ12: =P12*H12 -> 0 | AR12: =Q12*H12 -> 0 | AS12: =R12*H12 -> 0 | AT12: =S12*H12 -> 0 | AU12: =T12*H12 -> 0 | AV12: =U12*H12 -> 0 | AW12: =V12*H12 -> 0 | AX12: =W12*H12 -> 0 | AY12: =X12*H12 -> 0 | AZ12: =Y12*$H12 -> 0 | BA12: =Z12*$H12 -> 0 | BB12: =AA12*$H12 -> 0 | BC12: =AB12*$H12 -> 0 | BD12: =AG12 -> 1 | BE12: =SUM(BG12+BI12+BK12) -> 0 | BF12: 4 | BG12: =BF12*SUM(K12:X12) -> 0 | BI12: =BH12*SUM(K12:X12) -> 0 | BK12: =BJ12*SUM(K12:X12) -> 0 | BL12: =IF(E12="XS",IF(SUM(K12:AB12)>0,SUM(K12:AB12),0),0)*H12 -> 0 | BM12: =IF(E12="S",IF(SUM(K12:AB12)>0,SUM(K12:AB12),0),0)*H12 -> 0 | BN12: =IF(E12="M",IF(SUM(K12:AB12)>0,SUM(K12:AB12),0),0)*H12 -> 0 | BO12: =IF(E12="L",IF(SUM(K12:AB12)>0,SUM(K12:AB12),0),0)*H12 -> 0 | BP12: =IF(E12="XL",IF(SUM(K12:AB12)>0,SUM(K12:AB12),0),0)*H12 -> 0 | BQ12: =IF(E12="2XL",IF(SUM(K12:AB12)>0,SUM(K12:AB12),0),0)*H12 -> 0 | BR12: =IF(E12="3XL",IF(SUM(K12:AB12)>0,SUM(K12:AB12),0),0)*H12 -> 0 | BS12: =IF(E12="4XL",IF(SUM(K12:AB12)>0,SUM(K12:AB12),0),0)*H12 -> 0 | BT12: =IF(E12="various",IF(SUM(K12:AB12)>0,SUM(K12:AB12),0),0)*H12 -> 0 | BV12: =IF(D12="All tex.",IF(SUM(K12:AB12)>0,SUM(K12:AB12),0),0)*H12 -> 0 | BW12: =IF(D12="Dual tex.",IF(SUM(K12:AB12)>0,SUM(K12:AB12),0),0)*H12 -> 0 | BY12: =IF(G12="sloper",IF(SUM(K12:AB12)>0,SUM(K12:AB12),0),0)*H12 -> 0 | BZ12: =IF(G12="footholds",IF(SUM(K12:AB12)>0,SUM(K12:AB12),0),0)*H12 -> 0 | CA12: =IF(G12="micros",IF(SUM(K12:AB12)>0,SUM(K12:AB12),0),0)*H12 -> 0 | CB12: =IF(G12="jug",IF(SUM(K12:AB12)>0,SUM(K12:AB12),0),0)*H12 -> 0 | CC12: =IF(G12="ledge",IF(SUM(K12:AB12)>0,SUM(K12:AB12),0),0)*H12 -> 0 | CD12: =IF(G12="edge",IF(SUM(K12:AB12)>0,SUM(K12:AB12),0),0)*H12 -> 0 | CE12: =IF(G12="crimp",IF(SUM(K12:AB12)>0,SUM(K12:AB12),0),0)*H12 -> 0 | CF12: =IF(G12="incut",IF(SUM(K12:AB12)>0,SUM(K12:AB12),0),0)*H12 -> 0 | CG12: =IF(G12="dish",IF(SUM(K12:AB12)>0,SUM(K12:AB12),0),0)*H12 -> 0 | CH12: =IF(G12="pinch",IF(SUM(K12:AB12)>0,SUM(K12:AB12),0),0)*H12 -> 0 | CI12: =IF(G12="pocket",IF(SUM(K12:AB12)>0,SUM(K12:AB12),0),0)*H12 -> 0 | CJ12: =IF(G12="insert",IF(SUM(K12:AB12)>0,SUM(K12:AB12),0),0)*H12 -> 0 | CK12: =IF(G12="feature",IF(SUM(K12:AB12)>0,SUM(K12:AB12),0),0)*H12 -> 0 | CL12: =IF(G12="scoop",IF(SUM(K12:AB12)>0,SUM(K12:AB12),0),0)*H12 -> 0 | CM12: =IF(G12="arete",IF(SUM(K12:AB12)>0,SUM(K12:AB12),0),0)*H12 -> 0 | CN12: =IF(G12="square",IF(SUM(K12:AB12)>0,SUM(K12:AB12),0),0)*H12 -> 0 | CO12: =IF(G12="positive",IF(SUM(K12:AB12)>0,SUM(K12:AB12),0),0)*H12 -> 0 | CP12: =IF(G12="various",IF(SUM(K12:X12)>0,SUM(K12:X12),0),0)*H12 -> 0
A13: NEW | C13: SMPL-62-DT-GRP | D13: Dual tex. | E13: M | F13: 50x20x4 cm | G13: sloper | H13: 1 | I13: screws | J13: 177 | AC13: =SUM(K13:AB13)*J13 -> 0 | AD13: =IF(SUM(K13:AB13)>0,"Yes","No") -> No | AE13: =IF(A13="New","Yes","No") -> Yes | AG13: 1 | AH13: =AG13*SUM(K13:AB13) -> 0 | AJ13: 0.7 | AK13: =SUM(K13:AB13)*AJ13 -> 0 | AL13: =K13*H13 -> 0 | AM13: =L13*H13 -> 0 | AN13: =M13*H13 -> 0 | AO13: =N13*H13 -> 0 | AP13: =O13*H13 -> 0 | AQ13: =P13*H13 -> 0 | AR13: =Q13*H13 -> 0 | AS13: =R13*H13 -> 0 | AT13: =S13*H13 -> 0 | AU13: =T13*H13 -> 0 | AV13: =U13*H13 -> 0 | AW13: =V13*H13 -> 0 | AX13: =W13*H13 -> 0 | AY13: =X13*H13 -> 0 | AZ13: =Y13*$H13 -> 0 | BA13: =Z13*$H13 -> 0 | BB13: =AA13*$H13 -> 0 | BC13: =AB13*$H13 -> 0 | BD13: =AG13 -> 1 | BE13: =SUM(BG13+BI13+BK13) -> 0 | BF13: 4 | BG13: =BF13*SUM(K13:X13) -> 0 | BI13: =BH13*SUM(K13:X13) -> 0 | BK13: =BJ13*SUM(K13:X13) -> 0 | BL13: =IF(E13="XS",IF(SUM(K13:AB13)>0,SUM(K13:AB13),0),0)*H13 -> 0 | BM13: =IF(E13="S",IF(SUM(K13:AB13)>0,SUM(K13:AB13),0),0)*H13 -> 0 | BN13: =IF(E13="M",IF(SUM(K13:AB13)>0,SUM(K13:AB13),0),0)*H13 -> 0 | BO13: =IF(E13="L",IF(SUM(K13:AB13)>0,SUM(K13:AB13),0),0)*H13 -> 0 | BP13: =IF(E13="XL",IF(SUM(K13:AB13)>0,SUM(K13:AB13),0),0)*H13 -> 0 | BQ13: =IF(E13="2XL",IF(SUM(K13:AB13)>0,SUM(K13:AB13),0),0)*H13 -> 0 | BR13: =IF(E13="3XL",IF(SUM(K13:AB13)>0,SUM(K13:AB13),0),0)*H13 -> 0 | BS13: =IF(E13="4XL",IF(SUM(K13:AB13)>0,SUM(K13:AB13),0),0)*H13 -> 0 | BT13: =IF(E13="various",IF(SUM(K13:AB13)>0,SUM(K13:AB13),0),0)*H13 -> 0 | BV13: =IF(D13="All tex.",IF(SUM(K13:AB13)>0,SUM(K13:AB13),0),0)*H13 -> 0 | BW13: =IF(D13="Dual tex.",IF(SUM(K13:AB13)>0,SUM(K13:AB13),0),0)*H13 -> 0 | BY13: =IF(G13="sloper",IF(SUM(K13:AB13)>0,SUM(K13:AB13),0),0)*H13 -> 0 | BZ13: =IF(G13="footholds",IF(SUM(K13:AB13)>0,SUM(K13:AB13),0),0)*H13 -> 0 | CA13: =IF(G13="micros",IF(SUM(K13:AB13)>0,SUM(K13:AB13),0),0)*H13 -> 0 | CB13: =IF(G13="jug",IF(SUM(K13:AB13)>0,SUM(K13:AB13),0),0)*H13 -> 0 | CC13: =IF(G13="ledge",IF(SUM(K13:AB13)>0,SUM(K13:AB13),0),0)*H13 -> 0 | CD13: =IF(G13="edge",IF(SUM(K13:AB13)>0,SUM(K13:AB13),0),0)*H13 -> 0 | CE13: =IF(G13="crimp",IF(SUM(K13:AB13)>0,SUM(K13:AB13),0),0)*H13 -> 0 | CF13: =IF(G13="incut",IF(SUM(K13:AB13)>0,SUM(K13:AB13),0),0)*H13 -> 0 | CG13: =IF(G13="dish",IF(SUM(K13:AB13)>0,SUM(K13:AB13),0),0)*H13 -> 0 | CH13: =IF(G13="pinch",IF(SUM(K13:AB13)>0,SUM(K13:AB13),0),0)*H13 -> 0 | CI13: =IF(G13="pocket",IF(SUM(K13:AB13)>0,SUM(K13:AB13),0),0)*H13 -> 0 | CJ13: =IF(G13="insert",IF(SUM(K13:AB13)>0,SUM(K13:AB13),0),0)*H13 -> 0 | CK13: =IF(G13="feature",IF(SUM(K13:AB13)>0,SUM(K13:AB13),0),0)*H13 -> 0 | CL13: =IF(G13="scoop",IF(SUM(K13:AB13)>0,SUM(K13:AB13),0),0)*H13 -> 0 | CM13: =IF(G13="arete",IF(SUM(K13:AB13)>0,SUM(K13:AB13),0),0)*H13 -> 0 | CN13: =IF(G13="square",IF(SUM(K13:AB13)>0,SUM(K13:AB13),0),0)*H13 -> 0 | CO13: =IF(G13="positive",IF(SUM(K13:AB13)>0,SUM(K13:AB13),0),0)*H13 -> 0 | CP13: =IF(G13="various",IF(SUM(K13:X13)>0,SUM(K13:X13),0),0)*H13 -> 0
A14: NEW | C14: SMPL-63-DT-GRP | D14: Dual tex. | E14: L | F14: 57x22x6,5 cm | G14: sloper | H14: 1 | I14: screws | J14: 183 | AC14: =SUM(K14:AB14)*J14 -> 0 | AD14: =IF(SUM(K14:AB14)>0,"Yes","No") -> No | AE14: =IF(A14="New","Yes","No") -> Yes | AG14: 1 | AH14: =AG14*SUM(K14:AB14) -> 0 | AJ14: 1.19 | AK14: =SUM(K14:AB14)*AJ14 -> 0 | AL14: =K14*H14 -> 0 | AM14: =L14*H14 -> 0 | AN14: =M14*H14 -> 0 | AO14: =N14*H14 -> 0 | AP14: =O14*H14 -> 0 | AQ14: =P14*H14 -> 0 | AR14: =Q14*H14 -> 0 | AS14: =R14*H14 -> 0 | AT14: =S14*H14 -> 0 | AU14: =T14*H14 -> 0 | AV14: =U14*H14 -> 0 | AW14: =V14*H14 -> 0 | AX14: =W14*H14 -> 0 | AY14: =X14*H14 -> 0 | AZ14: =Y14*$H14 -> 0 | BA14: =Z14*$H14 -> 0 | BB14: =AA14*$H14 -> 0 | BC14: =AB14*$H14 -> 0 | BD14: =AG14 -> 1 | BE14: =SUM(BG14+BI14+BK14) -> 0 | BF14: 3 | BG14: =BF14*SUM(K14:X14) -> 0 | BH14: 1 | BI14: =BH14*SUM(K14:X14) -> 0 | BK14: =BJ14*SUM(K14:X14) -> 0 | BL14: =IF(E14="XS",IF(SUM(K14:AB14)>0,SUM(K14:AB14),0),0)*H14 -> 0 | BM14: =IF(E14="S",IF(SUM(K14:AB14)>0,SUM(K14:AB14),0),0)*H14 -> 0 | BN14: =IF(E14="M",IF(SUM(K14:AB14)>0,SUM(K14:AB14),0),0)*H14 -> 0 | BO14: =IF(E14="L",IF(SUM(K14:AB14)>0,SUM(K14:AB14),0),0)*H14 -> 0 | BP14: =IF(E14="XL",IF(SUM(K14:AB14)>0,SUM(K14:AB14),0),0)*H14 -> 0 | BQ14: =IF(E14="2XL",IF(SUM(K14:AB14)>0,SUM(K14:AB14),0),0)*H14 -> 0 | BR14: =IF(E14="3XL",IF(SUM(K14:AB14)>0,SUM(K14:AB14),0),0)*H14 -> 0 | BS14: =IF(E14="4XL",IF(SUM(K14:AB14)>0,SUM(K14:AB14),0),0)*H14 -> 0 | BT14: =IF(E14="various",IF(SUM(K14:AB14)>0,SUM(K14:AB14),0),0)*H14 -> 0 | BV14: =IF(D14="All tex.",IF(SUM(K14:AB14)>0,SUM(K14:AB14),0),0)*H14 -> 0 | BW14: =IF(D14="Dual tex.",IF(SUM(K14:AB14)>0,SUM(K14:AB14),0),0)*H14 -> 0 | BY14: =IF(G14="sloper",IF(SUM(K14:AB14)>0,SUM(K14:AB14),0),0)*H14 -> 0 | BZ14: =IF(G14="footholds",IF(SUM(K14:AB14)>0,SUM(K14:AB14),0),0)*H14 -> 0 | CA14: =IF(G14="micros",IF(SUM(K14:AB14)>0,SUM(K14:AB14),0),0)*H14 -> 0 | CB14: =IF(G14="jug",IF(SUM(K14:AB14)>0,SUM(K14:AB14),0),0)*H14 -> 0 | CC14: =IF(G14="ledge",IF(SUM(K14:AB14)>0,SUM(K14:AB14),0),0)*H14 -> 0 | CD14: =IF(G14="edge",IF(SUM(K14:AB14)>0,SUM(K14:AB14),0),0)*H14 -> 0 | CE14: =IF(G14="crimp",IF(SUM(K14:AB14)>0,SUM(K14:AB14),0),0)*H14 -> 0 | CF14: =IF(G14="incut",IF(SUM(K14:AB14)>0,SUM(K14:AB14),0),0)*H14 -> 0 | CG14: =IF(G14="dish",IF(SUM(K14:AB14)>0,SUM(K14:AB14),0),0)*H14 -> 0 | CH14: =IF(G14="pinch",IF(SUM(K14:AB14)>0,SUM(K14:AB14),0),0)*H14 -> 0 | CI14: =IF(G14="pocket",IF(SUM(K14:AB14)>0,SUM(K14:AB14),0),0)*H14 -> 0 | CJ14: =IF(G14="insert",IF(SUM(K14:AB14)>0,SUM(K14:AB14),0),0)*H14 -> 0 | CK14: =IF(G14="feature",IF(SUM(K14:AB14)>0,SUM(K14:AB14),0),0)*H14 -> 0 | CL14: =IF(G14="scoop",IF(SUM(K14:AB14)>0,SUM(K14:AB14),0),0)*H14 -> 0 | CM14: =IF(G14="arete",IF(SUM(K14:AB14)>0,SUM(K14:AB14),0),0)*H14 -> 0 | CN14: =IF(G14="square",IF(SUM(K14:AB14)>0,SUM(K14:AB14),0),0)*H14 -> 0 | CO14: =IF(G14="positive",IF(SUM(K14:AB14)>0,SUM(K14:AB14),0),0)*H14 -> 0 | CP14: =IF(G14="various",IF(SUM(K14:X14)>0,SUM(K14:X14),0),0)*H14 -> 0
A15: NEW | C15: SMPL-64-DT-GRP | D15: Dual tex. | E15: M | F15: 48x24x7 cm | G15: sloper | H15: 1 | I15: screws | J15: 181 | AC15: =SUM(K15:AB15)*J15 -> 0 | AD15: =IF(SUM(K15:AB15)>0,"Yes","No") -> No | AE15: =IF(A15="New","Yes","No") -> Yes | AG15: 1 | AH15: =AG15*SUM(K15:AB15) -> 0 | AJ15: 1.03 | AK15: =SUM(K15:AB15)*AJ15 -> 0 | AL15: =K15*H15 -> 0 | AM15: =L15*H15 -> 0 | AN15: =M15*H15 -> 0 | AO15: =N15*H15 -> 0 | AP15: =O15*H15 -> 0 | AQ15: =P15*H15 -> 0 | AR15: =Q15*H15 -> 0 | AS15: =R15*H15 -> 0 | AT15: =S15*H15 -> 0 | AU15: =T15*H15 -> 0 | AV15: =U15*H15 -> 0 | AW15: =V15*H15 -> 0 | AX15: =W15*H15 -> 0 | AY15: =X15*H15 -> 0 | AZ15: =Y15*$H15 -> 0 | BA15: =Z15*$H15 -> 0 | BB15: =AA15*$H15 -> 0 | BC15: =AB15*$H15 -> 0 | BD15: =AG15 -> 1 | BE15: =SUM(BG15+BI15+BK15) -> 0 | BF15: 3 | BG15: =BF15*SUM(K15:X15) -> 0 | BH15: 1 | BI15: =BH15*SUM(K15:X15) -> 0 | BK15: =BJ15*SUM(K15:X15) -> 0 | BL15: =IF(E15="XS",IF(SUM(K15:AB15)>0,SUM(K15:AB15),0),0)*H15 -> 0 | BM15: =IF(E15="S",IF(SUM(K15:AB15)>0,SUM(K15:AB15),0),0)*H15 -> 0 | BN15: =IF(E15="M",IF(SUM(K15:AB15)>0,SUM(K15:AB15),0),0)*H15 -> 0 | BO15: =IF(E15="L",IF(SUM(K15:AB15)>0,SUM(K15:AB15),0),0)*H15 -> 0 | BP15: =IF(E15="XL",IF(SUM(K15:AB15)>0,SUM(K15:AB15),0),0)*H15 -> 0 | BQ15: =IF(E15="2XL",IF(SUM(K15:AB15)>0,SUM(K15:AB15),0),0)*H15 -> 0 | BR15: =IF(E15="3XL",IF(SUM(K15:AB15)>0,SUM(K15:AB15),0),0)*H15 -> 0 | BS15: =IF(E15="4XL",IF(SUM(K15:AB15)>0,SUM(K15:AB15),0),0)*H15 -> 0 | BT15: =IF(E15="various",IF(SUM(K15:AB15)>0,SUM(K15:AB15),0),0)*H15 -> 0 | BV15: =IF(D15="All tex.",IF(SUM(K15:AB15)>0,SUM(K15:AB15),0),0)*H15 -> 0 | BW15: =IF(D15="Dual tex.",IF(SUM(K15:AB15)>0,SUM(K15:AB15),0),0)*H15 -> 0 | BY15: =IF(G15="sloper",IF(SUM(K15:AB15)>0,SUM(K15:AB15),0),0)*H15 -> 0 | BZ15: =IF(G15="footholds",IF(SUM(K15:AB15)>0,SUM(K15:AB15),0),0)*H15 -> 0 | CA15: =IF(G15="micros",IF(SUM(K15:AB15)>0,SUM(K15:AB15),0),0)*H15 -> 0 | CB15: =IF(G15="jug",IF(SUM(K15:AB15)>0,SUM(K15:AB15),0),0)*H15 -> 0 | CC15: =IF(G15="ledge",IF(SUM(K15:AB15)>0,SUM(K15:AB15),0),0)*H15 -> 0 | CD15: =IF(G15="edge",IF(SUM(K15:AB15)>0,SUM(K15:AB15),0),0)*H15 -> 0 | CE15: =IF(G15="crimp",IF(SUM(K15:AB15)>0,SUM(K15:AB15),0),0)*H15 -> 0 | CF15: =IF(G15="incut",IF(SUM(K15:AB15)>0,SUM(K15:AB15),0),0)*H15 -> 0 | CG15: =IF(G15="dish",IF(SUM(K15:AB15)>0,SUM(K15:AB15),0),0)*H15 -> 0 | CH15: =IF(G15="pinch",IF(SUM(K15:AB15)>0,SUM(K15:AB15),0),0)*H15 -> 0 | CI15: =IF(G15="pocket",IF(SUM(K15:AB15)>0,SUM(K15:AB15),0),0)*H15 -> 0 | CJ15: =IF(G15="insert",IF(SUM(K15:AB15)>0,SUM(K15:AB15),0),0)*H15 -> 0 | CK15: =IF(G15="feature",IF(SUM(K15:AB15)>0,SUM(K15:AB15),0),0)*H15 -> 0 | CL15: =IF(G15="scoop",IF(SUM(K15:AB15)>0,SUM(K15:AB15),0),0)*H15 -> 0 | CM15: =IF(G15="arete",IF(SUM(K15:AB15)>0,SUM(K15:AB15),0),0)*H15 -> 0 | CN15: =IF(G15="square",IF(SUM(K15:AB15)>0,SUM(K15:AB15),0),0)*H15 -> 0 | CO15: =IF(G15="positive",IF(SUM(K15:AB15)>0,SUM(K15:AB15),0),0)*H15 -> 0 | CP15: =IF(G15="various",IF(SUM(K15:X15)>0,SUM(K15:X15),0),0)*H15 -> 0
A16: NEW | C16: SMPL-65-DT-GRP | D16: Dual tex. | E16: M | F16: 48x22x9 cm | G16: sloper | H16: 1 | I16: screws | J16: 183 | AC16: =SUM(K16:AB16)*J16 -> 0 | AD16: =IF(SUM(K16:AB16)>0,"Yes","No") -> No | AE16: =IF(A16="New","Yes","No") -> Yes | AG16: 1 | AH16: =AG16*SUM(K16:AB16) -> 0 | AJ16: 1.16 | AK16: =SUM(K16:AB16)*AJ16 -> 0 | AL16: =K16*H16 -> 0 | AM16: =L16*H16 -> 0 | AN16: =M16*H16 -> 0 | AO16: =N16*H16 -> 0 | AP16: =O16*H16 -> 0 | AQ16: =P16*H16 -> 0 | AR16: =Q16*H16 -> 0 | AS16: =R16*H16 -> 0 | AT16: =S16*H16 -> 0 | AU16: =T16*H16 -> 0 | AV16: =U16*H16 -> 0 | AW16: =V16*H16 -> 0 | AX16: =W16*H16 -> 0 | AY16: =X16*H16 -> 0 | AZ16: =Y16*$H16 -> 0 | BA16: =Z16*$H16 -> 0 | BB16: =AA16*$H16 -> 0 | BC16: =AB16*$H16 -> 0 | BD16: =AG16 -> 1 | BE16: =SUM(BG16+BI16+BK16) -> 0 | BF16: 3 | BG16: =BF16*SUM(K16:X16) -> 0 | BH16: 1 | BI16: =BH16*SUM(K16:X16) -> 0 | BK16: =BJ16*SUM(K16:X16) -> 0 | BL16: =IF(E16="XS",IF(SUM(K16:AB16)>0,SUM(K16:AB16),0),0)*H16 -> 0 | BM16: =IF(E16="S",IF(SUM(K16:AB16)>0,SUM(K16:AB16),0),0)*H16 -> 0 | BN16: =IF(E16="M",IF(SUM(K16:AB16)>0,SUM(K16:AB16),0),0)*H16 -> 0 | BO16: =IF(E16="L",IF(SUM(K16:AB16)>0,SUM(K16:AB16),0),0)*H16 -> 0 | BP16: =IF(E16="XL",IF(SUM(K16:AB16)>0,SUM(K16:AB16),0),0)*H16 -> 0 | BQ16: =IF(E16="2XL",IF(SUM(K16:AB16)>0,SUM(K16:AB16),0),0)*H16 -> 0 | BR16: =IF(E16="3XL",IF(SUM(K16:AB16)>0,SUM(K16:AB16),0),0)*H16 -> 0 | BS16: =IF(E16="4XL",IF(SUM(K16:AB16)>0,SUM(K16:AB16),0),0)*H16 -> 0 | BT16: =IF(E16="various",IF(SUM(K16:AB16)>0,SUM(K16:AB16),0),0)*H16 -> 0 | BV16: =IF(D16="All tex.",IF(SUM(K16:AB16)>0,SUM(K16:AB16),0),0)*H16 -> 0 | BW16: =IF(D16="Dual tex.",IF(SUM(K16:AB16)>0,SUM(K16:AB16),0),0)*H16 -> 0 | BY16: =IF(G16="sloper",IF(SUM(K16:AB16)>0,SUM(K16:AB16),0),0)*H16 -> 0 | BZ16: =IF(G16="footholds",IF(SUM(K16:AB16)>0,SUM(K16:AB16),0),0)*H16 -> 0 | CA16: =IF(G16="micros",IF(SUM(K16:AB16)>0,SUM(K16:AB16),0),0)*H16 -> 0 | CB16: =IF(G16="jug",IF(SUM(K16:AB16)>0,SUM(K16:AB16),0),0)*H16 -> 0 | CC16: =IF(G16="ledge",IF(SUM(K16:AB16)>0,SUM(K16:AB16),0),0)*H16 -> 0 | CD16: =IF(G16="edge",IF(SUM(K16:AB16)>0,SUM(K16:AB16),0),0)*H16 -> 0 | CE16: =IF(G16="crimp",IF(SUM(K16:AB16)>0,SUM(K16:AB16),0),0)*H16 -> 0 | CF16: =IF(G16="incut",IF(SUM(K16:AB16)>0,SUM(K16:AB16),0),0)*H16 -> 0 | CG16: =IF(G16="dish",IF(SUM(K16:AB16)>0,SUM(K16:AB16),0),0)*H16 -> 0 | CH16: =IF(G16="pinch",IF(SUM(K16:AB16)>0,SUM(K16:AB16),0),0)*H16 -> 0 | CI16: =IF(G16="pocket",IF(SUM(K16:AB16)>0,SUM(K16:AB16),0),0)*H16 -> 0 | CJ16: =IF(G16="insert",IF(SUM(K16:AB16)>0,SUM(K16:AB16),0),0)*H16 -> 0 | CK16: =IF(G16="feature",IF(SUM(K16:AB16)>0,SUM(K16:AB16),0),0)*H16 -> 0 | CL16: =IF(G16="scoop",IF(SUM(K16:AB16)>0,SUM(K16:AB16),0),0)*H16 -> 0 | CM16: =IF(G16="arete",IF(SUM(K16:AB16)>0,SUM(K16:AB16),0),0)*H16 -> 0 | CN16: =IF(G16="square",IF(SUM(K16:AB16)>0,SUM(K16:AB16),0),0)*H16 -> 0 | CO16: =IF(G16="positive",IF(SUM(K16:AB16)>0,SUM(K16:AB16),0),0)*H16 -> 0 | CP16: =IF(G16="various",IF(SUM(K16:X16)>0,SUM(K16:X16),0),0)*H16 -> 0
A17: NEW | C17: SMPL-67-DT-GRP | D17: Dual tex. | E17: L | F17: 520X210X85 | G17: sloper | H17: 1 | I17: screws | J17: 181 | AC17: =SUM(K17:AB17)*J17 -> 0 | AD17: =IF(SUM(K17:AB17)>0,"Yes","No") -> No | AE17: =IF(A17="New","Yes","No") -> Yes | AG17: 1 | AH17: =AG17*SUM(K17:AB17) -> 0 | AJ17: 1.06 | AK17: =SUM(K17:AB17)*AJ17 -> 0 | AL17: =K17*H17 -> 0 | AM17: =L17*H17 -> 0 | AN17: =M17*H17 -> 0 | AO17: =N17*H17 -> 0 | AP17: =O17*H17 -> 0 | AQ17: =P17*H17 -> 0 | AR17: =Q17*H17 -> 0 | AS17: =R17*H17 -> 0 | AT17: =S17*H17 -> 0 | AU17: =T17*H17 -> 0 | AV17: =U17*H17 -> 0 | AW17: =V17*H17 -> 0 | AX17: =W17*H17 -> 0 | AY17: =X17*H17 -> 0 | AZ17: =Y17*$H17 -> 0 | BA17: =Z17*$H17 -> 0 | BB17: =AA17*$H17 -> 0 | BC17: =AB17*$H17 -> 0 | BD17: =AG17 -> 1 | BE17: =SUM(BG17+BI17+BK17) -> 0 | BF17: 3 | BG17: =BF17*SUM(K17:X17) -> 0 | BH17: 1 | BI17: =BH17*SUM(K17:X17) -> 0 | BK17: =BJ17*SUM(K17:X17) -> 0 | BL17: =IF(E17="XS",IF(SUM(K17:AB17)>0,SUM(K17:AB17),0),0)*H17 -> 0 | BM17: =IF(E17="S",IF(SUM(K17:AB17)>0,SUM(K17:AB17),0),0)*H17 -> 0 | BN17: =IF(E17="M",IF(SUM(K17:AB17)>0,SUM(K17:AB17),0),0)*H17 -> 0 | BO17: =IF(E17="L",IF(SUM(K17:AB17)>0,SUM(K17:AB17),0),0)*H17 -> 0 | BP17: =IF(E17="XL",IF(SUM(K17:AB17)>0,SUM(K17:AB17),0),0)*H17 -> 0 | BQ17: =IF(E17="2XL",IF(SUM(K17:AB17)>0,SUM(K17:AB17),0),0)*H17 -> 0 | BR17: =IF(E17="3XL",IF(SUM(K17:AB17)>0,SUM(K17:AB17),0),0)*H17 -> 0 | BS17: =IF(E17="4XL",IF(SUM(K17:AB17)>0,SUM(K17:AB17),0),0)*H17 -> 0 | BT17: =IF(E17="various",IF(SUM(K17:AB17)>0,SUM(K17:AB17),0),0)*H17 -> 0 | BV17: =IF(D17="All tex.",IF(SUM(K17:AB17)>0,SUM(K17:AB17),0),0)*H17 -> 0 | BW17: =IF(D17="Dual tex.",IF(SUM(K17:AB17)>0,SUM(K17:AB17),0),0)*H17 -> 0 | BY17: =IF(G17="sloper",IF(SUM(K17:AB17)>0,SUM(K17:AB17),0),0)*H17 -> 0 | BZ17: =IF(G17="footholds",IF(SUM(K17:AB17)>0,SUM(K17:AB17),0),0)*H17 -> 0 | CA17: =IF(G17="micros",IF(SUM(K17:AB17)>0,SUM(K17:AB17),0),0)*H17 -> 0 | CB17: =IF(G17="jug",IF(SUM(K17:AB17)>0,SUM(K17:AB17),0),0)*H17 -> 0 | CC17: =IF(G17="ledge",IF(SUM(K17:AB17)>0,SUM(K17:AB17),0),0)*H17 -> 0 | CD17: =IF(G17="edge",IF(SUM(K17:AB17)>0,SUM(K17:AB17),0),0)*H17 -> 0 | CE17: =IF(G17="crimp",IF(SUM(K17:AB17)>0,SUM(K17:AB17),0),0)*H17 -> 0 | CF17: =IF(G17="incut",IF(SUM(K17:AB17)>0,SUM(K17:AB17),0),0)*H17 -> 0 | CG17: =IF(G17="dish",IF(SUM(K17:AB17)>0,SUM(K17:AB17),0),0)*H17 -> 0 | CH17: =IF(G17="pinch",IF(SUM(K17:AB17)>0,SUM(K17:AB17),0),0)*H17 -> 0 | CI17: =IF(G17="pocket",IF(SUM(K17:AB17)>0,SUM(K17:AB17),0),0)*H17 -> 0 | CJ17: =IF(G17="insert",IF(SUM(K17:AB17)>0,SUM(K17:AB17),0),0)*H17 -> 0 | CK17: =IF(G17="feature",IF(SUM(K17:AB17)>0,SUM(K17:AB17),0),0)*H17 -> 0 | CL17: =IF(G17="scoop",IF(SUM(K17:AB17)>0,SUM(K17:AB17),0),0)*H17 -> 0 | CM17: =IF(G17="arete",IF(SUM(K17:AB17)>0,SUM(K17:AB17),0),0)*H17 -> 0 | CN17: =IF(G17="square",IF(SUM(K17:AB17)>0,SUM(K17:AB17),0),0)*H17 -> 0 | CO17: =IF(G17="positive",IF(SUM(K17:AB17)>0,SUM(K17:AB17),0),0)*H17 -> 0 | CP17: =IF(G17="various",IF(SUM(K17:X17)>0,SUM(K17:X17),0),0)*H17 -> 0
A18: NEW | C18: SMPL-71-DT-GRP | D18: Dual tex. | E18: L | F18: 63x24x3 cm | G18: sloper | H18: 1 | I18: screws | J18: 226 | AC18: =SUM(K18:AB18)*J18 -> 0 | AD18: =IF(SUM(K18:AB18)>0,"Yes","No") -> No | AE18: =IF(A18="New","Yes","No") -> Yes | AG18: 1 | AH18: =AG18*SUM(K18:AB18) -> 0 | AJ18: 1.01 | AK18: =SUM(K18:AB18)*AJ18 -> 0 | AL18: =K18*H18 -> 0 | AM18: =L18*H18 -> 0 | AN18: =M18*H18 -> 0 | AO18: =N18*H18 -> 0 | AP18: =O18*H18 -> 0 | AQ18: =P18*H18 -> 0 | AR18: =Q18*H18 -> 0 | AS18: =R18*H18 -> 0 | AT18: =S18*H18 -> 0 | AU18: =T18*H18 -> 0 | AV18: =U18*H18 -> 0 | AW18: =V18*H18 -> 0 | AX18: =W18*H18 -> 0 | AY18: =X18*H18 -> 0 | AZ18: =Y18*$H18 -> 0 | BA18: =Z18*$H18 -> 0 | BB18: =AA18*$H18 -> 0 | BC18: =AB18*$H18 -> 0 | BD18: =AG18 -> 1 | BE18: =SUM(BG18+BI18+BK18) -> 0 | BF18: 4 | BG18: =BF18*SUM(K18:X18) -> 0 | BI18: =BH18*SUM(K18:X18) -> 0 | BK18: =BJ18*SUM(K18:X18) -> 0 | BL18: =IF(E18="XS",IF(SUM(K18:AB18)>0,SUM(K18:AB18),0),0)*H18 -> 0 | BM18: =IF(E18="S",IF(SUM(K18:AB18)>0,SUM(K18:AB18),0),0)*H18 -> 0 | BN18: =IF(E18="M",IF(SUM(K18:AB18)>0,SUM(K18:AB18),0),0)*H18 -> 0 | BO18: =IF(E18="L",IF(SUM(K18:AB18)>0,SUM(K18:AB18),0),0)*H18 -> 0 | BP18: =IF(E18="XL",IF(SUM(K18:AB18)>0,SUM(K18:AB18),0),0)*H18 -> 0 | BQ18: =IF(E18="2XL",IF(SUM(K18:AB18)>0,SUM(K18:AB18),0),0)*H18 -> 0 | BR18: =IF(E18="3XL",IF(SUM(K18:AB18)>0,SUM(K18:AB18),0),0)*H18 -> 0 | BS18: =IF(E18="4XL",IF(SUM(K18:AB18)>0,SUM(K18:AB18),0),0)*H18 -> 0 | BT18: =IF(E18="various",IF(SUM(K18:AB18)>0,SUM(K18:AB18),0),0)*H18 -> 0 | BV18: =IF(D18="All tex.",IF(SUM(K18:AB18)>0,SUM(K18:AB18),0),0)*H18 -> 0 | BW18: =IF(D18="Dual tex.",IF(SUM(K18:AB18)>0,SUM(K18:AB18),0),0)*H18 -> 0 | BY18: =IF(G18="sloper",IF(SUM(K18:AB18)>0,SUM(K18:AB18),0),0)*H18 -> 0 | BZ18: =IF(G18="footholds",IF(SUM(K18:AB18)>0,SUM(K18:AB18),0),0)*H18 -> 0 | CA18: =IF(G18="micros",IF(SUM(K18:AB18)>0,SUM(K18:AB18),0),0)*H18 -> 0 | CB18: =IF(G18="jug",IF(SUM(K18:AB18)>0,SUM(K18:AB18),0),0)*H18 -> 0 | CC18: =IF(G18="ledge",IF(SUM(K18:AB18)>0,SUM(K18:AB18),0),0)*H18 -> 0 | CD18: =IF(G18="edge",IF(SUM(K18:AB18)>0,SUM(K18:AB18),0),0)*H18 -> 0 | CE18: =IF(G18="crimp",IF(SUM(K18:AB18)>0,SUM(K18:AB18),0),0)*H18 -> 0 | CF18: =IF(G18="incut",IF(SUM(K18:AB18)>0,SUM(K18:AB18),0),0)*H18 -> 0 | CG18: =IF(G18="dish",IF(SUM(K18:AB18)>0,SUM(K18:AB18),0),0)*H18 -> 0 | CH18: =IF(G18="pinch",IF(SUM(K18:AB18)>0,SUM(K18:AB18),0),0)*H18 -> 0 | CI18: =IF(G18="pocket",IF(SUM(K18:AB18)>0,SUM(K18:AB18),0),0)*H18 -> 0 | CJ18: =IF(G18="insert",IF(SUM(K18:AB18)>0,SUM(K18:AB18),0),0)*H18 -> 0 | CK18: =IF(G18="feature",IF(SUM(K18:AB18)>0,SUM(K18:AB18),0),0)*H18 -> 0 | CL18: =IF(G18="scoop",IF(SUM(K18:AB18)>0,SUM(K18:AB18),0),0)*H18 -> 0 | CM18: =IF(G18="arete",IF(SUM(K18:AB18)>0,SUM(K18:AB18),0),0)*H18 -> 0 | CN18: =IF(G18="square",IF(SUM(K18:AB18)>0,SUM(K18:AB18),0),0)*H18 -> 0 | CO18: =IF(G18="positive",IF(SUM(K18:AB18)>0,SUM(K18:AB18),0),0)*H18 -> 0 | CP18: =IF(G18="various",IF(SUM(K18:X18)>0,SUM(K18:X18),0),0)*H18 -> 0
A19: NEW | C19: SMPL-72-DT-GRP | D19: Dual tex. | E19: L | F19: 59x21x4 cm | G19: sloper | H19: 1 | I19: screws | J19: 228 | AC19: =SUM(K19:AB19)*J19 -> 0 | AD19: =IF(SUM(K19:AB19)>0,"Yes","No") -> No | AE19: =IF(A19="New","Yes","No") -> Yes | AG19: 1 | AH19: =AG19*SUM(K19:AB19) -> 0 | AJ19: 1 | AK19: =SUM(K19:AB19)*AJ19 -> 0 | AL19: =K19*H19 -> 0 | AM19: =L19*H19 -> 0 | AN19: =M19*H19 -> 0 | AO19: =N19*H19 -> 0 | AP19: =O19*H19 -> 0 | AQ19: =P19*H19 -> 0 | AR19: =Q19*H19 -> 0 | AS19: =R19*H19 -> 0 | AT19: =S19*H19 -> 0 | AU19: =T19*H19 -> 0 | AV19: =U19*H19 -> 0 | AW19: =V19*H19 -> 0 | AX19: =W19*H19 -> 0 | AY19: =X19*H19 -> 0 | AZ19: =Y19*$H19 -> 0 | BA19: =Z19*$H19 -> 0 | BB19: =AA19*$H19 -> 0 | BC19: =AB19*$H19 -> 0 | BD19: =AG19 -> 1 | BE19: =SUM(BG19+BI19+BK19) -> 0 | BF19: 4 | BG19: =BF19*SUM(K19:X19) -> 0 | BH19: 1 | BI19: =BH19*SUM(K19:X19) -> 0 | BK19: =BJ19*SUM(K19:X19) -> 0 | BL19: =IF(E19="XS",IF(SUM(K19:AB19)>0,SUM(K19:AB19),0),0)*H19 -> 0 | BM19: =IF(E19="S",IF(SUM(K19:AB19)>0,SUM(K19:AB19),0),0)*H19 -> 0 | BN19: =IF(E19="M",IF(SUM(K19:AB19)>0,SUM(K19:AB19),0),0)*H19 -> 0 | BO19: =IF(E19="L",IF(SUM(K19:AB19)>0,SUM(K19:AB19),0),0)*H19 -> 0 | BP19: =IF(E19="XL",IF(SUM(K19:AB19)>0,SUM(K19:AB19),0),0)*H19 -> 0 | BQ19: =IF(E19="2XL",IF(SUM(K19:AB19)>0,SUM(K19:AB19),0),0)*H19 -> 0 | BR19: =IF(E19="3XL",IF(SUM(K19:AB19)>0,SUM(K19:AB19),0),0)*H19 -> 0 | BS19: =IF(E19="4XL",IF(SUM(K19:AB19)>0,SUM(K19:AB19),0),0)*H19 -> 0 | BT19: =IF(E19="various",IF(SUM(K19:AB19)>0,SUM(K19:AB19),0),0)*H19 -> 0 | BV19: =IF(D19="All tex.",IF(SUM(K19:AB19)>0,SUM(K19:AB19),0),0)*H19 -> 0 | BW19: =IF(D19="Dual tex.",IF(SUM(K19:AB19)>0,SUM(K19:AB19),0),0)*H19 -> 0 | BY19: =IF(G19="sloper",IF(SUM(K19:AB19)>0,SUM(K19:AB19),0),0)*H19 -> 0 | BZ19: =IF(G19="footholds",IF(SUM(K19:AB19)>0,SUM(K19:AB19),0),0)*H19 -> 0 | CA19: =IF(G19="micros",IF(SUM(K19:AB19)>0,SUM(K19:AB19),0),0)*H19 -> 0 | CB19: =IF(G19="jug",IF(SUM(K19:AB19)>0,SUM(K19:AB19),0),0)*H19 -> 0 | CC19: =IF(G19="ledge",IF(SUM(K19:AB19)>0,SUM(K19:AB19),0),0)*H19 -> 0 | CD19: =IF(G19="edge",IF(SUM(K19:AB19)>0,SUM(K19:AB19),0),0)*H19 -> 0 | CE19: =IF(G19="crimp",IF(SUM(K19:AB19)>0,SUM(K19:AB19),0),0)*H19 -> 0 | CF19: =IF(G19="incut",IF(SUM(K19:AB19)>0,SUM(K19:AB19),0),0)*H19 -> 0 | CG19: =IF(G19="dish",IF(SUM(K19:AB19)>0,SUM(K19:AB19),0),0)*H19 -> 0 | CH19: =IF(G19="pinch",IF(SUM(K19:AB19)>0,SUM(K19:AB19),0),0)*H19 -> 0 | CI19: =IF(G19="pocket",IF(SUM(K19:AB19)>0,SUM(K19:AB19),0),0)*H19 -> 0 | CJ19: =IF(G19="insert",IF(SUM(K19:AB19)>0,SUM(K19:AB19),0),0)*H19 -> 0 | CK19: =IF(G19="feature",IF(SUM(K19:AB19)>0,SUM(K19:AB19),0),0)*H19 -> 0 | CL19: =IF(G19="scoop",IF(SUM(K19:AB19)>0,SUM(K19:AB19),0),0)*H19 -> 0 | CM19: =IF(G19="arete",IF(SUM(K19:AB19)>0,SUM(K19:AB19),0),0)*H19 -> 0 | CN19: =IF(G19="square",IF(SUM(K19:AB19)>0,SUM(K19:AB19),0),0)*H19 -> 0 | CO19: =IF(G19="positive",IF(SUM(K19:AB19)>0,SUM(K19:AB19),0),0)*H19 -> 0 | CP19: =IF(G19="various",IF(SUM(K19:X19)>0,SUM(K19:X19),0),0)*H19 -> 0
A20: NEW | C20: SMPL-73-DT-GRP | D20: Dual tex. | E20: L | F20: 61x23x6 cm | G20: sloper | H20: 1 | I20: screws | J20: 228 | AC20: =SUM(K20:AB20)*J20 -> 0 | AD20: =IF(SUM(K20:AB20)>0,"Yes","No") -> No | AE20: =IF(A20="New","Yes","No") -> Yes | AG20: 1 | AH20: =AG20*SUM(K20:AB20) -> 0 | AJ20: 1.1 | AK20: =SUM(K20:AB20)*AJ20 -> 0 | AL20: =K20*H20 -> 0 | AM20: =L20*H20 -> 0 | AN20: =M20*H20 -> 0 | AO20: =N20*H20 -> 0 | AP20: =O20*H20 -> 0 | AQ20: =P20*H20 -> 0 | AR20: =Q20*H20 -> 0 | AS20: =R20*H20 -> 0 | AT20: =S20*H20 -> 0 | AU20: =T20*H20 -> 0 | AV20: =U20*H20 -> 0 | AW20: =V20*H20 -> 0 | AX20: =W20*H20 -> 0 | AY20: =X20*H20 -> 0 | AZ20: =Y20*$H20 -> 0 | BA20: =Z20*$H20 -> 0 | BB20: =AA20*$H20 -> 0 | BC20: =AB20*$H20 -> 0 | BD20: =AG20 -> 1 | BE20: =SUM(BG20+BI20+BK20) -> 0 | BF20: 3 | BG20: =BF20*SUM(K20:X20) -> 0 | BH20: 1 | BI20: =BH20*SUM(K20:X20) -> 0 | BK20: =BJ20*SUM(K20:X20) -> 0 | BL20: =IF(E20="XS",IF(SUM(K20:AB20)>0,SUM(K20:AB20),0),0)*H20 -> 0 | BM20: =IF(E20="S",IF(SUM(K20:AB20)>0,SUM(K20:AB20),0),0)*H20 -> 0 | BN20: =IF(E20="M",IF(SUM(K20:AB20)>0,SUM(K20:AB20),0),0)*H20 -> 0 | BO20: =IF(E20="L",IF(SUM(K20:AB20)>0,SUM(K20:AB20),0),0)*H20 -> 0 | BP20: =IF(E20="XL",IF(SUM(K20:AB20)>0,SUM(K20:AB20),0),0)*H20 -> 0 | BQ20: =IF(E20="2XL",IF(SUM(K20:AB20)>0,SUM(K20:AB20),0),0)*H20 -> 0 | BR20: =IF(E20="3XL",IF(SUM(K20:AB20)>0,SUM(K20:AB20),0),0)*H20 -> 0 | BS20: =IF(E20="4XL",IF(SUM(K20:AB20)>0,SUM(K20:AB20),0),0)*H20 -> 0 | BT20: =IF(E20="various",IF(SUM(K20:AB20)>0,SUM(K20:AB20),0),0)*H20 -> 0 | BV20: =IF(D20="All tex.",IF(SUM(K20:AB20)>0,SUM(K20:AB20),0),0)*H20 -> 0 | BW20: =IF(D20="Dual tex.",IF(SUM(K20:AB20)>0,SUM(K20:AB20),0),0)*H20 -> 0 | BY20: =IF(G20="sloper",IF(SUM(K20:AB20)>0,SUM(K20:AB20),0),0)*H20 -> 0 | BZ20: =IF(G20="footholds",IF(SUM(K20:AB20)>0,SUM(K20:AB20),0),0)*H20 -> 0 | CA20: =IF(G20="micros",IF(SUM(K20:AB20)>0,SUM(K20:AB20),0),0)*H20 -> 0 | CB20: =IF(G20="jug",IF(SUM(K20:AB20)>0,SUM(K20:AB20),0),0)*H20 -> 0 | CC20: =IF(G20="ledge",IF(SUM(K20:AB20)>0,SUM(K20:AB20),0),0)*H20 -> 0 | CD20: =IF(G20="edge",IF(SUM(K20:AB20)>0,SUM(K20:AB20),0),0)*H20 -> 0 | CE20: =IF(G20="crimp",IF(SUM(K20:AB20)>0,SUM(K20:AB20),0),0)*H20 -> 0 | CF20: =IF(G20="incut",IF(SUM(K20:AB20)>0,SUM(K20:AB20),0),0)*H20 -> 0 | CG20: =IF(G20="dish",IF(SUM(K20:AB20)>0,SUM(K20:AB20),0),0)*H20 -> 0 | CH20: =IF(G20="pinch",IF(SUM(K20:AB20)>0,SUM(K20:AB20),0),0)*H20 -> 0 | CI20: =IF(G20="pocket",IF(SUM(K20:AB20)>0,SUM(K20:AB20),0),0)*H20 -> 0 | CJ20: =IF(G20="insert",IF(SUM(K20:AB20)>0,SUM(K20:AB20),0),0)*H20 -> 0 | CK20: =IF(G20="feature",IF(SUM(K20:AB20)>0,SUM(K20:AB20),0),0)*H20 -> 0 | CL20: =IF(G20="scoop",IF(SUM(K20:AB20)>0,SUM(K20:AB20),0),0)*H20 -> 0 | CM20: =IF(G20="arete",IF(SUM(K20:AB20)>0,SUM(K20:AB20),0),0)*H20 -> 0 | CN20: =IF(G20="square",IF(SUM(K20:AB20)>0,SUM(K20:AB20),0),0)*H20 -> 0 | CO20: =IF(G20="positive",IF(SUM(K20:AB20)>0,SUM(K20:AB20),0),0)*H20 -> 0 | CP20: =IF(G20="various",IF(SUM(K20:X20)>0,SUM(K20:X20),0),0)*H20 -> 0
A21: NEW | C21: SMPL-74-DT-GRP | D21: Dual tex. | E21: L | F21: 605x205x75 | G21: sloper | H21: 1 | I21: screws | J21: 226 | AC21: =SUM(K21:AB21)*J21 -> 0 | AD21: =IF(SUM(K21:AB21)>0,"Yes","No") -> No | AE21: =IF(A21="New","Yes","No") -> Yes | AG21: 1 | AH21: =AG21*SUM(K21:AB21) -> 0 | AJ21: 1.01 | AK21: =SUM(K21:AB21)*AJ21 -> 0 | AL21: =K21*H21 -> 0 | AM21: =L21*H21 -> 0 | AN21: =M21*H21 -> 0 | AO21: =N21*H21 -> 0 | AP21: =O21*H21 -> 0 | AQ21: =P21*H21 -> 0 | AR21: =Q21*H21 -> 0 | AS21: =R21*H21 -> 0 | AT21: =S21*H21 -> 0 | AU21: =T21*H21 -> 0 | AV21: =U21*H21 -> 0 | AW21: =V21*H21 -> 0 | AX21: =W21*H21 -> 0 | AY21: =X21*H21 -> 0 | AZ21: =Y21*$H21 -> 0 | BA21: =Z21*$H21 -> 0 | BB21: =AA21*$H21 -> 0 | BC21: =AB21*$H21 -> 0 | BD21: =AG21 -> 1 | BE21: =SUM(BG21+BI21+BK21) -> 0 | BF21: 3 | BG21: =BF21*SUM(K21:X21) -> 0 | BH21: 1 | BI21: =BH21*SUM(K21:X21) -> 0 | BK21: =BJ21*SUM(K21:X21) -> 0 | BL21: =IF(E21="XS",IF(SUM(K21:AB21)>0,SUM(K21:AB21),0),0)*H21 -> 0 | BM21: =IF(E21="S",IF(SUM(K21:AB21)>0,SUM(K21:AB21),0),0)*H21 -> 0 | BN21: =IF(E21="M",IF(SUM(K21:AB21)>0,SUM(K21:AB21),0),0)*H21 -> 0 | BO21: =IF(E21="L",IF(SUM(K21:AB21)>0,SUM(K21:AB21),0),0)*H21 -> 0 | BP21: =IF(E21="XL",IF(SUM(K21:AB21)>0,SUM(K21:AB21),0),0)*H21 -> 0 | BQ21: =IF(E21="2XL",IF(SUM(K21:AB21)>0,SUM(K21:AB21),0),0)*H21 -> 0 | BR21: =IF(E21="3XL",IF(SUM(K21:AB21)>0,SUM(K21:AB21),0),0)*H21 -> 0 | BS21: =IF(E21="4XL",IF(SUM(K21:AB21)>0,SUM(K21:AB21),0),0)*H21 -> 0 | BT21: =IF(E21="various",IF(SUM(K21:AB21)>0,SUM(K21:AB21),0),0)*H21 -> 0 | BV21: =IF(D21="All tex.",IF(SUM(K21:AB21)>0,SUM(K21:AB21),0),0)*H21 -> 0 | BW21: =IF(D21="Dual tex.",IF(SUM(K21:AB21)>0,SUM(K21:AB21),0),0)*H21 -> 0 | BY21: =IF(G21="sloper",IF(SUM(K21:AB21)>0,SUM(K21:AB21),0),0)*H21 -> 0 | BZ21: =IF(G21="footholds",IF(SUM(K21:AB21)>0,SUM(K21:AB21),0),0)*H21 -> 0 | CA21: =IF(G21="micros",IF(SUM(K21:AB21)>0,SUM(K21:AB21),0),0)*H21 -> 0 | CB21: =IF(G21="jug",IF(SUM(K21:AB21)>0,SUM(K21:AB21),0),0)*H21 -> 0 | CC21: =IF(G21="ledge",IF(SUM(K21:AB21)>0,SUM(K21:AB21),0),0)*H21 -> 0 | CD21: =IF(G21="edge",IF(SUM(K21:AB21)>0,SUM(K21:AB21),0),0)*H21 -> 0 | CE21: =IF(G21="crimp",IF(SUM(K21:AB21)>0,SUM(K21:AB21),0),0)*H21 -> 0 | CF21: =IF(G21="incut",IF(SUM(K21:AB21)>0,SUM(K21:AB21),0),0)*H21 -> 0 | CG21: =IF(G21="dish",IF(SUM(K21:AB21)>0,SUM(K21:AB21),0),0)*H21 -> 0 | CH21: =IF(G21="pinch",IF(SUM(K21:AB21)>0,SUM(K21:AB21),0),0)*H21 -> 0 | CI21: =IF(G21="pocket",IF(SUM(K21:AB21)>0,SUM(K21:AB21),0),0)*H21 -> 0 | CJ21: =IF(G21="insert",IF(SUM(K21:AB21)>0,SUM(K21:AB21),0),0)*H21 -> 0 | CK21: =IF(G21="feature",IF(SUM(K21:AB21)>0,SUM(K21:AB21),0),0)*H21 -> 0 | CL21: =IF(G21="scoop",IF(SUM(K21:AB21)>0,SUM(K21:AB21),0),0)*H21 -> 0 | CM21: =IF(G21="arete",IF(SUM(K21:AB21)>0,SUM(K21:AB21),0),0)*H21 -> 0 | CN21: =IF(G21="square",IF(SUM(K21:AB21)>0,SUM(K21:AB21),0),0)*H21 -> 0 | CO21: =IF(G21="positive",IF(SUM(K21:AB21)>0,SUM(K21:AB21),0),0)*H21 -> 0 | CP21: =IF(G21="various",IF(SUM(K21:X21)>0,SUM(K21:X21),0),0)*H21 -> 0
A22: NEW | C22: SMPL-76-DT-GRP | D22: Dual tex. | E22: L | F22: 60x22x6,5 cm | G22: sloper | H22: 1 | I22: screws | J22: 227 | AC22: =SUM(K22:AB22)*J22 -> 0 | AD22: =IF(SUM(K22:AB22)>0,"Yes","No") -> No | AE22: =IF(A22="New","Yes","No") -> Yes | AG22: 1 | AH22: =AG22*SUM(K22:AB22) -> 0 | AJ22: 1.06 | AK22: =SUM(K22:AB22)*AJ22 -> 0 | AL22: =K22*H22 -> 0 | AM22: =L22*H22 -> 0 | AN22: =M22*H22 -> 0 | AO22: =N22*H22 -> 0 | AP22: =O22*H22 -> 0 | AQ22: =P22*H22 -> 0 | AR22: =Q22*H22 -> 0 | AS22: =R22*H22 -> 0 | AT22: =S22*H22 -> 0 | AU22: =T22*H22 -> 0 | AV22: =U22*H22 -> 0 | AW22: =V22*H22 -> 0 | AX22: =W22*H22 -> 0 | AY22: =X22*H22 -> 0 | AZ22: =Y22*$H22 -> 0 | BA22: =Z22*$H22 -> 0 | BB22: =AA22*$H22 -> 0 | BC22: =AB22*$H22 -> 0 | BD22: =AG22 -> 1 | BE22: =SUM(BG22+BI22+BK22) -> 0 | BF22: 3 | BG22: =BF22*SUM(K22:X22) -> 0 | BH22: 1 | BI22: =BH22*SUM(K22:X22) -> 0 | BK22: =BJ22*SUM(K22:X22) -> 0 | BL22: =IF(E22="XS",IF(SUM(K22:AB22)>0,SUM(K22:AB22),0),0)*H22 -> 0 | BM22: =IF(E22="S",IF(SUM(K22:AB22)>0,SUM(K22:AB22),0),0)*H22 -> 0 | BN22: =IF(E22="M",IF(SUM(K22:AB22)>0,SUM(K22:AB22),0),0)*H22 -> 0 | BO22: =IF(E22="L",IF(SUM(K22:AB22)>0,SUM(K22:AB22),0),0)*H22 -> 0 | BP22: =IF(E22="XL",IF(SUM(K22:AB22)>0,SUM(K22:AB22),0),0)*H22 -> 0 | BQ22: =IF(E22="2XL",IF(SUM(K22:AB22)>0,SUM(K22:AB22),0),0)*H22 -> 0 | BR22: =IF(E22="3XL",IF(SUM(K22:AB22)>0,SUM(K22:AB22),0),0)*H22 -> 0 | BS22: =IF(E22="4XL",IF(SUM(K22:AB22)>0,SUM(K22:AB22),0),0)*H22 -> 0 | BT22: =IF(E22="various",IF(SUM(K22:AB22)>0,SUM(K22:AB22),0),0)*H22 -> 0 | BV22: =IF(D22="All tex.",IF(SUM(K22:AB22)>0,SUM(K22:AB22),0),0)*H22 -> 0 | BW22: =IF(D22="Dual tex.",IF(SUM(K22:AB22)>0,SUM(K22:AB22),0),0)*H22 -> 0 | BY22: =IF(G22="sloper",IF(SUM(K22:AB22)>0,SUM(K22:AB22),0),0)*H22 -> 0 | BZ22: =IF(G22="footholds",IF(SUM(K22:AB22)>0,SUM(K22:AB22),0),0)*H22 -> 0 | CA22: =IF(G22="micros",IF(SUM(K22:AB22)>0,SUM(K22:AB22),0),0)*H22 -> 0 | CB22: =IF(G22="jug",IF(SUM(K22:AB22)>0,SUM(K22:AB22),0),0)*H22 -> 0 | CC22: =IF(G22="ledge",IF(SUM(K22:AB22)>0,SUM(K22:AB22),0),0)*H22 -> 0 | CD22: =IF(G22="edge",IF(SUM(K22:AB22)>0,SUM(K22:AB22),0),0)*H22 -> 0 | CE22: =IF(G22="crimp",IF(SUM(K22:AB22)>0,SUM(K22:AB22),0),0)*H22 -> 0 | CF22: =IF(G22="incut",IF(SUM(K22:AB22)>0,SUM(K22:AB22),0),0)*H22 -> 0 | CG22: =IF(G22="dish",IF(SUM(K22:AB22)>0,SUM(K22:AB22),0),0)*H22 -> 0 | CH22: =IF(G22="pinch",IF(SUM(K22:AB22)>0,SUM(K22:AB22),0),0)*H22 -> 0 | CI22: =IF(G22="pocket",IF(SUM(K22:AB22)>0,SUM(K22:AB22),0),0)*H22 -> 0 | CJ22: =IF(G22="insert",IF(SUM(K22:AB22)>0,SUM(K22:AB22),0),0)*H22 -> 0 | CK22: =IF(G22="feature",IF(SUM(K22:AB22)>0,SUM(K22:AB22),0),0)*H22 -> 0 | CL22: =IF(G22="scoop",IF(SUM(K22:AB22)>0,SUM(K22:AB22),0),0)*H22 -> 0 | CM22: =IF(G22="arete",IF(SUM(K22:AB22)>0,SUM(K22:AB22),0),0)*H22 -> 0 | CN22: =IF(G22="square",IF(SUM(K22:AB22)>0,SUM(K22:AB22),0),0)*H22 -> 0 | CO22: =IF(G22="positive",IF(SUM(K22:AB22)>0,SUM(K22:AB22),0),0)*H22 -> 0 | CP22: =IF(G22="various",IF(SUM(K22:X22)>0,SUM(K22:X22),0),0)*H22 -> 0
A23: NEW | C23: SMPL-77-DT-GRP | D23: Dual tex. | E23: L | F23: 60x21x10,5 cm | G23: sloper | H23: 1 | I23: screws | J23: 231 | AC23: =SUM(K23:AB23)*J23 -> 0 | AD23: =IF(SUM(K23:AB23)>0,"Yes","No") -> No | AE23: =IF(A23="New","Yes","No") -> Yes | AG23: 1 | AH23: =AG23*SUM(K23:AB23) -> 0 | AJ23: 1.32 | AK23: =SUM(K23:AB23)*AJ23 -> 0 | AL23: =K23*H23 -> 0 | AM23: =L23*H23 -> 0 | AN23: =M23*H23 -> 0 | AO23: =N23*H23 -> 0 | AP23: =O23*H23 -> 0 | AQ23: =P23*H23 -> 0 | AR23: =Q23*H23 -> 0 | AS23: =R23*H23 -> 0 | AT23: =S23*H23 -> 0 | AU23: =T23*H23 -> 0 | AV23: =U23*H23 -> 0 | AW23: =V23*H23 -> 0 | AX23: =W23*H23 -> 0 | AY23: =X23*H23 -> 0 | AZ23: =Y23*$H23 -> 0 | BA23: =Z23*$H23 -> 0 | BB23: =AA23*$H23 -> 0 | BC23: =AB23*$H23 -> 0 | BD23: =AG23 -> 1 | BE23: =SUM(BG23+BI23+BK23) -> 0 | BF23: 3 | BG23: =BF23*SUM(K23:X23) -> 0 | BH23: 1 | BI23: =BH23*SUM(K23:X23) -> 0 | BK23: =BJ23*SUM(K23:X23) -> 0 | BL23: =IF(E23="XS",IF(SUM(K23:AB23)>0,SUM(K23:AB23),0),0)*H23 -> 0 | BM23: =IF(E23="S",IF(SUM(K23:AB23)>0,SUM(K23:AB23),0),0)*H23 -> 0 | BN23: =IF(E23="M",IF(SUM(K23:AB23)>0,SUM(K23:AB23),0),0)*H23 -> 0 | BO23: =IF(E23="L",IF(SUM(K23:AB23)>0,SUM(K23:AB23),0),0)*H23 -> 0 | BP23: =IF(E23="XL",IF(SUM(K23:AB23)>0,SUM(K23:AB23),0),0)*H23 -> 0 | BQ23: =IF(E23="2XL",IF(SUM(K23:AB23)>0,SUM(K23:AB23),0),0)*H23 -> 0 | BR23: =IF(E23="3XL",IF(SUM(K23:AB23)>0,SUM(K23:AB23),0),0)*H23 -> 0 | BS23: =IF(E23="4XL",IF(SUM(K23:AB23)>0,SUM(K23:AB23),0),0)*H23 -> 0 | BT23: =IF(E23="various",IF(SUM(K23:AB23)>0,SUM(K23:AB23),0),0)*H23 -> 0 | BV23: =IF(D23="All tex.",IF(SUM(K23:AB23)>0,SUM(K23:AB23),0),0)*H23 -> 0 | BW23: =IF(D23="Dual tex.",IF(SUM(K23:AB23)>0,SUM(K23:AB23),0),0)*H23 -> 0 | BY23: =IF(G23="sloper",IF(SUM(K23:AB23)>0,SUM(K23:AB23),0),0)*H23 -> 0 | BZ23: =IF(G23="footholds",IF(SUM(K23:AB23)>0,SUM(K23:AB23),0),0)*H23 -> 0 | CA23: =IF(G23="micros",IF(SUM(K23:AB23)>0,SUM(K23:AB23),0),0)*H23 -> 0 | CB23: =IF(G23="jug",IF(SUM(K23:AB23)>0,SUM(K23:AB23),0),0)*H23 -> 0 | CC23: =IF(G23="ledge",IF(SUM(K23:AB23)>0,SUM(K23:AB23),0),0)*H23 -> 0 | CD23: =IF(G23="edge",IF(SUM(K23:AB23)>0,SUM(K23:AB23),0),0)*H23 -> 0 | CE23: =IF(G23="crimp",IF(SUM(K23:AB23)>0,SUM(K23:AB23),0),0)*H23 -> 0 | CF23: =IF(G23="incut",IF(SUM(K23:AB23)>0,SUM(K23:AB23),0),0)*H23 -> 0 | CG23: =IF(G23="dish",IF(SUM(K23:AB23)>0,SUM(K23:AB23),0),0)*H23 -> 0 | CH23: =IF(G23="pinch",IF(SUM(K23:AB23)>0,SUM(K23:AB23),0),0)*H23 -> 0 | CI23: =IF(G23="pocket",IF(SUM(K23:AB23)>0,SUM(K23:AB23),0),0)*H23 -> 0 | CJ23: =IF(G23="insert",IF(SUM(K23:AB23)>0,SUM(K23:AB23),0),0)*H23 -> 0 | CK23: =IF(G23="feature",IF(SUM(K23:AB23)>0,SUM(K23:AB23),0),0)*H23 -> 0 | CL23: =IF(G23="scoop",IF(SUM(K23:AB23)>0,SUM(K23:AB23),0),0)*H23 -> 0 | CM23: =IF(G23="arete",IF(SUM(K23:AB23)>0,SUM(K23:AB23),0),0)*H23 -> 0 | CN23: =IF(G23="square",IF(SUM(K23:AB23)>0,SUM(K23:AB23),0),0)*H23 -> 0 | CO23: =IF(G23="positive",IF(SUM(K23:AB23)>0,SUM(K23:AB23),0),0)*H23 -> 0 | CP23: =IF(G23="various",IF(SUM(K23:X23)>0,SUM(K23:X23),0),0)*H23 -> 0
A24: NEW | C24: SMPL-78-DT-GRP | D24: Dual tex. | E24: L | F24: 70x25x8 cm | G24: positive | H24: 1 | I24: screws | J24: 238 | AC24: =SUM(K24:AB24)*J24 -> 0 | AD24: =IF(SUM(K24:AB24)>0,"Yes","No") -> No | AE24: =IF(A24="New","Yes","No") -> Yes | AG24: 1 | AH24: =AG24*SUM(K24:AB24) -> 0 | AJ24: 1.52 | AK24: =SUM(K24:AB24)*AJ24 -> 0 | AL24: =K24*H24 -> 0 | AM24: =L24*H24 -> 0 | AN24: =M24*H24 -> 0 | AO24: =N24*H24 -> 0 | AP24: =O24*H24 -> 0 | AQ24: =P24*H24 -> 0 | AR24: =Q24*H24 -> 0 | AS24: =R24*H24 -> 0 | AT24: =S24*H24 -> 0 | AU24: =T24*H24 -> 0 | AV24: =U24*H24 -> 0 | AW24: =V24*H24 -> 0 | AX24: =W24*H24 -> 0 | AY24: =X24*H24 -> 0 | AZ24: =Y24*$H24 -> 0 | BA24: =Z24*$H24 -> 0 | BB24: =AA24*$H24 -> 0 | BC24: =AB24*$H24 -> 0 | BD24: =AG24 -> 1 | BE24: =SUM(BG24+BI24+BK24) -> 0 | BF24: 4 | BG24: =BF24*SUM(K24:X24) -> 0 | BH24: 1 | BI24: =BH24*SUM(K24:X24) -> 0 | BK24: =BJ24*SUM(K24:X24) -> 0 | BL24: =IF(E24="XS",IF(SUM(K24:AB24)>0,SUM(K24:AB24),0),0)*H24 -> 0 | BM24: =IF(E24="S",IF(SUM(K24:AB24)>0,SUM(K24:AB24),0),0)*H24 -> 0 | BN24: =IF(E24="M",IF(SUM(K24:AB24)>0,SUM(K24:AB24),0),0)*H24 -> 0 | BO24: =IF(E24="L",IF(SUM(K24:AB24)>0,SUM(K24:AB24),0),0)*H24 -> 0 | BP24: =IF(E24="XL",IF(SUM(K24:AB24)>0,SUM(K24:AB24),0),0)*H24 -> 0 | BQ24: =IF(E24="2XL",IF(SUM(K24:AB24)>0,SUM(K24:AB24),0),0)*H24 -> 0 | BR24: =IF(E24="3XL",IF(SUM(K24:AB24)>0,SUM(K24:AB24),0),0)*H24 -> 0 | BS24: =IF(E24="4XL",IF(SUM(K24:AB24)>0,SUM(K24:AB24),0),0)*H24 -> 0 | BT24: =IF(E24="various",IF(SUM(K24:AB24)>0,SUM(K24:AB24),0),0)*H24 -> 0 | BV24: =IF(D24="All tex.",IF(SUM(K24:AB24)>0,SUM(K24:AB24),0),0)*H24 -> 0 | BW24: =IF(D24="Dual tex.",IF(SUM(K24:AB24)>0,SUM(K24:AB24),0),0)*H24 -> 0 | BY24: =IF(G24="sloper",IF(SUM(K24:AB24)>0,SUM(K24:AB24),0),0)*H24 -> 0 | BZ24: =IF(G24="footholds",IF(SUM(K24:AB24)>0,SUM(K24:AB24),0),0)*H24 -> 0 | CA24: =IF(G24="micros",IF(SUM(K24:AB24)>0,SUM(K24:AB24),0),0)*H24 -> 0 | CB24: =IF(G24="jug",IF(SUM(K24:AB24)>0,SUM(K24:AB24),0),0)*H24 -> 0 | CC24: =IF(G24="ledge",IF(SUM(K24:AB24)>0,SUM(K24:AB24),0),0)*H24 -> 0 | CD24: =IF(G24="edge",IF(SUM(K24:AB24)>0,SUM(K24:AB24),0),0)*H24 -> 0 | CE24: =IF(G24="crimp",IF(SUM(K24:AB24)>0,SUM(K24:AB24),0),0)*H24 -> 0 | CF24: =IF(G24="incut",IF(SUM(K24:AB24)>0,SUM(K24:AB24),0),0)*H24 -> 0 | CG24: =IF(G24="dish",IF(SUM(K24:AB24)>0,SUM(K24:AB24),0),0)*H24 -> 0 | CH24: =IF(G24="pinch",IF(SUM(K24:AB24)>0,SUM(K24:AB24),0),0)*H24 -> 0 | CI24: =IF(G24="pocket",IF(SUM(K24:AB24)>0,SUM(K24:AB24),0),0)*H24 -> 0 | CJ24: =IF(G24="insert",IF(SUM(K24:AB24)>0,SUM(K24:AB24),0),0)*H24 -> 0 | CK24: =IF(G24="feature",IF(SUM(K24:AB24)>0,SUM(K24:AB24),0),0)*H24 -> 0 | CL24: =IF(G24="scoop",IF(SUM(K24:AB24)>0,SUM(K24:AB24),0),0)*H24 -> 0 | CM24: =IF(G24="arete",IF(SUM(K24:AB24)>0,SUM(K24:AB24),0),0)*H24 -> 0 | CN24: =IF(G24="square",IF(SUM(K24:AB24)>0,SUM(K24:AB24),0),0)*H24 -> 0 | CO24: =IF(G24="positive",IF(SUM(K24:AB24)>0,SUM(K24:AB24),0),0)*H24 -> 0 | CP24: =IF(G24="various",IF(SUM(K24:X24)>0,SUM(K24:X24),0),0)*H24 -> 0
A25: NEW | C25: SMPL-79-DT-GRP | D25: Dual tex. | E25: L | F25: 63x23x8,5 cm | G25: jug | H25: 1 | I25: screws | J25: 236 | AC25: =SUM(K25:AB25)*J25 -> 0 | AD25: =IF(SUM(K25:AB25)>0,"Yes","No") -> No | AE25: =IF(A25="New","Yes","No") -> Yes | AG25: 1 | AH25: =AG25*SUM(K25:AB25) -> 0 | AJ25: 1.43 | AK25: =SUM(K25:AB25)*AJ25 -> 0 | AL25: =K25*H25 -> 0 | AM25: =L25*H25 -> 0 | AN25: =M25*H25 -> 0 | AO25: =N25*H25 -> 0 | AP25: =O25*H25 -> 0 | AQ25: =P25*H25 -> 0 | AR25: =Q25*H25 -> 0 | AS25: =R25*H25 -> 0 | AT25: =S25*H25 -> 0 | AU25: =T25*H25 -> 0 | AV25: =U25*H25 -> 0 | AW25: =V25*H25 -> 0 | AX25: =W25*H25 -> 0 | AY25: =X25*H25 -> 0 | AZ25: =Y25*$H25 -> 0 | BA25: =Z25*$H25 -> 0 | BB25: =AA25*$H25 -> 0 | BC25: =AB25*$H25 -> 0 | BD25: =AG25 -> 1 | BE25: =SUM(BG25+BI25+BK25) -> 0 | BF25: 3 | BG25: =BF25*SUM(K25:X25) -> 0 | BH25: 2 | BI25: =BH25*SUM(K25:X25) -> 0 | BK25: =BJ25*SUM(K25:X25) -> 0 | BL25: =IF(E25="XS",IF(SUM(K25:AB25)>0,SUM(K25:AB25),0),0)*H25 -> 0 | BM25: =IF(E25="S",IF(SUM(K25:AB25)>0,SUM(K25:AB25),0),0)*H25 -> 0 | BN25: =IF(E25="M",IF(SUM(K25:AB25)>0,SUM(K25:AB25),0),0)*H25 -> 0 | BO25: =IF(E25="L",IF(SUM(K25:AB25)>0,SUM(K25:AB25),0),0)*H25 -> 0 | BP25: =IF(E25="XL",IF(SUM(K25:AB25)>0,SUM(K25:AB25),0),0)*H25 -> 0 | BQ25: =IF(E25="2XL",IF(SUM(K25:AB25)>0,SUM(K25:AB25),0),0)*H25 -> 0 | BR25: =IF(E25="3XL",IF(SUM(K25:AB25)>0,SUM(K25:AB25),0),0)*H25 -> 0 | BS25: =IF(E25="4XL",IF(SUM(K25:AB25)>0,SUM(K25:AB25),0),0)*H25 -> 0 | BT25: =IF(E25="various",IF(SUM(K25:AB25)>0,SUM(K25:AB25),0),0)*H25 -> 0 | BV25: =IF(D25="All tex.",IF(SUM(K25:AB25)>0,SUM(K25:AB25),0),0)*H25 -> 0 | BW25: =IF(D25="Dual tex.",IF(SUM(K25:AB25)>0,SUM(K25:AB25),0),0)*H25 -> 0 | BY25: =IF(G25="sloper",IF(SUM(K25:AB25)>0,SUM(K25:AB25),0),0)*H25 -> 0 | BZ25: =IF(G25="footholds",IF(SUM(K25:AB25)>0,SUM(K25:AB25),0),0)*H25 -> 0 | CA25: =IF(G25="micros",IF(SUM(K25:AB25)>0,SUM(K25:AB25),0),0)*H25 -> 0 | CB25: =IF(G25="jug",IF(SUM(K25:AB25)>0,SUM(K25:AB25),0),0)*H25 -> 0 | CC25: =IF(G25="ledge",IF(SUM(K25:AB25)>0,SUM(K25:AB25),0),0)*H25 -> 0 | CD25: =IF(G25="edge",IF(SUM(K25:AB25)>0,SUM(K25:AB25),0),0)*H25 -> 0 | CE25: =IF(G25="crimp",IF(SUM(K25:AB25)>0,SUM(K25:AB25),0),0)*H25 -> 0 | CF25: =IF(G25="incut",IF(SUM(K25:AB25)>0,SUM(K25:AB25),0),0)*H25 -> 0 | CG25: =IF(G25="dish",IF(SUM(K25:AB25)>0,SUM(K25:AB25),0),0)*H25 -> 0 | CH25: =IF(G25="pinch",IF(SUM(K25:AB25)>0,SUM(K25:AB25),0),0)*H25 -> 0 | CI25: =IF(G25="pocket",IF(SUM(K25:AB25)>0,SUM(K25:AB25),0),0)*H25 -> 0 | CJ25: =IF(G25="insert",IF(SUM(K25:AB25)>0,SUM(K25:AB25),0),0)*H25 -> 0 | CK25: =IF(G25="feature",IF(SUM(K25:AB25)>0,SUM(K25:AB25),0),0)*H25 -> 0 | CL25: =IF(G25="scoop",IF(SUM(K25:AB25)>0,SUM(K25:AB25),0),0)*H25 -> 0 | CM25: =IF(G25="arete",IF(SUM(K25:AB25)>0,SUM(K25:AB25),0),0)*H25 -> 0 | CN25: =IF(G25="square",IF(SUM(K25:AB25)>0,SUM(K25:AB25),0),0)*H25 -> 0 | CO25: =IF(G25="positive",IF(SUM(K25:AB25)>0,SUM(K25:AB25),0),0)*H25 -> 0 | CP25: =IF(G25="various",IF(SUM(K25:X25)>0,SUM(K25:X25),0),0)*H25 -> 0
A26: NEW | C26: SMPL-81-DT-GRP | D26: Dual tex. | E26: XL | F26: 89x33x6 cm | G26: sloper | H26: 1 | I26: screws | J26: 302 | AC26: =SUM(K26:AB26)*J26 -> 0 | AD26: =IF(SUM(K26:AB26)>0,"Yes","No") -> No | AE26: =IF(A26="New","Yes","No") -> Yes | AG26: 1 | AH26: =AG26*SUM(K26:AB26) -> 0 | AJ26: 2.09 | AK26: =SUM(K26:AB26)*AJ26 -> 0 | AL26: =K26*H26 -> 0 | AM26: =L26*H26 -> 0 | AN26: =M26*H26 -> 0 | AO26: =N26*H26 -> 0 | AP26: =O26*H26 -> 0 | AQ26: =P26*H26 -> 0 | AR26: =Q26*H26 -> 0 | AS26: =R26*H26 -> 0 | AT26: =S26*H26 -> 0 | AU26: =T26*H26 -> 0 | AV26: =U26*H26 -> 0 | AW26: =V26*H26 -> 0 | AX26: =W26*H26 -> 0 | AY26: =X26*H26 -> 0 | AZ26: =Y26*$H26 -> 0 | BA26: =Z26*$H26 -> 0 | BB26: =AA26*$H26 -> 0 | BC26: =AB26*$H26 -> 0 | BD26: =AG26 -> 1 | BE26: =SUM(BG26+BI26+BK26) -> 0 | BF26: 3 | BG26: =BF26*SUM(K26:X26) -> 0 | BH26: 2 | BI26: =BH26*SUM(K26:X26) -> 0 | BK26: =BJ26*SUM(K26:X26) -> 0 | BL26: =IF(E26="XS",IF(SUM(K26:AB26)>0,SUM(K26:AB26),0),0)*H26 -> 0 | BM26: =IF(E26="S",IF(SUM(K26:AB26)>0,SUM(K26:AB26),0),0)*H26 -> 0 | BN26: =IF(E26="M",IF(SUM(K26:AB26)>0,SUM(K26:AB26),0),0)*H26 -> 0 | BO26: =IF(E26="L",IF(SUM(K26:AB26)>0,SUM(K26:AB26),0),0)*H26 -> 0 | BP26: =IF(E26="XL",IF(SUM(K26:AB26)>0,SUM(K26:AB26),0),0)*H26 -> 0 | BQ26: =IF(E26="2XL",IF(SUM(K26:AB26)>0,SUM(K26:AB26),0),0)*H26 -> 0 | BR26: =IF(E26="3XL",IF(SUM(K26:AB26)>0,SUM(K26:AB26),0),0)*H26 -> 0 | BS26: =IF(E26="4XL",IF(SUM(K26:AB26)>0,SUM(K26:AB26),0),0)*H26 -> 0 | BT26: =IF(E26="various",IF(SUM(K26:AB26)>0,SUM(K26:AB26),0),0)*H26 -> 0 | BV26: =IF(D26="All tex.",IF(SUM(K26:AB26)>0,SUM(K26:AB26),0),0)*H26 -> 0 | BW26: =IF(D26="Dual tex.",IF(SUM(K26:AB26)>0,SUM(K26:AB26),0),0)*H26 -> 0 | BY26: =IF(G26="sloper",IF(SUM(K26:AB26)>0,SUM(K26:AB26),0),0)*H26 -> 0 | BZ26: =IF(G26="footholds",IF(SUM(K26:AB26)>0,SUM(K26:AB26),0),0)*H26 -> 0 | CA26: =IF(G26="micros",IF(SUM(K26:AB26)>0,SUM(K26:AB26),0),0)*H26 -> 0 | CB26: =IF(G26="jug",IF(SUM(K26:AB26)>0,SUM(K26:AB26),0),0)*H26 -> 0 | CC26: =IF(G26="ledge",IF(SUM(K26:AB26)>0,SUM(K26:AB26),0),0)*H26 -> 0 | CD26: =IF(G26="edge",IF(SUM(K26:AB26)>0,SUM(K26:AB26),0),0)*H26 -> 0 | CE26: =IF(G26="crimp",IF(SUM(K26:AB26)>0,SUM(K26:AB26),0),0)*H26 -> 0 | CF26: =IF(G26="incut",IF(SUM(K26:AB26)>0,SUM(K26:AB26),0),0)*H26 -> 0 | CG26: =IF(G26="dish",IF(SUM(K26:AB26)>0,SUM(K26:AB26),0),0)*H26 -> 0 | CH26: =IF(G26="pinch",IF(SUM(K26:AB26)>0,SUM(K26:AB26),0),0)*H26 -> 0 | CI26: =IF(G26="pocket",IF(SUM(K26:AB26)>0,SUM(K26:AB26),0),0)*H26 -> 0 | CJ26: =IF(G26="insert",IF(SUM(K26:AB26)>0,SUM(K26:AB26),0),0)*H26 -> 0 | CK26: =IF(G26="feature",IF(SUM(K26:AB26)>0,SUM(K26:AB26),0),0)*H26 -> 0 | CL26: =IF(G26="scoop",IF(SUM(K26:AB26)>0,SUM(K26:AB26),0),0)*H26 -> 0 | CM26: =IF(G26="arete",IF(SUM(K26:AB26)>0,SUM(K26:AB26),0),0)*H26 -> 0 | CN26: =IF(G26="square",IF(SUM(K26:AB26)>0,SUM(K26:AB26),0),0)*H26 -> 0 | CO26: =IF(G26="positive",IF(SUM(K26:AB26)>0,SUM(K26:AB26),0),0)*H26 -> 0 | CP26: =IF(G26="various",IF(SUM(K26:X26)>0,SUM(K26:X26),0),0)*H26 -> 0
A27: NEW | C27: SMPL-82-DT-GRP | D27: Dual tex. | E27: XL | F27: 97x33x9 cm | G27: sloper | H27: 1 | I27: screws | J27: 305 | AC27: =SUM(K27:AB27)*J27 -> 0 | AD27: =IF(SUM(K27:AB27)>0,"Yes","No") -> No | AE27: =IF(A27="New","Yes","No") -> Yes | AG27: 1 | AH27: =AG27*SUM(K27:AB27) -> 0 | AJ27: 2.2 | AK27: =SUM(K27:AB27)*AJ27 -> 0 | AL27: =K27*H27 -> 0 | AM27: =L27*H27 -> 0 | AN27: =M27*H27 -> 0 | AO27: =N27*H27 -> 0 | AP27: =O27*H27 -> 0 | AQ27: =P27*H27 -> 0 | AR27: =Q27*H27 -> 0 | AS27: =R27*H27 -> 0 | AT27: =S27*H27 -> 0 | AU27: =T27*H27 -> 0 | AV27: =U27*H27 -> 0 | AW27: =V27*H27 -> 0 | AX27: =W27*H27 -> 0 | AY27: =X27*H27 -> 0 | AZ27: =Y27*$H27 -> 0 | BA27: =Z27*$H27 -> 0 | BB27: =AA27*$H27 -> 0 | BC27: =AB27*$H27 -> 0 | BD27: =AG27 -> 1 | BE27: =SUM(BG27+BI27+BK27) -> 0 | BF27: 4 | BG27: =BF27*SUM(K27:X27) -> 0 | BH27: 1 | BI27: =BH27*SUM(K27:X27) -> 0 | BK27: =BJ27*SUM(K27:X27) -> 0 | BL27: =IF(E27="XS",IF(SUM(K27:AB27)>0,SUM(K27:AB27),0),0)*H27 -> 0 | BM27: =IF(E27="S",IF(SUM(K27:AB27)>0,SUM(K27:AB27),0),0)*H27 -> 0 | BN27: =IF(E27="M",IF(SUM(K27:AB27)>0,SUM(K27:AB27),0),0)*H27 -> 0 | BO27: =IF(E27="L",IF(SUM(K27:AB27)>0,SUM(K27:AB27),0),0)*H27 -> 0 | BP27: =IF(E27="XL",IF(SUM(K27:AB27)>0,SUM(K27:AB27),0),0)*H27 -> 0 | BQ27: =IF(E27="2XL",IF(SUM(K27:AB27)>0,SUM(K27:AB27),0),0)*H27 -> 0 | BR27: =IF(E27="3XL",IF(SUM(K27:AB27)>0,SUM(K27:AB27),0),0)*H27 -> 0 | BS27: =IF(E27="4XL",IF(SUM(K27:AB27)>0,SUM(K27:AB27),0),0)*H27 -> 0 | BT27: =IF(E27="various",IF(SUM(K27:AB27)>0,SUM(K27:AB27),0),0)*H27 -> 0 | BV27: =IF(D27="All tex.",IF(SUM(K27:AB27)>0,SUM(K27:AB27),0),0)*H27 -> 0 | BW27: =IF(D27="Dual tex.",IF(SUM(K27:AB27)>0,SUM(K27:AB27),0),0)*H27 -> 0 | BY27: =IF(G27="sloper",IF(SUM(K27:AB27)>0,SUM(K27:AB27),0),0)*H27 -> 0 | BZ27: =IF(G27="footholds",IF(SUM(K27:AB27)>0,SUM(K27:AB27),0),0)*H27 -> 0 | CA27: =IF(G27="micros",IF(SUM(K27:AB27)>0,SUM(K27:AB27),0),0)*H27 -> 0 | CB27: =IF(G27="jug",IF(SUM(K27:AB27)>0,SUM(K27:AB27),0),0)*H27 -> 0 | CC27: =IF(G27="ledge",IF(SUM(K27:AB27)>0,SUM(K27:AB27),0),0)*H27 -> 0 | CD27: =IF(G27="edge",IF(SUM(K27:AB27)>0,SUM(K27:AB27),0),0)*H27 -> 0 | CE27: =IF(G27="crimp",IF(SUM(K27:AB27)>0,SUM(K27:AB27),0),0)*H27 -> 0 | CF27: =IF(G27="incut",IF(SUM(K27:AB27)>0,SUM(K27:AB27),0),0)*H27 -> 0 | CG27: =IF(G27="dish",IF(SUM(K27:AB27)>0,SUM(K27:AB27),0),0)*H27 -> 0 | CH27: =IF(G27="pinch",IF(SUM(K27:AB27)>0,SUM(K27:AB27),0),0)*H27 -> 0 | CI27: =IF(G27="pocket",IF(SUM(K27:AB27)>0,SUM(K27:AB27),0),0)*H27 -> 0 | CJ27: =IF(G27="insert",IF(SUM(K27:AB27)>0,SUM(K27:AB27),0),0)*H27 -> 0 | CK27: =IF(G27="feature",IF(SUM(K27:AB27)>0,SUM(K27:AB27),0),0)*H27 -> 0 | CL27: =IF(G27="scoop",IF(SUM(K27:AB27)>0,SUM(K27:AB27),0),0)*H27 -> 0 | CM27: =IF(G27="arete",IF(SUM(K27:AB27)>0,SUM(K27:AB27),0),0)*H27 -> 0 | CN27: =IF(G27="square",IF(SUM(K27:AB27)>0,SUM(K27:AB27),0),0)*H27 -> 0 | CO27: =IF(G27="positive",IF(SUM(K27:AB27)>0,SUM(K27:AB27),0),0)*H27 -> 0 | CP27: =IF(G27="various",IF(SUM(K27:X27)>0,SUM(K27:X27),0),0)*H27 -> 0
A28: NEW | C28: SMPL-83-DT-GRP | D28: Dual tex. | E28: XL | F28: 100x31x8 cm | G28: sloper | H28: 1 | I28: screws | J28: 313 | AC28: =SUM(K28:AB28)*J28 -> 0 | AD28: =IF(SUM(K28:AB28)>0,"Yes","No") -> No | AE28: =IF(A28="New","Yes","No") -> Yes | AG28: 1 | AH28: =AG28*SUM(K28:AB28) -> 0 | AJ28: 2.38 | AK28: =SUM(K28:AB28)*AJ28 -> 0 | AL28: =K28*H28 -> 0 | AM28: =L28*H28 -> 0 | AN28: =M28*H28 -> 0 | AO28: =N28*H28 -> 0 | AP28: =O28*H28 -> 0 | AQ28: =P28*H28 -> 0 | AR28: =Q28*H28 -> 0 | AS28: =R28*H28 -> 0 | AT28: =S28*H28 -> 0 | AU28: =T28*H28 -> 0 | AV28: =U28*H28 -> 0 | AW28: =V28*H28 -> 0 | AX28: =W28*H28 -> 0 | AY28: =X28*H28 -> 0 | AZ28: =Y28*$H28 -> 0 | BA28: =Z28*$H28 -> 0 | BB28: =AA28*$H28 -> 0 | BC28: =AB28*$H28 -> 0 | BD28: =AG28 -> 1 | BE28: =SUM(BG28+BI28+BK28) -> 0 | BF28: 4 | BG28: =BF28*SUM(K28:X28) -> 0 | BH28: 2 | BI28: =BH28*SUM(K28:X28) -> 0 | BK28: =BJ28*SUM(K28:X28) -> 0 | BL28: =IF(E28="XS",IF(SUM(K28:AB28)>0,SUM(K28:AB28),0),0)*H28 -> 0 | BM28: =IF(E28="S",IF(SUM(K28:AB28)>0,SUM(K28:AB28),0),0)*H28 -> 0 | BN28: =IF(E28="M",IF(SUM(K28:AB28)>0,SUM(K28:AB28),0),0)*H28 -> 0 | BO28: =IF(E28="L",IF(SUM(K28:AB28)>0,SUM(K28:AB28),0),0)*H28 -> 0 | BP28: =IF(E28="XL",IF(SUM(K28:AB28)>0,SUM(K28:AB28),0),0)*H28 -> 0 | BQ28: =IF(E28="2XL",IF(SUM(K28:AB28)>0,SUM(K28:AB28),0),0)*H28 -> 0 | BR28: =IF(E28="3XL",IF(SUM(K28:AB28)>0,SUM(K28:AB28),0),0)*H28 -> 0 | BS28: =IF(E28="4XL",IF(SUM(K28:AB28)>0,SUM(K28:AB28),0),0)*H28 -> 0 | BT28: =IF(E28="various",IF(SUM(K28:AB28)>0,SUM(K28:AB28),0),0)*H28 -> 0 | BV28: =IF(D28="All tex.",IF(SUM(K28:AB28)>0,SUM(K28:AB28),0),0)*H28 -> 0 | BW28: =IF(D28="Dual tex.",IF(SUM(K28:AB28)>0,SUM(K28:AB28),0),0)*H28 -> 0 | BY28: =IF(G28="sloper",IF(SUM(K28:AB28)>0,SUM(K28:AB28),0),0)*H28 -> 0 | BZ28: =IF(G28="footholds",IF(SUM(K28:AB28)>0,SUM(K28:AB28),0),0)*H28 -> 0 | CA28: =IF(G28="micros",IF(SUM(K28:AB28)>0,SUM(K28:AB28),0),0)*H28 -> 0 | CB28: =IF(G28="jug",IF(SUM(K28:AB28)>0,SUM(K28:AB28),0),0)*H28 -> 0 | CC28: =IF(G28="ledge",IF(SUM(K28:AB28)>0,SUM(K28:AB28),0),0)*H28 -> 0 | CD28: =IF(G28="edge",IF(SUM(K28:AB28)>0,SUM(K28:AB28),0),0)*H28 -> 0 | CE28: =IF(G28="crimp",IF(SUM(K28:AB28)>0,SUM(K28:AB28),0),0)*H28 -> 0 | CF28: =IF(G28="incut",IF(SUM(K28:AB28)>0,SUM(K28:AB28),0),0)*H28 -> 0 | CG28: =IF(G28="dish",IF(SUM(K28:AB28)>0,SUM(K28:AB28),0),0)*H28 -> 0 | CH28: =IF(G28="pinch",IF(SUM(K28:AB28)>0,SUM(K28:AB28),0),0)*H28 -> 0 | CI28: =IF(G28="pocket",IF(SUM(K28:AB28)>0,SUM(K28:AB28),0),0)*H28 -> 0 | CJ28: =IF(G28="insert",IF(SUM(K28:AB28)>0,SUM(K28:AB28),0),0)*H28 -> 0 | CK28: =IF(G28="feature",IF(SUM(K28:AB28)>0,SUM(K28:AB28),0),0)*H28 -> 0 | CL28: =IF(G28="scoop",IF(SUM(K28:AB28)>0,SUM(K28:AB28),0),0)*H28 -> 0 | CM28: =IF(G28="arete",IF(SUM(K28:AB28)>0,SUM(K28:AB28),0),0)*H28 -> 0 | CN28: =IF(G28="square",IF(SUM(K28:AB28)>0,SUM(K28:AB28),0),0)*H28 -> 0 | CO28: =IF(G28="positive",IF(SUM(K28:AB28)>0,SUM(K28:AB28),0),0)*H28 -> 0 | CP28: =IF(G28="various",IF(SUM(K28:X28)>0,SUM(K28:X28),0),0)*H28 -> 0
A29: NEW | C29: SMPL-84-DT-GRP | D29: Dual tex. | E29: XL | F29: 99x33x11 cm | G29: sloper | H29: 1 | I29: screws | J29: 312 | AC29: =SUM(K29:AB29)*J29 -> 0 | AD29: =IF(SUM(K29:AB29)>0,"Yes","No") -> No | AE29: =IF(A29="New","Yes","No") -> Yes | AG29: 1 | AH29: =AG29*SUM(K29:AB29) -> 0 | AJ29: 2.75 | AK29: =SUM(K29:AB29)*AJ29 -> 0 | AL29: =K29*H29 -> 0 | AM29: =L29*H29 -> 0 | AN29: =M29*H29 -> 0 | AO29: =N29*H29 -> 0 | AP29: =O29*H29 -> 0 | AQ29: =P29*H29 -> 0 | AR29: =Q29*H29 -> 0 | AS29: =R29*H29 -> 0 | AT29: =S29*H29 -> 0 | AU29: =T29*H29 -> 0 | AV29: =U29*H29 -> 0 | AW29: =V29*H29 -> 0 | AX29: =W29*H29 -> 0 | AY29: =X29*H29 -> 0 | AZ29: =Y29*$H29 -> 0 | BA29: =Z29*$H29 -> 0 | BB29: =AA29*$H29 -> 0 | BC29: =AB29*$H29 -> 0 | BD29: =AG29 -> 1 | BE29: =SUM(BG29+BI29+BK29) -> 0 | BF29: 3 | BG29: =BF29*SUM(K29:X29) -> 0 | BH29: 2 | BI29: =BH29*SUM(K29:X29) -> 0 | BK29: =BJ29*SUM(K29:X29) -> 0 | BL29: =IF(E29="XS",IF(SUM(K29:AB29)>0,SUM(K29:AB29),0),0)*H29 -> 0 | BM29: =IF(E29="S",IF(SUM(K29:AB29)>0,SUM(K29:AB29),0),0)*H29 -> 0 | BN29: =IF(E29="M",IF(SUM(K29:AB29)>0,SUM(K29:AB29),0),0)*H29 -> 0 | BO29: =IF(E29="L",IF(SUM(K29:AB29)>0,SUM(K29:AB29),0),0)*H29 -> 0 | BP29: =IF(E29="XL",IF(SUM(K29:AB29)>0,SUM(K29:AB29),0),0)*H29 -> 0 | BQ29: =IF(E29="2XL",IF(SUM(K29:AB29)>0,SUM(K29:AB29),0),0)*H29 -> 0 | BR29: =IF(E29="3XL",IF(SUM(K29:AB29)>0,SUM(K29:AB29),0),0)*H29 -> 0 | BS29: =IF(E29="4XL",IF(SUM(K29:AB29)>0,SUM(K29:AB29),0),0)*H29 -> 0 | BT29: =IF(E29="various",IF(SUM(K29:AB29)>0,SUM(K29:AB29),0),0)*H29 -> 0 | BV29: =IF(D29="All tex.",IF(SUM(K29:AB29)>0,SUM(K29:AB29),0),0)*H29 -> 0 | BW29: =IF(D29="Dual tex.",IF(SUM(K29:AB29)>0,SUM(K29:AB29),0),0)*H29 -> 0 | BY29: =IF(G29="sloper",IF(SUM(K29:AB29)>0,SUM(K29:AB29),0),0)*H29 -> 0 | BZ29: =IF(G29="footholds",IF(SUM(K29:AB29)>0,SUM(K29:AB29),0),0)*H29 -> 0 | CA29: =IF(G29="micros",IF(SUM(K29:AB29)>0,SUM(K29:AB29),0),0)*H29 -> 0 | CB29: =IF(G29="jug",IF(SUM(K29:AB29)>0,SUM(K29:AB29),0),0)*H29 -> 0 | CC29: =IF(G29="ledge",IF(SUM(K29:AB29)>0,SUM(K29:AB29),0),0)*H29 -> 0 | CD29: =IF(G29="edge",IF(SUM(K29:AB29)>0,SUM(K29:AB29),0),0)*H29 -> 0 | CE29: =IF(G29="crimp",IF(SUM(K29:AB29)>0,SUM(K29:AB29),0),0)*H29 -> 0 | CF29: =IF(G29="incut",IF(SUM(K29:AB29)>0,SUM(K29:AB29),0),0)*H29 -> 0 | CG29: =IF(G29="dish",IF(SUM(K29:AB29)>0,SUM(K29:AB29),0),0)*H29 -> 0 | CH29: =IF(G29="pinch",IF(SUM(K29:AB29)>0,SUM(K29:AB29),0),0)*H29 -> 0 | CI29: =IF(G29="pocket",IF(SUM(K29:AB29)>0,SUM(K29:AB29),0),0)*H29 -> 0 | CJ29: =IF(G29="insert",IF(SUM(K29:AB29)>0,SUM(K29:AB29),0),0)*H29 -> 0 | CK29: =IF(G29="feature",IF(SUM(K29:AB29)>0,SUM(K29:AB29),0),0)*H29 -> 0 | CL29: =IF(G29="scoop",IF(SUM(K29:AB29)>0,SUM(K29:AB29),0),0)*H29 -> 0 | CM29: =IF(G29="arete",IF(SUM(K29:AB29)>0,SUM(K29:AB29),0),0)*H29 -> 0 | CN29: =IF(G29="square",IF(SUM(K29:AB29)>0,SUM(K29:AB29),0),0)*H29 -> 0 | CO29: =IF(G29="positive",IF(SUM(K29:AB29)>0,SUM(K29:AB29),0),0)*H29 -> 0 | CP29: =IF(G29="various",IF(SUM(K29:X29)>0,SUM(K29:X29),0),0)*H29 -> 0
A30: NEW | C30: SMPL-85-DT-GRP | D30: Dual tex. | E30: XL | F30: 101x33x12 cm | G30: sloper | H30: 1 | I30: screws | J30: 315 | AC30: =SUM(K30:AB30)*J30 -> 0 | AD30: =IF(SUM(K30:AB30)>0,"Yes","No") -> No | AE30: =IF(A30="New","Yes","No") -> Yes | AG30: 1.5 | AH30: =AG30*SUM(K30:AB30) -> 0 | AJ30: 2.71 | AK30: =SUM(K30:AB30)*AJ30 -> 0 | AL30: =K30*H30 -> 0 | AM30: =L30*H30 -> 0 | AN30: =M30*H30 -> 0 | AO30: =N30*H30 -> 0 | AP30: =O30*H30 -> 0 | AQ30: =P30*H30 -> 0 | AR30: =Q30*H30 -> 0 | AS30: =R30*H30 -> 0 | AT30: =S30*H30 -> 0 | AU30: =T30*H30 -> 0 | AV30: =U30*H30 -> 0 | AW30: =V30*H30 -> 0 | AX30: =W30*H30 -> 0 | AY30: =X30*H30 -> 0 | AZ30: =Y30*$H30 -> 0 | BA30: =Z30*$H30 -> 0 | BB30: =AA30*$H30 -> 0 | BC30: =AB30*$H30 -> 0 | BD30: 1.5 | BE30: =SUM(BG30+BI30+BK30) -> 0 | BF30: 3 | BG30: =BF30*SUM(K30:X30) -> 0 | BH30: 3 | BI30: =BH30*SUM(K30:X30) -> 0 | BK30: =BJ30*SUM(K30:X30) -> 0 | BL30: =IF(E30="XS",IF(SUM(K30:AB30)>0,SUM(K30:AB30),0),0)*H30 -> 0 | BM30: =IF(E30="S",IF(SUM(K30:AB30)>0,SUM(K30:AB30),0),0)*H30 -> 0 | BN30: =IF(E30="M",IF(SUM(K30:AB30)>0,SUM(K30:AB30),0),0)*H30 -> 0 | BO30: =IF(E30="L",IF(SUM(K30:AB30)>0,SUM(K30:AB30),0),0)*H30 -> 0 | BP30: =IF(E30="XL",IF(SUM(K30:AB30)>0,SUM(K30:AB30),0),0)*H30 -> 0 | BQ30: =IF(E30="2XL",IF(SUM(K30:AB30)>0,SUM(K30:AB30),0),0)*H30 -> 0 | BR30: =IF(E30="3XL",IF(SUM(K30:AB30)>0,SUM(K30:AB30),0),0)*H30 -> 0 | BS30: =IF(E30="4XL",IF(SUM(K30:AB30)>0,SUM(K30:AB30),0),0)*H30 -> 0 | BT30: =IF(E30="various",IF(SUM(K30:AB30)>0,SUM(K30:AB30),0),0)*H30 -> 0 | BV30: =IF(D30="All tex.",IF(SUM(K30:AB30)>0,SUM(K30:AB30),0),0)*H30 -> 0 | BW30: =IF(D30="Dual tex.",IF(SUM(K30:AB30)>0,SUM(K30:AB30),0),0)*H30 -> 0 | BY30: =IF(G30="sloper",IF(SUM(K30:AB30)>0,SUM(K30:AB30),0),0)*H30 -> 0 | BZ30: =IF(G30="footholds",IF(SUM(K30:AB30)>0,SUM(K30:AB30),0),0)*H30 -> 0 | CA30: =IF(G30="micros",IF(SUM(K30:AB30)>0,SUM(K30:AB30),0),0)*H30 -> 0 | CB30: =IF(G30="jug",IF(SUM(K30:AB30)>0,SUM(K30:AB30),0),0)*H30 -> 0 | CC30: =IF(G30="ledge",IF(SUM(K30:AB30)>0,SUM(K30:AB30),0),0)*H30 -> 0 | CD30: =IF(G30="edge",IF(SUM(K30:AB30)>0,SUM(K30:AB30),0),0)*H30 -> 0 | CE30: =IF(G30="crimp",IF(SUM(K30:AB30)>0,SUM(K30:AB30),0),0)*H30 -> 0 | CF30: =IF(G30="incut",IF(SUM(K30:AB30)>0,SUM(K30:AB30),0),0)*H30 -> 0 | CG30: =IF(G30="dish",IF(SUM(K30:AB30)>0,SUM(K30:AB30),0),0)*H30 -> 0 | CH30: =IF(G30="pinch",IF(SUM(K30:AB30)>0,SUM(K30:AB30),0),0)*H30 -> 0 | CI30: =IF(G30="pocket",IF(SUM(K30:AB30)>0,SUM(K30:AB30),0),0)*H30 -> 0 | CJ30: =IF(G30="insert",IF(SUM(K30:AB30)>0,SUM(K30:AB30),0),0)*H30 -> 0 | CK30: =IF(G30="feature",IF(SUM(K30:AB30)>0,SUM(K30:AB30),0),0)*H30 -> 0 | CL30: =IF(G30="scoop",IF(SUM(K30:AB30)>0,SUM(K30:AB30),0),0)*H30 -> 0 | CM30: =IF(G30="arete",IF(SUM(K30:AB30)>0,SUM(K30:AB30),0),0)*H30 -> 0 | CN30: =IF(G30="square",IF(SUM(K30:AB30)>0,SUM(K30:AB30),0),0)*H30 -> 0 | CO30: =IF(G30="positive",IF(SUM(K30:AB30)>0,SUM(K30:AB30),0),0)*H30 -> 0 | CP30: =IF(G30="various",IF(SUM(K30:X30)>0,SUM(K30:X30),0),0)*H30 -> 0
A31: NEW | C31: SMPL-86-DT-GRP | D31: Dual tex. | E31: XL | F31: 89x30x13 cm | G31: sloper | H31: 1 | I31: screws | J31: 308 | AC31: =SUM(K31:AB31)*J31 -> 0 | AD31: =IF(SUM(K31:AB31)>0,"Yes","No") -> No | AE31: =IF(A31="New","Yes","No") -> Yes | AG31: 1 | AH31: =AG31*SUM(K31:AB31) -> 0 | AJ31: 2.05 | AK31: =SUM(K31:AB31)*AJ31 -> 0 | AL31: =K31*H31 -> 0 | AM31: =L31*H31 -> 0 | AN31: =M31*H31 -> 0 | AO31: =N31*H31 -> 0 | AP31: =O31*H31 -> 0 | AQ31: =P31*H31 -> 0 | AR31: =Q31*H31 -> 0 | AS31: =R31*H31 -> 0 | AT31: =S31*H31 -> 0 | AU31: =T31*H31 -> 0 | AV31: =U31*H31 -> 0 | AW31: =V31*H31 -> 0 | AX31: =W31*H31 -> 0 | AY31: =X31*H31 -> 0 | AZ31: =Y31*$H31 -> 0 | BA31: =Z31*$H31 -> 0 | BB31: =AA31*$H31 -> 0 | BC31: =AB31*$H31 -> 0 | BD31: =AG31 -> 1 | BE31: =SUM(BG31+BI31+BK31) -> 0 | BF31: 4 | BG31: =BF31*SUM(K31:X31) -> 0 | BH31: 1 | BI31: =BH31*SUM(K31:X31) -> 0 | BK31: =BJ31*SUM(K31:X31) -> 0 | BL31: =IF(E31="XS",IF(SUM(K31:AB31)>0,SUM(K31:AB31),0),0)*H31 -> 0 | BM31: =IF(E31="S",IF(SUM(K31:AB31)>0,SUM(K31:AB31),0),0)*H31 -> 0 | BN31: =IF(E31="M",IF(SUM(K31:AB31)>0,SUM(K31:AB31),0),0)*H31 -> 0 | BO31: =IF(E31="L",IF(SUM(K31:AB31)>0,SUM(K31:AB31),0),0)*H31 -> 0 | BP31: =IF(E31="XL",IF(SUM(K31:AB31)>0,SUM(K31:AB31),0),0)*H31 -> 0 | BQ31: =IF(E31="2XL",IF(SUM(K31:AB31)>0,SUM(K31:AB31),0),0)*H31 -> 0 | BR31: =IF(E31="3XL",IF(SUM(K31:AB31)>0,SUM(K31:AB31),0),0)*H31 -> 0 | BS31: =IF(E31="4XL",IF(SUM(K31:AB31)>0,SUM(K31:AB31),0),0)*H31 -> 0 | BT31: =IF(E31="various",IF(SUM(K31:AB31)>0,SUM(K31:AB31),0),0)*H31 -> 0 | BV31: =IF(D31="All tex.",IF(SUM(K31:AB31)>0,SUM(K31:AB31),0),0)*H31 -> 0 | BW31: =IF(D31="Dual tex.",IF(SUM(K31:AB31)>0,SUM(K31:AB31),0),0)*H31 -> 0 | BY31: =IF(G31="sloper",IF(SUM(K31:AB31)>0,SUM(K31:AB31),0),0)*H31 -> 0 | BZ31: =IF(G31="footholds",IF(SUM(K31:AB31)>0,SUM(K31:AB31),0),0)*H31 -> 0 | CA31: =IF(G31="micros",IF(SUM(K31:AB31)>0,SUM(K31:AB31),0),0)*H31 -> 0 | CB31: =IF(G31="jug",IF(SUM(K31:AB31)>0,SUM(K31:AB31),0),0)*H31 -> 0 | CC31: =IF(G31="ledge",IF(SUM(K31:AB31)>0,SUM(K31:AB31),0),0)*H31 -> 0 | CD31: =IF(G31="edge",IF(SUM(K31:AB31)>0,SUM(K31:AB31),0),0)*H31 -> 0 | CE31: =IF(G31="crimp",IF(SUM(K31:AB31)>0,SUM(K31:AB31),0),0)*H31 -> 0 | CF31: =IF(G31="incut",IF(SUM(K31:AB31)>0,SUM(K31:AB31),0),0)*H31 -> 0 | CG31: =IF(G31="dish",IF(SUM(K31:AB31)>0,SUM(K31:AB31),0),0)*H31 -> 0 | CH31: =IF(G31="pinch",IF(SUM(K31:AB31)>0,SUM(K31:AB31),0),0)*H31 -> 0 | CI31: =IF(G31="pocket",IF(SUM(K31:AB31)>0,SUM(K31:AB31),0),0)*H31 -> 0 | CJ31: =IF(G31="insert",IF(SUM(K31:AB31)>0,SUM(K31:AB31),0),0)*H31 -> 0 | CK31: =IF(G31="feature",IF(SUM(K31:AB31)>0,SUM(K31:AB31),0),0)*H31 -> 0 | CL31: =IF(G31="scoop",IF(SUM(K31:AB31)>0,SUM(K31:AB31),0),0)*H31 -> 0 | CM31: =IF(G31="arete",IF(SUM(K31:AB31)>0,SUM(K31:AB31),0),0)*H31 -> 0 | CN31: =IF(G31="square",IF(SUM(K31:AB31)>0,SUM(K31:AB31),0),0)*H31 -> 0 | CO31: =IF(G31="positive",IF(SUM(K31:AB31)>0,SUM(K31:AB31),0),0)*H31 -> 0 | CP31: =IF(G31="various",IF(SUM(K31:X31)>0,SUM(K31:X31),0),0)*H31 -> 0
A32: NEW | C32: SMPL-87-DT-GRP | D32: Dual tex. | E32: XL | F32: 83x30x11 cm | G32: positive | H32: 1 | I32: screws | J32: 309 | AC32: =SUM(K32:AB32)*J32 -> 0 | AD32: =IF(SUM(K32:AB32)>0,"Yes","No") -> No | AE32: =IF(A32="New","Yes","No") -> Yes | AG32: 1 | AH32: =AG32*SUM(K32:AB32) -> 0 | AJ32: 2.53 | AK32: =SUM(K32:AB32)*AJ32 -> 0 | AL32: =K32*H32 -> 0 | AM32: =L32*H32 -> 0 | AN32: =M32*H32 -> 0 | AO32: =N32*H32 -> 0 | AP32: =O32*H32 -> 0 | AQ32: =P32*H32 -> 0 | AR32: =Q32*H32 -> 0 | AS32: =R32*H32 -> 0 | AT32: =S32*H32 -> 0 | AU32: =T32*H32 -> 0 | AV32: =U32*H32 -> 0 | AW32: =V32*H32 -> 0 | AX32: =W32*H32 -> 0 | AY32: =X32*H32 -> 0 | AZ32: =Y32*$H32 -> 0 | BA32: =Z32*$H32 -> 0 | BB32: =AA32*$H32 -> 0 | BC32: =AB32*$H32 -> 0 | BD32: =AG32 -> 1 | BE32: =SUM(BG32+BI32+BK32) -> 0 | BF32: 4 | BG32: =BF32*SUM(K32:X32) -> 0 | BH32: 1 | BI32: =BH32*SUM(K32:X32) -> 0 | BK32: =BJ32*SUM(K32:X32) -> 0 | BL32: =IF(E32="XS",IF(SUM(K32:AB32)>0,SUM(K32:AB32),0),0)*H32 -> 0 | BM32: =IF(E32="S",IF(SUM(K32:AB32)>0,SUM(K32:AB32),0),0)*H32 -> 0 | BN32: =IF(E32="M",IF(SUM(K32:AB32)>0,SUM(K32:AB32),0),0)*H32 -> 0 | BO32: =IF(E32="L",IF(SUM(K32:AB32)>0,SUM(K32:AB32),0),0)*H32 -> 0 | BP32: =IF(E32="XL",IF(SUM(K32:AB32)>0,SUM(K32:AB32),0),0)*H32 -> 0 | BQ32: =IF(E32="2XL",IF(SUM(K32:AB32)>0,SUM(K32:AB32),0),0)*H32 -> 0 | BR32: =IF(E32="3XL",IF(SUM(K32:AB32)>0,SUM(K32:AB32),0),0)*H32 -> 0 | BS32: =IF(E32="4XL",IF(SUM(K32:AB32)>0,SUM(K32:AB32),0),0)*H32 -> 0 | BT32: =IF(E32="various",IF(SUM(K32:AB32)>0,SUM(K32:AB32),0),0)*H32 -> 0 | BV32: =IF(D32="All tex.",IF(SUM(K32:AB32)>0,SUM(K32:AB32),0),0)*H32 -> 0 | BW32: =IF(D32="Dual tex.",IF(SUM(K32:AB32)>0,SUM(K32:AB32),0),0)*H32 -> 0 | BY32: =IF(G32="sloper",IF(SUM(K32:AB32)>0,SUM(K32:AB32),0),0)*H32 -> 0 | BZ32: =IF(G32="footholds",IF(SUM(K32:AB32)>0,SUM(K32:AB32),0),0)*H32 -> 0 | CA32: =IF(G32="micros",IF(SUM(K32:AB32)>0,SUM(K32:AB32),0),0)*H32 -> 0 | CB32: =IF(G32="jug",IF(SUM(K32:AB32)>0,SUM(K32:AB32),0),0)*H32 -> 0 | CC32: =IF(G32="ledge",IF(SUM(K32:AB32)>0,SUM(K32:AB32),0),0)*H32 -> 0 | CD32: =IF(G32="edge",IF(SUM(K32:AB32)>0,SUM(K32:AB32),0),0)*H32 -> 0 | CE32: =IF(G32="crimp",IF(SUM(K32:AB32)>0,SUM(K32:AB32),0),0)*H32 -> 0 | CF32: =IF(G32="incut",IF(SUM(K32:AB32)>0,SUM(K32:AB32),0),0)*H32 -> 0 | CG32: =IF(G32="dish",IF(SUM(K32:AB32)>0,SUM(K32:AB32),0),0)*H32 -> 0 | CH32: =IF(G32="pinch",IF(SUM(K32:AB32)>0,SUM(K32:AB32),0),0)*H32 -> 0 | CI32: =IF(G32="pocket",IF(SUM(K32:AB32)>0,SUM(K32:AB32),0),0)*H32 -> 0 | CJ32: =IF(G32="insert",IF(SUM(K32:AB32)>0,SUM(K32:AB32),0),0)*H32 -> 0 | CK32: =IF(G32="feature",IF(SUM(K32:AB32)>0,SUM(K32:AB32),0),0)*H32 -> 0 | CL32: =IF(G32="scoop",IF(SUM(K32:AB32)>0,SUM(K32:AB32),0),0)*H32 -> 0 | CM32: =IF(G32="arete",IF(SUM(K32:AB32)>0,SUM(K32:AB32),0),0)*H32 -> 0 | CN32: =IF(G32="square",IF(SUM(K32:AB32)>0,SUM(K32:AB32),0),0)*H32 -> 0 | CO32: =IF(G32="positive",IF(SUM(K32:AB32)>0,SUM(K32:AB32),0),0)*H32 -> 0 | CP32: =IF(G32="various",IF(SUM(K32:X32)>0,SUM(K32:X32),0),0)*H32 -> 0
A33: NEW | C33: SMPL-91-DT-GRP | D33: Dual tex. | E33: 2XL | F33: 143x43x10 cm | G33: sloper | H33: 1 | I33: screws | J33: 340 | AC33: =SUM(K33:AB33)*J33 -> 0 | AD33: =IF(SUM(K33:AB33)>0,"Yes","No") -> No | AE33: =IF(A33="New","Yes","No") -> Yes | AG33: 2 | AH33: =AG33*SUM(K33:AB33) -> 0 | AJ33: 4.14 | AK33: =SUM(K33:AB33)*AJ33 -> 0 | AL33: =K33*H33 -> 0 | AM33: =L33*H33 -> 0 | AN33: =M33*H33 -> 0 | AO33: =N33*H33 -> 0 | AP33: =O33*H33 -> 0 | AQ33: =P33*H33 -> 0 | AR33: =Q33*H33 -> 0 | AS33: =R33*H33 -> 0 | AT33: =S33*H33 -> 0 | AU33: =T33*H33 -> 0 | AV33: =U33*H33 -> 0 | AW33: =V33*H33 -> 0 | AX33: =W33*H33 -> 0 | AY33: =X33*H33 -> 0 | AZ33: =Y33*$H33 -> 0 | BA33: =Z33*$H33 -> 0 | BB33: =AA33*$H33 -> 0 | BC33: =AB33*$H33 -> 0 | BD33: =AG33 -> 2 | BE33: =SUM(BG33+BI33+BK33) -> 0 | BF33: 5 | BG33: =BF33*SUM(K33:X33) -> 0 | BH33: 3 | BI33: =BH33*SUM(K33:X33) -> 0 | BK33: =BJ33*SUM(K33:X33) -> 0 | BL33: =IF(E33="XS",IF(SUM(K33:AB33)>0,SUM(K33:AB33),0),0)*H33 -> 0 | BM33: =IF(E33="S",IF(SUM(K33:AB33)>0,SUM(K33:AB33),0),0)*H33 -> 0 | BN33: =IF(E33="M",IF(SUM(K33:AB33)>0,SUM(K33:AB33),0),0)*H33 -> 0 | BO33: =IF(E33="L",IF(SUM(K33:AB33)>0,SUM(K33:AB33),0),0)*H33 -> 0 | BP33: =IF(E33="XL",IF(SUM(K33:AB33)>0,SUM(K33:AB33),0),0)*H33 -> 0 | BQ33: =IF(E33="2XL",IF(SUM(K33:AB33)>0,SUM(K33:AB33),0),0)*H33 -> 0 | BR33: =IF(E33="3XL",IF(SUM(K33:AB33)>0,SUM(K33:AB33),0),0)*H33 -> 0 | BS33: =IF(E33="4XL",IF(SUM(K33:AB33)>0,SUM(K33:AB33),0),0)*H33 -> 0 | BT33: =IF(E33="various",IF(SUM(K33:AB33)>0,SUM(K33:AB33),0),0)*H33 -> 0 | BV33: =IF(D33="All tex.",IF(SUM(K33:AB33)>0,SUM(K33:AB33),0),0)*H33 -> 0 | BW33: =IF(D33="Dual tex.",IF(SUM(K33:AB33)>0,SUM(K33:AB33),0),0)*H33 -> 0 | BY33: =IF(G33="sloper",IF(SUM(K33:AB33)>0,SUM(K33:AB33),0),0)*H33 -> 0 | BZ33: =IF(G33="footholds",IF(SUM(K33:AB33)>0,SUM(K33:AB33),0),0)*H33 -> 0 | CA33: =IF(G33="micros",IF(SUM(K33:AB33)>0,SUM(K33:AB33),0),0)*H33 -> 0 | CB33: =IF(G33="jug",IF(SUM(K33:AB33)>0,SUM(K33:AB33),0),0)*H33 -> 0 | CC33: =IF(G33="ledge",IF(SUM(K33:AB33)>0,SUM(K33:AB33),0),0)*H33 -> 0 | CD33: =IF(G33="edge",IF(SUM(K33:AB33)>0,SUM(K33:AB33),0),0)*H33 -> 0 | CE33: =IF(G33="crimp",IF(SUM(K33:AB33)>0,SUM(K33:AB33),0),0)*H33 -> 0 | CF33: =IF(G33="incut",IF(SUM(K33:AB33)>0,SUM(K33:AB33),0),0)*H33 -> 0 | CG33: =IF(G33="dish",IF(SUM(K33:AB33)>0,SUM(K33:AB33),0),0)*H33 -> 0 | CH33: =IF(G33="pinch",IF(SUM(K33:AB33)>0,SUM(K33:AB33),0),0)*H33 -> 0 | CI33: =IF(G33="pocket",IF(SUM(K33:AB33)>0,SUM(K33:AB33),0),0)*H33 -> 0 | CJ33: =IF(G33="insert",IF(SUM(K33:AB33)>0,SUM(K33:AB33),0),0)*H33 -> 0 | CK33: =IF(G33="feature",IF(SUM(K33:AB33)>0,SUM(K33:AB33),0),0)*H33 -> 0 | CL33: =IF(G33="scoop",IF(SUM(K33:AB33)>0,SUM(K33:AB33),0),0)*H33 -> 0 | CM33: =IF(G33="arete",IF(SUM(K33:AB33)>0,SUM(K33:AB33),0),0)*H33 -> 0 | CN33: =IF(G33="square",IF(SUM(K33:AB33)>0,SUM(K33:AB33),0),0)*H33 -> 0 | CO33: =IF(G33="positive",IF(SUM(K33:AB33)>0,SUM(K33:AB33),0),0)*H33 -> 0 | CP33: =IF(G33="various",IF(SUM(K33:X33)>0,SUM(K33:X33),0),0)*H33 -> 0
A34: NEW | C34: SMPL-94-DT-GRP | D34: Dual tex. | E34: 2XL | F34: 142x43x13,5 | G34: sloper | H34: 1 | I34: screws | J34: 345 | AC34: =SUM(K34:AB34)*J34 -> 0 | AD34: =IF(SUM(K34:AB34)>0,"Yes","No") -> No | AE34: =IF(A34="New","Yes","No") -> Yes | AG34: 2 | AH34: =AG34*SUM(K34:AB34) -> 0 | AJ34: 4.4 | AK34: =SUM(K34:AB34)*AJ34 -> 0 | AL34: =K34*H34 -> 0 | AM34: =L34*H34 -> 0 | AN34: =M34*H34 -> 0 | AO34: =N34*H34 -> 0 | AP34: =O34*H34 -> 0 | AQ34: =P34*H34 -> 0 | AR34: =Q34*H34 -> 0 | AS34: =R34*H34 -> 0 | AT34: =S34*H34 -> 0 | AU34: =T34*H34 -> 0 | AV34: =U34*H34 -> 0 | AW34: =V34*H34 -> 0 | AX34: =W34*H34 -> 0 | AY34: =X34*H34 -> 0 | AZ34: =Y34*$H34 -> 0 | BA34: =Z34*$H34 -> 0 | BB34: =AA34*$H34 -> 0 | BC34: =AB34*$H34 -> 0 | BD34: =AG34 -> 2 | BE34: =SUM(BG34+BI34+BK34) -> 0 | BF34: 5 | BG34: =BF34*SUM(K34:X34) -> 0 | BH34: 2 | BI34: =BH34*SUM(K34:X34) -> 0 | BK34: =BJ34*SUM(K34:X34) -> 0 | BL34: =IF(E34="XS",IF(SUM(K34:AB34)>0,SUM(K34:AB34),0),0)*H34 -> 0 | BM34: =IF(E34="S",IF(SUM(K34:AB34)>0,SUM(K34:AB34),0),0)*H34 -> 0 | BN34: =IF(E34="M",IF(SUM(K34:AB34)>0,SUM(K34:AB34),0),0)*H34 -> 0 | BO34: =IF(E34="L",IF(SUM(K34:AB34)>0,SUM(K34:AB34),0),0)*H34 -> 0 | BP34: =IF(E34="XL",IF(SUM(K34:AB34)>0,SUM(K34:AB34),0),0)*H34 -> 0 | BQ34: =IF(E34="2XL",IF(SUM(K34:AB34)>0,SUM(K34:AB34),0),0)*H34 -> 0 | BR34: =IF(E34="3XL",IF(SUM(K34:AB34)>0,SUM(K34:AB34),0),0)*H34 -> 0 | BS34: =IF(E34="4XL",IF(SUM(K34:AB34)>0,SUM(K34:AB34),0),0)*H34 -> 0 | BT34: =IF(E34="various",IF(SUM(K34:AB34)>0,SUM(K34:AB34),0),0)*H34 -> 0 | BV34: =IF(D34="All tex.",IF(SUM(K34:AB34)>0,SUM(K34:AB34),0),0)*H34 -> 0 | BW34: =IF(D34="Dual tex.",IF(SUM(K34:AB34)>0,SUM(K34:AB34),0),0)*H34 -> 0 | BY34: =IF(G34="sloper",IF(SUM(K34:AB34)>0,SUM(K34:AB34),0),0)*H34 -> 0 | BZ34: =IF(G34="footholds",IF(SUM(K34:AB34)>0,SUM(K34:AB34),0),0)*H34 -> 0 | CA34: =IF(G34="micros",IF(SUM(K34:AB34)>0,SUM(K34:AB34),0),0)*H34 -> 0 | CB34: =IF(G34="jug",IF(SUM(K34:AB34)>0,SUM(K34:AB34),0),0)*H34 -> 0 | CC34: =IF(G34="ledge",IF(SUM(K34:AB34)>0,SUM(K34:AB34),0),0)*H34 -> 0 | CD34: =IF(G34="edge",IF(SUM(K34:AB34)>0,SUM(K34:AB34),0),0)*H34 -> 0 | CE34: =IF(G34="crimp",IF(SUM(K34:AB34)>0,SUM(K34:AB34),0),0)*H34 -> 0 | CF34: =IF(G34="incut",IF(SUM(K34:AB34)>0,SUM(K34:AB34),0),0)*H34 -> 0 | CG34: =IF(G34="dish",IF(SUM(K34:AB34)>0,SUM(K34:AB34),0),0)*H34 -> 0 | CH34: =IF(G34="pinch",IF(SUM(K34:AB34)>0,SUM(K34:AB34),0),0)*H34 -> 0 | CI34: =IF(G34="pocket",IF(SUM(K34:AB34)>0,SUM(K34:AB34),0),0)*H34 -> 0 | CJ34: =IF(G34="insert",IF(SUM(K34:AB34)>0,SUM(K34:AB34),0),0)*H34 -> 0 | CK34: =IF(G34="feature",IF(SUM(K34:AB34)>0,SUM(K34:AB34),0),0)*H34 -> 0 | CL34: =IF(G34="scoop",IF(SUM(K34:AB34)>0,SUM(K34:AB34),0),0)*H34 -> 0 | CM34: =IF(G34="arete",IF(SUM(K34:AB34)>0,SUM(K34:AB34),0),0)*H34 -> 0 | CN34: =IF(G34="square",IF(SUM(K34:AB34)>0,SUM(K34:AB34),0),0)*H34 -> 0 | CO34: =IF(G34="positive",IF(SUM(K34:AB34)>0,SUM(K34:AB34),0),0)*H34 -> 0 | CP34: =IF(G34="various",IF(SUM(K34:X34)>0,SUM(K34:X34),0),0)*H34 -> 0

Sheet PRODUCTION LIST SIMPL GRP
A1: SIMPL GRP | P1: kg | Q1: ='Simpl. GRP'!J3 -> 0
A2: stranka: | I2: 0 | N2: št.naročila:
V4: =SUM(V6:V30) -> 0 | W4: =SUM(W6:W30) -> 0 | X4: =SUM(X6:X30) -> 0
A5: izdelek | B5: TEXTURE | C5: notes | D5: ='Simpl. GRP'!K7 -> BLACK RAL 9005 | E5: ='Simpl. GRP'!L7 -> WHITE | F5: ='Simpl. GRP'!M7 -> RED RAL 3000 | G5: ='Simpl. GRP'!N7 -> YELLOW RAL 1018 | H5: ='Simpl. GRP'!O7 -> BLUE RAL 5015 | I5: ='Simpl. GRP'!P7 -> BRIGHT GREEN RAL 6018 | J5: ='Simpl. GRP'!Q7 -> PURE GREEN RAL 6037 | K5: ='Simpl. GRP'!R7 -> APRICOT ORANGE RAL 1033 | ... U5: ='Simpl. GRP'!AB7 -> FLUORO GREEN | V5: sum set | W5: sum kos | X5: sum kos norma
A6: ='Simpl. GRP'!C10 -> SMPL-51-DT-GRP | B6: DT | C6: white shine blue logo | D6: =IF('Simpl. GRP'!K10=0,"",'Simpl. GRP'!K10) | E6: =IF('Simpl. GRP'!L10=0,"",'Simpl. GRP'!L10) | F6: =IF('Simpl. GRP'!M10=0,"",'Simpl. GRP'!M10) | G6: =IF('Simpl. GRP'!N10=0,"",'Simpl. GRP'!N10) | H6: =IF('Simpl. GRP'!O10=0,"",'Simpl. GRP'!O10) | I6: =IF('Simpl. GRP'!P10=0,"",'Simpl. GRP'!P10) | J6: =IF('Simpl. GRP'!Q10=0,"",'Simpl. GRP'!Q10) | K6: =IF('Simpl. GRP'!R10=0,"",'Simpl. GRP'!R10) | ... U6: =IF('Simpl. GRP'!AB10=0,"",'Simpl. GRP'!AB10) | V6: =SUM(D6:U6) -> 0 | W6: =V6*'Simpl. GRP'!H10 -> 0 | X6: ='Simpl. GRP'!AH10 -> 0
A7: ='Simpl. GRP'!C11 -> SMPL-52-DT-GRP | B7: DT | C7: white shine blue logo | D7: =IF('Simpl. GRP'!K11=0,"",'Simpl. GRP'!K11) | E7: =IF('Simpl. GRP'!L11=0,"",'Simpl. GRP'!L11) | F7: =IF('Simpl. GRP'!M11=0,"",'Simpl. GRP'!M11) | G7: =IF('Simpl. GRP'!N11=0,"",'Simpl. GRP'!N11) | H7: =IF('Simpl. GRP'!O11=0,"",'Simpl. GRP'!O11) | I7: =IF('Simpl. GRP'!P11=0,"",'Simpl. GRP'!P11) | J7: =IF('Simpl. GRP'!Q11=0,"",'Simpl. GRP'!Q11) | K7: =IF('Simpl. GRP'!R11=0,"",'Simpl. GRP'!R11) | ... U7: =IF('Simpl. GRP'!AB11=0,"",'Simpl. GRP'!AB11) | V7: =SUM(D7:U7) -> 0 | W7: =V7*'Simpl. GRP'!H11 -> 0 | X7: ='Simpl. GRP'!AH11 -> 0
A8: ='Simpl. GRP'!C12 -> SMPL-61-DT-GRP | B8: DT | C8: white shine blue logo | D8: =IF('Simpl. GRP'!K12=0,"",'Simpl. GRP'!K12) | E8: =IF('Simpl. GRP'!L12=0,"",'Simpl. GRP'!L12) | F8: =IF('Simpl. GRP'!M12=0,"",'Simpl. GRP'!M12) | G8: =IF('Simpl. GRP'!N12=0,"",'Simpl. GRP'!N12) | H8: =IF('Simpl. GRP'!O12=0,"",'Simpl. GRP'!O12) | I8: =IF('Simpl. GRP'!P12=0,"",'Simpl. GRP'!P12) | J8: =IF('Simpl. GRP'!Q12=0,"",'Simpl. GRP'!Q12) | K8: =IF('Simpl. GRP'!R12=0,"",'Simpl. GRP'!R12) | ... U8: =IF('Simpl. GRP'!AB12=0,"",'Simpl. GRP'!AB12) | V8: =SUM(D8:U8) -> 0 | W8: =V8*'Simpl. GRP'!H12 -> 0 | X8: ='Simpl. GRP'!AH12 -> 0
A9: ='Simpl. GRP'!C13 -> SMPL-62-DT-GRP | B9: DT | C9: white shine blue logo | D9: =IF('Simpl. GRP'!K13=0,"",'Simpl. GRP'!K13) | E9: =IF('Simpl. GRP'!L13=0,"",'Simpl. GRP'!L13) | F9: =IF('Simpl. GRP'!M13=0,"",'Simpl. GRP'!M13) | G9: =IF('Simpl. GRP'!N13=0,"",'Simpl. GRP'!N13) | H9: =IF('Simpl. GRP'!O13=0,"",'Simpl. GRP'!O13) | I9: =IF('Simpl. GRP'!P13=0,"",'Simpl. GRP'!P13) | J9: =IF('Simpl. GRP'!Q13=0,"",'Simpl. GRP'!Q13) | K9: =IF('Simpl. GRP'!R13=0,"",'Simpl. GRP'!R13) | ... U9: =IF('Simpl. GRP'!AB13=0,"",'Simpl. GRP'!AB13) | V9: =SUM(D9:U9) -> 0 | W9: =V9*'Simpl. GRP'!H13 -> 0 | X9: ='Simpl. GRP'!AH13 -> 0
A10: ='Simpl. GRP'!C14 -> SMPL-63-DT-GRP | B10: DT | C10: white shine blue logo | D10: =IF('Simpl. GRP'!K14=0,"",'Simpl. GRP'!K14) | E10: =IF('Simpl. GRP'!L14=0,"",'Simpl. GRP'!L14) | F10: =IF('Simpl. GRP'!M14=0,"",'Simpl. GRP'!M14) | G10: =IF('Simpl. GRP'!N14=0,"",'Simpl. GRP'!N14) | H10: =IF('Simpl. GRP'!O14=0,"",'Simpl. GRP'!O14) | I10: =IF('Simpl. GRP'!P14=0,"",'Simpl. GRP'!P14) | J10: =IF('Simpl. GRP'!Q14=0,"",'Simpl. GRP'!Q14) | K10: =IF('Simpl. GRP'!R14=0,"",'Simpl. GRP'!R14) | ... U10: =IF('Simpl. GRP'!AB14=0,"",'Simpl. GRP'!AB14) | V10: =SUM(D10:U10) -> 0 | W10: =V10*'Simpl. GRP'!H14 -> 0 | X10: ='Simpl. GRP'!AH14 -> 0
A11: ='Simpl. GRP'!C15 -> SMPL-64-DT-GRP | B11: DT | C11: white shine blue logo | D11: =IF('Simpl. GRP'!K15=0,"",'Simpl. GRP'!K15) | E11: =IF('Simpl. GRP'!L15=0,"",'Simpl. GRP'!L15) | F11: =IF('Simpl. GRP'!M15=0,"",'Simpl. GRP'!M15) | G11: =IF('Simpl. GRP'!N15=0,"",'Simpl. GRP'!N15) | H11: =IF('Simpl. GRP'!O15=0,"",'Simpl. GRP'!O15) | I11: =IF('Simpl. GRP'!P15=0,"",'Simpl. GRP'!P15) | J11: =IF('Simpl. GRP'!Q15=0,"",'Simpl. GRP'!Q15) | K11: =IF('Simpl. GRP'!R15=0,"",'Simpl. GRP'!R15) | ... U11: =IF('Simpl. GRP'!AB15=0,"",'Simpl. GRP'!AB15) | V11: =SUM(D11:U11) -> 0 | W11: =V11*'Simpl. GRP'!H15 -> 0 | X11: ='Simpl. GRP'!AH15 -> 0
A12: ='Simpl. GRP'!C16 -> SMPL-65-DT-GRP | B12: DT | C12: white shine blue logo | D12: =IF('Simpl. GRP'!K16=0,"",'Simpl. GRP'!K16) | E12: =IF('Simpl. GRP'!L16=0,"",'Simpl. GRP'!L16) | F12: =IF('Simpl. GRP'!M16=0,"",'Simpl. GRP'!M16) | G12: =IF('Simpl. GRP'!N16=0,"",'Simpl. GRP'!N16) | H12: =IF('Simpl. GRP'!O16=0,"",'Simpl. GRP'!O16) | I12: =IF('Simpl. GRP'!P16=0,"",'Simpl. GRP'!P16) | J12: =IF('Simpl. GRP'!Q16=0,"",'Simpl. GRP'!Q16) | K12: =IF('Simpl. GRP'!R16=0,"",'Simpl. GRP'!R16) | ... U12: =IF('Simpl. GRP'!AB16=0,"",'Simpl. GRP'!AB16) | V12: =SUM(D12:U12) -> 0 | W12: =V12*'Simpl. GRP'!H16 -> 0 | X12: ='Simpl. GRP'!AH16 -> 0
A13: ='Simpl. GRP'!C17 -> SMPL-67-DT-GRP | B13: DT | C13: white shine blue logo | D13: =IF('Simpl. GRP'!K17=0,"",'Simpl. GRP'!K17) | E13: =IF('Simpl. GRP'!L17=0,"",'Simpl. GRP'!L17) | F13: =IF('Simpl. GRP'!M17=0,"",'Simpl. GRP'!M17) | G13: =IF('Simpl. GRP'!N17=0,"",'Simpl. GRP'!N17) | H13: =IF('Simpl. GRP'!O17=0,"",'Simpl. GRP'!O17) | I13: =IF('Simpl. GRP'!P17=0,"",'Simpl. GRP'!P17) | J13: =IF('Simpl. GRP'!Q17=0,"",'Simpl. GRP'!Q17) | K13: =IF('Simpl. GRP'!R17=0,"",'Simpl. GRP'!R17) | ... U13: =IF('Simpl. GRP'!AB17=0,"",'Simpl. GRP'!AB17) | V13: =SUM(D13:U13) -> 0 | W13: =V13*'Simpl. GRP'!H17 -> 0 | X13: ='Simpl. GRP'!AH17 -> 0
A14: ='Simpl. GRP'!C18 -> SMPL-71-DT-GRP | B14: DT | C14: white shine blue logo | D14: =IF('Simpl. GRP'!K18=0,"",'Simpl. GRP'!K18) | E14: =IF('Simpl. GRP'!L18=0,"",'Simpl. GRP'!L18) | F14: =IF('Simpl. GRP'!M18=0,"",'Simpl. GRP'!M18) | G14: =IF('Simpl. GRP'!N18=0,"",'Simpl. GRP'!N18) | H14: =IF('Simpl. GRP'!O18=0,"",'Simpl. GRP'!O18) | I14: =IF('Simpl. GRP'!P18=0,"",'Simpl. GRP'!P18) | J14: =IF('Simpl. GRP'!Q18=0,"",'Simpl. GRP'!Q18) | K14: =IF('Simpl. GRP'!R18=0,"",'Simpl. GRP'!R18) | ... U14: =IF('Simpl. GRP'!AB18=0,"",'Simpl. GRP'!AB18) | V14: =SUM(D14:U14) -> 0 | W14: =V14*'Simpl. GRP'!H18 -> 0 | X14: ='Simpl. GRP'!AH18 -> 0
A15: ='Simpl. GRP'!C19 -> SMPL-72-DT-GRP | B15: DT | C15: white shine blue logo | D15: =IF('Simpl. GRP'!K19=0,"",'Simpl. GRP'!K19) | E15: =IF('Simpl. GRP'!L19=0,"",'Simpl. GRP'!L19) | F15: =IF('Simpl. GRP'!M19=0,"",'Simpl. GRP'!M19) | G15: =IF('Simpl. GRP'!N19=0,"",'Simpl. GRP'!N19) | H15: =IF('Simpl. GRP'!O19=0,"",'Simpl. GRP'!O19) | I15: =IF('Simpl. GRP'!P19=0,"",'Simpl. GRP'!P19) | J15: =IF('Simpl. GRP'!Q19=0,"",'Simpl. GRP'!Q19) | K15: =IF('Simpl. GRP'!R19=0,"",'Simpl. GRP'!R19) | ... U15: =IF('Simpl. GRP'!AB19=0,"",'Simpl. GRP'!AB19) | V15: =SUM(D15:U15) -> 0 | W15: =V15*'Simpl. GRP'!H19 -> 0 | X15: ='Simpl. GRP'!AH19 -> 0
A16: ='Simpl. GRP'!C20 -> SMPL-73-DT-GRP | B16: DT | C16: white shine blue logo | D16: =IF('Simpl. GRP'!K20=0,"",'Simpl. GRP'!K20) | E16: =IF('Simpl. GRP'!L20=0,"",'Simpl. GRP'!L20) | F16: =IF('Simpl. GRP'!M20=0,"",'Simpl. GRP'!M20) | G16: =IF('Simpl. GRP'!N20=0,"",'Simpl. GRP'!N20) | H16: =IF('Simpl. GRP'!O20=0,"",'Simpl. GRP'!O20) | I16: =IF('Simpl. GRP'!P20=0,"",'Simpl. GRP'!P20) | J16: =IF('Simpl. GRP'!Q20=0,"",'Simpl. GRP'!Q20) | K16: =IF('Simpl. GRP'!R20=0,"",'Simpl. GRP'!R20) | ... U16: =IF('Simpl. GRP'!AB20=0,"",'Simpl. GRP'!AB20) | V16: =SUM(D16:U16) -> 0 | W16: =V16*'Simpl. GRP'!H20 -> 0 | X16: ='Simpl. GRP'!AH20 -> 0
A17: ='Simpl. GRP'!C21 -> SMPL-74-DT-GRP | B17: DT | C17: white shine blue logo | D17: =IF('Simpl. GRP'!K21=0,"",'Simpl. GRP'!K21) | E17: =IF('Simpl. GRP'!L21=0,"",'Simpl. GRP'!L21) | F17: =IF('Simpl. GRP'!M21=0,"",'Simpl. GRP'!M21) | G17: =IF('Simpl. GRP'!N21=0,"",'Simpl. GRP'!N21) | H17: =IF('Simpl. GRP'!O21=0,"",'Simpl. GRP'!O21) | I17: =IF('Simpl. GRP'!P21=0,"",'Simpl. GRP'!P21) | J17: =IF('Simpl. GRP'!Q21=0,"",'Simpl. GRP'!Q21) | K17: =IF('Simpl. GRP'!R21=0,"",'Simpl. GRP'!R21) | ... U17: =IF('Simpl. GRP'!AB21=0,"",'Simpl. GRP'!AB21) | V17: =SUM(D17:U17) -> 0 | W17: =V17*'Simpl. GRP'!H21 -> 0 | X17: ='Simpl. GRP'!AH21 -> 0
... A30: ='Simpl. GRP'!C34 -> SMPL-94-DT-GRP | B30: DT | C30: white shine blue logo | D30: =IF('Simpl. GRP'!K34=0,"",'Simpl. GRP'!K34) | E30: =IF('Simpl. GRP'!L34=0,"",'Simpl. GRP'!L34) | F30: =IF('Simpl. GRP'!M34=0,"",'Simpl. GRP'!M34) | G30: =IF('Simpl. GRP'!N34=0,"",'Simpl. GRP'!N34) | H30: =IF('Simpl. GRP'!O34=0,"",'Simpl. GRP'!O34) | I30: =IF('Simpl. GRP'!P34=0,"",'Simpl. GRP'!P34) | J30: =IF('Simpl. GRP'!Q34=0,"",'Simpl. GRP'!Q34) | K30: =IF('Simpl. GRP'!R34=0,"",'Simpl. GRP'!R34) | ... U30: =IF('Simpl. GRP'!AB34=0,"",'Simpl. GRP'!AB34) | V30: =SUM(D30:U30) -> 0 | W30: =V30*'Simpl. GRP'!H34 -> 0 | X30: ='Simpl. GRP'!AH34 -> 0

Sheet PACKING LIST simpl GRP
A1: ='PRODUCTION LIST SIMPL GRP'!A3 -> 0 | O1: ='PRODUCTION LIST SIMPL GRP'!N3 -> 0 | V1: =SUM(V3:V27) -> 0
A2: sum KOS | B2: sum set | C2: ID | D2: ='PRODUCTION LIST SIMPL GRP'!D5 -> BLACK RAL 9005 | E2: ='PRODUCTION LIST SIMPL GRP'!E5 -> WHITE | F2: ='PRODUCTION LIST SIMPL GRP'!F5 -> RED RAL 3000 | G2: ='PRODUCTION LIST SIMPL GRP'!G5 -> YELLOW RAL 1018 | H2: ='PRODUCTION LIST SIMPL GRP'!H5 -> BLUE RAL 5015 | I2: ='PRODUCTION LIST SIMPL GRP'!I5 -> BRIGHT GREEN RAL 6018 | J2: ='PRODUCTION LIST SIMPL GRP'!J5 -> PURE GREEN RAL 6037 | K2: ='PRODUCTION LIST SIMPL GRP'!K5 -> APRICOT ORANGE RAL 1033 | ... U2: ='PRODUCTION LIST SIMPL GRP'!U5 -> FLUORO GREEN | V2: SUM set
A3: =B3*'Simpl. all tex-DT PLYWOOD'!I9 -> 0 | B3: =SUM(C3:O3) -> 0 | C3: ='PRODUCTION LIST SIMPL GRP'!A6 -> SMPL-51-DT-GRP | D3: ='PRODUCTION LIST SIMPL GRP'!D6 | E3: ='PRODUCTION LIST SIMPL GRP'!E6 | F3: ='PRODUCTION LIST SIMPL GRP'!F6 | G3: ='PRODUCTION LIST SIMPL GRP'!G6 | H3: ='PRODUCTION LIST SIMPL GRP'!H6 | I3: ='PRODUCTION LIST SIMPL GRP'!I6 | J3: ='PRODUCTION LIST SIMPL GRP'!J6 | K3: ='PRODUCTION LIST SIMPL GRP'!K6 | ... V3: ='PRODUCTION LIST SIMPL GRP'!V6 -> 0
C4: ='PRODUCTION LIST SIMPL GRP'!A7 -> SMPL-52-DT-GRP | D4: ='PRODUCTION LIST SIMPL GRP'!D7 | E4: ='PRODUCTION LIST SIMPL GRP'!E7 | F4: ='PRODUCTION LIST SIMPL GRP'!F7 | G4: ='PRODUCTION LIST SIMPL GRP'!G7 | H4: ='PRODUCTION LIST SIMPL GRP'!H7 | I4: ='PRODUCTION LIST SIMPL GRP'!I7 | J4: ='PRODUCTION LIST SIMPL GRP'!J7 | K4: ='PRODUCTION LIST SIMPL GRP'!K7 | ... V4: ='PRODUCTION LIST SIMPL GRP'!V7 -> 0
A5: =B5*'Simpl. all tex-DT PLYWOOD'!I11 -> 0 | B5: =SUM(C5:O5) -> 0 | C5: ='PRODUCTION LIST SIMPL GRP'!A8 -> SMPL-61-DT-GRP | D5: ='PRODUCTION LIST SIMPL GRP'!D8 | E5: ='PRODUCTION LIST SIMPL GRP'!E8 | F5: ='PRODUCTION LIST SIMPL GRP'!F8 | G5: ='PRODUCTION LIST SIMPL GRP'!G8 | H5: ='PRODUCTION LIST SIMPL GRP'!H8 | I5: ='PRODUCTION LIST SIMPL GRP'!I8 | J5: ='PRODUCTION LIST SIMPL GRP'!J8 | K5: ='PRODUCTION LIST SIMPL GRP'!K8 | ... V5: ='PRODUCTION LIST SIMPL GRP'!V8 -> 0
C6: ='PRODUCTION LIST SIMPL GRP'!A9 -> SMPL-62-DT-GRP | D6: ='PRODUCTION LIST SIMPL GRP'!D9 | E6: ='PRODUCTION LIST SIMPL GRP'!E9 | F6: ='PRODUCTION LIST SIMPL GRP'!F9 | G6: ='PRODUCTION LIST SIMPL GRP'!G9 | H6: ='PRODUCTION LIST SIMPL GRP'!H9 | I6: ='PRODUCTION LIST SIMPL GRP'!I9 | J6: ='PRODUCTION LIST SIMPL GRP'!J9 | K6: ='PRODUCTION LIST SIMPL GRP'!K9 | ... V6: ='PRODUCTION LIST SIMPL GRP'!V9 -> 0
A7: =B7*'Simpl. all tex-DT PLYWOOD'!I13 -> 0 | B7: =SUM(C7:O7) -> 0 | C7: ='PRODUCTION LIST SIMPL GRP'!A10 -> SMPL-63-DT-GRP | D7: ='PRODUCTION LIST SIMPL GRP'!D10 | E7: ='PRODUCTION LIST SIMPL GRP'!E10 | F7: ='PRODUCTION LIST SIMPL GRP'!F10 | G7: ='PRODUCTION LIST SIMPL GRP'!G10 | H7: ='PRODUCTION LIST SIMPL GRP'!H10 | I7: ='PRODUCTION LIST SIMPL GRP'!I10 | J7: ='PRODUCTION LIST SIMPL GRP'!J10 | K7: ='PRODUCTION LIST SIMPL GRP'!K10 | ... V7: ='PRODUCTION LIST SIMPL GRP'!V10 -> 0
C8: ='PRODUCTION LIST SIMPL GRP'!A11 -> SMPL-64-DT-GRP | D8: ='PRODUCTION LIST SIMPL GRP'!D11 | E8: ='PRODUCTION LIST SIMPL GRP'!E11 | F8: ='PRODUCTION LIST SIMPL GRP'!F11 | G8: ='PRODUCTION LIST SIMPL GRP'!G11 | H8: ='PRODUCTION LIST SIMPL GRP'!H11 | I8: ='PRODUCTION LIST SIMPL GRP'!I11 | J8: ='PRODUCTION LIST SIMPL GRP'!J11 | K8: ='PRODUCTION LIST SIMPL GRP'!K11 | ... V8: ='PRODUCTION LIST SIMPL GRP'!V11 -> 0
A9: =B9*'Simpl. all tex-DT PLYWOOD'!I15 -> 0 | B9: =SUM(C9:O9) -> 0 | C9: ='PRODUCTION LIST SIMPL GRP'!A12 -> SMPL-65-DT-GRP | D9: ='PRODUCTION LIST SIMPL GRP'!D12 | E9: ='PRODUCTION LIST SIMPL GRP'!E12 | F9: ='PRODUCTION LIST SIMPL GRP'!F12 | G9: ='PRODUCTION LIST SIMPL GRP'!G12 | H9: ='PRODUCTION LIST SIMPL GRP'!H12 | I9: ='PRODUCTION LIST SIMPL GRP'!I12 | J9: ='PRODUCTION LIST SIMPL GRP'!J12 | K9: ='PRODUCTION LIST SIMPL GRP'!K12 | ... V9: ='PRODUCTION LIST SIMPL GRP'!V12 -> 0
C10: ='PRODUCTION LIST SIMPL GRP'!A13 -> SMPL-67-DT-GRP | D10: ='PRODUCTION LIST SIMPL GRP'!D13 | E10: ='PRODUCTION LIST SIMPL GRP'!E13 | F10: ='PRODUCTION LIST SIMPL GRP'!F13 | G10: ='PRODUCTION LIST SIMPL GRP'!G13 | H10: ='PRODUCTION LIST SIMPL GRP'!H13 | I10: ='PRODUCTION LIST SIMPL GRP'!I13 | J10: ='PRODUCTION LIST SIMPL GRP'!J13 | K10: ='PRODUCTION LIST SIMPL GRP'!K13 | ... V10: ='PRODUCTION LIST SIMPL GRP'!V13 -> 0
A11: =B11*'Simpl. all tex-DT PLYWOOD'!I17 -> 0 | B11: =SUM(C11:O11) -> 0 | C11: ='PRODUCTION LIST SIMPL GRP'!A14 -> SMPL-71-DT-GRP | D11: ='PRODUCTION LIST SIMPL GRP'!D14 | E11: ='PRODUCTION LIST SIMPL GRP'!E14 | F11: ='PRODUCTION LIST SIMPL GRP'!F14 | G11: ='PRODUCTION LIST SIMPL GRP'!G14 | H11: ='PRODUCTION LIST SIMPL GRP'!H14 | I11: ='PRODUCTION LIST SIMPL GRP'!I14 | J11: ='PRODUCTION LIST SIMPL GRP'!J14 | K11: ='PRODUCTION LIST SIMPL GRP'!K14 | ... V11: ='PRODUCTION LIST SIMPL GRP'!V14 -> 0
C12: ='PRODUCTION LIST SIMPL GRP'!A15 -> SMPL-72-DT-GRP | D12: ='PRODUCTION LIST SIMPL GRP'!D15 | E12: ='PRODUCTION LIST SIMPL GRP'!E15 | F12: ='PRODUCTION LIST SIMPL GRP'!F15 | G12: ='PRODUCTION LIST SIMPL GRP'!G15 | H12: ='PRODUCTION LIST SIMPL GRP'!H15 | I12: ='PRODUCTION LIST SIMPL GRP'!I15 | J12: ='PRODUCTION LIST SIMPL GRP'!J15 | K12: ='PRODUCTION LIST SIMPL GRP'!K15 | ... V12: ='PRODUCTION LIST SIMPL GRP'!V15 -> 0
A13: =B13*'Simpl. all tex-DT PLYWOOD'!I19 -> 0 | B13: =SUM(C13:O13) -> 0 | C13: ='PRODUCTION LIST SIMPL GRP'!A16 -> SMPL-73-DT-GRP | D13: ='PRODUCTION LIST SIMPL GRP'!D16 | E13: ='PRODUCTION LIST SIMPL GRP'!E16 | F13: ='PRODUCTION LIST SIMPL GRP'!F16 | G13: ='PRODUCTION LIST SIMPL GRP'!G16 | H13: ='PRODUCTION LIST SIMPL GRP'!H16 | I13: ='PRODUCTION LIST SIMPL GRP'!I16 | J13: ='PRODUCTION LIST SIMPL GRP'!J16 | K13: ='PRODUCTION LIST SIMPL GRP'!K16 | ... V13: ='PRODUCTION LIST SIMPL GRP'!V16 -> 0
C14: ='PRODUCTION LIST SIMPL GRP'!A17 -> SMPL-74-DT-GRP | D14: ='PRODUCTION LIST SIMPL GRP'!D17 | E14: ='PRODUCTION LIST SIMPL GRP'!E17 | F14: ='PRODUCTION LIST SIMPL GRP'!F17 | G14: ='PRODUCTION LIST SIMPL GRP'!G17 | H14: ='PRODUCTION LIST SIMPL GRP'!H17 | I14: ='PRODUCTION LIST SIMPL GRP'!I17 | J14: ='PRODUCTION LIST SIMPL GRP'!J17 | K14: ='PRODUCTION LIST SIMPL GRP'!K17 | ... V14: ='PRODUCTION LIST SIMPL GRP'!V17 -> 0
A15: =B15*'Simpl. all tex-DT PLYWOOD'!I21 -> 0 | B15: =SUM(C15:O15) -> 0 | C15: ='PRODUCTION LIST SIMPL GRP'!A18 -> SMPL-76-DT-GRP | D15: ='PRODUCTION LIST SIMPL GRP'!D18 | E15: ='PRODUCTION LIST SIMPL GRP'!E18 | F15: ='PRODUCTION LIST SIMPL GRP'!F18 | G15: ='PRODUCTION LIST SIMPL GRP'!G18 | H15: ='PRODUCTION LIST SIMPL GRP'!H18 | I15: ='PRODUCTION LIST SIMPL GRP'!I18 | J15: ='PRODUCTION LIST SIMPL GRP'!J18 | K15: ='PRODUCTION LIST SIMPL GRP'!K18 | ... V15: ='PRODUCTION LIST SIMPL GRP'!V18 -> 0
C16: ='PRODUCTION LIST SIMPL GRP'!A19 -> SMPL-77-DT-GRP | D16: ='PRODUCTION LIST SIMPL GRP'!D19 | E16: ='PRODUCTION LIST SIMPL GRP'!E19 | F16: ='PRODUCTION LIST SIMPL GRP'!F19 | G16: ='PRODUCTION LIST SIMPL GRP'!G19 | H16: ='PRODUCTION LIST SIMPL GRP'!H19 | I16: ='PRODUCTION LIST SIMPL GRP'!I19 | J16: ='PRODUCTION LIST SIMPL GRP'!J19 | K16: ='PRODUCTION LIST SIMPL GRP'!K19 | ... V16: ='PRODUCTION LIST SIMPL GRP'!V19 -> 0
A17: =B17*'Simpl. all tex-DT PLYWOOD'!I23 -> 0 | B17: =SUM(C17:O17) -> 0 | C17: ='PRODUCTION LIST SIMPL GRP'!A20 -> SMPL-78-DT-GRP | D17: ='PRODUCTION LIST SIMPL GRP'!D20 | E17: ='PRODUCTION LIST SIMPL GRP'!E20 | F17: ='PRODUCTION LIST SIMPL GRP'!F20 | G17: ='PRODUCTION LIST SIMPL GRP'!G20 | H17: ='PRODUCTION LIST SIMPL GRP'!H20 | I17: ='PRODUCTION LIST SIMPL GRP'!I20 | J17: ='PRODUCTION LIST SIMPL GRP'!J20 | K17: ='PRODUCTION LIST SIMPL GRP'!K20 | ... V17: ='PRODUCTION LIST SIMPL GRP'!V20 -> 0
C18: ='PRODUCTION LIST SIMPL GRP'!A21 -> SMPL-79-DT-GRP | D18: ='PRODUCTION LIST SIMPL GRP'!D21 | E18: ='PRODUCTION LIST SIMPL GRP'!E21 | F18: ='PRODUCTION LIST SIMPL GRP'!F21 | G18: ='PRODUCTION LIST SIMPL GRP'!G21 | H18: ='PRODUCTION LIST SIMPL GRP'!H21 | I18: ='PRODUCTION LIST SIMPL GRP'!I21 | J18: ='PRODUCTION LIST SIMPL GRP'!J21 | K18: ='PRODUCTION LIST SIMPL GRP'!K21 | ... V18: ='PRODUCTION LIST SIMPL GRP'!V21 -> 0
A19: =B19*'Simpl. all tex-DT PLYWOOD'!I25 -> 0 | B19: =SUM(C19:O19) -> 0 | C19: ='PRODUCTION LIST SIMPL GRP'!A22 -> SMPL-81-DT-GRP | D19: ='PRODUCTION LIST SIMPL GRP'!D22 | E19: ='PRODUCTION LIST SIMPL GRP'!E22 | F19: ='PRODUCTION LIST SIMPL GRP'!F22 | G19: ='PRODUCTION LIST SIMPL GRP'!G22 | H19: ='PRODUCTION LIST SIMPL GRP'!H22 | I19: ='PRODUCTION LIST SIMPL GRP'!I22 | J19: ='PRODUCTION LIST SIMPL GRP'!J22 | K19: ='PRODUCTION LIST SIMPL GRP'!K22 | ... V19: ='PRODUCTION LIST SIMPL GRP'!V22 -> 0
C20: ='PRODUCTION LIST SIMPL GRP'!A23 -> SMPL-82-DT-GRP | D20: ='PRODUCTION LIST SIMPL GRP'!D23 | E20: ='PRODUCTION LIST SIMPL GRP'!E23 | F20: ='PRODUCTION LIST SIMPL GRP'!F23 | G20: ='PRODUCTION LIST SIMPL GRP'!G23 | H20: ='PRODUCTION LIST SIMPL GRP'!H23 | I20: ='PRODUCTION LIST SIMPL GRP'!I23 | J20: ='PRODUCTION LIST SIMPL GRP'!J23 | K20: ='PRODUCTION LIST SIMPL GRP'!K23 | ... V20: ='PRODUCTION LIST SIMPL GRP'!V23 -> 0
C21: ='PRODUCTION LIST SIMPL GRP'!A24 -> SMPL-83-DT-GRP | D21: ='PRODUCTION LIST SIMPL GRP'!D24 | E21: ='PRODUCTION LIST SIMPL GRP'!E24 | F21: ='PRODUCTION LIST SIMPL GRP'!F24 | G21: ='PRODUCTION LIST SIMPL GRP'!G24 | H21: ='PRODUCTION LIST SIMPL GRP'!H24 | I21: ='PRODUCTION LIST SIMPL GRP'!I24 | J21: ='PRODUCTION LIST SIMPL GRP'!J24 | K21: ='PRODUCTION LIST SIMPL GRP'!K24 | ... V21: ='PRODUCTION LIST SIMPL GRP'!V24 -> 0
C22: ='PRODUCTION LIST SIMPL GRP'!A25 -> SMPL-84-DT-GRP | D22: ='PRODUCTION LIST SIMPL GRP'!D25 | E22: ='PRODUCTION LIST SIMPL GRP'!E25 | F22: ='PRODUCTION LIST SIMPL GRP'!F25 | G22: ='PRODUCTION LIST SIMPL GRP'!G25 | H22: ='PRODUCTION LIST SIMPL GRP'!H25 | I22: ='PRODUCTION LIST SIMPL GRP'!I25 | J22: ='PRODUCTION LIST SIMPL GRP'!J25 | K22: ='PRODUCTION LIST SIMPL GRP'!K25 | ... V22: ='PRODUCTION LIST SIMPL GRP'!V25 -> 0
A23: =B23*'Simpl. all tex-DT PLYWOOD'!I29 -> 0 | B23: =SUM(C23:O23) -> 0 | C23: ='PRODUCTION LIST SIMPL GRP'!A26 -> SMPL-85-DT-GRP | D23: ='PRODUCTION LIST SIMPL GRP'!D26 | E23: ='PRODUCTION LIST SIMPL GRP'!E26 | F23: ='PRODUCTION LIST SIMPL GRP'!F26 | G23: ='PRODUCTION LIST SIMPL GRP'!G26 | H23: ='PRODUCTION LIST SIMPL GRP'!H26 | I23: ='PRODUCTION LIST SIMPL GRP'!I26 | J23: ='PRODUCTION LIST SIMPL GRP'!J26 | K23: ='PRODUCTION LIST SIMPL GRP'!K26 | ... V23: ='PRODUCTION LIST SIMPL GRP'!V26 -> 0
A24: =B24*'Simpl. all tex-DT PLYWOOD'!I31 -> 0 | B24: =SUM(C24:O24) -> 0 | C24: ='PRODUCTION LIST SIMPL GRP'!A27 -> SMPL-86-DT-GRP | D24: ='PRODUCTION LIST SIMPL GRP'!D27 | E24: ='PRODUCTION LIST SIMPL GRP'!E27 | F24: ='PRODUCTION LIST SIMPL GRP'!F27 | G24: ='PRODUCTION LIST SIMPL GRP'!G27 | H24: ='PRODUCTION LIST SIMPL GRP'!H27 | I24: ='PRODUCTION LIST SIMPL GRP'!I27 | J24: ='PRODUCTION LIST SIMPL GRP'!J27 | K24: ='PRODUCTION LIST SIMPL GRP'!K27 | ... V24: ='PRODUCTION LIST SIMPL GRP'!V27 -> 0
A25: =B25*'Simpl. all tex-DT PLYWOOD'!I33 -> 0 | B25: =SUM(C25:O25) -> 0 | C25: ='PRODUCTION LIST SIMPL GRP'!A28 -> SMPL-87-DT-GRP | D25: ='PRODUCTION LIST SIMPL GRP'!D28 | E25: ='PRODUCTION LIST SIMPL GRP'!E28 | F25: ='PRODUCTION LIST SIMPL GRP'!F28 | G25: ='PRODUCTION LIST SIMPL GRP'!G28 | H25: ='PRODUCTION LIST SIMPL GRP'!H28 | I25: ='PRODUCTION LIST SIMPL GRP'!I28 | J25: ='PRODUCTION LIST SIMPL GRP'!J28 | K25: ='PRODUCTION LIST SIMPL GRP'!K28 | ... V25: ='PRODUCTION LIST SIMPL GRP'!V28 -> 0
A26: =B26*'Simpl. all tex-DT PLYWOOD'!I35 -> 0 | B26: =SUM(C26:O26) -> 0 | C26: ='PRODUCTION LIST SIMPL GRP'!A29 -> SMPL-91-DT-GRP | D26: ='PRODUCTION LIST SIMPL GRP'!D29 | E26: ='PRODUCTION LIST SIMPL GRP'!E29 | F26: ='PRODUCTION LIST SIMPL GRP'!F29 | G26: ='PRODUCTION LIST SIMPL GRP'!G29 | H26: ='PRODUCTION LIST SIMPL GRP'!H29 | I26: ='PRODUCTION LIST SIMPL GRP'!I29 | J26: ='PRODUCTION LIST SIMPL GRP'!J29 | K26: ='PRODUCTION LIST SIMPL GRP'!K29 | ... V26: ='PRODUCTION LIST SIMPL GRP'!V29 -> 0
A27: =B27*'Simpl. all tex-DT PLYWOOD'!I37 -> 0 | B27: =SUM(C27:O27) -> 0 | C27: ='PRODUCTION LIST SIMPL GRP'!A30 -> SMPL-94-DT-GRP | D27: ='PRODUCTION LIST SIMPL GRP'!D30 | E27: ='PRODUCTION LIST SIMPL GRP'!E30 | F27: ='PRODUCTION LIST SIMPL GRP'!F30 | G27: ='PRODUCTION LIST SIMPL GRP'!G30 | H27: ='PRODUCTION LIST SIMPL GRP'!H30 | I27: ='PRODUCTION LIST SIMPL GRP'!I30 | J27: ='PRODUCTION LIST SIMPL GRP'!J30 | K27: ='PRODUCTION LIST SIMPL GRP'!K30 | ... V27: ='PRODUCTION LIST SIMPL GRP'!V30 -> 0
O28: Responsible for packing:
D29: Palette No.: | I29: Date:
D30: Dimensions: | I30: Name:
I31: Signature:

Sheet Simpl. all tex-DT PLYWOOD
B1: 10cm pyramid symbol for sizing is representing PLYWOOD material | K1: Sum price without VAT | L1: =SUM(AA9:AA341) -> 0 | N1: EUR | CP1: DUAL TEXTURE: Classic Simpl DUAL TEXTURE with white shine. Available in 14 different colours in combination with white no texture. | CS1: ALL TEXTURE: FULL TEXTURE available for every single shape and colour of our catalogue. The high quality friction and attention to details SIMPL is known for, with (more) simpl look.
K2: Sum SETS | L2: =SUM(M9:Z341) -> 0 | AA2: SUM production quota: | AC2: =AF5 -> 0
K3: SUM | L3: =SUM(AI9:AI341) -> 0 | N3: kg | CN3: Ordered production quota
AA4: SUM of pcs.
L5: Sum pcs. by colour: | M5: =SUM(AJ9:AJ341) -> 0 | N5: =SUM(AK9:AK341) -> 0 | O5: =SUM(AL9:AL341) -> 0 | P5: =SUM(AM9:AM341) -> 0 | Q5: =SUM(AN9:AN341) -> 0 | R5: =SUM(AO9:AO341) -> 0 | S5: =SUM(AP9:AP341) -> 0 | T5: =SUM(AQ9:AQ341) -> 0 | ... Z5: =SUM(AW9:AW341) -> 0 | AA5: =SUM(M5:Z5) -> 0 | AE5: SUM: | AF5: =SUM(AF8:AF395) -> 0 | BF5: =SUM(BF8:BF349) -> 0 | BG5: =SUM(BG8:BG349) -> 0 | BH5: =SUM(BH8:BH349) -> 0 | BI5: =SUM(BI8:BI349) -> 0 | BJ5: =SUM(BJ8:BJ349) -> 0 | BK5: =SUM(BK8:BK349) -> 0 | BL5: =SUM(BL8:BL349) -> 0 | BM5: =SUM(BM8:BM349) -> 0 | BN5: =SUM(BN8:BN349) -> 0 | BP5: =SUM(BP8:BP349) -> 0 | BQ5: =SUM(BQ8:BQ349) -> 0 | BS5: =SUM(BS8:BS349) -> 0 | BT5: =SUM(BT8:BT349) -> 0 | BU5: =SUM(BU8:BU349) -> 0 | BV5: =SUM(BV8:BV349) -> 0 | BW5: =SUM(BW8:BW349) -> 0 | BX5: =SUM(BX8:BX349) -> 0 | BY5: =SUM(BY8:BY349) -> 0 | BZ5: =SUM(BZ8:BZ349) -> 0 | ... CM5: =SUM(CM8:CM349) -> 0
B6: NEW | D6: ID | E6: TEXTURE | F6: SIZE | G6: DIMENSIONS | H6: TYPE | I6: PCS. IN SET | J6: T-NUTS | K6: FIXING | L6: PRICE WITHOUT VAT | M6: BLACK RAL 9005 | N6: WHITE | O6: RED RAL 3000 | P6: YELLOW RAL 1018 | Q6: BLUE RAL 5015 | R6: BRIGHT GREEN RAL 6018 | S6: PURE GREEN RAL 6037 | T6: APRICOT ORANGE RAL 1033 | U6: DEEP ORANGE RAL 2011 | V6: PINK RAL 4003 | W6: GREY RAL 7001 | X6: PURPLE S4050-R60B/M | Y6: MINT RAL6027 | Z6: DEEP ROSE RAL4008 | AA6: Sum | AB6: ordered | AC6: NEW | AE6: Production quota pet set | AF6: Ordered production quota | AH6: kg | AI6: sum kg | AJ6: black | AK6: white | AL6: red | AM6: yellow | AN6: blue | AO6: green | AP6: pure green | AQ6: orange | AR6: deep orange | AS6: pink | AT6: grey | AU6: purple | AV6: mint | AW6: deep rose | AX6: norma | AY6: screws 50 mm | AZ6: =SUM(AZ9:AZ341) -> 0 | BA6: screws 70 mm | BB6: =SUM(BB9:BB341) -> 0 | BC6: screw longer mm | BD6: =SUM(BD9:BD341) -> 0 | BF6: XS | BG6: S | BH6: M | BI6: L | BJ6: XL | BK6: 2XL | BL6: 3XL | BM6: 4XL | BN6: various | BP6: all texture | BQ6: dual texture | BS6: sloper | BT6: footholds | BU6: micros | BV6: jug | BW6: ledge | BX6: edge | BY6: crimp | BZ6: incut | CA6: dish | CB6: pinch | CC6: pocket | CD6: insert | CE6: feature | CF6: scoop | CG6: arete | CH6: square | CI6: positive | CJ6: pyramid | CK6: high profile | CL6: rectangle | CM6: various
M7: 01 | N7: 02 | O7: 03 | P7: 04 | Q7: 05 | R7: 06 | S7: 15 | T7: 07 | U7: 08 | V7: 09 | W7: 10 | X7: 11 | Y7: 12 | Z7: 13
D8: 1 - FLAT
D9: SIMPL-1A | E9: Dual tex. | F9: S | G9: 10x 18x6 cm | H9: pyramid | I9: 10 | J9: 0 | K9: screws | L9: 378.3087 | AA9: =L9*M9+L9*N9+L9*O9+L9*P9+L9*Q9+L9*R9+L9*T9+L9*V9+L9*W9+L9*X9+L9*Y9+L9*Z9+L9*U9+L9*S9 -> 0 | AB9: =IF(SUM(M9:Z9)>0,"Yes","No") -> No | AC9: =IF(B9="New","Yes","No") -> No | AE9: 10 | AF9: =AE9*SUM(M9:Z9) -> 0 | AH9: 1.65 | AI9: =SUM(M9:Z9)*AH9 -> 0 | AJ9: =M9*I9 -> 0 | AK9: =N9*I9 -> 0 | AL9: =O9*I9 -> 0 | AM9: =P9*I9 -> 0 | AN9: =Q9*I9 -> 0 | AO9: =R9*I9 -> 0 | AP9: =S9*I9 -> 0 | AQ9: =T9*I9 -> 0 | AR9: =U9*I9 -> 0 | AS9: =V9*I9 -> 0 | AT9: =W9*I9 -> 0 | AU9: =X9*I9 -> 0 | AV9: =Y9*I9 -> 0 | AW9: =Z9*I9 -> 0 | AX9: 10 | AY9: 30 | AZ9: =SUM(M9:Z9)*AY9 -> 0 | BB9: =SUM(M9:Z9)*BA9 -> 0 | BD9: =SUM(M9:Z9)*BC9 -> 0 | BF9: =IF(F9="XS",IF(SUM(M9:Z9)>0,SUM(M9:Z9),0),0)*I9 -> 0 | BG9: =IF(F9="S",IF(SUM(M9:Z9)>0,SUM(M9:Z9),0),0)*I9 -> 0 | BH9: =IF(F9="M",IF(SUM(M9:Z9)>0,SUM(M9:Z9),0),0)*I9 -> 0 | BI9: =IF(F9="L",IF(SUM(M9:Z9)>0,SUM(M9:Z9),0),0)*I9 -> 0 | BJ9: =IF(F9="XL",IF(SUM(M9:Z9)>0,SUM(M9:Z9),0),0)*I9 -> 0 | BK9: =IF(F9="2XL",IF(SUM(M9:Z9)>0,SUM(M9:Z9),0),0)*I9 -> 0 | BL9: =IF(F9="3XL",IF(SUM(M9:Z9)>0,SUM(M9:Z9),0),0)*I9 -> 0 | BM9: =IF(F9="4XL",IF(SUM(M9:Z9)>0,SUM(M9:Z9),0),0)*I9 -> 0 | BN9: =IF(F9="various",IF(SUM(M9:Z9)>0,SUM(M9:Z9),0),0)*I9 -> 0 | BP9: =IF(E9="All tex.",IF(SUM(M9:Z9)>0,SUM(M9:Z9),0),0)*I9 -> 0 | BQ9: =IF(E9="Dual tex.",IF(SUM(M9:Z9)>0,SUM(M9:Z9),0),0)*I9 -> 0 | BS9: =IF(H9="sloper",IF(SUM(M9:Z9)>0,SUM(M9:Z9),0),0)*I9 -> 0 | BT9: =IF(H9="footholds",IF(SUM(M9:Z9)>0,SUM(M9:Z9),0),0)*I9 -> 0 | BU9: =IF(H9="micros",IF(SUM(M9:Z9)>0,SUM(M9:Z9),0),0)*I9 -> 0 | BV9: =IF(H9="jug",IF(SUM(M9:Z9)>0,SUM(M9:Z9),0),0)*I9 -> 0 | BW9: =IF(H9="ledge",IF(SUM(M9:Z9)>0,SUM(M9:Z9),0),0)*I9 -> 0 | BX9: =IF(H9="edge",IF(SUM(M9:Z9)>0,SUM(M9:Z9),0),0)*I9 -> 0 | BY9: =IF(H9="crimp",IF(SUM(M9:Z9)>0,SUM(M9:Z9),0),0)*I9 -> 0 | BZ9: =IF(H9="incut",IF(SUM(M9:Z9)>0,SUM(M9:Z9),0),0)*I9 -> 0 | CA9: =IF(H9="dish",IF(SUM(M9:Z9)>0,SUM(M9:Z9),0),0)*I9 -> 0 | CB9: =IF(H9="pinch",IF(SUM(M9:Z9)>0,SUM(M9:Z9),0),0)*I9 -> 0 | CC9: =IF(H9="pocket",IF(SUM(M9:Z9)>0,SUM(M9:Z9),0),0)*I9 -> 0 | CD9: =IF(H9="insert",IF(SUM(M9:Z9)>0,SUM(M9:Z9),0),0)*I9 -> 0 | CE9: =IF(H9="feature",IF(SUM(M9:Z9)>0,SUM(M9:Z9),0),0)*I9 -> 0 | CF9: =IF(H9="scoop",IF(SUM(M9:Z9)>0,SUM(M9:Z9),0),0)*I9 -> 0 | CG9: =IF(H9="arete",IF(SUM(M9:Z9)>0,SUM(M9:Z9),0),0)*I9 -> 0 | CH9: =IF(H9="square",IF(SUM(M9:Z9)>0,SUM(M9:Z9),0),0)*I9 -> 0 | CI9: =IF(H9="positive",IF(SUM(M9:Z9)>0,SUM(M9:Z9),0),0)*I9 -> 0 | CJ9: =IF(H9="pyramid",IF(SUM(M9:Z9)>0,SUM(M9:Z9),0),0)*I9 -> 0 | CK9: =IF(H9="high profile",IF(SUM(M9:Z9)>0,SUM(M9:Z9),0),0)*I9 -> 0 | CL9: =IF(H9="rectangle",IF(SUM(M9:Z9)>0,SUM(M9:Z9),0),0)*I9 -> 0 | CM9: =IF(H9="various",IF(SUM(M9:Z9)>0,SUM(M9:Z9),0),0)*I9 -> 0
D10: SIMPL-1A-T | E10: All tex. | F10: S | G10: 10x 18x6 cm | H10: pyramid | I10: 10 | J10: 0 | K10: screws | L10: 328.9614 | AA10: =L10*M10+L10*N10+L10*O10+L10*P10+L10*Q10+L10*R10+L10*T10+L10*V10+L10*W10+L10*X10+L10*Y10+L10*Z10+L10*U10+L10*S10 -> 0 | AB10: =IF(SUM(M10:Z10)>0,"Yes","No") -> No | AC10: =IF(B10="New","Yes","No") -> No | AE10: 10 | AF10: =AE10*SUM(M10:Z10) -> 0 | AH10: 1.65 | AI10: =SUM(M10:Z10)*AH10 -> 0 | AJ10: =M10*I10 -> 0 | AK10: =N10*I10 -> 0 | AL10: =O10*I10 -> 0 | AM10: =P10*I10 -> 0 | AN10: =Q10*I10 -> 0 | AO10: =R10*I10 -> 0 | AP10: =S10*I10 -> 0 | AQ10: =T10*I10 -> 0 | AR10: =U10*I10 -> 0 | AS10: =V10*I10 -> 0 | AT10: =W10*I10 -> 0 | AU10: =X10*I10 -> 0 | AV10: =Y10*I10 -> 0 | AW10: =Z10*I10 -> 0 | AX10: 10 | AY10: 30 | AZ10: =SUM(M10:Z10)*AY10 -> 0 | BB10: =SUM(M10:Z10)*BA10 -> 0 | BD10: =SUM(M10:Z10)*BC10 -> 0 | BF10: =IF(F10="XS",IF(SUM(M10:Z10)>0,SUM(M10:Z10),0),0)*I10 -> 0 | BG10: =IF(F10="S",IF(SUM(M10:Z10)>0,SUM(M10:Z10),0),0)*I10 -> 0 | BH10: =IF(F10="M",IF(SUM(M10:Z10)>0,SUM(M10:Z10),0),0)*I10 -> 0 | BI10: =IF(F10="L",IF(SUM(M10:Z10)>0,SUM(M10:Z10),0),0)*I10 -> 0 | BJ10: =IF(F10="XL",IF(SUM(M10:Z10)>0,SUM(M10:Z10),0),0)*I10 -> 0 | BK10: =IF(F10="2XL",IF(SUM(M10:Z10)>0,SUM(M10:Z10),0),0)*I10 -> 0 | BL10: =IF(F10="3XL",IF(SUM(M10:Z10)>0,SUM(M10:Z10),0),0)*I10 -> 0 | BM10: =IF(F10="4XL",IF(SUM(M10:Z10)>0,SUM(M10:Z10),0),0)*I10 -> 0 | BN10: =IF(F10="various",IF(SUM(M10:Z10)>0,SUM(M10:Z10),0),0)*I10 -> 0 | BP10: =IF(E10="All tex.",IF(SUM(M10:Z10)>0,SUM(M10:Z10),0),0)*I10 -> 0 | BQ10: =IF(E10="Dual tex.",IF(SUM(M10:Z10)>0,SUM(M10:Z10),0),0)*I10 -> 0 | BS10: =IF(H10="sloper",IF(SUM(M10:Z10)>0,SUM(M10:Z10),0),0)*I10 -> 0 | BT10: =IF(H10="footholds",IF(SUM(M10:Z10)>0,SUM(M10:Z10),0),0)*I10 -> 0 | BU10: =IF(H10="micros",IF(SUM(M10:Z10)>0,SUM(M10:Z10),0),0)*I10 -> 0 | BV10: =IF(H10="jug",IF(SUM(M10:Z10)>0,SUM(M10:Z10),0),0)*I10 -> 0 | BW10: =IF(H10="ledge",IF(SUM(M10:Z10)>0,SUM(M10:Z10),0),0)*I10 -> 0 | BX10: =IF(H10="edge",IF(SUM(M10:Z10)>0,SUM(M10:Z10),0),0)*I10 -> 0 | BY10: =IF(H10="crimp",IF(SUM(M10:Z10)>0,SUM(M10:Z10),0),0)*I10 -> 0 | BZ10: =IF(H10="incut",IF(SUM(M10:Z10)>0,SUM(M10:Z10),0),0)*I10 -> 0 | CA10: =IF(H10="dish",IF(SUM(M10:Z10)>0,SUM(M10:Z10),0),0)*I10 -> 0 | CB10: =IF(H10="pinch",IF(SUM(M10:Z10)>0,SUM(M10:Z10),0),0)*I10 -> 0 | CC10: =IF(H10="pocket",IF(SUM(M10:Z10)>0,SUM(M10:Z10),0),0)*I10 -> 0 | CD10: =IF(H10="insert",IF(SUM(M10:Z10)>0,SUM(M10:Z10),0),0)*I10 -> 0 | CE10: =IF(H10="feature",IF(SUM(M10:Z10)>0,SUM(M10:Z10),0),0)*I10 -> 0 | CF10: =IF(H10="scoop",IF(SUM(M10:Z10)>0,SUM(M10:Z10),0),0)*I10 -> 0 | CG10: =IF(H10="arete",IF(SUM(M10:Z10)>0,SUM(M10:Z10),0),0)*I10 -> 0 | CH10: =IF(H10="square",IF(SUM(M10:Z10)>0,SUM(M10:Z10),0),0)*I10 -> 0 | CI10: =IF(H10="positive",IF(SUM(M10:Z10)>0,SUM(M10:Z10),0),0)*I10 -> 0 | CJ10: =IF(H10="pyramid",IF(SUM(M10:Z10)>0,SUM(M10:Z10),0),0)*I10 -> 0 | CK10: =IF(H10="high profile",IF(SUM(M10:Z10)>0,SUM(M10:Z10),0),0)*I10 -> 0 | CL10: =IF(H10="rectangle",IF(SUM(M10:Z10)>0,SUM(M10:Z10),0),0)*I10 -> 0 | CM10: =IF(H10="various",IF(SUM(M10:Z10)>0,SUM(M10:Z10),0),0)*I10 -> 0
D11: SIMPL-1B | E11: Dual tex. | F11: S | G11: 5x 28x7 cm | H11: pyramid | I11: 5 | J11: 0 | K11: screws | L11: 257.93775 | AA11: =L11*M11+L11*N11+L11*O11+L11*P11+L11*Q11+L11*R11+L11*T11+L11*V11+L11*W11+L11*X11+L11*Y11+L11*Z11+L11*U11+L11*S11 -> 0 | AB11: =IF(SUM(M11:Z11)>0,"Yes","No") -> No | AC11: =IF(B11="New","Yes","No") -> No | AE11: 5 | AF11: =AE11*SUM(M11:Z11) -> 0 | AH11: 2.5 | AI11: =SUM(M11:Z11)*AH11 -> 0 | AJ11: =M11*I11 -> 0 | AK11: =N11*I11 -> 0 | AL11: =O11*I11 -> 0 | AM11: =P11*I11 -> 0 | AN11: =Q11*I11 -> 0 | AO11: =R11*I11 -> 0 | AP11: =S11*I11 -> 0 | AQ11: =T11*I11 -> 0 | AR11: =U11*I11 -> 0 | AS11: =V11*I11 -> 0 | AT11: =W11*I11 -> 0 | AU11: =X11*I11 -> 0 | AV11: =Y11*I11 -> 0 | AW11: =Z11*I11 -> 0 | AX11: 5 | AY11: 20 | AZ11: =SUM(M11:Z11)*AY11 -> 0 | BB11: =SUM(M11:Z11)*BA11 -> 0 | BD11: =SUM(M11:Z11)*BC11 -> 0 | BF11: =IF(F11="XS",IF(SUM(M11:Z11)>0,SUM(M11:Z11),0),0)*I11 -> 0 | BG11: =IF(F11="S",IF(SUM(M11:Z11)>0,SUM(M11:Z11),0),0)*I11 -> 0 | BH11: =IF(F11="M",IF(SUM(M11:Z11)>0,SUM(M11:Z11),0),0)*I11 -> 0 | BI11: =IF(F11="L",IF(SUM(M11:Z11)>0,SUM(M11:Z11),0),0)*I11 -> 0 | BJ11: =IF(F11="XL",IF(SUM(M11:Z11)>0,SUM(M11:Z11),0),0)*I11 -> 0 | BK11: =IF(F11="2XL",IF(SUM(M11:Z11)>0,SUM(M11:Z11),0),0)*I11 -> 0 | BL11: =IF(F11="3XL",IF(SUM(M11:Z11)>0,SUM(M11:Z11),0),0)*I11 -> 0 | BM11: =IF(F11="4XL",IF(SUM(M11:Z11)>0,SUM(M11:Z11),0),0)*I11 -> 0 | BN11: =IF(F11="various",IF(SUM(M11:Z11)>0,SUM(M11:Z11),0),0)*I11 -> 0 | BP11: =IF(E11="All tex.",IF(SUM(M11:Z11)>0,SUM(M11:Z11),0),0)*I11 -> 0 | BQ11: =IF(E11="Dual tex.",IF(SUM(M11:Z11)>0,SUM(M11:Z11),0),0)*I11 -> 0 | BS11: =IF(H11="sloper",IF(SUM(M11:Z11)>0,SUM(M11:Z11),0),0)*I11 -> 0 | BT11: =IF(H11="footholds",IF(SUM(M11:Z11)>0,SUM(M11:Z11),0),0)*I11 -> 0 | BU11: =IF(H11="micros",IF(SUM(M11:Z11)>0,SUM(M11:Z11),0),0)*I11 -> 0 | BV11: =IF(H11="jug",IF(SUM(M11:Z11)>0,SUM(M11:Z11),0),0)*I11 -> 0 | BW11: =IF(H11="ledge",IF(SUM(M11:Z11)>0,SUM(M11:Z11),0),0)*I11 -> 0 | BX11: =IF(H11="edge",IF(SUM(M11:Z11)>0,SUM(M11:Z11),0),0)*I11 -> 0 | BY11: =IF(H11="crimp",IF(SUM(M11:Z11)>0,SUM(M11:Z11),0),0)*I11 -> 0 | BZ11: =IF(H11="incut",IF(SUM(M11:Z11)>0,SUM(M11:Z11),0),0)*I11 -> 0 | CA11: =IF(H11="dish",IF(SUM(M11:Z11)>0,SUM(M11:Z11),0),0)*I11 -> 0 | CB11: =IF(H11="pinch",IF(SUM(M11:Z11)>0,SUM(M11:Z11),0),0)*I11 -> 0 | CC11: =IF(H11="pocket",IF(SUM(M11:Z11)>0,SUM(M11:Z11),0),0)*I11 -> 0 | CD11: =IF(H11="insert",IF(SUM(M11:Z11)>0,SUM(M11:Z11),0),0)*I11 -> 0 | CE11: =IF(H11="feature",IF(SUM(M11:Z11)>0,SUM(M11:Z11),0),0)*I11 -> 0 | CF11: =IF(H11="scoop",IF(SUM(M11:Z11)>0,SUM(M11:Z11),0),0)*I11 -> 0 | CG11: =IF(H11="arete",IF(SUM(M11:Z11)>0,SUM(M11:Z11),0),0)*I11 -> 0 | CH11: =IF(H11="square",IF(SUM(M11:Z11)>0,SUM(M11:Z11),0),0)*I11 -> 0 | CI11: =IF(H11="positive",IF(SUM(M11:Z11)>0,SUM(M11:Z11),0),0)*I11 -> 0 | CJ11: =IF(H11="pyramid",IF(SUM(M11:Z11)>0,SUM(M11:Z11),0),0)*I11 -> 0 | CK11: =IF(H11="high profile",IF(SUM(M11:Z11)>0,SUM(M11:Z11),0),0)*I11 -> 0 | CL11: =IF(H11="rectangle",IF(SUM(M11:Z11)>0,SUM(M11:Z11),0),0)*I11 -> 0 | CM11: =IF(H11="various",IF(SUM(M11:Z11)>0,SUM(M11:Z11),0),0)*I11 -> 0
D12: SIMPL-1B-T | E12: All tex. | F12: S | G12: 5x 28x7 cm | H12: pyramid | I12: 5 | J12: 0 | K12: screws | L12: 224.3031 | AA12: =L12*M12+L12*N12+L12*O12+L12*P12+L12*Q12+L12*R12+L12*T12+L12*V12+L12*W12+L12*X12+L12*Y12+L12*Z12+L12*U12+L12*S12 -> 0 | AB12: =IF(SUM(M12:Z12)>0,"Yes","No") -> No | AC12: =IF(B12="New","Yes","No") -> No | AE12: 5 | AF12: =AE12*SUM(M12:Z12) -> 0 | AH12: 2.5 | AI12: =SUM(M12:Z12)*AH12 -> 0 | AJ12: =M12*I12 -> 0 | AK12: =N12*I12 -> 0 | AL12: =O12*I12 -> 0 | AM12: =P12*I12 -> 0 | AN12: =Q12*I12 -> 0 | AO12: =R12*I12 -> 0 | AP12: =S12*I12 -> 0 | AQ12: =T12*I12 -> 0 | AR12: =U12*I12 -> 0 | AS12: =V12*I12 -> 0 | AT12: =W12*I12 -> 0 | AU12: =X12*I12 -> 0 | AV12: =Y12*I12 -> 0 | AW12: =Z12*I12 -> 0 | AX12: 5 | AY12: 20 | AZ12: =SUM(M12:Z12)*AY12 -> 0 | BB12: =SUM(M12:Z12)*BA12 -> 0 | BD12: =SUM(M12:Z12)*BC12 -> 0 | BF12: =IF(F12="XS",IF(SUM(M12:Z12)>0,SUM(M12:Z12),0),0)*I12 -> 0 | BG12: =IF(F12="S",IF(SUM(M12:Z12)>0,SUM(M12:Z12),0),0)*I12 -> 0 | BH12: =IF(F12="M",IF(SUM(M12:Z12)>0,SUM(M12:Z12),0),0)*I12 -> 0 | BI12: =IF(F12="L",IF(SUM(M12:Z12)>0,SUM(M12:Z12),0),0)*I12 -> 0 | BJ12: =IF(F12="XL",IF(SUM(M12:Z12)>0,SUM(M12:Z12),0),0)*I12 -> 0 | BK12: =IF(F12="2XL",IF(SUM(M12:Z12)>0,SUM(M12:Z12),0),0)*I12 -> 0 | BL12: =IF(F12="3XL",IF(SUM(M12:Z12)>0,SUM(M12:Z12),0),0)*I12 -> 0 | BM12: =IF(F12="4XL",IF(SUM(M12:Z12)>0,SUM(M12:Z12),0),0)*I12 -> 0 | BN12: =IF(F12="various",IF(SUM(M12:Z12)>0,SUM(M12:Z12),0),0)*I12 -> 0 | BP12: =IF(E12="All tex.",IF(SUM(M12:Z12)>0,SUM(M12:Z12),0),0)*I12 -> 0 | BQ12: =IF(E12="Dual tex.",IF(SUM(M12:Z12)>0,SUM(M12:Z12),0),0)*I12 -> 0 | BS12: =IF(H12="sloper",IF(SUM(M12:Z12)>0,SUM(M12:Z12),0),0)*I12 -> 0 | BT12: =IF(H12="footholds",IF(SUM(M12:Z12)>0,SUM(M12:Z12),0),0)*I12 -> 0 | BU12: =IF(H12="micros",IF(SUM(M12:Z12)>0,SUM(M12:Z12),0),0)*I12 -> 0 | BV12: =IF(H12="jug",IF(SUM(M12:Z12)>0,SUM(M12:Z12),0),0)*I12 -> 0 | BW12: =IF(H12="ledge",IF(SUM(M12:Z12)>0,SUM(M12:Z12),0),0)*I12 -> 0 | BX12: =IF(H12="edge",IF(SUM(M12:Z12)>0,SUM(M12:Z12),0),0)*I12 -> 0 | BY12: =IF(H12="crimp",IF(SUM(M12:Z12)>0,SUM(M12:Z12),0),0)*I12 -> 0 | BZ12: =IF(H12="incut",IF(SUM(M12:Z12)>0,SUM(M12:Z12),0),0)*I12 -> 0 | CA12: =IF(H12="dish",IF(SUM(M12:Z12)>0,SUM(M12:Z12),0),0)*I12 -> 0 | CB12: =IF(H12="pinch",IF(SUM(M12:Z12)>0,SUM(M12:Z12),0),0)*I12 -> 0 | CC12: =IF(H12="pocket",IF(SUM(M12:Z12)>0,SUM(M12:Z12),0),0)*I12 -> 0 | CD12: =IF(H12="insert",IF(SUM(M12:Z12)>0,SUM(M12:Z12),0),0)*I12 -> 0 | CE12: =IF(H12="feature",IF(SUM(M12:Z12)>0,SUM(M12:Z12),0),0)*I12 -> 0 | CF12: =IF(H12="scoop",IF(SUM(M12:Z12)>0,SUM(M12:Z12),0),0)*I12 -> 0 | CG12: =IF(H12="arete",IF(SUM(M12:Z12)>0,SUM(M12:Z12),0),0)*I12 -> 0 | CH12: =IF(H12="square",IF(SUM(M12:Z12)>0,SUM(M12:Z12),0),0)*I12 -> 0 | CI12: =IF(H12="positive",IF(SUM(M12:Z12)>0,SUM(M12:Z12),0),0)*I12 -> 0 | CJ12: =IF(H12="pyramid",IF(SUM(M12:Z12)>0,SUM(M12:Z12),0),0)*I12 -> 0 | CK12: =IF(H12="high profile",IF(SUM(M12:Z12)>0,SUM(M12:Z12),0),0)*I12 -> 0 | CL12: =IF(H12="rectangle",IF(SUM(M12:Z12)>0,SUM(M12:Z12),0),0)*I12 -> 0 | CM12: =IF(H12="various",IF(SUM(M12:Z12)>0,SUM(M12:Z12),0),0)*I12 -> 0
D13: SIMPL-1C | E13: Dual tex. | F13: M | G13: 4x 41x12 cm | H13: pyramid | I13: 4 | J13: 0 | K13: screws | L13: 257.93775 | AA13: =L13*M13+L13*N13+L13*O13+L13*P13+L13*Q13+L13*R13+L13*T13+L13*V13+L13*W13+L13*X13+L13*Y13+L13*Z13+L13*U13+L13*S13 -> 0 | AB13: =IF(SUM(M13:Z13)>0,"Yes","No") -> No | AC13: =IF(B13="New","Yes","No") -> No | AE13: 4 | AF13: =AE13*SUM(M13:Z13) -> 0 | AH13: 5.2 | AI13: =SUM(M13:Z13)*AH13 -> 0 | AJ13: =M13*I13 -> 0 | AK13: =N13*I13 -> 0 | AL13: =O13*I13 -> 0 | AM13: =P13*I13 -> 0 | AN13: =Q13*I13 -> 0 | AO13: =R13*I13 -> 0 | AP13: =S13*I13 -> 0 | AQ13: =T13*I13 -> 0 | AR13: =U13*I13 -> 0 | AS13: =V13*I13 -> 0 | AT13: =W13*I13 -> 0 | AU13: =X13*I13 -> 0 | AV13: =Y13*I13 -> 0 | AW13: =Z13*I13 -> 0 | AX13: 4 | AY13: 16 | AZ13: =SUM(M13:Z13)*AY13 -> 0 | BB13: =SUM(M13:Z13)*BA13 -> 0 | BD13: =SUM(M13:Z13)*BC13 -> 0 | BF13: =IF(F13="XS",IF(SUM(M13:Z13)>0,SUM(M13:Z13),0),0)*I13 -> 0 | BG13: =IF(F13="S",IF(SUM(M13:Z13)>0,SUM(M13:Z13),0),0)*I13 -> 0 | BH13: =IF(F13="M",IF(SUM(M13:Z13)>0,SUM(M13:Z13),0),0)*I13 -> 0 | BI13: =IF(F13="L",IF(SUM(M13:Z13)>0,SUM(M13:Z13),0),0)*I13 -> 0 | BJ13: =IF(F13="XL",IF(SUM(M13:Z13)>0,SUM(M13:Z13),0),0)*I13 -> 0 | BK13: =IF(F13="2XL",IF(SUM(M13:Z13)>0,SUM(M13:Z13),0),0)*I13 -> 0 | BL13: =IF(F13="3XL",IF(SUM(M13:Z13)>0,SUM(M13:Z13),0),0)*I13 -> 0 | BM13: =IF(F13="4XL",IF(SUM(M13:Z13)>0,SUM(M13:Z13),0),0)*I13 -> 0 | BN13: =IF(F13="various",IF(SUM(M13:Z13)>0,SUM(M13:Z13),0),0)*I13 -> 0 | BP13: =IF(E13="All tex.",IF(SUM(M13:Z13)>0,SUM(M13:Z13),0),0)*I13 -> 0 | BQ13: =IF(E13="Dual tex.",IF(SUM(M13:Z13)>0,SUM(M13:Z13),0),0)*I13 -> 0 | BS13: =IF(H13="sloper",IF(SUM(M13:Z13)>0,SUM(M13:Z13),0),0)*I13 -> 0 | BT13: =IF(H13="footholds",IF(SUM(M13:Z13)>0,SUM(M13:Z13),0),0)*I13 -> 0 | BU13: =IF(H13="micros",IF(SUM(M13:Z13)>0,SUM(M13:Z13),0),0)*I13 -> 0 | BV13: =IF(H13="jug",IF(SUM(M13:Z13)>0,SUM(M13:Z13),0),0)*I13 -> 0 | BW13: =IF(H13="ledge",IF(SUM(M13:Z13)>0,SUM(M13:Z13),0),0)*I13 -> 0 | BX13: =IF(H13="edge",IF(SUM(M13:Z13)>0,SUM(M13:Z13),0),0)*I13 -> 0 | BY13: =IF(H13="crimp",IF(SUM(M13:Z13)>0,SUM(M13:Z13),0),0)*I13 -> 0 | BZ13: =IF(H13="incut",IF(SUM(M13:Z13)>0,SUM(M13:Z13),0),0)*I13 -> 0 | CA13: =IF(H13="dish",IF(SUM(M13:Z13)>0,SUM(M13:Z13),0),0)*I13 -> 0 | CB13: =IF(H13="pinch",IF(SUM(M13:Z13)>0,SUM(M13:Z13),0),0)*I13 -> 0 | CC13: =IF(H13="pocket",IF(SUM(M13:Z13)>0,SUM(M13:Z13),0),0)*I13 -> 0 | CD13: =IF(H13="insert",IF(SUM(M13:Z13)>0,SUM(M13:Z13),0),0)*I13 -> 0 | CE13: =IF(H13="feature",IF(SUM(M13:Z13)>0,SUM(M13:Z13),0),0)*I13 -> 0 | CF13: =IF(H13="scoop",IF(SUM(M13:Z13)>0,SUM(M13:Z13),0),0)*I13 -> 0 | CG13: =IF(H13="arete",IF(SUM(M13:Z13)>0,SUM(M13:Z13),0),0)*I13 -> 0 | CH13: =IF(H13="square",IF(SUM(M13:Z13)>0,SUM(M13:Z13),0),0)*I13 -> 0 | CI13: =IF(H13="positive",IF(SUM(M13:Z13)>0,SUM(M13:Z13),0),0)*I13 -> 0 | CJ13: =IF(H13="pyramid",IF(SUM(M13:Z13)>0,SUM(M13:Z13),0),0)*I13 -> 0 | CK13: =IF(H13="high profile",IF(SUM(M13:Z13)>0,SUM(M13:Z13),0),0)*I13 -> 0 | CL13: =IF(H13="rectangle",IF(SUM(M13:Z13)>0,SUM(M13:Z13),0),0)*I13 -> 0 | CM13: =IF(H13="various",IF(SUM(M13:Z13)>0,SUM(M13:Z13),0),0)*I13 -> 0
D14: SIMPL-1C-T | E14: All tex. | F14: M | G14: 4x 41x12 cm | H14: pyramid | I14: 4 | J14: 0 | K14: screws | L14: 224.3031 | AA14: =L14*M14+L14*N14+L14*O14+L14*P14+L14*Q14+L14*R14+L14*T14+L14*V14+L14*W14+L14*X14+L14*Y14+L14*Z14+L14*U14+L14*S14 -> 0 | AB14: =IF(SUM(M14:Z14)>0,"Yes","No") -> No | AC14: =IF(B14="New","Yes","No") -> No | AE14: 4 | AF14: =AE14*SUM(M14:Z14) -> 0 | AH14: 5.2 | AI14: =SUM(M14:Z14)*AH14 -> 0 | AJ14: =M14*I14 -> 0 | AK14: =N14*I14 -> 0 | AL14: =O14*I14 -> 0 | AM14: =P14*I14 -> 0 | AN14: =Q14*I14 -> 0 | AO14: =R14*I14 -> 0 | AP14: =S14*I14 -> 0 | AQ14: =T14*I14 -> 0 | AR14: =U14*I14 -> 0 | AS14: =V14*I14 -> 0 | AT14: =W14*I14 -> 0 | AU14: =X14*I14 -> 0 | AV14: =Y14*I14 -> 0 | AW14: =Z14*I14 -> 0 | AX14: 4 | AY14: 16 | AZ14: =SUM(M14:Z14)*AY14 -> 0 | BB14: =SUM(M14:Z14)*BA14 -> 0 | BD14: =SUM(M14:Z14)*BC14 -> 0 | BF14: =IF(F14="XS",IF(SUM(M14:Z14)>0,SUM(M14:Z14),0),0)*I14 -> 0 | BG14: =IF(F14="S",IF(SUM(M14:Z14)>0,SUM(M14:Z14),0),0)*I14 -> 0 | BH14: =IF(F14="M",IF(SUM(M14:Z14)>0,SUM(M14:Z14),0),0)*I14 -> 0 | BI14: =IF(F14="L",IF(SUM(M14:Z14)>0,SUM(M14:Z14),0),0)*I14 -> 0 | BJ14: =IF(F14="XL",IF(SUM(M14:Z14)>0,SUM(M14:Z14),0),0)*I14 -> 0 | BK14: =IF(F14="2XL",IF(SUM(M14:Z14)>0,SUM(M14:Z14),0),0)*I14 -> 0 | BL14: =IF(F14="3XL",IF(SUM(M14:Z14)>0,SUM(M14:Z14),0),0)*I14 -> 0 | BM14: =IF(F14="4XL",IF(SUM(M14:Z14)>0,SUM(M14:Z14),0),0)*I14 -> 0 | BN14: =IF(F14="various",IF(SUM(M14:Z14)>0,SUM(M14:Z14),0),0)*I14 -> 0 | BP14: =IF(E14="All tex.",IF(SUM(M14:Z14)>0,SUM(M14:Z14),0),0)*I14 -> 0 | BQ14: =IF(E14="Dual tex.",IF(SUM(M14:Z14)>0,SUM(M14:Z14),0),0)*I14 -> 0 | BS14: =IF(H14="sloper",IF(SUM(M14:Z14)>0,SUM(M14:Z14),0),0)*I14 -> 0 | BT14: =IF(H14="footholds",IF(SUM(M14:Z14)>0,SUM(M14:Z14),0),0)*I14 -> 0 | BU14: =IF(H14="micros",IF(SUM(M14:Z14)>0,SUM(M14:Z14),0),0)*I14 -> 0 | BV14: =IF(H14="jug",IF(SUM(M14:Z14)>0,SUM(M14:Z14),0),0)*I14 -> 0 | BW14: =IF(H14="ledge",IF(SUM(M14:Z14)>0,SUM(M14:Z14),0),0)*I14 -> 0 | BX14: =IF(H14="edge",IF(SUM(M14:Z14)>0,SUM(M14:Z14),0),0)*I14 -> 0 | BY14: =IF(H14="crimp",IF(SUM(M14:Z14)>0,SUM(M14:Z14),0),0)*I14 -> 0 | BZ14: =IF(H14="incut",IF(SUM(M14:Z14)>0,SUM(M14:Z14),0),0)*I14 -> 0 | CA14: =IF(H14="dish",IF(SUM(M14:Z14)>0,SUM(M14:Z14),0),0)*I14 -> 0 | CB14: =IF(H14="pinch",IF(SUM(M14:Z14)>0,SUM(M14:Z14),0),0)*I14 -> 0 | CC14: =IF(H14="pocket",IF(SUM(M14:Z14)>0,SUM(M14:Z14),0),0)*I14 -> 0 | CD14: =IF(H14="insert",IF(SUM(M14:Z14)>0,SUM(M14:Z14),0),0)*I14 -> 0 | CE14: =IF(H14="feature",IF(SUM(M14:Z14)>0,SUM(M14:Z14),0),0)*I14 -> 0 | CF14: =IF(H14="scoop",IF(SUM(M14:Z14)>0,SUM(M14:Z14),0),0)*I14 -> 0 | CG14: =IF(H14="arete",IF(SUM(M14:Z14)>0,SUM(M14:Z14),0),0)*I14 -> 0 | CH14: =IF(H14="square",IF(SUM(M14:Z14)>0,SUM(M14:Z14),0),0)*I14 -> 0 | CI14: =IF(H14="positive",IF(SUM(M14:Z14)>0,SUM(M14:Z14),0),0)*I14 -> 0 | CJ14: =IF(H14="pyramid",IF(SUM(M14:Z14)>0,SUM(M14:Z14),0),0)*I14 -> 0 | CK14: =IF(H14="high profile",IF(SUM(M14:Z14)>0,SUM(M14:Z14),0),0)*I14 -> 0 | CL14: =IF(H14="rectangle",IF(SUM(M14:Z14)>0,SUM(M14:Z14),0),0)*I14 -> 0 | CM14: =IF(H14="various",IF(SUM(M14:Z14)>0,SUM(M14:Z14),0),0)*I14 -> 0
D15: SIMPL-1D | E15: Dual tex. | F15: L | G15: 3x 54x15 cm | H15: pyramid | I15: 3 | J15: 0 | K15: screws | L15: 257.93775 | AA15: =L15*M15+L15*N15+L15*O15+L15*P15+L15*Q15+L15*R15+L15*T15+L15*V15+L15*W15+L15*X15+L15*Y15+L15*Z15+L15*U15+L15*S15 -> 0 | AB15: =IF(SUM(M15:Z15)>0,"Yes","No") -> No | AC15: =IF(B15="New","Yes","No") -> No | AE15: 3 | AF15: =AE15*SUM(M15:Z15) -> 0 | AH15: 6.4 | AI15: =SUM(M15:Z15)*AH15 -> 0 | AJ15: =M15*I15 -> 0 | AK15: =N15*I15 -> 0 | AL15: =O15*I15 -> 0 | AM15: =P15*I15 -> 0 | AN15: =Q15*I15 -> 0 | AO15: =R15*I15 -> 0 | AP15: =S15*I15 -> 0 | AQ15: =T15*I15 -> 0 | AR15: =U15*I15 -> 0 | AS15: =V15*I15 -> 0 | AT15: =W15*I15 -> 0 | AU15: =X15*I15 -> 0 | AV15: =Y15*I15 -> 0 | AW15: =Z15*I15 -> 0 | AX15: 3 | AY15: 18 | AZ15: =SUM(M15:Z15)*AY15 -> 0 | BB15: =SUM(M15:Z15)*BA15 -> 0 | BD15: =SUM(M15:Z15)*BC15 -> 0 | BF15: =IF(F15="XS",IF(SUM(M15:Z15)>0,SUM(M15:Z15),0),0)*I15 -> 0 | BG15: =IF(F15="S",IF(SUM(M15:Z15)>0,SUM(M15:Z15),0),0)*I15 -> 0 | BH15: =IF(F15="M",IF(SUM(M15:Z15)>0,SUM(M15:Z15),0),0)*I15 -> 0 | BI15: =IF(F15="L",IF(SUM(M15:Z15)>0,SUM(M15:Z15),0),0)*I15 -> 0 | BJ15: =IF(F15="XL",IF(SUM(M15:Z15)>0,SUM(M15:Z15),0),0)*I15 -> 0 | BK15: =IF(F15="2XL",IF(SUM(M15:Z15)>0,SUM(M15:Z15),0),0)*I15 -> 0 | BL15: =IF(F15="3XL",IF(SUM(M15:Z15)>0,SUM(M15:Z15),0),0)*I15 -> 0 | BM15: =IF(F15="4XL",IF(SUM(M15:Z15)>0,SUM(M15:Z15),0),0)*I15 -> 0 | BN15: =IF(F15="various",IF(SUM(M15:Z15)>0,SUM(M15:Z15),0),0)*I15 -> 0 | BP15: =IF(E15="All tex.",IF(SUM(M15:Z15)>0,SUM(M15:Z15),0),0)*I15 -> 0 | BQ15: =IF(E15="Dual tex.",IF(SUM(M15:Z15)>0,SUM(M15:Z15),0),0)*I15 -> 0 | BS15: =IF(H15="sloper",IF(SUM(M15:Z15)>0,SUM(M15:Z15),0),0)*I15 -> 0 | BT15: =IF(H15="footholds",IF(SUM(M15:Z15)>0,SUM(M15:Z15),0),0)*I15 -> 0 | BU15: =IF(H15="micros",IF(SUM(M15:Z15)>0,SUM(M15:Z15),0),0)*I15 -> 0 | BV15: =IF(H15="jug",IF(SUM(M15:Z15)>0,SUM(M15:Z15),0),0)*I15 -> 0 | BW15: =IF(H15="ledge",IF(SUM(M15:Z15)>0,SUM(M15:Z15),0),0)*I15 -> 0 | BX15: =IF(H15="edge",IF(SUM(M15:Z15)>0,SUM(M15:Z15),0),0)*I15 -> 0 | BY15: =IF(H15="crimp",IF(SUM(M15:Z15)>0,SUM(M15:Z15),0),0)*I15 -> 0 | BZ15: =IF(H15="incut",IF(SUM(M15:Z15)>0,SUM(M15:Z15),0),0)*I15 -> 0 | CA15: =IF(H15="dish",IF(SUM(M15:Z15)>0,SUM(M15:Z15),0),0)*I15 -> 0 | CB15: =IF(H15="pinch",IF(SUM(M15:Z15)>0,SUM(M15:Z15),0),0)*I15 -> 0 | CC15: =IF(H15="pocket",IF(SUM(M15:Z15)>0,SUM(M15:Z15),0),0)*I15 -> 0 | CD15: =IF(H15="insert",IF(SUM(M15:Z15)>0,SUM(M15:Z15),0),0)*I15 -> 0 | CE15: =IF(H15="feature",IF(SUM(M15:Z15)>0,SUM(M15:Z15),0),0)*I15 -> 0 | CF15: =IF(H15="scoop",IF(SUM(M15:Z15)>0,SUM(M15:Z15),0),0)*I15 -> 0 | CG15: =IF(H15="arete",IF(SUM(M15:Z15)>0,SUM(M15:Z15),0),0)*I15 -> 0 | CH15: =IF(H15="square",IF(SUM(M15:Z15)>0,SUM(M15:Z15),0),0)*I15 -> 0 | CI15: =IF(H15="positive",IF(SUM(M15:Z15)>0,SUM(M15:Z15),0),0)*I15 -> 0 | CJ15: =IF(H15="pyramid",IF(SUM(M15:Z15)>0,SUM(M15:Z15),0),0)*I15 -> 0 | CK15: =IF(H15="high profile",IF(SUM(M15:Z15)>0,SUM(M15:Z15),0),0)*I15 -> 0 | CL15: =IF(H15="rectangle",IF(SUM(M15:Z15)>0,SUM(M15:Z15),0),0)*I15 -> 0 | CM15: =IF(H15="various",IF(SUM(M15:Z15)>0,SUM(M15:Z15),0),0)*I15 -> 0
D16: SIMPL-1D-T | E16: All tex. | F16: L | G16: 3x 54x15 cm | H16: pyramid | I16: 3 | J16: 0 | K16: screws | L16: 224.3031 | AA16: =L16*M16+L16*N16+L16*O16+L16*P16+L16*Q16+L16*R16+L16*T16+L16*V16+L16*W16+L16*X16+L16*Y16+L16*Z16+L16*U16+L16*S16 -> 0 | AB16: =IF(SUM(M16:Z16)>0,"Yes","No") -> No | AC16: =IF(B16="New","Yes","No") -> No | AE16: 3 | AF16: =AE16*SUM(M16:Z16) -> 0 | AH16: 6.4 | AI16: =SUM(M16:Z16)*AH16 -> 0 | AJ16: =M16*I16 -> 0 | AK16: =N16*I16 -> 0 | AL16: =O16*I16 -> 0 | AM16: =P16*I16 -> 0 | AN16: =Q16*I16 -> 0 | AO16: =R16*I16 -> 0 | AP16: =S16*I16 -> 0 | AQ16: =T16*I16 -> 0 | AR16: =U16*I16 -> 0 | AS16: =V16*I16 -> 0 | AT16: =W16*I16 -> 0 | AU16: =X16*I16 -> 0 | AV16: =Y16*I16 -> 0 | AW16: =Z16*I16 -> 0 | AX16: 3 | AY16: 18 | AZ16: =SUM(M16:Z16)*AY16 -> 0 | BB16: =SUM(M16:Z16)*BA16 -> 0 | BD16: =SUM(M16:Z16)*BC16 -> 0 | BF16: =IF(F16="XS",IF(SUM(M16:Z16)>0,SUM(M16:Z16),0),0)*I16 -> 0 | BG16: =IF(F16="S",IF(SUM(M16:Z16)>0,SUM(M16:Z16),0),0)*I16 -> 0 | BH16: =IF(F16="M",IF(SUM(M16:Z16)>0,SUM(M16:Z16),0),0)*I16 -> 0 | BI16: =IF(F16="L",IF(SUM(M16:Z16)>0,SUM(M16:Z16),0),0)*I16 -> 0 | BJ16: =IF(F16="XL",IF(SUM(M16:Z16)>0,SUM(M16:Z16),0),0)*I16 -> 0 | BK16: =IF(F16="2XL",IF(SUM(M16:Z16)>0,SUM(M16:Z16),0),0)*I16 -> 0 | BL16: =IF(F16="3XL",IF(SUM(M16:Z16)>0,SUM(M16:Z16),0),0)*I16 -> 0 | BM16: =IF(F16="4XL",IF(SUM(M16:Z16)>0,SUM(M16:Z16),0),0)*I16 -> 0 | BN16: =IF(F16="various",IF(SUM(M16:Z16)>0,SUM(M16:Z16),0),0)*I16 -> 0 | BP16: =IF(E16="All tex.",IF(SUM(M16:Z16)>0,SUM(M16:Z16),0),0)*I16 -> 0 | BQ16: =IF(E16="Dual tex.",IF(SUM(M16:Z16)>0,SUM(M16:Z16),0),0)*I16 -> 0 | BS16: =IF(H16="sloper",IF(SUM(M16:Z16)>0,SUM(M16:Z16),0),0)*I16 -> 0 | BT16: =IF(H16="footholds",IF(SUM(M16:Z16)>0,SUM(M16:Z16),0),0)*I16 -> 0 | BU16: =IF(H16="micros",IF(SUM(M16:Z16)>0,SUM(M16:Z16),0),0)*I16 -> 0 | BV16: =IF(H16="jug",IF(SUM(M16:Z16)>0,SUM(M16:Z16),0),0)*I16 -> 0 | BW16: =IF(H16="ledge",IF(SUM(M16:Z16)>0,SUM(M16:Z16),0),0)*I16 -> 0 | BX16: =IF(H16="edge",IF(SUM(M16:Z16)>0,SUM(M16:Z16),0),0)*I16 -> 0 | BY16: =IF(H16="crimp",IF(SUM(M16:Z16)>0,SUM(M16:Z16),0),0)*I16 -> 0 | BZ16: =IF(H16="incut",IF(SUM(M16:Z16)>0,SUM(M16:Z16),0),0)*I16 -> 0 | CA16: =IF(H16="dish",IF(SUM(M16:Z16)>0,SUM(M16:Z16),0),0)*I16 -> 0 | CB16: =IF(H16="pinch",IF(SUM(M16:Z16)>0,SUM(M16:Z16),0),0)*I16 -> 0 | CC16: =IF(H16="pocket",IF(SUM(M16:Z16)>0,SUM(M16:Z16),0),0)*I16 -> 0 | CD16: =IF(H16="insert",IF(SUM(M16:Z16)>0,SUM(M16:Z16),0),0)*I16 -> 0 | CE16: =IF(H16="feature",IF(SUM(M16:Z16)>0,SUM(M16:Z16),0),0)*I16 -> 0 | CF16: =IF(H16="scoop",IF(SUM(M16:Z16)>0,SUM(M16:Z16),0),0)*I16 -> 0 | CG16: =IF(H16="arete",IF(SUM(M16:Z16)>0,SUM(M16:Z16),0),0)*I16 -> 0 | CH16: =IF(H16="square",IF(SUM(M16:Z16)>0,SUM(M16:Z16),0),0)*I16 -> 0 | CI16: =IF(H16="positive",IF(SUM(M16:Z16)>0,SUM(M16:Z16),0),0)*I16 -> 0 | CJ16: =IF(H16="pyramid",IF(SUM(M16:Z16)>0,SUM(M16:Z16),0),0)*I16 -> 0 | CK16: =IF(H16="high profile",IF(SUM(M16:Z16)>0,SUM(M16:Z16),0),0)*I16 -> 0 | CL16: =IF(H16="rectangle",IF(SUM(M16:Z16)>0,SUM(M16:Z16),0),0)*I16 -> 0 | CM16: =IF(H16="various",IF(SUM(M16:Z16)>0,SUM(M16:Z16),0),0)*I16 -> 0
D17: SIMPL-1E | E17: Dual tex. | F17: L | G17: 2x 77x23 cm | H17: pyramid | I17: 2 | J17: 0 | K17: screws | L17: 257.93775 | AA17: =L17*M17+L17*N17+L17*O17+L17*P17+L17*Q17+L17*R17+L17*T17+L17*V17+L17*W17+L17*X17+L17*Y17+L17*Z17+L17*U17+L17*S17 -> 0 | AB17: =IF(SUM(M17:Z17)>0,"Yes","No") -> No | AC17: =IF(B17="New","Yes","No") -> No | AE17: 2 | AF17: =AE17*SUM(M17:Z17) -> 0 | AH17: 9 | AI17: =SUM(M17:Z17)*AH17 -> 0 | AJ17: =M17*I17 -> 0 | AK17: =N17*I17 -> 0 | AL17: =O17*I17 -> 0 | AM17: =P17*I17 -> 0 | AN17: =Q17*I17 -> 0 | AO17: =R17*I17 -> 0 | AP17: =S17*I17 -> 0 | AQ17: =T17*I17 -> 0 | AR17: =U17*I17 -> 0 | AS17: =V17*I17 -> 0 | AT17: =W17*I17 -> 0 | AU17: =X17*I17 -> 0 | AV17: =Y17*I17 -> 0 | AW17: =Z17*I17 -> 0 | AX17: 2 | AY17: 18 | AZ17: =SUM(M17:Z17)*AY17 -> 0 | BB17: =SUM(M17:Z17)*BA17 -> 0 | BD17: =SUM(M17:Z17)*BC17 -> 0 | BF17: =IF(F17="XS",IF(SUM(M17:Z17)>0,SUM(M17:Z17),0),0)*I17 -> 0 | BG17: =IF(F17="S",IF(SUM(M17:Z17)>0,SUM(M17:Z17),0),0)*I17 -> 0 | BH17: =IF(F17="M",IF(SUM(M17:Z17)>0,SUM(M17:Z17),0),0)*I17 -> 0 | BI17: =IF(F17="L",IF(SUM(M17:Z17)>0,SUM(M17:Z17),0),0)*I17 -> 0 | BJ17: =IF(F17="XL",IF(SUM(M17:Z17)>0,SUM(M17:Z17),0),0)*I17 -> 0 | BK17: =IF(F17="2XL",IF(SUM(M17:Z17)>0,SUM(M17:Z17),0),0)*I17 -> 0 | BL17: =IF(F17="3XL",IF(SUM(M17:Z17)>0,SUM(M17:Z17),0),0)*I17 -> 0 | BM17: =IF(F17="4XL",IF(SUM(M17:Z17)>0,SUM(M17:Z17),0),0)*I17 -> 0 | BN17: =IF(F17="various",IF(SUM(M17:Z17)>0,SUM(M17:Z17),0),0)*I17 -> 0 | BP17: =IF(E17="All tex.",IF(SUM(M17:Z17)>0,SUM(M17:Z17),0),0)*I17 -> 0 | BQ17: =IF(E17="Dual tex.",IF(SUM(M17:Z17)>0,SUM(M17:Z17),0),0)*I17 -> 0 | BS17: =IF(H17="sloper",IF(SUM(M17:Z17)>0,SUM(M17:Z17),0),0)*I17 -> 0 | BT17: =IF(H17="footholds",IF(SUM(M17:Z17)>0,SUM(M17:Z17),0),0)*I17 -> 0 | BU17: =IF(H17="micros",IF(SUM(M17:Z17)>0,SUM(M17:Z17),0),0)*I17 -> 0 | BV17: =IF(H17="jug",IF(SUM(M17:Z17)>0,SUM(M17:Z17),0),0)*I17 -> 0 | BW17: =IF(H17="ledge",IF(SUM(M17:Z17)>0,SUM(M17:Z17),0),0)*I17 -> 0 | BX17: =IF(H17="edge",IF(SUM(M17:Z17)>0,SUM(M17:Z17),0),0)*I17 -> 0 | BY17: =IF(H17="crimp",IF(SUM(M17:Z17)>0,SUM(M17:Z17),0),0)*I17 -> 0 | BZ17: =IF(H17="incut",IF(SUM(M17:Z17)>0,SUM(M17:Z17),0),0)*I17 -> 0 | CA17: =IF(H17="dish",IF(SUM(M17:Z17)>0,SUM(M17:Z17),0),0)*I17 -> 0 | CB17: =IF(H17="pinch",IF(SUM(M17:Z17)>0,SUM(M17:Z17),0),0)*I17 -> 0 | CC17: =IF(H17="pocket",IF(SUM(M17:Z17)>0,SUM(M17:Z17),0),0)*I17 -> 0 | CD17: =IF(H17="insert",IF(SUM(M17:Z17)>0,SUM(M17:Z17),0),0)*I17 -> 0 | CE17: =IF(H17="feature",IF(SUM(M17:Z17)>0,SUM(M17:Z17),0),0)*I17 -> 0 | CF17: =IF(H17="scoop",IF(SUM(M17:Z17)>0,SUM(M17:Z17),0),0)*I17 -> 0 | CG17: =IF(H17="arete",IF(SUM(M17:Z17)>0,SUM(M17:Z17),0),0)*I17 -> 0 | CH17: =IF(H17="square",IF(SUM(M17:Z17)>0,SUM(M17:Z17),0),0)*I17 -> 0 | CI17: =IF(H17="positive",IF(SUM(M17:Z17)>0,SUM(M17:Z17),0),0)*I17 -> 0 | CJ17: =IF(H17="pyramid",IF(SUM(M17:Z17)>0,SUM(M17:Z17),0),0)*I17 -> 0 | CK17: =IF(H17="high profile",IF(SUM(M17:Z17)>0,SUM(M17:Z17),0),0)*I17 -> 0 | CL17: =IF(H17="rectangle",IF(SUM(M17:Z17)>0,SUM(M17:Z17),0),0)*I17 -> 0 | CM17: =IF(H17="various",IF(SUM(M17:Z17)>0,SUM(M17:Z17),0),0)*I17 -> 0
D18: SIMPL-1E-T | E18: All tex. | F18: L | G18: 2x 77x23 cm | H18: pyramid | I18: 2 | J18: 0 | K18: screws | L18: 224.3031 | AA18: =L18*M18+L18*N18+L18*O18+L18*P18+L18*Q18+L18*R18+L18*T18+L18*V18+L18*W18+L18*X18+L18*Y18+L18*Z18+L18*U18+L18*S18 -> 0 | AB18: =IF(SUM(M18:Z18)>0,"Yes","No") -> No | AC18: =IF(B18="New","Yes","No") -> No | AE18: 2 | AF18: =AE18*SUM(M18:Z18) -> 0 | AH18: 9 | AI18: =SUM(M18:Z18)*AH18 -> 0 | AJ18: =M18*I18 -> 0 | AK18: =N18*I18 -> 0 | AL18: =O18*I18 -> 0 | AM18: =P18*I18 -> 0 | AN18: =Q18*I18 -> 0 | AO18: =R18*I18 -> 0 | AP18: =S18*I18 -> 0 | AQ18: =T18*I18 -> 0 | AR18: =U18*I18 -> 0 | AS18: =V18*I18 -> 0 | AT18: =W18*I18 -> 0 | AU18: =X18*I18 -> 0 | AV18: =Y18*I18 -> 0 | AW18: =Z18*I18 -> 0 | AX18: 2 | AY18: 18 | AZ18: =SUM(M18:Z18)*AY18 -> 0 | BB18: =SUM(M18:Z18)*BA18 -> 0 | BD18: =SUM(M18:Z18)*BC18 -> 0 | BF18: =IF(F18="XS",IF(SUM(M18:Z18)>0,SUM(M18:Z18),0),0)*I18 -> 0 | BG18: =IF(F18="S",IF(SUM(M18:Z18)>0,SUM(M18:Z18),0),0)*I18 -> 0 | BH18: =IF(F18="M",IF(SUM(M18:Z18)>0,SUM(M18:Z18),0),0)*I18 -> 0 | BI18: =IF(F18="L",IF(SUM(M18:Z18)>0,SUM(M18:Z18),0),0)*I18 -> 0 | BJ18: =IF(F18="XL",IF(SUM(M18:Z18)>0,SUM(M18:Z18),0),0)*I18 -> 0 | BK18: =IF(F18="2XL",IF(SUM(M18:Z18)>0,SUM(M18:Z18),0),0)*I18 -> 0 | BL18: =IF(F18="3XL",IF(SUM(M18:Z18)>0,SUM(M18:Z18),0),0)*I18 -> 0 | BM18: =IF(F18="4XL",IF(SUM(M18:Z18)>0,SUM(M18:Z18),0),0)*I18 -> 0 | BN18: =IF(F18="various",IF(SUM(M18:Z18)>0,SUM(M18:Z18),0),0)*I18 -> 0 | BP18: =IF(E18="All tex.",IF(SUM(M18:Z18)>0,SUM(M18:Z18),0),0)*I18 -> 0 | BQ18: =IF(E18="Dual tex.",IF(SUM(M18:Z18)>0,SUM(M18:Z18),0),0)*I18 -> 0 | BS18: =IF(H18="sloper",IF(SUM(M18:Z18)>0,SUM(M18:Z18),0),0)*I18 -> 0 | BT18: =IF(H18="footholds",IF(SUM(M18:Z18)>0,SUM(M18:Z18),0),0)*I18 -> 0 | BU18: =IF(H18="micros",IF(SUM(M18:Z18)>0,SUM(M18:Z18),0),0)*I18 -> 0 | BV18: =IF(H18="jug",IF(SUM(M18:Z18)>0,SUM(M18:Z18),0),0)*I18 -> 0 | BW18: =IF(H18="ledge",IF(SUM(M18:Z18)>0,SUM(M18:Z18),0),0)*I18 -> 0 | BX18: =IF(H18="edge",IF(SUM(M18:Z18)>0,SUM(M18:Z18),0),0)*I18 -> 0 | BY18: =IF(H18="crimp",IF(SUM(M18:Z18)>0,SUM(M18:Z18),0),0)*I18 -> 0 | BZ18: =IF(H18="incut",IF(SUM(M18:Z18)>0,SUM(M18:Z18),0),0)*I18 -> 0 | CA18: =IF(H18="dish",IF(SUM(M18:Z18)>0,SUM(M18:Z18),0),0)*I18 -> 0 | CB18: =IF(H18="pinch",IF(SUM(M18:Z18)>0,SUM(M18:Z18),0),0)*I18 -> 0 | CC18: =IF(H18="pocket",IF(SUM(M18:Z18)>0,SUM(M18:Z18),0),0)*I18 -> 0 | CD18: =IF(H18="insert",IF(SUM(M18:Z18)>0,SUM(M18:Z18),0),0)*I18 -> 0 | CE18: =IF(H18="feature",IF(SUM(M18:Z18)>0,SUM(M18:Z18),0),0)*I18 -> 0 | CF18: =IF(H18="scoop",IF(SUM(M18:Z18)>0,SUM(M18:Z18),0),0)*I18 -> 0 | CG18: =IF(H18="arete",IF(SUM(M18:Z18)>0,SUM(M18:Z18),0),0)*I18 -> 0 | CH18: =IF(H18="square",IF(SUM(M18:Z18)>0,SUM(M18:Z18),0),0)*I18 -> 0 | CI18: =IF(H18="positive",IF(SUM(M18:Z18)>0,SUM(M18:Z18),0),0)*I18 -> 0 | CJ18: =IF(H18="pyramid",IF(SUM(M18:Z18)>0,SUM(M18:Z18),0),0)*I18 -> 0 | CK18: =IF(H18="high profile",IF(SUM(M18:Z18)>0,SUM(M18:Z18),0),0)*I18 -> 0 | CL18: =IF(H18="rectangle",IF(SUM(M18:Z18)>0,SUM(M18:Z18),0),0)*I18 -> 0 | CM18: =IF(H18="various",IF(SUM(M18:Z18)>0,SUM(M18:Z18),0),0)*I18 -> 0
D19: SIMPL-1F | E19: Dual tex. | F19: XL | G19: 107x28 cm | H19: pyramid | I19: 1 | J19: 0 | K19: screws | L19: 245.32746 | AA19: =L19*M19+L19*N19+L19*O19+L19*P19+L19*Q19+L19*R19+L19*T19+L19*V19+L19*W19+L19*X19+L19*Y19+L19*Z19+L19*U19+L19*S19 -> 0 | AB19: =IF(SUM(M19:Z19)>0,"Yes","No") -> No | AC19: =IF(B19="New","Yes","No") -> No | AE19: 1 | AF19: =AE19*SUM(M19:Z19) -> 0 | AH19: 9.1 | AI19: =SUM(M19:Z19)*AH19 -> 0 | AJ19: =M19*I19 -> 0 | AK19: =N19*I19 -> 0 | AL19: =O19*I19 -> 0 | AM19: =P19*I19 -> 0 | AN19: =Q19*I19 -> 0 | AO19: =R19*I19 -> 0 | AP19: =S19*I19 -> 0 | AQ19: =T19*I19 -> 0 | AR19: =U19*I19 -> 0 | AS19: =V19*I19 -> 0 | AT19: =W19*I19 -> 0 | AU19: =X19*I19 -> 0 | AV19: =Y19*I19 -> 0 | AW19: =Z19*I19 -> 0 | AX19: 1 | AY19: 12 | AZ19: =SUM(M19:Z19)*AY19 -> 0 | BB19: =SUM(M19:Z19)*BA19 -> 0 | BD19: =SUM(M19:Z19)*BC19 -> 0 | BF19: =IF(F19="XS",IF(SUM(M19:Z19)>0,SUM(M19:Z19),0),0)*I19 -> 0 | BG19: =IF(F19="S",IF(SUM(M19:Z19)>0,SUM(M19:Z19),0),0)*I19 -> 0 | BH19: =IF(F19="M",IF(SUM(M19:Z19)>0,SUM(M19:Z19),0),0)*I19 -> 0 | BI19: =IF(F19="L",IF(SUM(M19:Z19)>0,SUM(M19:Z19),0),0)*I19 -> 0 | BJ19: =IF(F19="XL",IF(SUM(M19:Z19)>0,SUM(M19:Z19),0),0)*I19 -> 0 | BK19: =IF(F19="2XL",IF(SUM(M19:Z19)>0,SUM(M19:Z19),0),0)*I19 -> 0 | BL19: =IF(F19="3XL",IF(SUM(M19:Z19)>0,SUM(M19:Z19),0),0)*I19 -> 0 | BM19: =IF(F19="4XL",IF(SUM(M19:Z19)>0,SUM(M19:Z19),0),0)*I19 -> 0 | BN19: =IF(F19="various",IF(SUM(M19:Z19)>0,SUM(M19:Z19),0),0)*I19 -> 0 | BP19: =IF(E19="All tex.",IF(SUM(M19:Z19)>0,SUM(M19:Z19),0),0)*I19 -> 0 | BQ19: =IF(E19="Dual tex.",IF(SUM(M19:Z19)>0,SUM(M19:Z19),0),0)*I19 -> 0 | BS19: =IF(H19="sloper",IF(SUM(M19:Z19)>0,SUM(M19:Z19),0),0)*I19 -> 0 | BT19: =IF(H19="footholds",IF(SUM(M19:Z19)>0,SUM(M19:Z19),0),0)*I19 -> 0 | BU19: =IF(H19="micros",IF(SUM(M19:Z19)>0,SUM(M19:Z19),0),0)*I19 -> 0 | BV19: =IF(H19="jug",IF(SUM(M19:Z19)>0,SUM(M19:Z19),0),0)*I19 -> 0 | BW19: =IF(H19="ledge",IF(SUM(M19:Z19)>0,SUM(M19:Z19),0),0)*I19 -> 0 | BX19: =IF(H19="edge",IF(SUM(M19:Z19)>0,SUM(M19:Z19),0),0)*I19 -> 0 | BY19: =IF(H19="crimp",IF(SUM(M19:Z19)>0,SUM(M19:Z19),0),0)*I19 -> 0 | BZ19: =IF(H19="incut",IF(SUM(M19:Z19)>0,SUM(M19:Z19),0),0)*I19 -> 0 | CA19: =IF(H19="dish",IF(SUM(M19:Z19)>0,SUM(M19:Z19),0),0)*I19 -> 0 | CB19: =IF(H19="pinch",IF(SUM(M19:Z19)>0,SUM(M19:Z19),0),0)*I19 -> 0 | CC19: =IF(H19="pocket",IF(SUM(M19:Z19)>0,SUM(M19:Z19),0),0)*I19 -> 0 | CD19: =IF(H19="insert",IF(SUM(M19:Z19)>0,SUM(M19:Z19),0),0)*I19 -> 0 | CE19: =IF(H19="feature",IF(SUM(M19:Z19)>0,SUM(M19:Z19),0),0)*I19 -> 0 | CF19: =IF(H19="scoop",IF(SUM(M19:Z19)>0,SUM(M19:Z19),0),0)*I19 -> 0 | CG19: =IF(H19="arete",IF(SUM(M19:Z19)>0,SUM(M19:Z19),0),0)*I19 -> 0 | CH19: =IF(H19="square",IF(SUM(M19:Z19)>0,SUM(M19:Z19),0),0)*I19 -> 0 | CI19: =IF(H19="positive",IF(SUM(M19:Z19)>0,SUM(M19:Z19),0),0)*I19 -> 0 | CJ19: =IF(H19="pyramid",IF(SUM(M19:Z19)>0,SUM(M19:Z19),0),0)*I19 -> 0 | CK19: =IF(H19="high profile",IF(SUM(M19:Z19)>0,SUM(M19:Z19),0),0)*I19 -> 0 | CL19: =IF(H19="rectangle",IF(SUM(M19:Z19)>0,SUM(M19:Z19),0),0)*I19 -> 0 | CM19: =IF(H19="various",IF(SUM(M19:Z19)>0,SUM(M19:Z19),0),0)*I19 -> 0
D20: SIMPL-1F-T | E20: All tex. | F20: XL | G20: 107x28 cm | H20: pyramid | I20: 1 | J20: 0 | K20: screws | L20: 213.3233 | AA20: =L20*M20+L20*N20+L20*O20+L20*P20+L20*Q20+L20*R20+L20*T20+L20*V20+L20*W20+L20*X20+L20*Y20+L20*Z20+L20*U20+L20*S20 -> 0 | AB20: =IF(SUM(M20:Z20)>0,"Yes","No") -> No | AC20: =IF(B20="New","Yes","No") -> No | AE20: 1 | AF20: =AE20*SUM(M20:Z20) -> 0 | AH20: 9.1 | AI20: =SUM(M20:Z20)*AH20 -> 0 | AJ20: =M20*I20 -> 0 | AK20: =N20*I20 -> 0 | AL20: =O20*I20 -> 0 | AM20: =P20*I20 -> 0 | AN20: =Q20*I20 -> 0 | AO20: =R20*I20 -> 0 | AP20: =S20*I20 -> 0 | AQ20: =T20*I20 -> 0 | AR20: =U20*I20 -> 0 | AS20: =V20*I20 -> 0 | AT20: =W20*I20 -> 0 | AU20: =X20*I20 -> 0 | AV20: =Y20*I20 -> 0 | AW20: =Z20*I20 -> 0 | AX20: 1 | AY20: 12 | AZ20: =SUM(M20:Z20)*AY20 -> 0 | BB20: =SUM(M20:Z20)*BA20 -> 0 | BD20: =SUM(M20:Z20)*BC20 -> 0 | BF20: =IF(F20="XS",IF(SUM(M20:Z20)>0,SUM(M20:Z20),0),0)*I20 -> 0 | BG20: =IF(F20="S",IF(SUM(M20:Z20)>0,SUM(M20:Z20),0),0)*I20 -> 0 | BH20: =IF(F20="M",IF(SUM(M20:Z20)>0,SUM(M20:Z20),0),0)*I20 -> 0 | BI20: =IF(F20="L",IF(SUM(M20:Z20)>0,SUM(M20:Z20),0),0)*I20 -> 0 | BJ20: =IF(F20="XL",IF(SUM(M20:Z20)>0,SUM(M20:Z20),0),0)*I20 -> 0 | BK20: =IF(F20="2XL",IF(SUM(M20:Z20)>0,SUM(M20:Z20),0),0)*I20 -> 0 | BL20: =IF(F20="3XL",IF(SUM(M20:Z20)>0,SUM(M20:Z20),0),0)*I20 -> 0 | BM20: =IF(F20="4XL",IF(SUM(M20:Z20)>0,SUM(M20:Z20),0),0)*I20 -> 0 | BN20: =IF(F20="various",IF(SUM(M20:Z20)>0,SUM(M20:Z20),0),0)*I20 -> 0 | BP20: =IF(E20="All tex.",IF(SUM(M20:Z20)>0,SUM(M20:Z20),0),0)*I20 -> 0 | BQ20: =IF(E20="Dual tex.",IF(SUM(M20:Z20)>0,SUM(M20:Z20),0),0)*I20 -> 0 | BS20: =IF(H20="sloper",IF(SUM(M20:Z20)>0,SUM(M20:Z20),0),0)*I20 -> 0 | BT20: =IF(H20="footholds",IF(SUM(M20:Z20)>0,SUM(M20:Z20),0),0)*I20 -> 0 | BU20: =IF(H20="micros",IF(SUM(M20:Z20)>0,SUM(M20:Z20),0),0)*I20 -> 0 | BV20: =IF(H20="jug",IF(SUM(M20:Z20)>0,SUM(M20:Z20),0),0)*I20 -> 0 | BW20: =IF(H20="ledge",IF(SUM(M20:Z20)>0,SUM(M20:Z20),0),0)*I20 -> 0 | BX20: =IF(H20="edge",IF(SUM(M20:Z20)>0,SUM(M20:Z20),0),0)*I20 -> 0 | BY20: =IF(H20="crimp",IF(SUM(M20:Z20)>0,SUM(M20:Z20),0),0)*I20 -> 0 | BZ20: =IF(H20="incut",IF(SUM(M20:Z20)>0,SUM(M20:Z20),0),0)*I20 -> 0 | CA20: =IF(H20="dish",IF(SUM(M20:Z20)>0,SUM(M20:Z20),0),0)*I20 -> 0 | CB20: =IF(H20="pinch",IF(SUM(M20:Z20)>0,SUM(M20:Z20),0),0)*I20 -> 0 | CC20: =IF(H20="pocket",IF(SUM(M20:Z20)>0,SUM(M20:Z20),0),0)*I20 -> 0 | CD20: =IF(H20="insert",IF(SUM(M20:Z20)>0,SUM(M20:Z20),0),0)*I20 -> 0 | CE20: =IF(H20="feature",IF(SUM(M20:Z20)>0,SUM(M20:Z20),0),0)*I20 -> 0 | CF20: =IF(H20="scoop",IF(SUM(M20:Z20)>0,SUM(M20:Z20),0),0)*I20 -> 0 | CG20: =IF(H20="arete",IF(SUM(M20:Z20)>0,SUM(M20:Z20),0),0)*I20 -> 0 | CH20: =IF(H20="square",IF(SUM(M20:Z20)>0,SUM(M20:Z20),0),0)*I20 -> 0 | CI20: =IF(H20="positive",IF(SUM(M20:Z20)>0,SUM(M20:Z20),0),0)*I20 -> 0 | CJ20: =IF(H20="pyramid",IF(SUM(M20:Z20)>0,SUM(M20:Z20),0),0)*I20 -> 0 | CK20: =IF(H20="high profile",IF(SUM(M20:Z20)>0,SUM(M20:Z20),0),0)*I20 -> 0 | CL20: =IF(H20="rectangle",IF(SUM(M20:Z20)>0,SUM(M20:Z20),0),0)*I20 -> 0 | CM20: =IF(H20="various",IF(SUM(M20:Z20)>0,SUM(M20:Z20),0),0)*I20 -> 0
... D28: SIMPL-1K-T | E28: All tex. | F28: 4XL | G28: 209x61 cm | H28: feature | I28: 3 | J28: 39 | K28: screws | L28: 747.6461 | AA28: =L28*M28+L28*N28+L28*O28+L28*P28+L28*Q28+L28*R28+L28*T28+L28*V28+L28*W28+L28*X28+L28*Y28+L28*Z28+L28*U28+L28*S28 -> 0 | AB28: =IF(SUM(M28:Z28)>0,"Yes","No") -> No | AC28: =IF(B28="New","Yes","No") -> No | AE28: 3 | AF28: =AE28*SUM(M28:Z28) -> 0 | AH28: 46 | AI28: =SUM(M28:Z28)*AH28 -> 0 | AJ28: =M28*I28 -> 0 | AK28: =N28*I28 -> 0 | AL28: =O28*I28 -> 0 | AM28: =P28*I28 -> 0 | AN28: =Q28*I28 -> 0 | AO28: =R28*I28 -> 0 | AP28: =S28*I28 -> 0 | AQ28: =T28*I28 -> 0 | AR28: =U28*I28 -> 0 | AS28: =V28*I28 -> 0 | AT28: =W28*I28 -> 0 | AU28: =X28*I28 -> 0 | AV28: =Y28*I28 -> 0 | AW28: =Z28*I28 -> 0 | AX28: 3 | AY28: 14 | AZ28: =SUM(M28:Z28)*AY28 -> 0 | BB28: =SUM(M28:Z28)*BA28 -> 0 | BD28: =SUM(M28:Z28)*BC28 -> 0 | BF28: =IF(F28="XS",IF(SUM(M28:Z28)>0,SUM(M28:Z28),0),0)*I28 -> 0 | BG28: =IF(F28="S",IF(SUM(M28:Z28)>0,SUM(M28:Z28),0),0)*I28 -> 0 | BH28: =IF(F28="M",IF(SUM(M28:Z28)>0,SUM(M28:Z28),0),0)*I28 -> 0 | BI28: =IF(F28="L",IF(SUM(M28:Z28)>0,SUM(M28:Z28),0),0)*I28 -> 0 | BJ28: =IF(F28="XL",IF(SUM(M28:Z28)>0,SUM(M28:Z28),0),0)*I28 -> 0 | BK28: =IF(F28="2XL",IF(SUM(M28:Z28)>0,SUM(M28:Z28),0),0)*I28 -> 0 | BL28: =IF(F28="3XL",IF(SUM(M28:Z28)>0,SUM(M28:Z28),0),0)*I28 -> 0 | BM28: =IF(F28="4XL",IF(SUM(M28:Z28)>0,SUM(M28:Z28),0),0)*I28 -> 0 | BN28: =IF(F28="various",IF(SUM(M28:Z28)>0,SUM(M28:Z28),0),0)*I28 -> 0 | BP28: =IF(E28="All tex.",IF(SUM(M28:Z28)>0,SUM(M28:Z28),0),0)*I28 -> 0 | BQ28: =IF(E28="Dual tex.",IF(SUM(M28:Z28)>0,SUM(M28:Z28),0),0)*I28 -> 0 | BS28: =IF(H28="sloper",IF(SUM(M28:Z28)>0,SUM(M28:Z28),0),0)*I28 -> 0 | BT28: =IF(H28="footholds",IF(SUM(M28:Z28)>0,SUM(M28:Z28),0),0)*I28 -> 0 | BU28: =IF(H28="micros",IF(SUM(M28:Z28)>0,SUM(M28:Z28),0),0)*I28 -> 0 | BV28: =IF(H28="jug",IF(SUM(M28:Z28)>0,SUM(M28:Z28),0),0)*I28 -> 0 | BW28: =IF(H28="ledge",IF(SUM(M28:Z28)>0,SUM(M28:Z28),0),0)*I28 -> 0 | BX28: =IF(H28="edge",IF(SUM(M28:Z28)>0,SUM(M28:Z28),0),0)*I28 -> 0 | BY28: =IF(H28="crimp",IF(SUM(M28:Z28)>0,SUM(M28:Z28),0),0)*I28 -> 0 | BZ28: =IF(H28="incut",IF(SUM(M28:Z28)>0,SUM(M28:Z28),0),0)*I28 -> 0 | CA28: =IF(H28="dish",IF(SUM(M28:Z28)>0,SUM(M28:Z28),0),0)*I28 -> 0 | CB28: =IF(H28="pinch",IF(SUM(M28:Z28)>0,SUM(M28:Z28),0),0)*I28 -> 0 | CC28: =IF(H28="pocket",IF(SUM(M28:Z28)>0,SUM(M28:Z28),0),0)*I28 -> 0 | CD28: =IF(H28="insert",IF(SUM(M28:Z28)>0,SUM(M28:Z28),0),0)*I28 -> 0 | CE28: =IF(H28="feature",IF(SUM(M28:Z28)>0,SUM(M28:Z28),0),0)*I28 -> 0 | CF28: =IF(H28="scoop",IF(SUM(M28:Z28)>0,SUM(M28:Z28),0),0)*I28 -> 0 | CG28: =IF(H28="arete",IF(SUM(M28:Z28)>0,SUM(M28:Z28),0),0)*I28 -> 0 | CH28: =IF(H28="square",IF(SUM(M28:Z28)>0,SUM(M28:Z28),0),0)*I28 -> 0 | CI28: =IF(H28="positive",IF(SUM(M28:Z28)>0,SUM(M28:Z28),0),0)*I28 -> 0 | CJ28: =IF(H28="pyramid",IF(SUM(M28:Z28)>0,SUM(M28:Z28),0),0)*I28 -> 0 | CK28: =IF(H28="high profile",IF(SUM(M28:Z28)>0,SUM(M28:Z28),0),0)*I28 -> 0 | CL28: =IF(H28="rectangle",IF(SUM(M28:Z28)>0,SUM(M28:Z28),0),0)*I28 -> 0 | CM28: =IF(H28="various",IF(SUM(M28:Z28)>0,SUM(M28:Z28),0),0)*I28 -> 0
D29: 2 - CLASSIC | AZ29: =SUM(M29:Z29)*AY29 -> 0 | BB29: =SUM(M29:Z29)*BA29 -> 0 | BD29: =SUM(M29:Z29)*BC29 -> 0 | BF29: =IF(F29="XS",IF(SUM(M29:Z29)>0,SUM(M29:Z29),0),0)*I29 -> 0 | BG29: =IF(F29="S",IF(SUM(M29:Z29)>0,SUM(M29:Z29),0),0)*I29 -> 0 | BH29: =IF(F29="M",IF(SUM(M29:Z29)>0,SUM(M29:Z29),0),0)*I29 -> 0 | BI29: =IF(F29="L",IF(SUM(M29:Z29)>0,SUM(M29:Z29),0),0)*I29 -> 0 | BJ29: =IF(F29="XL",IF(SUM(M29:Z29)>0,SUM(M29:Z29),0),0)*I29 -> 0 | BK29: =IF(F29="2XL",IF(SUM(M29:Z29)>0,SUM(M29:Z29),0),0)*I29 -> 0 | BL29: =IF(F29="3XL",IF(SUM(M29:Z29)>0,SUM(M29:Z29),0),0)*I29 -> 0 | BM29: =IF(F29="4XL",IF(SUM(M29:Z29)>0,SUM(M29:Z29),0),0)*I29 -> 0 | BN29: =IF(F29="various",IF(SUM(M29:Z29)>0,SUM(M29:Z29),0),0)*I29 -> 0 | BP29: =IF(E29="All tex.",IF(SUM(M29:Z29)>0,SUM(M29:Z29),0),0)*I29 -> 0 | BQ29: =IF(E29="Dual tex.",IF(SUM(M29:Z29)>0,SUM(M29:Z29),0),0)*I29 -> 0 | BS29: =IF(H29="sloper",IF(SUM(M29:Z29)>0,SUM(M29:Z29),0),0)*I29 -> 0 | BT29: =IF(H29="footholds",IF(SUM(M29:Z29)>0,SUM(M29:Z29),0),0)*I29 -> 0 | BU29: =IF(H29="micros",IF(SUM(M29:Z29)>0,SUM(M29:Z29),0),0)*I29 -> 0 | BV29: =IF(H29="jug",IF(SUM(M29:Z29)>0,SUM(M29:Z29),0),0)*I29 -> 0 | BW29: =IF(H29="ledge",IF(SUM(M29:Z29)>0,SUM(M29:Z29),0),0)*I29 -> 0 | BX29: =IF(H29="edge",IF(SUM(M29:Z29)>0,SUM(M29:Z29),0),0)*I29 -> 0 | BY29: =IF(H29="crimp",IF(SUM(M29:Z29)>0,SUM(M29:Z29),0),0)*I29 -> 0 | BZ29: =IF(H29="incut",IF(SUM(M29:Z29)>0,SUM(M29:Z29),0),0)*I29 -> 0 | CA29: =IF(H29="dish",IF(SUM(M29:Z29)>0,SUM(M29:Z29),0),0)*I29 -> 0 | CB29: =IF(H29="pinch",IF(SUM(M29:Z29)>0,SUM(M29:Z29),0),0)*I29 -> 0 | CC29: =IF(H29="pocket",IF(SUM(M29:Z29)>0,SUM(M29:Z29),0),0)*I29 -> 0 | CD29: =IF(H29="insert",IF(SUM(M29:Z29)>0,SUM(M29:Z29),0),0)*I29 -> 0 | CE29: =IF(H29="feature",IF(SUM(M29:Z29)>0,SUM(M29:Z29),0),0)*I29 -> 0 | CF29: =IF(H29="scoop",IF(SUM(M29:Z29)>0,SUM(M29:Z29),0),0)*I29 -> 0 | CG29: =IF(H29="arete",IF(SUM(M29:Z29)>0,SUM(M29:Z29),0),0)*I29 -> 0 | CH29: =IF(H29="square",IF(SUM(M29:Z29)>0,SUM(M29:Z29),0),0)*I29 -> 0 | CI29: =IF(H29="positive",IF(SUM(M29:Z29)>0,SUM(M29:Z29),0),0)*I29 -> 0 | CJ29: =IF(H29="pyramid",IF(SUM(M29:Z29)>0,SUM(M29:Z29),0),0)*I29 -> 0 | CK29: =IF(H29="high profile",IF(SUM(M29:Z29)>0,SUM(M29:Z29),0),0)*I29 -> 0 | CL29: =IF(H29="rectangle",IF(SUM(M29:Z29)>0,SUM(M29:Z29),0),0)*I29 -> 0 | CM29: =IF(H29="various",IF(SUM(M29:Z29)>0,SUM(M29:Z29),0),0)*I29 -> 0
D30: SIMPL-2A | E30: Dual tex. | F30: S | G30: 5x 30x15 cm | H30: pyramid | I30: 5 | J30: 5 | K30: screws | L30: 225.83883 | AA30: =L30*M30+L30*N30+L30*O30+L30*P30+L30*Q30+L30*R30+L30*T30+L30*V30+L30*W30+L30*X30+L30*Y30+L30*Z30+L30*U30+L30*S30 -> 0 | AB30: =IF(SUM(M30:Z30)>0,"Yes","No") -> No | AC30: =IF(B30="New","Yes","No") -> No | AE30: 5 | AF30: =AE30*SUM(M30:Z30) -> 0 | AH30: 3.9 | AI30: =SUM(M30:Z30)*AH30 -> 0 | AJ30: =M30*I30 -> 0 | AK30: =N30*I30 -> 0 | AL30: =O30*I30 -> 0 | AM30: =P30*I30 -> 0 | AN30: =Q30*I30 -> 0 | AO30: =R30*I30 -> 0 | AP30: =S30*I30 -> 0 | AQ30: =T30*I30 -> 0 | AR30: =U30*I30 -> 0 | AS30: =V30*I30 -> 0 | AT30: =W30*I30 -> 0 | AU30: =X30*I30 -> 0 | AV30: =Y30*I30 -> 0 | AW30: =Z30*I30 -> 0 | AX30: 5 | AY30: 20 | AZ30: =SUM(M30:Z30)*AY30 -> 0 | BB30: =SUM(M30:Z30)*BA30 -> 0 | BD30: =SUM(M30:Z30)*BC30 -> 0 | BF30: =IF(F30="XS",IF(SUM(M30:Z30)>0,SUM(M30:Z30),0),0)*I30 -> 0 | BG30: =IF(F30="S",IF(SUM(M30:Z30)>0,SUM(M30:Z30),0),0)*I30 -> 0 | BH30: =IF(F30="M",IF(SUM(M30:Z30)>0,SUM(M30:Z30),0),0)*I30 -> 0 | BI30: =IF(F30="L",IF(SUM(M30:Z30)>0,SUM(M30:Z30),0),0)*I30 -> 0 | BJ30: =IF(F30="XL",IF(SUM(M30:Z30)>0,SUM(M30:Z30),0),0)*I30 -> 0 | BK30: =IF(F30="2XL",IF(SUM(M30:Z30)>0,SUM(M30:Z30),0),0)*I30 -> 0 | BL30: =IF(F30="3XL",IF(SUM(M30:Z30)>0,SUM(M30:Z30),0),0)*I30 -> 0 | BM30: =IF(F30="4XL",IF(SUM(M30:Z30)>0,SUM(M30:Z30),0),0)*I30 -> 0 | BN30: =IF(F30="various",IF(SUM(M30:Z30)>0,SUM(M30:Z30),0),0)*I30 -> 0 | BP30: =IF(E30="All tex.",IF(SUM(M30:Z30)>0,SUM(M30:Z30),0),0)*I30 -> 0 | BQ30: =IF(E30="Dual tex.",IF(SUM(M30:Z30)>0,SUM(M30:Z30),0),0)*I30 -> 0 | BS30: =IF(H30="sloper",IF(SUM(M30:Z30)>0,SUM(M30:Z30),0),0)*I30 -> 0 | BT30: =IF(H30="footholds",IF(SUM(M30:Z30)>0,SUM(M30:Z30),0),0)*I30 -> 0 | BU30: =IF(H30="micros",IF(SUM(M30:Z30)>0,SUM(M30:Z30),0),0)*I30 -> 0 | BV30: =IF(H30="jug",IF(SUM(M30:Z30)>0,SUM(M30:Z30),0),0)*I30 -> 0 | BW30: =IF(H30="ledge",IF(SUM(M30:Z30)>0,SUM(M30:Z30),0),0)*I30 -> 0 | BX30: =IF(H30="edge",IF(SUM(M30:Z30)>0,SUM(M30:Z30),0),0)*I30 -> 0 | BY30: =IF(H30="crimp",IF(SUM(M30:Z30)>0,SUM(M30:Z30),0),0)*I30 -> 0 | BZ30: =IF(H30="incut",IF(SUM(M30:Z30)>0,SUM(M30:Z30),0),0)*I30 -> 0 | CA30: =IF(H30="dish",IF(SUM(M30:Z30)>0,SUM(M30:Z30),0),0)*I30 -> 0 | CB30: =IF(H30="pinch",IF(SUM(M30:Z30)>0,SUM(M30:Z30),0),0)*I30 -> 0 | CC30: =IF(H30="pocket",IF(SUM(M30:Z30)>0,SUM(M30:Z30),0),0)*I30 -> 0 | CD30: =IF(H30="insert",IF(SUM(M30:Z30)>0,SUM(M30:Z30),0),0)*I30 -> 0 | CE30: =IF(H30="feature",IF(SUM(M30:Z30)>0,SUM(M30:Z30),0),0)*I30 -> 0 | CF30: =IF(H30="scoop",IF(SUM(M30:Z30)>0,SUM(M30:Z30),0),0)*I30 -> 0 | CG30: =IF(H30="arete",IF(SUM(M30:Z30)>0,SUM(M30:Z30),0),0)*I30 -> 0 | CH30: =IF(H30="square",IF(SUM(M30:Z30)>0,SUM(M30:Z30),0),0)*I30 -> 0 | CI30: =IF(H30="positive",IF(SUM(M30:Z30)>0,SUM(M30:Z30),0),0)*I30 -> 0 | CJ30: =IF(H30="pyramid",IF(SUM(M30:Z30)>0,SUM(M30:Z30),0),0)*I30 -> 0 | CK30: =IF(H30="high profile",IF(SUM(M30:Z30)>0,SUM(M30:Z30),0),0)*I30 -> 0 | CL30: =IF(H30="rectangle",IF(SUM(M30:Z30)>0,SUM(M30:Z30),0),0)*I30 -> 0 | CM30: =IF(H30="various",IF(SUM(M30:Z30)>0,SUM(M30:Z30),0),0)*I30 -> 0
D31: SIMPL-2A-T | E31: All tex. | F31: S | G31: 5x 30x15 cm | H31: pyramid | I31: 5 | J31: 5 | K31: screws | L31: 196.3798 | AA31: =L31*M31+L31*N31+L31*O31+L31*P31+L31*Q31+L31*R31+L31*T31+L31*V31+L31*W31+L31*X31+L31*Y31+L31*Z31+L31*U31+L31*S31 -> 0 | AB31: =IF(SUM(M31:Z31)>0,"Yes","No") -> No | AC31: =IF(B31="New","Yes","No") -> No | AE31: 5 | AF31: =AE31*SUM(M31:Z31) -> 0 | AH31: 3.9 | AI31: =SUM(M31:Z31)*AH31 -> 0 | AJ31: =M31*I31 -> 0 | AK31: =N31*I31 -> 0 | AL31: =O31*I31 -> 0 | AM31: =P31*I31 -> 0 | AN31: =Q31*I31 -> 0 | AO31: =R31*I31 -> 0 | AP31: =S31*I31 -> 0 | AQ31: =T31*I31 -> 0 | AR31: =U31*I31 -> 0 | AS31: =V31*I31 -> 0 | AT31: =W31*I31 -> 0 | AU31: =X31*I31 -> 0 | AV31: =Y31*I31 -> 0 | AW31: =Z31*I31 -> 0 | AX31: 5 | AY31: 20 | AZ31: =SUM(M31:Z31)*AY31 -> 0 | BB31: =SUM(M31:Z31)*BA31 -> 0 | BD31: =SUM(M31:Z31)*BC31 -> 0 | BF31: =IF(F31="XS",IF(SUM(M31:Z31)>0,SUM(M31:Z31),0),0)*I31 -> 0 | BG31: =IF(F31="S",IF(SUM(M31:Z31)>0,SUM(M31:Z31),0),0)*I31 -> 0 | BH31: =IF(F31="M",IF(SUM(M31:Z31)>0,SUM(M31:Z31),0),0)*I31 -> 0 | BI31: =IF(F31="L",IF(SUM(M31:Z31)>0,SUM(M31:Z31),0),0)*I31 -> 0 | BJ31: =IF(F31="XL",IF(SUM(M31:Z31)>0,SUM(M31:Z31),0),0)*I31 -> 0 | BK31: =IF(F31="2XL",IF(SUM(M31:Z31)>0,SUM(M31:Z31),0),0)*I31 -> 0 | BL31: =IF(F31="3XL",IF(SUM(M31:Z31)>0,SUM(M31:Z31),0),0)*I31 -> 0 | BM31: =IF(F31="4XL",IF(SUM(M31:Z31)>0,SUM(M31:Z31),0),0)*I31 -> 0 | BN31: =IF(F31="various",IF(SUM(M31:Z31)>0,SUM(M31:Z31),0),0)*I31 -> 0 | BP31: =IF(E31="All tex.",IF(SUM(M31:Z31)>0,SUM(M31:Z31),0),0)*I31 -> 0 | BQ31: =IF(E31="Dual tex.",IF(SUM(M31:Z31)>0,SUM(M31:Z31),0),0)*I31 -> 0 | BS31: =IF(H31="sloper",IF(SUM(M31:Z31)>0,SUM(M31:Z31),0),0)*I31 -> 0 | BT31: =IF(H31="footholds",IF(SUM(M31:Z31)>0,SUM(M31:Z31),0),0)*I31 -> 0 | BU31: =IF(H31="micros",IF(SUM(M31:Z31)>0,SUM(M31:Z31),0),0)*I31 -> 0 | BV31: =IF(H31="jug",IF(SUM(M31:Z31)>0,SUM(M31:Z31),0),0)*I31 -> 0 | BW31: =IF(H31="ledge",IF(SUM(M31:Z31)>0,SUM(M31:Z31),0),0)*I31 -> 0 | BX31: =IF(H31="edge",IF(SUM(M31:Z31)>0,SUM(M31:Z31),0),0)*I31 -> 0 | BY31: =IF(H31="crimp",IF(SUM(M31:Z31)>0,SUM(M31:Z31),0),0)*I31 -> 0 | BZ31: =IF(H31="incut",IF(SUM(M31:Z31)>0,SUM(M31:Z31),0),0)*I31 -> 0 | CA31: =IF(H31="dish",IF(SUM(M31:Z31)>0,SUM(M31:Z31),0),0)*I31 -> 0 | CB31: =IF(H31="pinch",IF(SUM(M31:Z31)>0,SUM(M31:Z31),0),0)*I31 -> 0 | CC31: =IF(H31="pocket",IF(SUM(M31:Z31)>0,SUM(M31:Z31),0),0)*I31 -> 0 | CD31: =IF(H31="insert",IF(SUM(M31:Z31)>0,SUM(M31:Z31),0),0)*I31 -> 0 | CE31: =IF(H31="feature",IF(SUM(M31:Z31)>0,SUM(M31:Z31),0),0)*I31 -> 0 | CF31: =IF(H31="scoop",IF(SUM(M31:Z31)>0,SUM(M31:Z31),0),0)*I31 -> 0 | CG31: =IF(H31="arete",IF(SUM(M31:Z31)>0,SUM(M31:Z31),0),0)*I31 -> 0 | CH31: =IF(H31="square",IF(SUM(M31:Z31)>0,SUM(M31:Z31),0),0)*I31 -> 0 | CI31: =IF(H31="positive",IF(SUM(M31:Z31)>0,SUM(M31:Z31),0),0)*I31 -> 0 | CJ31: =IF(H31="pyramid",IF(SUM(M31:Z31)>0,SUM(M31:Z31),0),0)*I31 -> 0 | CK31: =IF(H31="high profile",IF(SUM(M31:Z31)>0,SUM(M31:Z31),0),0)*I31 -> 0 | CL31: =IF(H31="rectangle",IF(SUM(M31:Z31)>0,SUM(M31:Z31),0),0)*I31 -> 0 | CM31: =IF(H31="various",IF(SUM(M31:Z31)>0,SUM(M31:Z31),0),0)*I31 -> 0
D32: SIMPL-2B | E32: Dual tex. | F32: M | G32: 4x 42x22 cm | H32: pyramid | I32: 4 | J32: 8 | K32: screws | L32: 225.83883 | AA32: =L32*M32+L32*N32+L32*O32+L32*P32+L32*Q32+L32*R32+L32*T32+L32*V32+L32*W32+L32*X32+L32*Y32+L32*Z32+L32*U32+L32*S32 -> 0 | AB32: =IF(SUM(M32:Z32)>0,"Yes","No") -> No | AC32: =IF(B32="New","Yes","No") -> No | AE32: 4 | AF32: =AE32*SUM(M32:Z32) -> 0 | AH32: 7.2 | AI32: =SUM(M32:Z32)*AH32 -> 0 | AJ32: =M32*I32 -> 0 | AK32: =N32*I32 -> 0 | AL32: =O32*I32 -> 0 | AM32: =P32*I32 -> 0 | AN32: =Q32*I32 -> 0 | AO32: =R32*I32 -> 0 | AP32: =S32*I32 -> 0 | AQ32: =T32*I32 -> 0 | AR32: =U32*I32 -> 0 | AS32: =V32*I32 -> 0 | AT32: =W32*I32 -> 0 | AU32: =X32*I32 -> 0 | AV32: =Y32*I32 -> 0 | AW32: =Z32*I32 -> 0 | AX32: 4 | AY32: 16 | AZ32: =SUM(M32:Z32)*AY32 -> 0 | BB32: =SUM(M32:Z32)*BA32 -> 0 | BD32: =SUM(M32:Z32)*BC32 -> 0 | BF32: =IF(F32="XS",IF(SUM(M32:Z32)>0,SUM(M32:Z32),0),0)*I32 -> 0 | BG32: =IF(F32="S",IF(SUM(M32:Z32)>0,SUM(M32:Z32),0),0)*I32 -> 0 | BH32: =IF(F32="M",IF(SUM(M32:Z32)>0,SUM(M32:Z32),0),0)*I32 -> 0 | BI32: =IF(F32="L",IF(SUM(M32:Z32)>0,SUM(M32:Z32),0),0)*I32 -> 0 | BJ32: =IF(F32="XL",IF(SUM(M32:Z32)>0,SUM(M32:Z32),0),0)*I32 -> 0 | BK32: =IF(F32="2XL",IF(SUM(M32:Z32)>0,SUM(M32:Z32),0),0)*I32 -> 0 | BL32: =IF(F32="3XL",IF(SUM(M32:Z32)>0,SUM(M32:Z32),0),0)*I32 -> 0 | BM32: =IF(F32="4XL",IF(SUM(M32:Z32)>0,SUM(M32:Z32),0),0)*I32 -> 0 | BN32: =IF(F32="various",IF(SUM(M32:Z32)>0,SUM(M32:Z32),0),0)*I32 -> 0 | BP32: =IF(E32="All tex.",IF(SUM(M32:Z32)>0,SUM(M32:Z32),0),0)*I32 -> 0 | BQ32: =IF(E32="Dual tex.",IF(SUM(M32:Z32)>0,SUM(M32:Z32),0),0)*I32 -> 0 | BS32: =IF(H32="sloper",IF(SUM(M32:Z32)>0,SUM(M32:Z32),0),0)*I32 -> 0 | BT32: =IF(H32="footholds",IF(SUM(M32:Z32)>0,SUM(M32:Z32),0),0)*I32 -> 0 | BU32: =IF(H32="micros",IF(SUM(M32:Z32)>0,SUM(M32:Z32),0),0)*I32 -> 0 | BV32: =IF(H32="jug",IF(SUM(M32:Z32)>0,SUM(M32:Z32),0),0)*I32 -> 0 | BW32: =IF(H32="ledge",IF(SUM(M32:Z32)>0,SUM(M32:Z32),0),0)*I32 -> 0 | BX32: =IF(H32="edge",IF(SUM(M32:Z32)>0,SUM(M32:Z32),0),0)*I32 -> 0 | BY32: =IF(H32="crimp",IF(SUM(M32:Z32)>0,SUM(M32:Z32),0),0)*I32 -> 0 | BZ32: =IF(H32="incut",IF(SUM(M32:Z32)>0,SUM(M32:Z32),0),0)*I32 -> 0 | CA32: =IF(H32="dish",IF(SUM(M32:Z32)>0,SUM(M32:Z32),0),0)*I32 -> 0 | CB32: =IF(H32="pinch",IF(SUM(M32:Z32)>0,SUM(M32:Z32),0),0)*I32 -> 0 | CC32: =IF(H32="pocket",IF(SUM(M32:Z32)>0,SUM(M32:Z32),0),0)*I32 -> 0 | CD32: =IF(H32="insert",IF(SUM(M32:Z32)>0,SUM(M32:Z32),0),0)*I32 -> 0 | CE32: =IF(H32="feature",IF(SUM(M32:Z32)>0,SUM(M32:Z32),0),0)*I32 -> 0 | CF32: =IF(H32="scoop",IF(SUM(M32:Z32)>0,SUM(M32:Z32),0),0)*I32 -> 0 | CG32: =IF(H32="arete",IF(SUM(M32:Z32)>0,SUM(M32:Z32),0),0)*I32 -> 0 | CH32: =IF(H32="square",IF(SUM(M32:Z32)>0,SUM(M32:Z32),0),0)*I32 -> 0 | CI32: =IF(H32="positive",IF(SUM(M32:Z32)>0,SUM(M32:Z32),0),0)*I32 -> 0 | CJ32: =IF(H32="pyramid",IF(SUM(M32:Z32)>0,SUM(M32:Z32),0),0)*I32 -> 0 | CK32: =IF(H32="high profile",IF(SUM(M32:Z32)>0,SUM(M32:Z32),0),0)*I32 -> 0 | CL32: =IF(H32="rectangle",IF(SUM(M32:Z32)>0,SUM(M32:Z32),0),0)*I32 -> 0 | CM32: =IF(H32="various",IF(SUM(M32:Z32)>0,SUM(M32:Z32),0),0)*I32 -> 0
D33: SIMPL-2B-T | E33: All tex. | F33: M | G33: 4x 42x22 cm | H33: pyramid | I33: 4 | J33: 8 | K33: screws | L33: 196.3798 | AA33: =L33*M33+L33*N33+L33*O33+L33*P33+L33*Q33+L33*R33+L33*T33+L33*V33+L33*W33+L33*X33+L33*Y33+L33*Z33+L33*U33+L33*S33 -> 0 | AB33: =IF(SUM(M33:Z33)>0,"Yes","No") -> No | AC33: =IF(B33="New","Yes","No") -> No | AE33: 4 | AF33: =AE33*SUM(M33:Z33) -> 0 | AH33: 7.2 | AI33: =SUM(M33:Z33)*AH33 -> 0 | AJ33: =M33*I33 -> 0 | AK33: =N33*I33 -> 0 | AL33: =O33*I33 -> 0 | AM33: =P33*I33 -> 0 | AN33: =Q33*I33 -> 0 | AO33: =R33*I33 -> 0 | AP33: =S33*I33 -> 0 | AQ33: =T33*I33 -> 0 | AR33: =U33*I33 -> 0 | AS33: =V33*I33 -> 0 | AT33: =W33*I33 -> 0 | AU33: =X33*I33 -> 0 | AV33: =Y33*I33 -> 0 | AW33: =Z33*I33 -> 0 | AX33: 4 | AY33: 16 | AZ33: =SUM(M33:Z33)*AY33 -> 0 | BB33: =SUM(M33:Z33)*BA33 -> 0 | BD33: =SUM(M33:Z33)*BC33 -> 0 | BF33: =IF(F33="XS",IF(SUM(M33:Z33)>0,SUM(M33:Z33),0),0)*I33 -> 0 | BG33: =IF(F33="S",IF(SUM(M33:Z33)>0,SUM(M33:Z33),0),0)*I33 -> 0 | BH33: =IF(F33="M",IF(SUM(M33:Z33)>0,SUM(M33:Z33),0),0)*I33 -> 0 | BI33: =IF(F33="L",IF(SUM(M33:Z33)>0,SUM(M33:Z33),0),0)*I33 -> 0 | BJ33: =IF(F33="XL",IF(SUM(M33:Z33)>0,SUM(M33:Z33),0),0)*I33 -> 0 | BK33: =IF(F33="2XL",IF(SUM(M33:Z33)>0,SUM(M33:Z33),0),0)*I33 -> 0 | BL33: =IF(F33="3XL",IF(SUM(M33:Z33)>0,SUM(M33:Z33),0),0)*I33 -> 0 | BM33: =IF(F33="4XL",IF(SUM(M33:Z33)>0,SUM(M33:Z33),0),0)*I33 -> 0 | BN33: =IF(F33="various",IF(SUM(M33:Z33)>0,SUM(M33:Z33),0),0)*I33 -> 0 | BP33: =IF(E33="All tex.",IF(SUM(M33:Z33)>0,SUM(M33:Z33),0),0)*I33 -> 0 | BQ33: =IF(E33="Dual tex.",IF(SUM(M33:Z33)>0,SUM(M33:Z33),0),0)*I33 -> 0 | BS33: =IF(H33="sloper",IF(SUM(M33:Z33)>0,SUM(M33:Z33),0),0)*I33 -> 0 | BT33: =IF(H33="footholds",IF(SUM(M33:Z33)>0,SUM(M33:Z33),0),0)*I33 -> 0 | BU33: =IF(H33="micros",IF(SUM(M33:Z33)>0,SUM(M33:Z33),0),0)*I33 -> 0 | BV33: =IF(H33="jug",IF(SUM(M33:Z33)>0,SUM(M33:Z33),0),0)*I33 -> 0 | BW33: =IF(H33="ledge",IF(SUM(M33:Z33)>0,SUM(M33:Z33),0),0)*I33 -> 0 | BX33: =IF(H33="edge",IF(SUM(M33:Z33)>0,SUM(M33:Z33),0),0)*I33 -> 0 | BY33: =IF(H33="crimp",IF(SUM(M33:Z33)>0,SUM(M33:Z33),0),0)*I33 -> 0 | BZ33: =IF(H33="incut",IF(SUM(M33:Z33)>0,SUM(M33:Z33),0),0)*I33 -> 0 | CA33: =IF(H33="dish",IF(SUM(M33:Z33)>0,SUM(M33:Z33),0),0)*I33 -> 0 | CB33: =IF(H33="pinch",IF(SUM(M33:Z33)>0,SUM(M33:Z33),0),0)*I33 -> 0 | CC33: =IF(H33="pocket",IF(SUM(M33:Z33)>0,SUM(M33:Z33),0),0)*I33 -> 0 | CD33: =IF(H33="insert",IF(SUM(M33:Z33)>0,SUM(M33:Z33),0),0)*I33 -> 0 | CE33: =IF(H33="feature",IF(SUM(M33:Z33)>0,SUM(M33:Z33),0),0)*I33 -> 0 | CF33: =IF(H33="scoop",IF(SUM(M33:Z33)>0,SUM(M33:Z33),0),0)*I33 -> 0 | CG33: =IF(H33="arete",IF(SUM(M33:Z33)>0,SUM(M33:Z33),0),0)*I33 -> 0 | CH33: =IF(H33="square",IF(SUM(M33:Z33)>0,SUM(M33:Z33),0),0)*I33 -> 0 | CI33: =IF(H33="positive",IF(SUM(M33:Z33)>0,SUM(M33:Z33),0),0)*I33 -> 0 | CJ33: =IF(H33="pyramid",IF(SUM(M33:Z33)>0,SUM(M33:Z33),0),0)*I33 -> 0 | CK33: =IF(H33="high profile",IF(SUM(M33:Z33)>0,SUM(M33:Z33),0),0)*I33 -> 0 | CL33: =IF(H33="rectangle",IF(SUM(M33:Z33)>0,SUM(M33:Z33),0),0)*I33 -> 0 | CM33: =IF(H33="various",IF(SUM(M33:Z33)>0,SUM(M33:Z33),0),0)*I33 -> 0
D34: SIMPL-2C | E34: Dual tex. | F34: L | G34: 3x 56x29 cm | H34: pyramid | I34: 3 | J34: 18 | K34: screws | L34: 225.83883 | AA34: =L34*M34+L34*N34+L34*O34+L34*P34+L34*Q34+L34*R34+L34*T34+L34*V34+L34*W34+L34*X34+L34*Y34+L34*Z34+L34*U34+L34*S34 -> 0 | AB34: =IF(SUM(M34:Z34)>0,"Yes","No") -> No | AC34: =IF(B34="New","Yes","No") -> No | AE34: 3 | AF34: =AE34*SUM(M34:Z34) -> 0 | AH34: 9.3 | AI34: =SUM(M34:Z34)*AH34 -> 0 | AJ34: =M34*I34 -> 0 | AK34: =N34*I34 -> 0 | AL34: =O34*I34 -> 0 | AM34: =P34*I34 -> 0 | AN34: =Q34*I34 -> 0 | AO34: =R34*I34 -> 0 | AP34: =S34*I34 -> 0 | AQ34: =T34*I34 -> 0 | AR34: =U34*I34 -> 0 | AS34: =V34*I34 -> 0 | AT34: =W34*I34 -> 0 | AU34: =X34*I34 -> 0 | AV34: =Y34*I34 -> 0 | AW34: =Z34*I34 -> 0 | AX34: 3 | AY34: 18 | AZ34: =SUM(M34:Z34)*AY34 -> 0 | BB34: =SUM(M34:Z34)*BA34 -> 0 | BD34: =SUM(M34:Z34)*BC34 -> 0 | BF34: =IF(F34="XS",IF(SUM(M34:Z34)>0,SUM(M34:Z34),0),0)*I34 -> 0 | BG34: =IF(F34="S",IF(SUM(M34:Z34)>0,SUM(M34:Z34),0),0)*I34 -> 0 | BH34: =IF(F34="M",IF(SUM(M34:Z34)>0,SUM(M34:Z34),0),0)*I34 -> 0 | BI34: =IF(F34="L",IF(SUM(M34:Z34)>0,SUM(M34:Z34),0),0)*I34 -> 0 | BJ34: =IF(F34="XL",IF(SUM(M34:Z34)>0,SUM(M34:Z34),0),0)*I34 -> 0 | BK34: =IF(F34="2XL",IF(SUM(M34:Z34)>0,SUM(M34:Z34),0),0)*I34 -> 0 | BL34: =IF(F34="3XL",IF(SUM(M34:Z34)>0,SUM(M34:Z34),0),0)*I34 -> 0 | BM34: =IF(F34="4XL",IF(SUM(M34:Z34)>0,SUM(M34:Z34),0),0)*I34 -> 0 | BN34: =IF(F34="various",IF(SUM(M34:Z34)>0,SUM(M34:Z34),0),0)*I34 -> 0 | BP34: =IF(E34="All tex.",IF(SUM(M34:Z34)>0,SUM(M34:Z34),0),0)*I34 -> 0 | BQ34: =IF(E34="Dual tex.",IF(SUM(M34:Z34)>0,SUM(M34:Z34),0),0)*I34 -> 0 | BS34: =IF(H34="sloper",IF(SUM(M34:Z34)>0,SUM(M34:Z34),0),0)*I34 -> 0 | BT34: =IF(H34="footholds",IF(SUM(M34:Z34)>0,SUM(M34:Z34),0),0)*I34 -> 0 | BU34: =IF(H34="micros",IF(SUM(M34:Z34)>0,SUM(M34:Z34),0),0)*I34 -> 0 | BV34: =IF(H34="jug",IF(SUM(M34:Z34)>0,SUM(M34:Z34),0),0)*I34 -> 0 | BW34: =IF(H34="ledge",IF(SUM(M34:Z34)>0,SUM(M34:Z34),0),0)*I34 -> 0 | BX34: =IF(H34="edge",IF(SUM(M34:Z34)>0,SUM(M34:Z34),0),0)*I34 -> 0 | BY34: =IF(H34="crimp",IF(SUM(M34:Z34)>0,SUM(M34:Z34),0),0)*I34 -> 0 | BZ34: =IF(H34="incut",IF(SUM(M34:Z34)>0,SUM(M34:Z34),0),0)*I34 -> 0 | CA34: =IF(H34="dish",IF(SUM(M34:Z34)>0,SUM(M34:Z34),0),0)*I34 -> 0 | CB34: =IF(H34="pinch",IF(SUM(M34:Z34)>0,SUM(M34:Z34),0),0)*I34 -> 0 | CC34: =IF(H34="pocket",IF(SUM(M34:Z34)>0,SUM(M34:Z34),0),0)*I34 -> 0 | CD34: =IF(H34="insert",IF(SUM(M34:Z34)>0,SUM(M34:Z34),0),0)*I34 -> 0 | CE34: =IF(H34="feature",IF(SUM(M34:Z34)>0,SUM(M34:Z34),0),0)*I34 -> 0 | CF34: =IF(H34="scoop",IF(SUM(M34:Z34)>0,SUM(M34:Z34),0),0)*I34 -> 0 | CG34: =IF(H34="arete",IF(SUM(M34:Z34)>0,SUM(M34:Z34),0),0)*I34 -> 0 | CH34: =IF(H34="square",IF(SUM(M34:Z34)>0,SUM(M34:Z34),0),0)*I34 -> 0 | CI34: =IF(H34="positive",IF(SUM(M34:Z34)>0,SUM(M34:Z34),0),0)*I34 -> 0 | CJ34: =IF(H34="pyramid",IF(SUM(M34:Z34)>0,SUM(M34:Z34),0),0)*I34 -> 0 | CK34: =IF(H34="high profile",IF(SUM(M34:Z34)>0,SUM(M34:Z34),0),0)*I34 -> 0 | CL34: =IF(H34="rectangle",IF(SUM(M34:Z34)>0,SUM(M34:Z34),0),0)*I34 -> 0 | CM34: =IF(H34="various",IF(SUM(M34:Z34)>0,SUM(M34:Z34),0),0)*I34 -> 0
D35: SIMPL-2C-T | E35: All tex. | F35: L | G35: 3x 56x29 cm | H35: pyramid | I35: 3 | J35: 18 | K35: screws | L35: 196.3798 | AA35: =L35*M35+L35*N35+L35*O35+L35*P35+L35*Q35+L35*R35+L35*T35+L35*V35+L35*W35+L35*X35+L35*Y35+L35*Z35+L35*U35+L35*S35 -> 0 | AB35: =IF(SUM(M35:Z35)>0,"Yes","No") -> No | AC35: =IF(B35="New","Yes","No") -> No | AE35: 3 | AF35: =AE35*SUM(M35:Z35) -> 0 | AH35: 9.3 | AI35: =SUM(M35:Z35)*AH35 -> 0 | AJ35: =M35*I35 -> 0 | AK35: =N35*I35 -> 0 | AL35: =O35*I35 -> 0 | AM35: =P35*I35 -> 0 | AN35: =Q35*I35 -> 0 | AO35: =R35*I35 -> 0 | AP35: =S35*I35 -> 0 | AQ35: =T35*I35 -> 0 | AR35: =U35*I35 -> 0 | AS35: =V35*I35 -> 0 | AT35: =W35*I35 -> 0 | AU35: =X35*I35 -> 0 | AV35: =Y35*I35 -> 0 | AW35: =Z35*I35 -> 0 | AX35: 3 | AY35: 18 | AZ35: =SUM(M35:Z35)*AY35 -> 0 | BB35: =SUM(M35:Z35)*BA35 -> 0 | BD35: =SUM(M35:Z35)*BC35 -> 0 | BF35: =IF(F35="XS",IF(SUM(M35:Z35)>0,SUM(M35:Z35),0),0)*I35 -> 0 | BG35: =IF(F35="S",IF(SUM(M35:Z35)>0,SUM(M35:Z35),0),0)*I35 -> 0 | BH35: =IF(F35="M",IF(SUM(M35:Z35)>0,SUM(M35:Z35),0),0)*I35 -> 0 | BI35: =IF(F35="L",IF(SUM(M35:Z35)>0,SUM(M35:Z35),0),0)*I35 -> 0 | BJ35: =IF(F35="XL",IF(SUM(M35:Z35)>0,SUM(M35:Z35),0),0)*I35 -> 0 | BK35: =IF(F35="2XL",IF(SUM(M35:Z35)>0,SUM(M35:Z35),0),0)*I35 -> 0 | BL35: =IF(F35="3XL",IF(SUM(M35:Z35)>0,SUM(M35:Z35),0),0)*I35 -> 0 | BM35: =IF(F35="4XL",IF(SUM(M35:Z35)>0,SUM(M35:Z35),0),0)*I35 -> 0 | BN35: =IF(F35="various",IF(SUM(M35:Z35)>0,SUM(M35:Z35),0),0)*I35 -> 0 | BP35: =IF(E35="All tex.",IF(SUM(M35:Z35)>0,SUM(M35:Z35),0),0)*I35 -> 0 | BQ35: =IF(E35="Dual tex.",IF(SUM(M35:Z35)>0,SUM(M35:Z35),0),0)*I35 -> 0 | BS35: =IF(H35="sloper",IF(SUM(M35:Z35)>0,SUM(M35:Z35),0),0)*I35 -> 0 | BT35: =IF(H35="footholds",IF(SUM(M35:Z35)>0,SUM(M35:Z35),0),0)*I35 -> 0 | BU35: =IF(H35="micros",IF(SUM(M35:Z35)>0,SUM(M35:Z35),0),0)*I35 -> 0 | BV35: =IF(H35="jug",IF(SUM(M35:Z35)>0,SUM(M35:Z35),0),0)*I35 -> 0 | BW35: =IF(H35="ledge",IF(SUM(M35:Z35)>0,SUM(M35:Z35),0),0)*I35 -> 0 | BX35: =IF(H35="edge",IF(SUM(M35:Z35)>0,SUM(M35:Z35),0),0)*I35 -> 0 | BY35: =IF(H35="crimp",IF(SUM(M35:Z35)>0,SUM(M35:Z35),0),0)*I35 -> 0 | BZ35: =IF(H35="incut",IF(SUM(M35:Z35)>0,SUM(M35:Z35),0),0)*I35 -> 0 | CA35: =IF(H35="dish",IF(SUM(M35:Z35)>0,SUM(M35:Z35),0),0)*I35 -> 0 | CB35: =IF(H35="pinch",IF(SUM(M35:Z35)>0,SUM(M35:Z35),0),0)*I35 -> 0 | CC35: =IF(H35="pocket",IF(SUM(M35:Z35)>0,SUM(M35:Z35),0),0)*I35 -> 0 | CD35: =IF(H35="insert",IF(SUM(M35:Z35)>0,SUM(M35:Z35),0),0)*I35 -> 0 | CE35: =IF(H35="feature",IF(SUM(M35:Z35)>0,SUM(M35:Z35),0),0)*I35 -> 0 | CF35: =IF(H35="scoop",IF(SUM(M35:Z35)>0,SUM(M35:Z35),0),0)*I35 -> 0 | CG35: =IF(H35="arete",IF(SUM(M35:Z35)>0,SUM(M35:Z35),0),0)*I35 -> 0 | CH35: =IF(H35="square",IF(SUM(M35:Z35)>0,SUM(M35:Z35),0),0)*I35 -> 0 | CI35: =IF(H35="positive",IF(SUM(M35:Z35)>0,SUM(M35:Z35),0),0)*I35 -> 0 | CJ35: =IF(H35="pyramid",IF(SUM(M35:Z35)>0,SUM(M35:Z35),0),0)*I35 -> 0 | CK35: =IF(H35="high profile",IF(SUM(M35:Z35)>0,SUM(M35:Z35),0),0)*I35 -> 0 | CL35: =IF(H35="rectangle",IF(SUM(M35:Z35)>0,SUM(M35:Z35),0),0)*I35 -> 0 | CM35: =IF(H35="various",IF(SUM(M35:Z35)>0,SUM(M35:Z35),0),0)*I35 -> 0
D36: SIMPL-2D | E36: Dual tex. | F36: XL | G36: 2x 84x43 cm | H36: pyramid | I36: 2 | J36: 24 | K36: screws | L36: 237.30273 | AA36: =L36*M36+L36*N36+L36*O36+L36*P36+L36*Q36+L36*R36+L36*T36+L36*V36+L36*W36+L36*X36+L36*Y36+L36*Z36+L36*U36+L36*S36 -> 0 | AB36: =IF(SUM(M36:Z36)>0,"Yes","No") -> No | AC36: =IF(B36="New","Yes","No") -> No | AE36: 2 | AF36: =AE36*SUM(M36:Z36) -> 0 | AH36: 14.5 | AI36: =SUM(M36:Z36)*AH36 -> 0 | AJ36: =M36*I36 -> 0 | AK36: =N36*I36 -> 0 | AL36: =O36*I36 -> 0 | AM36: =P36*I36 -> 0 | AN36: =Q36*I36 -> 0 | AO36: =R36*I36 -> 0 | AP36: =S36*I36 -> 0 | AQ36: =T36*I36 -> 0 | AR36: =U36*I36 -> 0 | AS36: =V36*I36 -> 0 | AT36: =W36*I36 -> 0 | AU36: =X36*I36 -> 0 | AV36: =Y36*I36 -> 0 | AW36: =Z36*I36 -> 0 | AX36: 2 | AY36: 18 | AZ36: =SUM(M36:Z36)*AY36 -> 0 | BB36: =SUM(M36:Z36)*BA36 -> 0 | BD36: =SUM(M36:Z36)*BC36 -> 0 | BF36: =IF(F36="XS",IF(SUM(M36:Z36)>0,SUM(M36:Z36),0),0)*I36 -> 0 | BG36: =IF(F36="S",IF(SUM(M36:Z36)>0,SUM(M36:Z36),0),0)*I36 -> 0 | BH36: =IF(F36="M",IF(SUM(M36:Z36)>0,SUM(M36:Z36),0),0)*I36 -> 0 | BI36: =IF(F36="L",IF(SUM(M36:Z36)>0,SUM(M36:Z36),0),0)*I36 -> 0 | BJ36: =IF(F36="XL",IF(SUM(M36:Z36)>0,SUM(M36:Z36),0),0)*I36 -> 0 | BK36: =IF(F36="2XL",IF(SUM(M36:Z36)>0,SUM(M36:Z36),0),0)*I36 -> 0 | BL36: =IF(F36="3XL",IF(SUM(M36:Z36)>0,SUM(M36:Z36),0),0)*I36 -> 0 | BM36: =IF(F36="4XL",IF(SUM(M36:Z36)>0,SUM(M36:Z36),0),0)*I36 -> 0 | BN36: =IF(F36="various",IF(SUM(M36:Z36)>0,SUM(M36:Z36),0),0)*I36 -> 0 | BP36: =IF(E36="All tex.",IF(SUM(M36:Z36)>0,SUM(M36:Z36),0),0)*I36 -> 0 | BQ36: =IF(E36="Dual tex.",IF(SUM(M36:Z36)>0,SUM(M36:Z36),0),0)*I36 -> 0 | BS36: =IF(H36="sloper",IF(SUM(M36:Z36)>0,SUM(M36:Z36),0),0)*I36 -> 0 | BT36: =IF(H36="footholds",IF(SUM(M36:Z36)>0,SUM(M36:Z36),0),0)*I36 -> 0 | BU36: =IF(H36="micros",IF(SUM(M36:Z36)>0,SUM(M36:Z36),0),0)*I36 -> 0 | BV36: =IF(H36="jug",IF(SUM(M36:Z36)>0,SUM(M36:Z36),0),0)*I36 -> 0 | BW36: =IF(H36="ledge",IF(SUM(M36:Z36)>0,SUM(M36:Z36),0),0)*I36 -> 0 | BX36: =IF(H36="edge",IF(SUM(M36:Z36)>0,SUM(M36:Z36),0),0)*I36 -> 0 | BY36: =IF(H36="crimp",IF(SUM(M36:Z36)>0,SUM(M36:Z36),0),0)*I36 -> 0 | BZ36: =IF(H36="incut",IF(SUM(M36:Z36)>0,SUM(M36:Z36),0),0)*I36 -> 0 | CA36: =IF(H36="dish",IF(SUM(M36:Z36)>0,SUM(M36:Z36),0),0)*I36 -> 0 | CB36: =IF(H36="pinch",IF(SUM(M36:Z36)>0,SUM(M36:Z36),0),0)*I36 -> 0 | CC36: =IF(H36="pocket",IF(SUM(M36:Z36)>0,SUM(M36:Z36),0),0)*I36 -> 0 | CD36: =IF(H36="insert",IF(SUM(M36:Z36)>0,SUM(M36:Z36),0),0)*I36 -> 0 | CE36: =IF(H36="feature",IF(SUM(M36:Z36)>0,SUM(M36:Z36),0),0)*I36 -> 0 | CF36: =IF(H36="scoop",IF(SUM(M36:Z36)>0,SUM(M36:Z36),0),0)*I36 -> 0 | CG36: =IF(H36="arete",IF(SUM(M36:Z36)>0,SUM(M36:Z36),0),0)*I36 -> 0 | CH36: =IF(H36="square",IF(SUM(M36:Z36)>0,SUM(M36:Z36),0),0)*I36 -> 0 | CI36: =IF(H36="positive",IF(SUM(M36:Z36)>0,SUM(M36:Z36),0),0)*I36 -> 0 | CJ36: =IF(H36="pyramid",IF(SUM(M36:Z36)>0,SUM(M36:Z36),0),0)*I36 -> 0 | CK36: =IF(H36="high profile",IF(SUM(M36:Z36)>0,SUM(M36:Z36),0),0)*I36 -> 0 | CL36: =IF(H36="rectangle",IF(SUM(M36:Z36)>0,SUM(M36:Z36),0),0)*I36 -> 0 | CM36: =IF(H36="various",IF(SUM(M36:Z36)>0,SUM(M36:Z36),0),0)*I36 -> 0
D37: SIMPL-2D-T | E37: All tex. | F37: XL | G37: 2x 84x43 cm | H37: pyramid | I37: 2 | J37: 24 | K37: screws | L37: 206.3502 | AA37: =L37*M37+L37*N37+L37*O37+L37*P37+L37*Q37+L37*R37+L37*T37+L37*V37+L37*W37+L37*X37+L37*Y37+L37*Z37+L37*U37+L37*S37 -> 0 | AB37: =IF(SUM(M37:Z37)>0,"Yes","No") -> No | AC37: =IF(B37="New","Yes","No") -> No | AE37: 2 | AF37: =AE37*SUM(M37:Z37) -> 0 | AH37: 14.5 | AI37: =SUM(M37:Z37)*AH37 -> 0 | AJ37: =M37*I37 -> 0 | AK37: =N37*I37 -> 0 | AL37: =O37*I37 -> 0 | AM37: =P37*I37 -> 0 | AN37: =Q37*I37 -> 0 | AO37: =R37*I37 -> 0 | AP37: =S37*I37 -> 0 | AQ37: =T37*I37 -> 0 | AR37: =U37*I37 -> 0 | AS37: =V37*I37 -> 0 | AT37: =W37*I37 -> 0 | AU37: =X37*I37 -> 0 | AV37: =Y37*I37 -> 0 | AW37: =Z37*I37 -> 0 | AX37: 2 | AY37: 18 | AZ37: =SUM(M37:Z37)*AY37 -> 0 | BB37: =SUM(M37:Z37)*BA37 -> 0 | BD37: =SUM(M37:Z37)*BC37 -> 0 | BF37: =IF(F37="XS",IF(SUM(M37:Z37)>0,SUM(M37:Z37),0),0)*I37 -> 0 | BG37: =IF(F37="S",IF(SUM(M37:Z37)>0,SUM(M37:Z37),0),0)*I37 -> 0 | BH37: =IF(F37="M",IF(SUM(M37:Z37)>0,SUM(M37:Z37),0),0)*I37 -> 0 | BI37: =IF(F37="L",IF(SUM(M37:Z37)>0,SUM(M37:Z37),0),0)*I37 -> 0 | BJ37: =IF(F37="XL",IF(SUM(M37:Z37)>0,SUM(M37:Z37),0),0)*I37 -> 0 | BK37: =IF(F37="2XL",IF(SUM(M37:Z37)>0,SUM(M37:Z37),0),0)*I37 -> 0 | BL37: =IF(F37="3XL",IF(SUM(M37:Z37)>0,SUM(M37:Z37),0),0)*I37 -> 0 | BM37: =IF(F37="4XL",IF(SUM(M37:Z37)>0,SUM(M37:Z37),0),0)*I37 -> 0 | BN37: =IF(F37="various",IF(SUM(M37:Z37)>0,SUM(M37:Z37),0),0)*I37 -> 0 | BP37: =IF(E37="All tex.",IF(SUM(M37:Z37)>0,SUM(M37:Z37),0),0)*I37 -> 0 | BQ37: =IF(E37="Dual tex.",IF(SUM(M37:Z37)>0,SUM(M37:Z37),0),0)*I37 -> 0 | BS37: =IF(H37="sloper",IF(SUM(M37:Z37)>0,SUM(M37:Z37),0),0)*I37 -> 0 | BT37: =IF(H37="footholds",IF(SUM(M37:Z37)>0,SUM(M37:Z37),0),0)*I37 -> 0 | BU37: =IF(H37="micros",IF(SUM(M37:Z37)>0,SUM(M37:Z37),0),0)*I37 -> 0 | BV37: =IF(H37="jug",IF(SUM(M37:Z37)>0,SUM(M37:Z37),0),0)*I37 -> 0 | BW37: =IF(H37="ledge",IF(SUM(M37:Z37)>0,SUM(M37:Z37),0),0)*I37 -> 0 | BX37: =IF(H37="edge",IF(SUM(M37:Z37)>0,SUM(M37:Z37),0),0)*I37 -> 0 | BY37: =IF(H37="crimp",IF(SUM(M37:Z37)>0,SUM(M37:Z37),0),0)*I37 -> 0 | BZ37: =IF(H37="incut",IF(SUM(M37:Z37)>0,SUM(M37:Z37),0),0)*I37 -> 0 | CA37: =IF(H37="dish",IF(SUM(M37:Z37)>0,SUM(M37:Z37),0),0)*I37 -> 0 | CB37: =IF(H37="pinch",IF(SUM(M37:Z37)>0,SUM(M37:Z37),0),0)*I37 -> 0 | CC37: =IF(H37="pocket",IF(SUM(M37:Z37)>0,SUM(M37:Z37),0),0)*I37 -> 0 | CD37: =IF(H37="insert",IF(SUM(M37:Z37)>0,SUM(M37:Z37),0),0)*I37 -> 0 | CE37: =IF(H37="feature",IF(SUM(M37:Z37)>0,SUM(M37:Z37),0),0)*I37 -> 0 | CF37: =IF(H37="scoop",IF(SUM(M37:Z37)>0,SUM(M37:Z37),0),0)*I37 -> 0 | CG37: =IF(H37="arete",IF(SUM(M37:Z37)>0,SUM(M37:Z37),0),0)*I37 -> 0 | CH37: =IF(H37="square",IF(SUM(M37:Z37)>0,SUM(M37:Z37),0),0)*I37 -> 0 | CI37: =IF(H37="positive",IF(SUM(M37:Z37)>0,SUM(M37:Z37),0),0)*I37 -> 0 | CJ37: =IF(H37="pyramid",IF(SUM(M37:Z37)>0,SUM(M37:Z37),0),0)*I37 -> 0 | CK37: =IF(H37="high profile",IF(SUM(M37:Z37)>0,SUM(M37:Z37),0),0)*I37 -> 0 | CL37: =IF(H37="rectangle",IF(SUM(M37:Z37)>0,SUM(M37:Z37),0),0)*I37 -> 0 | CM37: =IF(H37="various",IF(SUM(M37:Z37)>0,SUM(M37:Z37),0),0)*I37 -> 0
D38: SIMPL-2E | E38: Dual tex. | F38: XL | G38: 112x50 cm | H38: pyramid | I38: 1 | J38: 39 | K38: screws | L38: 229.278 | AA38: =L38*M38+L38*N38+L38*O38+L38*P38+L38*Q38+L38*R38+L38*T38+L38*V38+L38*W38+L38*X38+L38*Y38+L38*Z38+L38*U38+L38*S38 -> 0 | AB38: =IF(SUM(M38:Z38)>0,"Yes","No") -> No | AC38: =IF(B38="New","Yes","No") -> No | AE38: 1 | AF38: =AE38*SUM(M38:Z38) -> 0 | AH38: 11.5 | AI38: =SUM(M38:Z38)*AH38 -> 0 | AJ38: =M38*I38 -> 0 | AK38: =N38*I38 -> 0 | AL38: =O38*I38 -> 0 | AM38: =P38*I38 -> 0 | AN38: =Q38*I38 -> 0 | AO38: =R38*I38 -> 0 | AP38: =S38*I38 -> 0 | AQ38: =T38*I38 -> 0 | AR38: =U38*I38 -> 0 | AS38: =V38*I38 -> 0 | AT38: =W38*I38 -> 0 | AU38: =X38*I38 -> 0 | AV38: =Y38*I38 -> 0 | AW38: =Z38*I38 -> 0 | AX38: 1 | AY38: 15 | AZ38: =SUM(M38:Z38)*AY38 -> 0 | BB38: =SUM(M38:Z38)*BA38 -> 0 | BD38: =SUM(M38:Z38)*BC38 -> 0 | BF38: =IF(F38="XS",IF(SUM(M38:Z38)>0,SUM(M38:Z38),0),0)*I38 -> 0 | BG38: =IF(F38="S",IF(SUM(M38:Z38)>0,SUM(M38:Z38),0),0)*I38 -> 0 | BH38: =IF(F38="M",IF(SUM(M38:Z38)>0,SUM(M38:Z38),0),0)*I38 -> 0 | BI38: =IF(F38="L",IF(SUM(M38:Z38)>0,SUM(M38:Z38),0),0)*I38 -> 0 | BJ38: =IF(F38="XL",IF(SUM(M38:Z38)>0,SUM(M38:Z38),0),0)*I38 -> 0 | BK38: =IF(F38="2XL",IF(SUM(M38:Z38)>0,SUM(M38:Z38),0),0)*I38 -> 0 | BL38: =IF(F38="3XL",IF(SUM(M38:Z38)>0,SUM(M38:Z38),0),0)*I38 -> 0 | BM38: =IF(F38="4XL",IF(SUM(M38:Z38)>0,SUM(M38:Z38),0),0)*I38 -> 0 | BN38: =IF(F38="various",IF(SUM(M38:Z38)>0,SUM(M38:Z38),0),0)*I38 -> 0 | BP38: =IF(E38="All tex.",IF(SUM(M38:Z38)>0,SUM(M38:Z38),0),0)*I38 -> 0 | BQ38: =IF(E38="Dual tex.",IF(SUM(M38:Z38)>0,SUM(M38:Z38),0),0)*I38 -> 0 | BS38: =IF(H38="sloper",IF(SUM(M38:Z38)>0,SUM(M38:Z38),0),0)*I38 -> 0 | BT38: =IF(H38="footholds",IF(SUM(M38:Z38)>0,SUM(M38:Z38),0),0)*I38 -> 0 | BU38: =IF(H38="micros",IF(SUM(M38:Z38)>0,SUM(M38:Z38),0),0)*I38 -> 0 | BV38: =IF(H38="jug",IF(SUM(M38:Z38)>0,SUM(M38:Z38),0),0)*I38 -> 0 | BW38: =IF(H38="ledge",IF(SUM(M38:Z38)>0,SUM(M38:Z38),0),0)*I38 -> 0 | BX38: =IF(H38="edge",IF(SUM(M38:Z38)>0,SUM(M38:Z38),0),0)*I38 -> 0 | BY38: =IF(H38="crimp",IF(SUM(M38:Z38)>0,SUM(M38:Z38),0),0)*I38 -> 0 | BZ38: =IF(H38="incut",IF(SUM(M38:Z38)>0,SUM(M38:Z38),0),0)*I38 -> 0 | CA38: =IF(H38="dish",IF(SUM(M38:Z38)>0,SUM(M38:Z38),0),0)*I38 -> 0 | CB38: =IF(H38="pinch",IF(SUM(M38:Z38)>0,SUM(M38:Z38),0),0)*I38 -> 0 | CC38: =IF(H38="pocket",IF(SUM(M38:Z38)>0,SUM(M38:Z38),0),0)*I38 -> 0 | CD38: =IF(H38="insert",IF(SUM(M38:Z38)>0,SUM(M38:Z38),0),0)*I38 -> 0 | CE38: =IF(H38="feature",IF(SUM(M38:Z38)>0,SUM(M38:Z38),0),0)*I38 -> 0 | CF38: =IF(H38="scoop",IF(SUM(M38:Z38)>0,SUM(M38:Z38),0),0)*I38 -> 0 | CG38: =IF(H38="arete",IF(SUM(M38:Z38)>0,SUM(M38:Z38),0),0)*I38 -> 0 | CH38: =IF(H38="square",IF(SUM(M38:Z38)>0,SUM(M38:Z38),0),0)*I38 -> 0 | CI38: =IF(H38="positive",IF(SUM(M38:Z38)>0,SUM(M38:Z38),0),0)*I38 -> 0 | CJ38: =IF(H38="pyramid",IF(SUM(M38:Z38)>0,SUM(M38:Z38),0),0)*I38 -> 0 | CK38: =IF(H38="high profile",IF(SUM(M38:Z38)>0,SUM(M38:Z38),0),0)*I38 -> 0 | CL38: =IF(H38="rectangle",IF(SUM(M38:Z38)>0,SUM(M38:Z38),0),0)*I38 -> 0 | CM38: =IF(H38="various",IF(SUM(M38:Z38)>0,SUM(M38:Z38),0),0)*I38 -> 0
D39: SIMPL-2E-T | E39: All tex. | F39: XL | G39: 112x50 cm | H39: pyramid | I39: 1 | J39: 39 | K39: screws | L39: 199.3771 | AA39: =L39*M39+L39*N39+L39*O39+L39*P39+L39*Q39+L39*R39+L39*T39+L39*V39+L39*W39+L39*X39+L39*Y39+L39*Z39+L39*U39+L39*S39 -> 0 | AB39: =IF(SUM(M39:Z39)>0,"Yes","No") -> No | AC39: =IF(B39="New","Yes","No") -> No | AE39: 1 | AF39: =AE39*SUM(M39:Z39) -> 0 | AH39: 11.5 | AI39: =SUM(M39:Z39)*AH39 -> 0 | AJ39: =M39*I39 -> 0 | AK39: =N39*I39 -> 0 | AL39: =O39*I39 -> 0 | AM39: =P39*I39 -> 0 | AN39: =Q39*I39 -> 0 | AO39: =R39*I39 -> 0 | AP39: =S39*I39 -> 0 | AQ39: =T39*I39 -> 0 | AR39: =U39*I39 -> 0 | AS39: =V39*I39 -> 0 | AT39: =W39*I39 -> 0 | AU39: =X39*I39 -> 0 | AV39: =Y39*I39 -> 0 | AW39: =Z39*I39 -> 0 | AX39: 1 | AY39: 15 | AZ39: =SUM(M39:Z39)*AY39 -> 0 | BB39: =SUM(M39:Z39)*BA39 -> 0 | BD39: =SUM(M39:Z39)*BC39 -> 0 | BF39: =IF(F39="XS",IF(SUM(M39:Z39)>0,SUM(M39:Z39),0),0)*I39 -> 0 | BG39: =IF(F39="S",IF(SUM(M39:Z39)>0,SUM(M39:Z39),0),0)*I39 -> 0 | BH39: =IF(F39="M",IF(SUM(M39:Z39)>0,SUM(M39:Z39),0),0)*I39 -> 0 | BI39: =IF(F39="L",IF(SUM(M39:Z39)>0,SUM(M39:Z39),0),0)*I39 -> 0 | BJ39: =IF(F39="XL",IF(SUM(M39:Z39)>0,SUM(M39:Z39),0),0)*I39 -> 0 | BK39: =IF(F39="2XL",IF(SUM(M39:Z39)>0,SUM(M39:Z39),0),0)*I39 -> 0 | BL39: =IF(F39="3XL",IF(SUM(M39:Z39)>0,SUM(M39:Z39),0),0)*I39 -> 0 | BM39: =IF(F39="4XL",IF(SUM(M39:Z39)>0,SUM(M39:Z39),0),0)*I39 -> 0 | BN39: =IF(F39="various",IF(SUM(M39:Z39)>0,SUM(M39:Z39),0),0)*I39 -> 0 | BP39: =IF(E39="All tex.",IF(SUM(M39:Z39)>0,SUM(M39:Z39),0),0)*I39 -> 0 | BQ39: =IF(E39="Dual tex.",IF(SUM(M39:Z39)>0,SUM(M39:Z39),0),0)*I39 -> 0 | BS39: =IF(H39="sloper",IF(SUM(M39:Z39)>0,SUM(M39:Z39),0),0)*I39 -> 0 | BT39: =IF(H39="footholds",IF(SUM(M39:Z39)>0,SUM(M39:Z39),0),0)*I39 -> 0 | BU39: =IF(H39="micros",IF(SUM(M39:Z39)>0,SUM(M39:Z39),0),0)*I39 -> 0 | BV39: =IF(H39="jug",IF(SUM(M39:Z39)>0,SUM(M39:Z39),0),0)*I39 -> 0 | BW39: =IF(H39="ledge",IF(SUM(M39:Z39)>0,SUM(M39:Z39),0),0)*I39 -> 0 | BX39: =IF(H39="edge",IF(SUM(M39:Z39)>0,SUM(M39:Z39),0),0)*I39 -> 0 | BY39: =IF(H39="crimp",IF(SUM(M39:Z39)>0,SUM(M39:Z39),0),0)*I39 -> 0 | BZ39: =IF(H39="incut",IF(SUM(M39:Z39)>0,SUM(M39:Z39),0),0)*I39 -> 0 | CA39: =IF(H39="dish",IF(SUM(M39:Z39)>0,SUM(M39:Z39),0),0)*I39 -> 0 | CB39: =IF(H39="pinch",IF(SUM(M39:Z39)>0,SUM(M39:Z39),0),0)*I39 -> 0 | CC39: =IF(H39="pocket",IF(SUM(M39:Z39)>0,SUM(M39:Z39),0),0)*I39 -> 0 | CD39: =IF(H39="insert",IF(SUM(M39:Z39)>0,SUM(M39:Z39),0),0)*I39 -> 0 | CE39: =IF(H39="feature",IF(SUM(M39:Z39)>0,SUM(M39:Z39),0),0)*I39 -> 0 | CF39: =IF(H39="scoop",IF(SUM(M39:Z39)>0,SUM(M39:Z39),0),0)*I39 -> 0 | CG39: =IF(H39="arete",IF(SUM(M39:Z39)>0,SUM(M39:Z39),0),0)*I39 -> 0 | CH39: =IF(H39="square",IF(SUM(M39:Z39)>0,SUM(M39:Z39),0),0)*I39 -> 0 | CI39: =IF(H39="positive",IF(SUM(M39:Z39)>0,SUM(M39:Z39),0),0)*I39 -> 0 | CJ39: =IF(H39="pyramid",IF(SUM(M39:Z39)>0,SUM(M39:Z39),0),0)*I39 -> 0 | CK39: =IF(H39="high profile",IF(SUM(M39:Z39)>0,SUM(M39:Z39),0),0)*I39 -> 0 | CL39: =IF(H39="rectangle",IF(SUM(M39:Z39)>0,SUM(M39:Z39),0),0)*I39 -> 0 | CM39: =IF(H39="various",IF(SUM(M39:Z39)>0,SUM(M39:Z39),0),0)*I39 -> 0
D40: SIMPL-2F | E40: Dual tex. | F40: 2XL | G40: 142x70 cm | H40: pyramid | I40: 1 | J40: 57 | K40: screws | L40: 326.72115 | AA40: =L40*M40+L40*N40+L40*O40+L40*P40+L40*Q40+L40*R40+L40*T40+L40*V40+L40*W40+L40*X40+L40*Y40+L40*Z40+L40*U40+L40*S40 -> 0 | AB40: =IF(SUM(M40:Z40)>0,"Yes","No") -> No | AC40: =IF(B40="New","Yes","No") -> No | AE40: 1 | AF40: =AE40*SUM(M40:Z40) -> 0 | AH40: 18 | AI40: =SUM(M40:Z40)*AH40 -> 0 | AJ40: =M40*I40 -> 0 | AK40: =N40*I40 -> 0 | AL40: =O40*I40 -> 0 | AM40: =P40*I40 -> 0 | AN40: =Q40*I40 -> 0 | AO40: =R40*I40 -> 0 | AP40: =S40*I40 -> 0 | AQ40: =T40*I40 -> 0 | AR40: =U40*I40 -> 0 | AS40: =V40*I40 -> 0 | AT40: =W40*I40 -> 0 | AU40: =X40*I40 -> 0 | AV40: =Y40*I40 -> 0 | AW40: =Z40*I40 -> 0 | AX40: 1 | AY40: 21 | AZ40: =SUM(M40:Z40)*AY40 -> 0 | BB40: =SUM(M40:Z40)*BA40 -> 0 | BD40: =SUM(M40:Z40)*BC40 -> 0 | BF40: =IF(F40="XS",IF(SUM(M40:Z40)>0,SUM(M40:Z40),0),0)*I40 -> 0 | BG40: =IF(F40="S",IF(SUM(M40:Z40)>0,SUM(M40:Z40),0),0)*I40 -> 0 | BH40: =IF(F40="M",IF(SUM(M40:Z40)>0,SUM(M40:Z40),0),0)*I40 -> 0 | BI40: =IF(F40="L",IF(SUM(M40:Z40)>0,SUM(M40:Z40),0),0)*I40 -> 0 | BJ40: =IF(F40="XL",IF(SUM(M40:Z40)>0,SUM(M40:Z40),0),0)*I40 -> 0 | BK40: =IF(F40="2XL",IF(SUM(M40:Z40)>0,SUM(M40:Z40),0),0)*I40 -> 0 | BL40: =IF(F40="3XL",IF(SUM(M40:Z40)>0,SUM(M40:Z40),0),0)*I40 -> 0 | BM40: =IF(F40="4XL",IF(SUM(M40:Z40)>0,SUM(M40:Z40),0),0)*I40 -> 0 | BN40: =IF(F40="various",IF(SUM(M40:Z40)>0,SUM(M40:Z40),0),0)*I40 -> 0 | BP40: =IF(E40="All tex.",IF(SUM(M40:Z40)>0,SUM(M40:Z40),0),0)*I40 -> 0 | BQ40: =IF(E40="Dual tex.",IF(SUM(M40:Z40)>0,SUM(M40:Z40),0),0)*I40 -> 0 | BS40: =IF(H40="sloper",IF(SUM(M40:Z40)>0,SUM(M40:Z40),0),0)*I40 -> 0 | BT40: =IF(H40="footholds",IF(SUM(M40:Z40)>0,SUM(M40:Z40),0),0)*I40 -> 0 | BU40: =IF(H40="micros",IF(SUM(M40:Z40)>0,SUM(M40:Z40),0),0)*I40 -> 0 | BV40: =IF(H40="jug",IF(SUM(M40:Z40)>0,SUM(M40:Z40),0),0)*I40 -> 0 | BW40: =IF(H40="ledge",IF(SUM(M40:Z40)>0,SUM(M40:Z40),0),0)*I40 -> 0 | BX40: =IF(H40="edge",IF(SUM(M40:Z40)>0,SUM(M40:Z40),0),0)*I40 -> 0 | BY40: =IF(H40="crimp",IF(SUM(M40:Z40)>0,SUM(M40:Z40),0),0)*I40 -> 0 | BZ40: =IF(H40="incut",IF(SUM(M40:Z40)>0,SUM(M40:Z40),0),0)*I40 -> 0 | CA40: =IF(H40="dish",IF(SUM(M40:Z40)>0,SUM(M40:Z40),0),0)*I40 -> 0 | CB40: =IF(H40="pinch",IF(SUM(M40:Z40)>0,SUM(M40:Z40),0),0)*I40 -> 0 | CC40: =IF(H40="pocket",IF(SUM(M40:Z40)>0,SUM(M40:Z40),0),0)*I40 -> 0 | CD40: =IF(H40="insert",IF(SUM(M40:Z40)>0,SUM(M40:Z40),0),0)*I40 -> 0 | CE40: =IF(H40="feature",IF(SUM(M40:Z40)>0,SUM(M40:Z40),0),0)*I40 -> 0 | CF40: =IF(H40="scoop",IF(SUM(M40:Z40)>0,SUM(M40:Z40),0),0)*I40 -> 0 | CG40: =IF(H40="arete",IF(SUM(M40:Z40)>0,SUM(M40:Z40),0),0)*I40 -> 0 | CH40: =IF(H40="square",IF(SUM(M40:Z40)>0,SUM(M40:Z40),0),0)*I40 -> 0 | CI40: =IF(H40="positive",IF(SUM(M40:Z40)>0,SUM(M40:Z40),0),0)*I40 -> 0 | CJ40: =IF(H40="pyramid",IF(SUM(M40:Z40)>0,SUM(M40:Z40),0),0)*I40 -> 0 | CK40: =IF(H40="high profile",IF(SUM(M40:Z40)>0,SUM(M40:Z40),0),0)*I40 -> 0 | CL40: =IF(H40="rectangle",IF(SUM(M40:Z40)>0,SUM(M40:Z40),0),0)*I40 -> 0 | CM40: =IF(H40="various",IF(SUM(M40:Z40)>0,SUM(M40:Z40),0),0)*I40 -> 0
D41: SIMPL-2F-T | E41: All tex. | F41: 2XL | G41: 142x70 cm | H41: pyramid | I41: 1 | J41: 57 | K41: screws | L41: 284.1049 | AA41: =L41*M41+L41*N41+L41*O41+L41*P41+L41*Q41+L41*R41+L41*T41+L41*V41+L41*W41+L41*X41+L41*Y41+L41*Z41+L41*U41+L41*S41 -> 0 | AB41: =IF(SUM(M41:Z41)>0,"Yes","No") -> No | AC41: =IF(B41="New","Yes","No") -> No | AE41: 1 | AF41: =AE41*SUM(M41:Z41) -> 0 | AH41: 18 | AI41: =SUM(M41:Z41)*AH41 -> 0 | AJ41: =M41*I41 -> 0 | AK41: =N41*I41 -> 0 | AL41: =O41*I41 -> 0 | AM41: =P41*I41 -> 0 | AN41: =Q41*I41 -> 0 | AO41: =R41*I41 -> 0 | AP41: =S41*I41 -> 0 | AQ41: =T41*I41 -> 0 | AR41: =U41*I41 -> 0 | AS41: =V41*I41 -> 0 | AT41: =W41*I41 -> 0 | AU41: =X41*I41 -> 0 | AV41: =Y41*I41 -> 0 | AW41: =Z41*I41 -> 0 | AX41: 1 | AY41: 21 | AZ41: =SUM(M41:Z41)*AY41 -> 0 | BB41: =SUM(M41:Z41)*BA41 -> 0 | BD41: =SUM(M41:Z41)*BC41 -> 0 | BF41: =IF(F41="XS",IF(SUM(M41:Z41)>0,SUM(M41:Z41),0),0)*I41 -> 0 | BG41: =IF(F41="S",IF(SUM(M41:Z41)>0,SUM(M41:Z41),0),0)*I41 -> 0 | BH41: =IF(F41="M",IF(SUM(M41:Z41)>0,SUM(M41:Z41),0),0)*I41 -> 0 | BI41: =IF(F41="L",IF(SUM(M41:Z41)>0,SUM(M41:Z41),0),0)*I41 -> 0 | BJ41: =IF(F41="XL",IF(SUM(M41:Z41)>0,SUM(M41:Z41),0),0)*I41 -> 0 | BK41: =IF(F41="2XL",IF(SUM(M41:Z41)>0,SUM(M41:Z41),0),0)*I41 -> 0 | BL41: =IF(F41="3XL",IF(SUM(M41:Z41)>0,SUM(M41:Z41),0),0)*I41 -> 0 | BM41: =IF(F41="4XL",IF(SUM(M41:Z41)>0,SUM(M41:Z41),0),0)*I41 -> 0 | BN41: =IF(F41="various",IF(SUM(M41:Z41)>0,SUM(M41:Z41),0),0)*I41 -> 0 | BP41: =IF(E41="All tex.",IF(SUM(M41:Z41)>0,SUM(M41:Z41),0),0)*I41 -> 0 | BQ41: =IF(E41="Dual tex.",IF(SUM(M41:Z41)>0,SUM(M41:Z41),0),0)*I41 -> 0 | BS41: =IF(H41="sloper",IF(SUM(M41:Z41)>0,SUM(M41:Z41),0),0)*I41 -> 0 | BT41: =IF(H41="footholds",IF(SUM(M41:Z41)>0,SUM(M41:Z41),0),0)*I41 -> 0 | BU41: =IF(H41="micros",IF(SUM(M41:Z41)>0,SUM(M41:Z41),0),0)*I41 -> 0 | BV41: =IF(H41="jug",IF(SUM(M41:Z41)>0,SUM(M41:Z41),0),0)*I41 -> 0 | BW41: =IF(H41="ledge",IF(SUM(M41:Z41)>0,SUM(M41:Z41),0),0)*I41 -> 0 | BX41: =IF(H41="edge",IF(SUM(M41:Z41)>0,SUM(M41:Z41),0),0)*I41 -> 0 | BY41: =IF(H41="crimp",IF(SUM(M41:Z41)>0,SUM(M41:Z41),0),0)*I41 -> 0 | BZ41: =IF(H41="incut",IF(SUM(M41:Z41)>0,SUM(M41:Z41),0),0)*I41 -> 0 | CA41: =IF(H41="dish",IF(SUM(M41:Z41)>0,SUM(M41:Z41),0),0)*I41 -> 0 | CB41: =IF(H41="pinch",IF(SUM(M41:Z41)>0,SUM(M41:Z41),0),0)*I41 -> 0 | CC41: =IF(H41="pocket",IF(SUM(M41:Z41)>0,SUM(M41:Z41),0),0)*I41 -> 0 | CD41: =IF(H41="insert",IF(SUM(M41:Z41)>0,SUM(M41:Z41),0),0)*I41 -> 0 | CE41: =IF(H41="feature",IF(SUM(M41:Z41)>0,SUM(M41:Z41),0),0)*I41 -> 0 | CF41: =IF(H41="scoop",IF(SUM(M41:Z41)>0,SUM(M41:Z41),0),0)*I41 -> 0 | CG41: =IF(H41="arete",IF(SUM(M41:Z41)>0,SUM(M41:Z41),0),0)*I41 -> 0 | CH41: =IF(H41="square",IF(SUM(M41:Z41)>0,SUM(M41:Z41),0),0)*I41 -> 0 | CI41: =IF(H41="positive",IF(SUM(M41:Z41)>0,SUM(M41:Z41),0),0)*I41 -> 0 | CJ41: =IF(H41="pyramid",IF(SUM(M41:Z41)>0,SUM(M41:Z41),0),0)*I41 -> 0 | CK41: =IF(H41="high profile",IF(SUM(M41:Z41)>0,SUM(M41:Z41),0),0)*I41 -> 0 | CL41: =IF(H41="rectangle",IF(SUM(M41:Z41)>0,SUM(M41:Z41),0),0)*I41 -> 0 | CM41: =IF(H41="various",IF(SUM(M41:Z41)>0,SUM(M41:Z41),0),0)*I41 -> 0
... D45: SIMPL-2H-T | E45: All tex. | F45: 3XL | G45: 193x79 cm | H45: feature | I45: 3 | J45: 52 | K45: screws | L45: 877.2407 | AA45: =L45*M45+L45*N45+L45*O45+L45*P45+L45*Q45+L45*R45+L45*T45+L45*V45+L45*W45+L45*X45+L45*Y45+L45*Z45+L45*U45+L45*S45 -> 0 | AB45: =IF(SUM(M45:Z45)>0,"Yes","No") -> No | AC45: =IF(B45="New","Yes","No") -> No | AE45: 3 | AF45: =AE45*SUM(M45:Z45) -> 0 | AH45: 51.5 | AI45: =SUM(M45:Z45)*AH45 -> 0 | AJ45: =M45*I45 -> 0 | AK45: =N45*I45 -> 0 | AL45: =O45*I45 -> 0 | AM45: =P45*I45 -> 0 | AN45: =Q45*I45 -> 0 | AO45: =R45*I45 -> 0 | AP45: =S45*I45 -> 0 | AQ45: =T45*I45 -> 0 | AR45: =U45*I45 -> 0 | AS45: =V45*I45 -> 0 | AT45: =W45*I45 -> 0 | AU45: =X45*I45 -> 0 | AV45: =Y45*I45 -> 0 | AW45: =Z45*I45 -> 0 | AX45: 3 | AY45: 28 | AZ45: =SUM(M45:Z45)*AY45 -> 0 | BB45: =SUM(M45:Z45)*BA45 -> 0 | BD45: =SUM(M45:Z45)*BC45 -> 0 | BF45: =IF(F45="XS",IF(SUM(M45:Z45)>0,SUM(M45:Z45),0),0)*I45 -> 0 | BG45: =IF(F45="S",IF(SUM(M45:Z45)>0,SUM(M45:Z45),0),0)*I45 -> 0 | BH45: =IF(F45="M",IF(SUM(M45:Z45)>0,SUM(M45:Z45),0),0)*I45 -> 0 | BI45: =IF(F45="L",IF(SUM(M45:Z45)>0,SUM(M45:Z45),0),0)*I45 -> 0 | BJ45: =IF(F45="XL",IF(SUM(M45:Z45)>0,SUM(M45:Z45),0),0)*I45 -> 0 | BK45: =IF(F45="2XL",IF(SUM(M45:Z45)>0,SUM(M45:Z45),0),0)*I45 -> 0 | BL45: =IF(F45="3XL",IF(SUM(M45:Z45)>0,SUM(M45:Z45),0),0)*I45 -> 0 | BM45: =IF(F45="4XL",IF(SUM(M45:Z45)>0,SUM(M45:Z45),0),0)*I45 -> 0 | BN45: =IF(F45="various",IF(SUM(M45:Z45)>0,SUM(M45:Z45),0),0)*I45 -> 0 | BP45: =IF(E45="All tex.",IF(SUM(M45:Z45)>0,SUM(M45:Z45),0),0)*I45 -> 0 | BQ45: =IF(E45="Dual tex.",IF(SUM(M45:Z45)>0,SUM(M45:Z45),0),0)*I45 -> 0 | BS45: =IF(H45="sloper",IF(SUM(M45:Z45)>0,SUM(M45:Z45),0),0)*I45 -> 0 | BT45: =IF(H45="footholds",IF(SUM(M45:Z45)>0,SUM(M45:Z45),0),0)*I45 -> 0 | BU45: =IF(H45="micros",IF(SUM(M45:Z45)>0,SUM(M45:Z45),0),0)*I45 -> 0 | BV45: =IF(H45="jug",IF(SUM(M45:Z45)>0,SUM(M45:Z45),0),0)*I45 -> 0 | BW45: =IF(H45="ledge",IF(SUM(M45:Z45)>0,SUM(M45:Z45),0),0)*I45 -> 0 | BX45: =IF(H45="edge",IF(SUM(M45:Z45)>0,SUM(M45:Z45),0),0)*I45 -> 0 | BY45: =IF(H45="crimp",IF(SUM(M45:Z45)>0,SUM(M45:Z45),0),0)*I45 -> 0 | BZ45: =IF(H45="incut",IF(SUM(M45:Z45)>0,SUM(M45:Z45),0),0)*I45 -> 0 | CA45: =IF(H45="dish",IF(SUM(M45:Z45)>0,SUM(M45:Z45),0),0)*I45 -> 0 | CB45: =IF(H45="pinch",IF(SUM(M45:Z45)>0,SUM(M45:Z45),0),0)*I45 -> 0 | CC45: =IF(H45="pocket",IF(SUM(M45:Z45)>0,SUM(M45:Z45),0),0)*I45 -> 0 | CD45: =IF(H45="insert",IF(SUM(M45:Z45)>0,SUM(M45:Z45),0),0)*I45 -> 0 | CE45: =IF(H45="feature",IF(SUM(M45:Z45)>0,SUM(M45:Z45),0),0)*I45 -> 0 | CF45: =IF(H45="scoop",IF(SUM(M45:Z45)>0,SUM(M45:Z45),0),0)*I45 -> 0 | CG45: =IF(H45="arete",IF(SUM(M45:Z45)>0,SUM(M45:Z45),0),0)*I45 -> 0 | CH45: =IF(H45="square",IF(SUM(M45:Z45)>0,SUM(M45:Z45),0),0)*I45 -> 0 | CI45: =IF(H45="positive",IF(SUM(M45:Z45)>0,SUM(M45:Z45),0),0)*I45 -> 0 | CJ45: =IF(H45="pyramid",IF(SUM(M45:Z45)>0,SUM(M45:Z45),0),0)*I45 -> 0 | CK45: =IF(H45="high profile",IF(SUM(M45:Z45)>0,SUM(M45:Z45),0),0)*I45 -> 0 | CL45: =IF(H45="rectangle",IF(SUM(M45:Z45)>0,SUM(M45:Z45),0),0)*I45 -> 0 | CM45: =IF(H45="various",IF(SUM(M45:Z45)>0,SUM(M45:Z45),0),0)*I45 -> 0
D46: 3 - TRAPEZ | AZ46: =SUM(M46:Z46)*AY46 -> 0 | BB46: =SUM(M46:Z46)*BA46 -> 0 | BD46: =SUM(M46:Z46)*BC46 -> 0 | BF46: =IF(F46="XS",IF(SUM(M46:Z46)>0,SUM(M46:Z46),0),0)*I46 -> 0 | BG46: =IF(F46="S",IF(SUM(M46:Z46)>0,SUM(M46:Z46),0),0)*I46 -> 0 | BH46: =IF(F46="M",IF(SUM(M46:Z46)>0,SUM(M46:Z46),0),0)*I46 -> 0 | BI46: =IF(F46="L",IF(SUM(M46:Z46)>0,SUM(M46:Z46),0),0)*I46 -> 0 | BJ46: =IF(F46="XL",IF(SUM(M46:Z46)>0,SUM(M46:Z46),0),0)*I46 -> 0 | BK46: =IF(F46="2XL",IF(SUM(M46:Z46)>0,SUM(M46:Z46),0),0)*I46 -> 0 | BL46: =IF(F46="3XL",IF(SUM(M46:Z46)>0,SUM(M46:Z46),0),0)*I46 -> 0 | BM46: =IF(F46="4XL",IF(SUM(M46:Z46)>0,SUM(M46:Z46),0),0)*I46 -> 0 | BN46: =IF(F46="various",IF(SUM(M46:Z46)>0,SUM(M46:Z46),0),0)*I46 -> 0 | BP46: =IF(E46="All tex.",IF(SUM(M46:Z46)>0,SUM(M46:Z46),0),0)*I46 -> 0 | BQ46: =IF(E46="Dual tex.",IF(SUM(M46:Z46)>0,SUM(M46:Z46),0),0)*I46 -> 0 | BS46: =IF(H46="sloper",IF(SUM(M46:Z46)>0,SUM(M46:Z46),0),0)*I46 -> 0 | BT46: =IF(H46="footholds",IF(SUM(M46:Z46)>0,SUM(M46:Z46),0),0)*I46 -> 0 | BU46: =IF(H46="micros",IF(SUM(M46:Z46)>0,SUM(M46:Z46),0),0)*I46 -> 0 | BV46: =IF(H46="jug",IF(SUM(M46:Z46)>0,SUM(M46:Z46),0),0)*I46 -> 0 | BW46: =IF(H46="ledge",IF(SUM(M46:Z46)>0,SUM(M46:Z46),0),0)*I46 -> 0 | BX46: =IF(H46="edge",IF(SUM(M46:Z46)>0,SUM(M46:Z46),0),0)*I46 -> 0 | BY46: =IF(H46="crimp",IF(SUM(M46:Z46)>0,SUM(M46:Z46),0),0)*I46 -> 0 | BZ46: =IF(H46="incut",IF(SUM(M46:Z46)>0,SUM(M46:Z46),0),0)*I46 -> 0 | CA46: =IF(H46="dish",IF(SUM(M46:Z46)>0,SUM(M46:Z46),0),0)*I46 -> 0 | CB46: =IF(H46="pinch",IF(SUM(M46:Z46)>0,SUM(M46:Z46),0),0)*I46 -> 0 | CC46: =IF(H46="pocket",IF(SUM(M46:Z46)>0,SUM(M46:Z46),0),0)*I46 -> 0 | CD46: =IF(H46="insert",IF(SUM(M46:Z46)>0,SUM(M46:Z46),0),0)*I46 -> 0 | CE46: =IF(H46="feature",IF(SUM(M46:Z46)>0,SUM(M46:Z46),0),0)*I46 -> 0 | CF46: =IF(H46="scoop",IF(SUM(M46:Z46)>0,SUM(M46:Z46),0),0)*I46 -> 0 | CG46: =IF(H46="arete",IF(SUM(M46:Z46)>0,SUM(M46:Z46),0),0)*I46 -> 0 | CH46: =IF(H46="square",IF(SUM(M46:Z46)>0,SUM(M46:Z46),0),0)*I46 -> 0 | CI46: =IF(H46="positive",IF(SUM(M46:Z46)>0,SUM(M46:Z46),0),0)*I46 -> 0 | CJ46: =IF(H46="pyramid",IF(SUM(M46:Z46)>0,SUM(M46:Z46),0),0)*I46 -> 0 | CK46: =IF(H46="high profile",IF(SUM(M46:Z46)>0,SUM(M46:Z46),0),0)*I46 -> 0 | CL46: =IF(H46="rectangle",IF(SUM(M46:Z46)>0,SUM(M46:Z46),0),0)*I46 -> 0 | CM46: =IF(H46="various",IF(SUM(M46:Z46)>0,SUM(M46:Z46),0),0)*I46 -> 0
D47: SIMPL-3A | E47: Dual tex. | F47: L | G47: 3x 63x27x12 cm | H47: pinch | I47: 3 | J47: 0 | K47: screws | L47: 353.08812 | AA47: =L47*M47+L47*N47+L47*O47+L47*P47+L47*Q47+L47*R47+L47*T47+L47*V47+L47*W47+L47*X47+L47*Y47+L47*Z47+L47*U47+L47*S47 -> 0 | AB47: =IF(SUM(M47:Z47)>0,"Yes","No") -> No | AC47: =IF(B47="New","Yes","No") -> No | AE47: 3 | AF47: =AE47*SUM(M47:Z47) -> 0 | AH47: 6.4 | AI47: =SUM(M47:Z47)*AH47 -> 0 | AJ47: =M47*I47 -> 0 | AK47: =N47*I47 -> 0 | AL47: =O47*I47 -> 0 | AM47: =P47*I47 -> 0 | AN47: =Q47*I47 -> 0 | AO47: =R47*I47 -> 0 | AP47: =S47*I47 -> 0 | AQ47: =T47*I47 -> 0 | AR47: =U47*I47 -> 0 | AS47: =V47*I47 -> 0 | AT47: =W47*I47 -> 0 | AU47: =X47*I47 -> 0 | AV47: =Y47*I47 -> 0 | AW47: =Z47*I47 -> 0 | AX47: 3 | AY47: 22 | AZ47: =SUM(M47:Z47)*AY47 -> 0 | BB47: =SUM(M47:Z47)*BA47 -> 0 | BD47: =SUM(M47:Z47)*BC47 -> 0 | BF47: =IF(F47="XS",IF(SUM(M47:Z47)>0,SUM(M47:Z47),0),0)*I47 -> 0 | BG47: =IF(F47="S",IF(SUM(M47:Z47)>0,SUM(M47:Z47),0),0)*I47 -> 0 | BH47: =IF(F47="M",IF(SUM(M47:Z47)>0,SUM(M47:Z47),0),0)*I47 -> 0 | BI47: =IF(F47="L",IF(SUM(M47:Z47)>0,SUM(M47:Z47),0),0)*I47 -> 0 | BJ47: =IF(F47="XL",IF(SUM(M47:Z47)>0,SUM(M47:Z47),0),0)*I47 -> 0 | BK47: =IF(F47="2XL",IF(SUM(M47:Z47)>0,SUM(M47:Z47),0),0)*I47 -> 0 | BL47: =IF(F47="3XL",IF(SUM(M47:Z47)>0,SUM(M47:Z47),0),0)*I47 -> 0 | BM47: =IF(F47="4XL",IF(SUM(M47:Z47)>0,SUM(M47:Z47),0),0)*I47 -> 0 | BN47: =IF(F47="various",IF(SUM(M47:Z47)>0,SUM(M47:Z47),0),0)*I47 -> 0 | BP47: =IF(E47="All tex.",IF(SUM(M47:Z47)>0,SUM(M47:Z47),0),0)*I47 -> 0 | BQ47: =IF(E47="Dual tex.",IF(SUM(M47:Z47)>0,SUM(M47:Z47),0),0)*I47 -> 0 | BS47: =IF(H47="sloper",IF(SUM(M47:Z47)>0,SUM(M47:Z47),0),0)*I47 -> 0 | BT47: =IF(H47="footholds",IF(SUM(M47:Z47)>0,SUM(M47:Z47),0),0)*I47 -> 0 | BU47: =IF(H47="micros",IF(SUM(M47:Z47)>0,SUM(M47:Z47),0),0)*I47 -> 0 | BV47: =IF(H47="jug",IF(SUM(M47:Z47)>0,SUM(M47:Z47),0),0)*I47 -> 0 | BW47: =IF(H47="ledge",IF(SUM(M47:Z47)>0,SUM(M47:Z47),0),0)*I47 -> 0 | BX47: =IF(H47="edge",IF(SUM(M47:Z47)>0,SUM(M47:Z47),0),0)*I47 -> 0 | BY47: =IF(H47="crimp",IF(SUM(M47:Z47)>0,SUM(M47:Z47),0),0)*I47 -> 0 | BZ47: =IF(H47="incut",IF(SUM(M47:Z47)>0,SUM(M47:Z47),0),0)*I47 -> 0 | CA47: =IF(H47="dish",IF(SUM(M47:Z47)>0,SUM(M47:Z47),0),0)*I47 -> 0 | CB47: =IF(H47="pinch",IF(SUM(M47:Z47)>0,SUM(M47:Z47),0),0)*I47 -> 0 | CC47: =IF(H47="pocket",IF(SUM(M47:Z47)>0,SUM(M47:Z47),0),0)*I47 -> 0 | CD47: =IF(H47="insert",IF(SUM(M47:Z47)>0,SUM(M47:Z47),0),0)*I47 -> 0 | CE47: =IF(H47="feature",IF(SUM(M47:Z47)>0,SUM(M47:Z47),0),0)*I47 -> 0 | CF47: =IF(H47="scoop",IF(SUM(M47:Z47)>0,SUM(M47:Z47),0),0)*I47 -> 0 | CG47: =IF(H47="arete",IF(SUM(M47:Z47)>0,SUM(M47:Z47),0),0)*I47 -> 0 | CH47: =IF(H47="square",IF(SUM(M47:Z47)>0,SUM(M47:Z47),0),0)*I47 -> 0 | CI47: =IF(H47="positive",IF(SUM(M47:Z47)>0,SUM(M47:Z47),0),0)*I47 -> 0 | CJ47: =IF(H47="pyramid",IF(SUM(M47:Z47)>0,SUM(M47:Z47),0),0)*I47 -> 0 | CK47: =IF(H47="high profile",IF(SUM(M47:Z47)>0,SUM(M47:Z47),0),0)*I47 -> 0 | CL47: =IF(H47="rectangle",IF(SUM(M47:Z47)>0,SUM(M47:Z47),0),0)*I47 -> 0 | CM47: =IF(H47="various",IF(SUM(M47:Z47)>0,SUM(M47:Z47),0),0)*I47 -> 0
