Workbook

Sheet Summary of order
I2: order list: NOV. 2025
E5: Costumer:
B6: 360LINE D.O.O. BAČ 49A SI- 6253 KNEŽAK VAT: SI32177330
E7: Delivery address:
B12: DISCOUNT | D12: %
E15: Sum pieces | F15: Sum kg | G15: Price without VAT | I15: prod. Quota
D16: PLYWOOD volumes | E16: =SUM('Simpl. all tex-DT PLYWOOD'!AA5+'(more) Simpl. Textures PLYWOOD'!O5+'Simpl. & Wide boyz PLYWOOD'!P5) -> 0 | F16: =SUM('Simpl. all tex-DT PLYWOOD'!L3+'(more) Simpl. Textures PLYWOOD'!L3+'Simpl. & Wide boyz PLYWOOD'!N3) -> 0 | G16: =SUM('Simpl. all tex-DT PLYWOOD'!L1+'(more) Simpl. Textures PLYWOOD'!L1+'Simpl. & Wide boyz PLYWOOD'!N1) -> 0 | I16: =SUM('Simpl. all tex-DT PLYWOOD'!AC2+'(more) Simpl. Textures PLYWOOD'!Q2+'Simpl. & Wide boyz PLYWOOD'!R1) -> 0
D17: GRP macros | E17: ='Simpl. GRP'!AC6 -> 0 | F17: ='Simpl. GRP'!J3 -> 0 | G17: ='Simpl. GRP'!J1 -> 0 | I17: ='Simpl. GRP'!AE2 -> 0
D18: PU holds | E18: ='Simpl.& Wide boyz PU'!U5 -> 0 | F18: ='Simpl.& Wide boyz PU'!J3 -> 0 | G18: ='Simpl.& Wide boyz PU'!J1 -> 0 | I18: ='Simpl.& Wide boyz PU'!W2 -> 0
D19: SUM without vat | E19: =SUM(E16:E18) -> 0 | F19: =SUM(F16:F18) -> 0 | G19: =SUM(G16:H18) -> 0 | I19: =SUM(I16:I18) -> 0
D20: ="DISCOUNT "&C12&" %" -> DISCOUNT % | G20: =SUM(G19:H19)*C12/100 -> 0
D21: SUM (price wtihout VAT) | G21: =G19-G20 -> 0
B24: No. of pcs. by COLOR | C24: ='Simpl. GRP'!K7 -> BLACK RAL 9005 | D24: ='Simpl. GRP'!L7 -> WHITE | E24: ='Simpl. GRP'!M7 -> RED RAL 3000 | F24: ='Simpl. GRP'!N7 -> YELLOW RAL 1018 | G24: ='Simpl. GRP'!O7 -> BLUE RAL 5015 | H24: ='Simpl. GRP'!P7 -> BRIGHT GREEN RAL 6018 | I24: ='Simpl. GRP'!Q7 -> PURE GREEN RAL 6037 | J24: ='Simpl. GRP'!R7 -> APRICOT ORANGE RAL 1033 | ... P24: ='Simpl. GRP'!X7 -> DEEP ROSE RAL4008 | Q24: natural | R24: ='Simpl. GRP'!Y7 -> FLUORO PINK | S24: ='Simpl. GRP'!Z7 -> FLUORO ORANGE | T24: ='Simpl. GRP'!AA7 -> FLUORO YELLOW | U24: ='Simpl. GRP'!AB7 -> FLUORO GREEN | V24: ='Simpl.& Wide boyz PU'!T6 -> BROWN RAL 8003
C25: ='Simpl. all tex-DT PLYWOOD'!M5+'(more) Simpl. Textures PLYWOOD'!N5+'Simpl. & Wide boyz PLYWOOD'!O5+'Simpl. GRP'!K6+'Simpl.& Wide boyz PU'!K5 -> 0 | D25: ='Simpl. all tex-DT PLYWOOD'!N5+'Simpl. GRP'!L6+'Simpl.& Wide boyz PU'!L5 -> 0 | E25: ='Simpl. all tex-DT PLYWOOD'!O5+'Simpl. GRP'!M6+'Simpl.& Wide boyz PU'!M5 -> 0 | F25: ='Simpl. all tex-DT PLYWOOD'!P5+'Simpl. GRP'!N6+'Simpl.& Wide boyz PU'!N5 -> 0 | G25: ='Simpl. all tex-DT PLYWOOD'!Q5+'Simpl. GRP'!O6+'Simpl.& Wide boyz PU'!O5 -> 0 | H25: ='Simpl. all tex-DT PLYWOOD'!R5+'Simpl. GRP'!P6+'Simpl.& Wide boyz PU'!P5 -> 0 | I25: ='Simpl. all tex-DT PLYWOOD'!S5+'Simpl. GRP'!Q6 -> 0 | J25: ='Simpl. all tex-DT PLYWOOD'!T5+'Simpl. GRP'!R6 -> 0 | K25: ='Simpl. all tex-DT PLYWOOD'!U5+'Simpl. GRP'!S6 -> 0 | L25: ='Simpl. all tex-DT PLYWOOD'!V5+'Simpl. GRP'!T6+'Simpl.& Wide boyz PU'!Q5 -> 0 | M25: ='Simpl. all tex-DT PLYWOOD'!W5+'Simpl. GRP'!U6 -> 0 | N25: ='Simpl. all tex-DT PLYWOOD'!X5+'Simpl. GRP'!V6+'Simpl.& Wide boyz PU'!R5 -> 0 | O25: ='Simpl. all tex-DT PLYWOOD'!Y5+'Simpl. GRP'!W6+'Simpl.& Wide boyz PU'!S5 -> 0 | P25: ='Simpl. all tex-DT PLYWOOD'!Z5+'Simpl. GRP'!X6 -> 0 | Q25: ='(more) Simpl. Textures PLYWOOD'!M5 -> 0 | R25: ='Simpl. GRP'!Y6 -> 0 | S25: ='Simpl. GRP'!Z6 -> 0 | T25: ='Simpl. GRP'!AA6 -> 0 | U25: ='Simpl. GRP'!AB6 -> 0 | V25: ='Simpl.& Wide boyz PU'!T5 -> 0
B27: No. of pcs. by TEXTURE | C27: all texture | D27: dual texture | E27: colored no tex. | F27: natural texture | G27: natural no tex. | H27: No tex. PU
C28: ='Simpl. all tex-DT PLYWOOD'!BP5+'Simpl. GRP'!BV6+'Simpl.& Wide boyz PU'!BE5 -> 0 | D28: ='Simpl. all tex-DT PLYWOOD'!BQ5+'Simpl. GRP'!BW6 -> 0 | E28: ='(more) Simpl. Textures PLYWOOD'!AQ5+'Simpl. & Wide boyz PLYWOOD'!AT5 -> 0 | F28: ='(more) Simpl. Textures PLYWOOD'!AR5 -> 0 | G28: ='(more) Simpl. Textures PLYWOOD'!AS5 -> 0 | H28: ='Simpl.& Wide boyz PU'!BG5 -> 0
B30: No. of pcs. by SIZE - GRP/plywood SIZE | C30: XS | D30: S | E30: M | F30: L | G30: XL | H30: 2XL | I30: 3XL | J30: 4XL | K30: various
C31: ='Simpl. all tex-DT PLYWOOD'!BF5+'(more) Simpl. Textures PLYWOOD'!AG5+'Simpl. & Wide boyz PLYWOOD'!AH5+'Simpl. GRP'!BL6 -> 0 | D31: ='Simpl. all tex-DT PLYWOOD'!BG5+'(more) Simpl. Textures PLYWOOD'!AH5+'Simpl. & Wide boyz PLYWOOD'!AI5+'Simpl. GRP'!BM6 -> 0 | E31: ='Simpl. all tex-DT PLYWOOD'!BH5+'(more) Simpl. Textures PLYWOOD'!AI5+'Simpl. & Wide boyz PLYWOOD'!AJ5+'Simpl. GRP'!BN6 -> 0 | F31: ='Simpl. all tex-DT PLYWOOD'!BI5+'(more) Simpl. Textures PLYWOOD'!AJ5+'Simpl. & Wide boyz PLYWOOD'!AK5+'Simpl. GRP'!BO6 -> 0 | G31: ='Simpl. all tex-DT PLYWOOD'!BJ5+'(more) Simpl. Textures PLYWOOD'!AK5+'Simpl. & Wide boyz PLYWOOD'!AL5+'Simpl. GRP'!BP6 -> 0 | H31: ='Simpl. all tex-DT PLYWOOD'!BK5+'(more) Simpl. Textures PLYWOOD'!AL5+'Simpl. & Wide boyz PLYWOOD'!AM5+'Simpl. GRP'!BQ6 -> 0 | I31: ='Simpl. all tex-DT PLYWOOD'!BL5+'(more) Simpl. Textures PLYWOOD'!AM5+'Simpl. & Wide boyz PLYWOOD'!AN5+'Simpl. GRP'!BR6 -> 0 | J31: ='Simpl. all tex-DT PLYWOOD'!BM5+'(more) Simpl. Textures PLYWOOD'!AN5+'Simpl. & Wide boyz PLYWOOD'!AO5+'Simpl. GRP'!BS6 -> 0 | K31: ='Simpl. all tex-DT PLYWOOD'!BN5+'(more) Simpl. Textures PLYWOOD'!AO5+'Simpl. & Wide boyz PLYWOOD'!AP5+'Simpl. GRP'!BT6 -> 0
B33: No. of pcs. by SIZE - PU SIZE | C33: XS | D33: S | E33: M | F33: L | G33: XL | H33: 2XL | I33: 3XL | J33: 4XL | K33: various
C34: ='Simpl.& Wide boyz PU'!AU5 -> 0 | D34: ='Simpl.& Wide boyz PU'!AV5 -> 0 | E34: ='Simpl.& Wide boyz PU'!AW5 -> 0 | F34: ='Simpl.& Wide boyz PU'!AX5 -> 0 | G34: ='Simpl.& Wide boyz PU'!AY5 -> 0 | H34: ='Simpl.& Wide boyz PU'!AZ5 -> 0 | I34: ='Simpl.& Wide boyz PU'!BA5 -> 0 | J34: ='Simpl.& Wide boyz PU'!BB5 -> 0 | K34: ='Simpl.& Wide boyz PU'!BC5 -> 0
B36: No. of pcs. by TYPE | C36: jug | D36: ledge | E36: edge | F36: incut | G36: pinch | H36: feature | I36: low profile | J36: arete | K36: square | L36: positive | M36: pyramid | N36: high profile | O36: rectangle | P36: Footholds | Q36: crack | R36: sloper | S36: various
C37: ='Simpl. all tex-DT PLYWOOD'!BV5+'(more) Simpl. Textures PLYWOOD'!AX5+'Simpl. & Wide boyz PLYWOOD'!AY5+'Simpl. GRP'!CB6+'Simpl.& Wide boyz PU'!BL5 -> 0 | D37: ='Simpl. all tex-DT PLYWOOD'!BW5+'(more) Simpl. Textures PLYWOOD'!AY5+'Simpl. & Wide boyz PLYWOOD'!AZ5+'Simpl. GRP'!CC6+'Simpl.& Wide boyz PU'!BM5 -> 0 | E37: ='Simpl. all tex-DT PLYWOOD'!BX5+'(more) Simpl. Textures PLYWOOD'!AZ5+'Simpl. & Wide boyz PLYWOOD'!BA5+'Simpl. GRP'!CD6 -> 0 | F37: ='Simpl. all tex-DT PLYWOOD'!BZ5+'(more) Simpl. Textures PLYWOOD'!BB5+'Simpl. & Wide boyz PLYWOOD'!BC5+'Simpl. GRP'!CF6 -> 0 | G37: ='Simpl. all tex-DT PLYWOOD'!CB5+'(more) Simpl. Textures PLYWOOD'!BD5+'Simpl. & Wide boyz PLYWOOD'!BE5+'Simpl. GRP'!CH6 -> 0 | H37: ='Simpl. all tex-DT PLYWOOD'!CE5+'(more) Simpl. Textures PLYWOOD'!BG5+'Simpl. & Wide boyz PLYWOOD'!BH5+'Simpl. GRP'!CK6 -> 0 | I37: ='Simpl. all tex-DT PLYWOOD'!CF5+'(more) Simpl. Textures PLYWOOD'!BH5+'Simpl. & Wide boyz PLYWOOD'!BI5 -> 0 | J37: ='Simpl. all tex-DT PLYWOOD'!CG5+'(more) Simpl. Textures PLYWOOD'!BI5+'Simpl. & Wide boyz PLYWOOD'!BJ5+'Simpl. GRP'!CM6 -> 0 | K37: ='Simpl. all tex-DT PLYWOOD'!CH5+'(more) Simpl. Textures PLYWOOD'!BJ5+'Simpl. & Wide boyz PLYWOOD'!BK5 -> 0 | L37: ='Simpl. all tex-DT PLYWOOD'!CI5+'(more) Simpl. Textures PLYWOOD'!BK5+'Simpl. & Wide boyz PLYWOOD'!BL5+'Simpl. GRP'!CO6 -> 0 | M37: ='Simpl. all tex-DT PLYWOOD'!CJ5+'(more) Simpl. Textures PLYWOOD'!BL5+'Simpl. & Wide boyz PLYWOOD'!BM5 -> 0 | N37: ='Simpl. all tex-DT PLYWOOD'!CK5+'(more) Simpl. Textures PLYWOOD'!BM5+'Simpl. & Wide boyz PLYWOOD'!BN5 -> 0 | O37: ='Simpl. all tex-DT PLYWOOD'!CL5+'(more) Simpl. Textures PLYWOOD'!BN5+'Simpl. & Wide boyz PLYWOOD'!BO5 -> 0 | P37: ='Simpl.& Wide boyz PU'!BJ5 -> 0 | Q37: ='Simpl. & Wide boyz PLYWOOD'!BQ5 -> 0 | R37: ='Simpl. GRP'!BY6+'Simpl.& Wide boyz PU'!BI5 -> 0 | S37: ='Simpl. all tex-DT PLYWOOD'!CM5+'(more) Simpl. Textures PLYWOOD'!BO5+'Simpl. & Wide boyz PLYWOOD'!BP5+'Simpl. GRP'!CP6 -> 0
B39: No. of SCREWS needed | C39: 50mm | D39: 70mm | E39: longer
C40: ='Simpl. all tex-DT PLYWOOD'!AZ6+'(more) Simpl. Textures PLYWOOD'!AB6+'Simpl. & Wide boyz PLYWOOD'!AB6+'Simpl. GRP'!BG7+'Simpl.& Wide boyz PU'!AP6 -> 0 | D40: ='Simpl. all tex-DT PLYWOOD'!BB6+'(more) Simpl. Textures PLYWOOD'!AD6+'Simpl. GRP'!BI7+'Simpl. & Wide boyz PLYWOOD'!AD6+'Simpl.& Wide boyz PU'!AR6 -> 0 | E40: ='Simpl. GRP'!BK7+'Simpl. all tex-DT PLYWOOD'!BD6+'(more) Simpl. Textures PLYWOOD'!AF6+'Simpl. & Wide boyz PLYWOOD'!AF6+'Simpl.& Wide boyz PU'!AT6 -> 0
B43: BANK DETAILS:
B44: SI56 3300 0001 0251 921
B45: SWIFT: SI56 3300 0001 0251 921
B46: Bic: HAABSI22
B47: Addiko Bank d.d.
B48: Address: Dunajska cesta 117, 1000 Ljubljana
B50: COMPANY NAME: 360LINE D.O.O.
B51: ADDRESS: Bač 49 A, 6253 Knežak, Slovenia (EU)

Sheet Simpl. GRP
A1: 10cm CUBE symbol for sizing is representing PLYWOOD material | I1: Sum price without VAT | J1: =SUM(AC10:AC34) -> 0 | L1: EUR | Y1: please note: PRICE FOR FLUORESCENT COLORS IS 10% HIGHER
I2: Sum SETS | J2: =SUM(K10:AB34) -> 0 | AC2: SUM production quota: | AE2: =AH6 -> 0
I3: SUM | J3: =SUM(AK10:AK34) -> 0 | L3: kg | CQ3: Ordered production quota
Y5: new | Z5: new | AA5: new | AB5: new | AC5: SUM of pcs.
J6: Sum pcs. by colour: | K6: =SUM(AL10:AL34) -> 0 | L6: =SUM(AM10:AM34) -> 0 | M6: =SUM(AN10:AN34) -> 0 | N6: =SUM(AO10:AO34) -> 0 | O6: =SUM(AP10:AP34) -> 0 | P6: =SUM(AQ10:AQ34) -> 0 | Q6: =SUM(AR10:AR34) -> 0 | R6: =SUM(AS10:AS34) -> 0 | ... AB6: =SUM(BC10:BC34) -> 0 | AC6: =SUM(K6:AB6) -> 0 | AG6: SUM: | AH6: =SUM(AH9:AH88) -> 0 | BL6: =SUM(BL9:BL42) -> 0 | BM6: =SUM(BM9:BM42) -> 0 | BN6: =SUM(BN9:BN42) -> 0 | BO6: =SUM(BO9:BO42) -> 0 | BP6: =SUM(BP9:BP42) -> 0 | BQ6: =SUM(BQ9:BQ42) -> 0 | BR6: =SUM(BR9:BR42) -> 0 | BS6: =SUM(BS9:BS42) -> 0 | BT6: =SUM(BT9:BT42) -> 0 | BV6: =SUM(BV9:BV42) -> 0 | BW6: =SUM(BW9:BW42) -> 0 | BY6: =SUM(BY9:BY42) -> 0 | BZ6: =SUM(BZ9:BZ42) -> 0 | CA6: =SUM(CA9:CA42) -> 0 | CB6: =SUM(CB9:CB42) -> 0 | CC6: =SUM(CC9:CC42) -> 0 | CD6: =SUM(CD9:CD42) -> 0 | CE6: =SUM(CE9:CE42) -> 0 | CF6: =SUM(CF9:CF42) -> 0 | ... CP6: =SUM(CP9:CP42) -> 0
A7: NEW | C7: ID | D7: TEXTURE | E7: SIZE | F7: DIMENSIONS | G7: TYPE | H7: PCS. IN SET | I7: FIXING | J7: PRICE WITHOUT VAT | K7: BLACK RAL 9005 | L7: WHITE | M7: RED RAL 3000 | N7: YELLOW RAL 1018 | O7: BLUE RAL 5015 | P7: BRIGHT GREEN RAL 6018 | Q7: PURE GREEN RAL 6037 | R7: APRICOT ORANGE RAL 1033 | S7: DEEP ORANGE RAL 2011 | T7: PINK RAL 4003 | U7: GREY RAL 7001 | V7: PURPLE S4050-R60B/M | W7: MINT RAL6027 | X7: DEEP ROSE RAL4008 | Y7: FLUORO PINK | Z7: FLUORO ORANGE | AA7: FLUORO YELLOW | AB7: FLUORO GREEN | AC7: Sum | AD7: ordered | AE7: NEW | AG7: Production quota pet set | AH7: Ordered production quota | AJ7: kg | AK7: sum kg | AL7: black | AM7: white | AN7: red | AO7: yellow | AP7: blue | AQ7: green | AR7: pure green | AS7: orange | AT7: deep orange | AU7: pink | AV7: grey | AW7: purple | AX7: mint | AY7: deep rose | AZ7: =Y7 -> FLUORO PINK | BA7: =Z7 -> FLUORO ORANGE | BB7: =AA7 -> FLUORO YELLOW | BC7: =AB7 -> FLUORO GREEN | BD7: norma | BE7: no of fix points | BF7: screws 50 mm | BG7: =SUM(BG10:BG34) -> 0 | BH7: screws 70 mm | BI7: =SUM(BI10:BI34) -> 0 | BJ7: screw longer mm | BK7: =SUM(BK10:BK34) -> 0 | BL7: XS | BM7: S | BN7: M | BO7: L | BP7: XL | BQ7: 2XL | BR7: 3XL | BS7: 4XL | BT7: various | BV7: all texture | BW7: dual texture | BY7: sloper | BZ7: footholds | CA7: micros | CB7: jug | CC7: ledge | CD7: edge | CE7: crimp | CF7: incut | CG7: dish | CH7: pinch | CI7: pocket | CJ7: insert | CK7: feature | CL7: scoop | CM7: arete | CN7: square | CO7: positive | CP7: various
K8: 01 | L8: 02 | M8: 03 | N8: 04 | O8: 05 | P8: 06 | Q8: 15 | R8: 07 | S8: 08 | T8: 09 | U8: 10 | V8: 11 | W8: 12 | X8: 13 | Y8: 19 | Z8: 34 | AA8: 36 | AB8: 35
C9: Simpl. SURFERS GRP | BE9: =SUM(BE10:BE34) -> 0
A10: NEW | C10: SMPL-51-DT-GRP | D10: Dual tex. | E10: S | F10: 31x12,5x3 31x12,5x4 cm | G10: sloper | H10: 2 | I10: screws | J10: 318 | AC10: =SUM(K10:AB10)*J10 -> 0 | AD10: =IF(SUM(K10:AB10)>0,"Yes","No") -> No | AE10: =IF(A10="New","Yes","No") -> Yes | AG10: 2 | AH10: =AG10*SUM(K10:AB10) -> 0 | AJ10: 0.74 | AK10: =SUM(K10:AB10)*AJ10 -> 0 | AL10: =K10*H10 -> 0 | AM10: =L10*H10 -> 0 | AN10: =M10*H10 -> 0 | AO10: =N10*H10 -> 0 | AP10: =O10*H10 -> 0 | AQ10: =P10*H10 -> 0 | AR10: =Q10*H10 -> 0 | AS10: =R10*H10 -> 0 | AT10: =S10*H10 -> 0 | AU10: =T10*H10 -> 0 | AV10: =U10*H10 -> 0 | AW10: =V10*H10 -> 0 | AX10: =W10*H10 -> 0 | AY10: =X10*$H10 -> 0 | AZ10: =Y10*$H10 -> 0 | BA10: =Z10*$H10 -> 0 | BB10: =AA10*$H10 -> 0 | BC10: =AB10*$H10 -> 0 | BD10: =AG10 -> 2 | BE10: =SUM(BG10+BI10+BK10) -> 0 | BF10: 6 | BG10: =BF10*SUM(K10:X10) -> 0 | BI10: =BH10*SUM(K10:X10) -> 0 | BK10: =BJ10*SUM(K10:X10) -> 0 | BL10: =IF(E10="XS",IF(SUM(K10:AB10)>0,SUM(K10:AB10),0),0)*H10 -> 0 | BM10: =IF(E10="S",IF(SUM(K10:AB10)>0,SUM(K10:AB10),0),0)*H10 -> 0 | BN10: =IF(E10="M",IF(SUM(K10:AB10)>0,SUM(K10:AB10),0),0)*H10 -> 0 | BO10: =IF(E10="L",IF(SUM(K10:AB10)>0,SUM(K10:AB10),0),0)*H10 -> 0 | BP10: =IF(E10="XL",IF(SUM(K10:AB10)>0,SUM(K10:AB10),0),0)*H10 -> 0 | BQ10: =IF(E10="2XL",IF(SUM(K10:AB10)>0,SUM(K10:AB10),0),0)*H10 -> 0 | BR10: =IF(E10="3XL",IF(SUM(K10:AB10)>0,SUM(K10:AB10),0),0)*H10 -> 0 | BS10: =IF(E10="4XL",IF(SUM(K10:AB10)>0,SUM(K10:AB10),0),0)*H10 -> 0 | BT10: =IF(E10="various",IF(SUM(K10:AB10)>0,SUM(K10:AB10),0),0)*H10 -> 0 | BV10: =IF(D10="All tex.",IF(SUM(K10:AB10)>0,SUM(K10:AB10),0),0)*H10 -> 0 | BW10: =IF(D10="Dual tex.",IF(SUM(K10:AB10)>0,SUM(K10:AB10),0),0)*H10 -> 0 | BY10: =IF(G10="sloper",IF(SUM(K10:AB10)>0,SUM(K10:AB10),0),0)*H10 -> 0 | BZ10: =IF(G10="footholds",IF(SUM(K10:AB10)>0,SUM(K10:AB10),0),0)*H10 -> 0 | CA10: =IF(G10="micros",IF(SUM(K10:AB10)>0,SUM(K10:AB10),0),0)*H10 -> 0 | CB10: =IF(G10="jug",IF(SUM(K10:AB10)>0,SUM(K10:AB10),0),0)*H10 -> 0 | CC10: =IF(G10="ledge",IF(SUM(K10:AB10)>0,SUM(K10:AB10),0),0)*H10 -> 0 | CD10: =IF(G10="edge",IF(SUM(K10:AB10)>0,SUM(K10:AB10),0),0)*H10 -> 0 | CE10: =IF(G10="crimp",IF(SUM(K10:AB10)>0,SUM(K10:AB10),0),0)*H10 -> 0 | CF10: =IF(G10="incut",IF(SUM(K10:AB10)>0,SUM(K10:AB10),0),0)*H10 -> 0 | CG10: =IF(G10="dish",IF(SUM(K10:AB10)>0,SUM(K10:AB10),0),0)*H10 -> 0 | CH10: =IF(G10="pinch",IF(SUM(K10:AB10)>0,SUM(K10:AB10),0),0)*H10 -> 0 | CI10: =IF(G10="pocket",IF(SUM(K10:AB10)>0,SUM(K10:AB10),0),0)*H10 -> 0 | CJ10: =IF(G10="insert",IF(SUM(K10:AB10)>0,SUM(K10:AB10),0),0)*H10 -> 0 | CK10: =IF(G10="feature",IF(SUM(K10:AB10)>0,SUM(K10:AB10),0),0)*H10 -> 0 | CL10: =IF(G10="scoop",IF(SUM(K10:AB10)>0,SUM(K10:AB10),0),0)*H10 -> 0 | CM10: =IF(G10="arete",IF(SUM(K10:AB10)>0,SUM(K10:AB10),0),0)*H10 -> 0 | CN10: =IF(G10="square",IF(SUM(K10:AB10)>0,SUM(K10:AB10),0),0)*H10 -> 0 | CO10: =IF(G10="positive",IF(SUM(K10:AB10)>0,SUM(K10:AB10),0),0)*H10 -> 0 | CP10: =IF(G10="various",IF(SUM(K10:X10)>0,SUM(K10:X10),0),0)*H10 -> 0
A11: NEW | C11: SMPL-52-DT-GRP | D11: Dual tex. | E11: M | F11: 43,5x15x4,5 39x15x5 cm | G11: sloper | H11: 2 | I11: screws | J11: 340 | AC11: =SUM(K11:AB11)*J11 -> 0 | AD11: =IF(SUM(K11:AB11)>0,"Yes","No") -> No | AE11: =IF(A11="New","Yes","No") -> Yes | AG11: 2 | AH11: =AG11*SUM(K11:AB11) -> 0 | AJ11: 1.11 | AK11: =SUM(K11:AB11)*AJ11 -> 0 | AL11: =K11*H11 -> 0 | AM11: =L11*H11 -> 0 | AN11: =M11*H11 -> 0 | AO11: =N11*H11 -> 0 | AP11: =O11*H11 -> 0 | AQ11: =P11*H11 -> 0 | AR11: =Q11*H11 -> 0 | AS11: =R11*H11 -> 0 | AT11: =S11*H11 -> 0 | AU11: =T11*H11 -> 0 | AV11: =U11*H11 -> 0 | AW11: =V11*H11 -> 0 | AX11: =W11*H11 -> 0 | AY11: =X11*H11 -> 0 | AZ11: =Y11*$H11 -> 0 | BA11: =Z11*$H11 -> 0 | BB11: =AA11*$H11 -> 0 | BC11: =AB11*$H11 -> 0 | BD11: =AG11 -> 2 | BE11: =SUM(BG11+BI11+BK11) -> 0 | BF11: 8 | BG11: =BF11*SUM(K11:X11) -> 0 | BI11: =BH11*SUM(K11:X11) -> 0 | BK11: =BJ11*SUM(K11:X11) -> 0 | BL11: =IF(E11="XS",IF(SUM(K11:AB11)>0,SUM(K11:AB11),0),0)*H11 -> 0 | BM11: =IF(E11="S",IF(SUM(K11:AB11)>0,SUM(K11:AB11),0),0)*H11 -> 0 | BN11: =IF(E11="M",IF(SUM(K11:AB11)>0,SUM(K11:AB11),0),0)*H11 -> 0 | BO11: =IF(E11="L",IF(SUM(K11:AB11)>0,SUM(K11:AB11),0),0)*H11 -> 0 | BP11: =IF(E11="XL",IF(SUM(K11:AB11)>0,SUM(K11:AB11),0),0)*H11 -> 0 | BQ11: =IF(E11="2XL",IF(SUM(K11:AB11)>0,SUM(K11:AB11),0),0)*H11 -> 0 | BR11: =IF(E11="3XL",IF(SUM(K11:AB11)>0,SUM(K11:AB11),0),0)*H11 -> 0 | BS11: =IF(E11="4XL",IF(SUM(K11:AB11)>0,SUM(K11:AB11),0),0)*H11 -> 0 | BT11: =IF(E11="various",IF(SUM(K11:AB11)>0,SUM(K11:AB11),0),0)*H11 -> 0 | BV11: =IF(D11="All tex.",IF(SUM(K11:AB11)>0,SUM(K11:AB11),0),0)*H11 -> 0 | BW11: =IF(D11="Dual tex.",IF(SUM(K11:AB11)>0,SUM(K11:AB11),0),0)*H11 -> 0 | BY11: =IF(G11="sloper",IF(SUM(K11:AB11)>0,SUM(K11:AB11),0),0)*H11 -> 0 | BZ11: =IF(G11="footholds",IF(SUM(K11:AB11)>0,SUM(K11:AB11),0),0)*H11 -> 0 | CA11: =IF(G11="micros",IF(SUM(K11:AB11)>0,SUM(K11:AB11),0),0)*H11 -> 0 | CB11: =IF(G11="jug",IF(SUM(K11:AB11)>0,SUM(K11:AB11),0),0)*H11 -> 0 | CC11: =IF(G11="ledge",IF(SUM(K11:AB11)>0,SUM(K11:AB11),0),0)*H11 -> 0 | CD11: =IF(G11="edge",IF(SUM(K11:AB11)>0,SUM(K11:AB11),0),0)*H11 -> 0 | CE11: =IF(G11="crimp",IF(SUM(K11:AB11)>0,SUM(K11:AB11),0),0)*H11 -> 0 | CF11: =IF(G11="incut",IF(SUM(K11:AB11)>0,SUM(K11:AB11),0),0)*H11 -> 0 | CG11: =IF(G11="dish",IF(SUM(K11:AB11)>0,SUM(K11:AB11),0),0)*H11 -> 0 | CH11: =IF(G11="pinch",IF(SUM(K11:AB11)>0,SUM(K11:AB11),0),0)*H11 -> 0 | CI11: =IF(G11="pocket",IF(SUM(K11:AB11)>0,SUM(K11:AB11),0),0)*H11 -> 0 | CJ11: =IF(G11="insert",IF(SUM(K11:AB11)>0,SUM(K11:AB11),0),0)*H11 -> 0 | CK11: =IF(G11="feature",IF(SUM(K11:AB11)>0,SUM(K11:AB11),0),0)*H11 -> 0 | CL11: =IF(G11="scoop",IF(SUM(K11:AB11)>0,SUM(K11:AB11),0),0)*H11 -> 0 | CM11: =IF(G11="arete",IF(SUM(K11:AB11)>0,SUM(K11:AB11),0),0)*H11 -> 0 | CN11: =IF(G11="square",IF(SUM(K11:AB11)>0,SUM(K11:AB11),0),0)*H11 -> 0 | CO11: =IF(G11="positive",IF(SUM(K11:AB11)>0,SUM(K11:AB11),0),0)*H11 -> 0 | CP11: =IF(G11="various",IF(SUM(K11:X11)>0,SUM(K11:X11),0),0)*H11 -> 0
A12: NEW | C12: SMPL-61-DT-GRP | D12: Dual tex. | E12: M | F12: 48x22x3 cm | G12: sloper | H12: 1 | I12: screws | J12: 179 | AC12: =SUM(K12:AB12)*J12 -> 0 | AD12: =IF(SUM(K12:AB12)>0,"Yes","No") -> No | AE12: =IF(A12="New","Yes","No") -> Yes | AG12: 1 | AH12: =AG12*SUM(K12:AB12) -> 0 | AJ12: 0.86 | AK12: =SUM(K12:AB12)*AJ12 -> 0 | AL12: =K12*H12 -> 0 | AM12: =L12*H12 -> 0 | AN12: =M12*H12 -> 0 | AO12: =N12*H12 -> 0 | AP12: =O12*H12 -> 0 | AQ12: =P12*H12 -> 0 | AR12: =Q12*H12 -> 0 | AS12: =R12*H12 -> 0 | AT12: =S12*H12 -> 0 | AU12: =T12*H12 -> 0 | AV12: =U12*H12 -> 0 | AW12: =V12*H12 -> 0 | AX12: =W12*H12 -> 0 | AY12: =X12*H12 -> 0 | AZ12: =Y12*$H12 -> 0 | BA12: =Z12*$H12 -> 0 | BB12: =AA12*$H12 -> 0 | BC12: =AB12*$H12 -> 0 | BD12: =AG12 -> 1 | BE12: =SUM(BG12+BI12+BK12) -> 0 | BF12: 4 | BG12: =BF12*SUM(K12:X12) -> 0 | BI12: =BH12*SUM(K12:X12) -> 0 | BK12: =BJ12*SUM(K12:X12) -> 0 | BL12: =IF(E12="XS",IF(SUM(K12:AB12)>0,SUM(K12:AB12),0),0)*H12 -> 0 | BM12: =IF(E12="S",IF(SUM(K12:AB12)>0,SUM(K12:AB12),0),0)*H12 -> 0 | BN12: =IF(E12="M",IF(SUM(K12:AB12)>0,SUM(K12:AB12),0),0)*H12 -> 0 | BO12: =IF(E12="L",IF(SUM(K12:AB12)>0,SUM(K12:AB12),0),0)*H12 -> 0 | BP12: =IF(E12="XL",IF(SUM(K12:AB12)>0,SUM(K12:AB12),0),0)*H12 -> 0 | BQ12: =IF(E12="2XL",IF(SUM(K12:AB12)>0,SUM(K12:AB12),0),0)*H12 -> 0 | BR12: =IF(E12="3XL",IF(SUM(K12:AB12)>0,SUM(K12:AB12),0),0)*H12 -> 0 | BS12: =IF(E12="4XL",IF(SUM(K12:AB12)>0,SUM(K12:AB12),0),0)*H12 -> 0 | BT12: =IF(E12="various",IF(SUM(K12:AB12)>0,SUM(K12:AB12),0),0)*H12 -> 0 | BV12: =IF(D12="All tex.",IF(SUM(K12:AB12)>0,SUM(K12:AB12),0),0)*H12 -> 0 | BW12: =IF(D12="Dual tex.",IF(SUM(K12:AB12)>0,SUM(K12:AB12),0),0)*H12 -> 0 | BY12: =IF(G12="sloper",IF(SUM(K12:AB12)>0,SUM(K12:AB12),0),0)*H12 -> 0 | BZ12: =IF(G12="footholds",IF(SUM(K12:AB12)>0,SUM(K12:AB12),0),0)*H12 -> 0 | CA12: =IF(G12="micros",IF(SUM(K12:AB12)>0,SUM(K12:AB12),0),0)*H12 -> 0 | CB12: =IF(G12="jug",IF(SUM(K12:AB12)>0,SUM(K12:AB12),0),0)*H12 -> 0 | CC12: =IF(G12="ledge",IF(SUM(K12:AB12)>0,SUM(K12:AB12),0),0)*H12 -> 0 | CD12: =IF(G12="edge",IF(SUM(K12:AB12)>0,SUM(K12:AB12),0),0)*H12 -> 0 | CE12: =IF(G12="crimp",IF(SUM(K12:AB12)>0,SUM(K12:AB12),0),0)*H12 -> 0 | CF12: =IF(G12="incut",IF(SUM(K12:AB12)>0,SUM(K12:AB12),0),0)*H12 -> 0 | CG12: =IF(G12="dish",IF(SUM(K12:AB12)>0,SUM(K12:AB12),0),0)*H12 -> 0 | CH12: =IF(G12="pinch",IF(SUM(K12:AB12)>0,SUM(K12:AB12),0),0)*H12 -> 0 | CI12: =IF(G12="pocket",IF(SUM(K12:AB12)>0,SUM(K12:AB12),0),0)*H12 -> 0 | CJ12: =IF(G12="insert",IF(SUM(K12:AB12)>0,SUM(K12:AB12),0),0)*H12 -> 0 | CK12: =IF(G12="feature",IF(SUM(K12:AB12)>0,SUM(K12:AB12),0),0)*H12 -> 0 | CL12: =IF(G12="scoop",IF(SUM(K12:AB12)>0,SUM(K12:AB12),0),0)*H12 -> 0 | CM12: =IF(G12="arete",IF(SUM(K12:AB12)>0,SUM(K12:AB12),0),0)*H12 -> 0 | CN12: =IF(G12="square",IF(SUM(K12:AB12)>0,SUM(K12:AB12),0),0)*H12 -> 0 | CO12: =IF(G12="positive",IF(SUM(K12:AB12)>0,SUM(K12:AB12),0),0)*H12 -> 0 | CP12: =IF(G12="various",IF(SUM(K12:X12)>0,SUM(K12:X12),0),0)*H12 -> 0
A13: NEW | C13: SMPL-62-DT-GRP | D13: Dual tex. | E13: M | F13: 50x20x4 cm | G13: sloper | H13: 1 | I13: screws | J13: 177 | AC13: =SUM(K13:AB13)*J13 -> 0 | AD13: =IF(SUM(K13:AB13)>0,"Yes","No") -> No | AE13: =IF(A13="New","Yes","No") -> Yes | AG13: 1 | AH13: =AG13*SUM(K13:AB13) -> 0 | AJ13: 0.7 | AK13: =SUM(K13:AB13)*AJ13 -> 0 | AL13: =K13*H13 -> 0 | AM13: =L13*H13 -> 0 | AN13: =M13*H13 -> 0 | AO13: =N13*H13 -> 0 | AP13: =O13*H13 -> 0 | AQ13: =P13*H13 -> 0 | AR13: =Q13*H13 -> 0 | AS13: =R13*H13 -> 0 | AT13: =S13*H13 -> 0 | AU13: =T13*H13 -> 0 | AV13: =U13*H13 -> 0 | AW13: =V13*H13 -> 0 | AX13: =W13*H13 -> 0 | AY13: =X13*H13 -> 0 | AZ13: =Y13*$H13 -> 0 | BA13: =Z13*$H13 -> 0 | BB13: =AA13*$H13 -> 0 | BC13: =AB13*$H13 -> 0 | BD13: =AG13 -> 1 | BE13: =SUM(BG13+BI13+BK13) -> 0 | BF13: 4 | BG13: =BF13*SUM(K13:X13) -> 0 | BI13: =BH13*SUM(K13:X13) -> 0 | BK13: =BJ13*SUM(K13:X13) -> 0 | BL13: =IF(E13="XS",IF(SUM(K13:AB13)>0,SUM(K13:AB13),0),0)*H13 -> 0 | BM13: =IF(E13="S",IF(SUM(K13:AB13)>0,SUM(K13:AB13),0),0)*H13 -> 0 | BN13: =IF(E13="M",IF(SUM(K13:AB13)>0,SUM(K13:AB13),0),0)*H13 -> 0 | BO13: =IF(E13="L",IF(SUM(K13:AB13)>0,SUM(K13:AB13),0),0)*H13 -> 0 | BP13: =IF(E13="XL",IF(SUM(K13:AB13)>0,SUM(K13:AB13),0),0)*H13 -> 0 | BQ13: =IF(E13="2XL",IF(SUM(K13:AB13)>0,SUM(K13:AB13),0),0)*H13 -> 0 | BR13: =IF(E13="3XL",IF(SUM(K13:AB13)>0,SUM(K13:AB13),0),0)*H13 -> 0 | BS13: =IF(E13="4XL",IF(SUM(K13:AB13)>0,SUM(K13:AB13),0),0)*H13 -> 0 | BT13: =IF(E13="various",IF(SUM(K13:AB13)>0,SUM(K13:AB13),0),0)*H13 -> 0 | BV13: =IF(D13="All tex.",IF(SUM(K13:AB13)>0,SUM(K13:AB13),0),0)*H13 -> 0 | BW13: =IF(D13="Dual tex.",IF(SUM(K13:AB13)>0,SUM(K13:AB13),0),0)*H13 -> 0 | BY13: =IF(G13="sloper",IF(SUM(K13:AB13)>0,SUM(K13:AB13),0),0)*H13 -> 0 | BZ13: =IF(G13="footholds",IF(SUM(K13:AB13)>0,SUM(K13:AB13),0),0)*H13 -> 0 | CA13: =IF(G13="micros",IF(SUM(K13:AB13)>0,SUM(K13:AB13),0),0)*H13 -> 0 | CB13: =IF(G13="jug",IF(SUM(K13:AB13)>0,SUM(K13:AB13),0),0)*H13 -> 0 | CC13: =IF(G13="ledge",IF(SUM(K13:AB13)>0,SUM(K13:AB13),0),0)*H13 -> 0 | CD13: =IF(G13="edge",IF(SUM(K13:AB13)>0,SUM(K13:AB13),0),0)*H13 -> 0 | CE13: =IF(G13="crimp",IF(SUM(K13:AB13)>0,SUM(K13:AB13),0),0)*H13 -> 0 | CF13: =IF(G13="incut",IF(SUM(K13:AB13)>0,SUM(K13:AB13),0),0)*H13 -> 0 | CG13: =IF(G13="dish",IF(SUM(K13:AB13)>0,SUM(K13:AB13),0),0)*H13 -> 0 | CH13: =IF(G13="pinch",IF(SUM(K13:AB13)>0,SUM(K13:AB13),0),0)*H13 -> 0 | CI13: =IF(G13="pocket",IF(SUM(K13:AB13)>0,SUM(K13:AB13),0),0)*H13 -> 0 | CJ13: =IF(G13="insert",IF(SUM(K13:AB13)>0,SUM(K13:AB13),0),0)*H13 -> 0 | CK13: =IF(G13="feature",IF(SUM(K13:AB13)>0,SUM(K13:AB13),0),0)*H13 -> 0 | CL13: =IF(G13="scoop",IF(SUM(K13:AB13)>0,SUM(K13:AB13),0),0)*H13 -> 0 | CM13: =IF(G13="arete",IF(SUM(K13:AB13)>0,SUM(K13:AB13),0),0)*H13 -> 0 | CN13: =IF(G13="square",IF(SUM(K13:AB13)>0,SUM(K13:AB13),0),0)*H13 -> 0 | CO13: =IF(G13="positive",IF(SUM(K13:AB13)>0,SUM(K13:AB13),0),0)*H13 -> 0 | CP13: =IF(G13="various",IF(SUM(K13:X13)>0,SUM(K13:X13),0),0)*H13 -> 0
A14: NEW | C14: SMPL-63-DT-GRP | D14: Dual tex. | E14: L | F14: 57x22x6,5 cm | G14: sloper | H14: 1 | I14: screws | J14: 183 | AC14: =SUM(K14:AB14)*J14 -> 0 | AD14: =IF(SUM(K14:AB14)>0,"Yes","No") -> No | AE14: =IF(A14="New","Yes","No") -> Yes | AG14: 1 | AH14: =AG14*SUM(K14:AB14) -> 0 | AJ14: 1.19 | AK14: =SUM(K14:AB14)*AJ14 -> 0 | AL14: =K14*H14 -> 0 | AM14: =L14*H14 -> 0 | AN14: =M14*H14 -> 0 | AO14: =N14*H14 -> 0 | AP14: =O14*H14 -> 0 | AQ14: =P14*H14 -> 0 | AR14: =Q14*H14 -> 0 | AS14: =R14*H14 -> 0 | AT14: =S14*H14 -> 0 | AU14: =T14*H14 -> 0 | AV14: =U14*H14 -> 0 | AW14: =V14*H14 -> 0 | AX14: =W14*H14 -> 0 | AY14: =X14*H14 -> 0 | AZ14: =Y14*$H14 -> 0 | BA14: =Z14*$H14 -> 0 | BB14: =AA14*$H14 -> 0 | BC14: =AB14*$H14 -> 0 | BD14: =AG14 -> 1 | BE14: =SUM(BG14+BI14+BK14) -> 0 | BF14: 3 | BG14: =BF14*SUM(K14:X14) -> 0 | BH14: 1 | BI14: =BH14*SUM(K14:X14) -> 0 | BK14: =BJ14*SUM(K14:X14) -> 0 | BL14: =IF(E14="XS",IF(SUM(K14:AB14)>0,SUM(K14:AB14),0),0)*H14 -> 0 | BM14: =IF(E14="S",IF(SUM(K14:AB14)>0,SUM(K14:AB14),0),0)*H14 -> 0 | BN14: =IF(E14="M",IF(SUM(K14:AB14)>0,SUM(K14:AB14),0),0)*H14 -> 0 | BO14: =IF(E14="L",IF(SUM(K14:AB14)>0,SUM(K14:AB14),0),0)*H14 -> 0 | BP14: =IF(E14="XL",IF(SUM(K14:AB14)>0,SUM(K14:AB14),0),0)*H14 -> 0 | BQ14: =IF(E14="2XL",IF(SUM(K14:AB14)>0,SUM(K14:AB14),0),0)*H14 -> 0 | BR14: =IF(E14="3XL",IF(SUM(K14:AB14)>0,SUM(K14:AB14),0),0)*H14 -> 0 | BS14: =IF(E14="4XL",IF(SUM(K14:AB14)>0,SUM(K14:AB14),0),0)*H14 -> 0 | BT14: =IF(E14="various",IF(SUM(K14:AB14)>0,SUM(K14:AB14),0),0)*H14 -> 0 | BV14: =IF(D14="All tex.",IF(SUM(K14:AB14)>0,SUM(K14:AB14),0),0)*H14 -> 0 | BW14: =IF(D14="Dual tex.",IF(SUM(K14:AB14)>0,SUM(K14:AB14),0),0)*H14 -> 0 | BY14: =IF(G14="sloper",IF(SUM(K14:AB14)>0,SUM(K14:AB14),0),0)*H14 -> 0 | BZ14: =IF(G14="footholds",IF(SUM(K14:AB14)>0,SUM(K14:AB14),0),0)*H14 -> 0 | CA14: =IF(G14="micros",IF(SUM(K14:AB14)>0,SUM(K14:AB14),0),0)*H14 -> 0 | CB14: =IF(G14="jug",IF(SUM(K14:AB14)>0,SUM(K14:AB14),0),0)*H14 -> 0 | CC14: =IF(G14="ledge",IF(SUM(K14:AB14)>0,SUM(K14:AB14),0),0)*H14 -> 0 | CD14: =IF(G14="edge",IF(SUM(K14:AB14)>0,SUM(K14:AB14),0),0)*H14 -> 0 | CE14: =IF(G14="crimp",IF(SUM(K14:AB14)>0,SUM(K14:AB14),0),0)*H14 -> 0 | CF14: =IF(G14="incut",IF(SUM(K14:AB14)>0,SUM(K14:AB14),0),0)*H14 -> 0 | CG14: =IF(G14="dish",IF(SUM(K14:AB14)>0,SUM(K14:AB14),0),0)*H14 -> 0 | CH14: =IF(G14="pinch",IF(SUM(K14:AB14)>0,SUM(K14:AB14),0),0)*H14 -> 0 | CI14: =IF(G14="pocket",IF(SUM(K14:AB14)>0,SUM(K14:AB14),0),0)*H14 -> 0 | CJ14: =IF(G14="insert",IF(SUM(K14:AB14)>0,SUM(K14:AB14),0),0)*H14 -> 0 | CK14: =IF(G14="feature",IF(SUM(K14:AB14)>0,SUM(K14:AB14),0),0)*H14 -> 0 | CL14: =IF(G14="scoop",IF(SUM(K14:AB14)>0,SUM(K14:AB14),0),0)*H14 -> 0 | CM14: =IF(G14="arete",IF(SUM(K14:AB14)>0,SUM(K14:AB14),0),0)*H14 -> 0 | CN14: =IF(G14="square",IF(SUM(K14:AB14)>0,SUM(K14:AB14),0),0)*H14 -> 0 | CO14: =IF(G14="positive",IF(SUM(K14:AB14)>0,SUM(K14:AB14),0),0)*H14 -> 0 | CP14: =IF(G14="various",IF(SUM(K14:X14)>0,SUM(K14:X14),0),0)*H14 -> 0
A15: NEW | C15: SMPL-64-DT-GRP | D15: Dual tex. | E15: M | F15: 48x24x7 cm | G15: sloper | H15: 1 | I15: screws | J15: 181 | AC15: =SUM(K15:AB15)*J15 -> 0 | AD15: =IF(SUM(K15:AB15)>0,"Yes","No") -> No | AE15: =IF(A15="New","Yes","No") -> Yes | AG15: 1 | AH15: =AG15*SUM(K15:AB15) -> 0 | AJ15: 1.03 | AK15: =SUM(K15:AB15)*AJ15 -> 0 | AL15: =K15*H15 -> 0 | AM15: =L15*H15 -> 0 | AN15: =M15*H15 -> 0 | AO15: =N15*H15 -> 0 | AP15: =O15*H15 -> 0 | AQ15: =P15*H15 -> 0 | AR15: =Q15*H15 -> 0 | AS15: =R15*H15 -> 0 | AT15: =S15*H15 -> 0 | AU15: =T15*H15 -> 0 | AV15: =U15*H15 -> 0 | AW15: =V15*H15 -> 0 | AX15: =W15*H15 -> 0 | AY15: =X15*H15 -> 0 | AZ15: =Y15*$H15 -> 0 | BA15: =Z15*$H15 -> 0 | BB15: =AA15*$H15 -> 0 | BC15: =AB15*$H15 -> 0 | BD15: =AG15 -> 1 | BE15: =SUM(BG15+BI15+BK15) -> 0 | BF15: 3 | BG15: =BF15*SUM(K15:X15) -> 0 | BH15: 1 | BI15: =BH15*SUM(K15:X15) -> 0 | BK15: =BJ15*SUM(K15:X15) -> 0 | BL15: =IF(E15="XS",IF(SUM(K15:AB15)>0,SUM(K15:AB15),0),0)*H15 -> 0 | BM15: =IF(E15="S",IF(SUM(K15:AB15)>0,SUM(K15:AB15),0),0)*H15 -> 0 | BN15: =IF(E15="M",IF(SUM(K15:AB15)>0,SUM(K15:AB15),0),0)*H15 -> 0 | BO15: =IF(E15="L",IF(SUM(K15:AB15)>0,SUM(K15:AB15),0),0)*H15 -> 0 | BP15: =IF(E15="XL",IF(SUM(K15:AB15)>0,SUM(K15:AB15),0),0)*H15 -> 0 | BQ15: =IF(E15="2XL",IF(SUM(K15:AB15)>0,SUM(K15:AB15),0),0)*H15 -> 0 | BR15: =IF(E15="3XL",IF(SUM(K15:AB15)>0,SUM(K15:AB15),0),0)*H15 -> 0 | BS15: =IF(E15="4XL",IF(SUM(K15:AB15)>0,SUM(K15:AB15),0),0)*H15 -> 0 | BT15: =IF(E15="various",IF(SUM(K15:AB15)>0,SUM(K15:AB15),0),0)*H15 -> 0 | BV15: =IF(D15="All tex.",IF(SUM(K15:AB15)>0,SUM(K15:AB15),0),0)*H15 -> 0 | BW15: =IF(D15="Dual tex.",IF(SUM(K15:AB15)>0,SUM(K15:AB15),0),0)*H15 -> 0 | BY15: =IF(G15="sloper",IF(SUM(K15:AB15)>0,SUM(K15:AB15),0),0)*H15 -> 0 | BZ15: =IF(G15="footholds",IF(SUM(K15:AB15)>0,SUM(K15:AB15),0),0)*H15 -> 0 | CA15: =IF(G15="micros",IF(SUM(K15:AB15)>0,SUM(K15:AB15),0),0)*H15 -> 0 | CB15: =IF(G15="jug",IF(SUM(K15:AB15)>0,SUM(K15:AB15),0),0)*H15 -> 0 | CC15: =IF(G15="ledge",IF(SUM(K15:AB15)>0,SUM(K15:AB15),0),0)*H15 -> 0 | CD15: =IF(G15="edge",IF(SUM(K15:AB15)>0,SUM(K15:AB15),0),0)*H15 -> 0 | CE15: =IF(G15="crimp",IF(SUM(K15:AB15)>0,SUM(K15:AB15),0),0)*H15 -> 0 | CF15: =IF(G15="incut",IF(SUM(K15:AB15)>0,SUM(K15:AB15),0),0)*H15 -> 0 | CG15: =IF(G15="dish",IF(SUM(K15:AB15)>0,SUM(K15:AB15),0),0)*H15 -> 0 | CH15: =IF(G15="pinch",IF(SUM(K15:AB15)>0,SUM(K15:AB15),0),0)*H15 -> 0 | CI15: =IF(G15="pocket",IF(SUM(K15:AB15)>0,SUM(K15:AB15),0),0)*H15 -> 0 | CJ15: =IF(G15="insert",IF(SUM(K15:AB15)>0,SUM(K15:AB15),0),0)*H15 -> 0 | CK15: =IF(G15="feature",IF(SUM(K15:AB15)>0,SUM(K15:AB15),0),0)*H15 -> 0 | CL15: =IF(G15="scoop",IF(SUM(K15:AB15)>0,SUM(K15:AB15),0),0)*H15 -> 0 | CM15: =IF(G15="arete",IF(SUM(K15:AB15)>0,SUM(K15:AB15),0),0)*H15 -> 0 | CN15: =IF(G15="square",IF(SUM(K15:AB15)>0,SUM(K15:AB15),0),0)*H15 -> 0 | CO15: =IF(G15="positive",IF(SUM(K15:AB15)>0,SUM(K15:AB15),0),0)*H15 -> 0 | CP15: =IF(G15="various",IF(SUM(K15:X15)>0,SUM(K15:X15),0),0)*H15 -> 0
A16: NEW | C16: SMPL-65-DT-GRP | D16: Dual tex. | E16: M | F16: 48x22x9 cm | G16: sloper | H16: 1 | I16: screws | J16: 183 | AC16: =SUM(K16:AB16)*J16 -> 0 | AD16: =IF(SUM(K16:AB16)>0,"Yes","No") -> No | AE16: =IF(A16="New","Yes","No") -> Yes | AG16: 1 | AH16: =AG16*SUM(K16:AB16) -> 0 | AJ16: 1.16 | AK16: =SUM(K16:AB16)*AJ16 -> 0 | AL16: =K16*H16 -> 0 | AM16: =L16*H16 -> 0 | AN16: =M16*H16 -> 0 | AO16: =N16*H16 -> 0 | AP16: =O16*H16 -> 0 | AQ16: =P16*H16 -> 0 | AR16: =Q16*H16 -> 0 | AS16: =R16*H16 -> 0 | AT16: =S16*H16 -> 0 | AU16: =T16*H16 -> 0 | AV16: =U16*H16 -> 0 | AW16: =V16*H16 -> 0 | AX16: =W16*H16 -> 0 | AY16: =X16*H16 -> 0 | AZ16: =Y16*$H16 -> 0 | BA16: =Z16*$H16 -> 0 | BB16: =AA16*$H16 -> 0 | BC16: =AB16*$H16 -> 0 | BD16: =AG16 -> 1 | BE16: =SUM(BG16+BI16+BK16) -> 0 | BF16: 3 | BG16: =BF16*SUM(K16:X16) -> 0 | BH16: 1 | BI16: =BH16*SUM(K16:X16) -> 0 | BK16: =BJ16*SUM(K16:X16) -> 0 | BL16: =IF(E16="XS",IF(SUM(K16:AB16)>0,SUM(K16:AB16),0),0)*H16 -> 0 | BM16: =IF(E16="S",IF(SUM(K16:AB16)>0,SUM(K16:AB16),0),0)*H16 -> 0 | BN16: =IF(E16="M",IF(SUM(K16:AB16)>0,SUM(K16:AB16),0),0)*H16 -> 0 | BO16: =IF(E16="L",IF(SUM(K16:AB16)>0,SUM(K16:AB16),0),0)*H16 -> 0 | BP16: =IF(E16="XL",IF(SUM(K16:AB16)>0,SUM(K16:AB16),0),0)*H16 -> 0 | BQ16: =IF(E16="2XL",IF(SUM(K16:AB16)>0,SUM(K16:AB16),0),0)*H16 -> 0 | BR16: =IF(E16="3XL",IF(SUM(K16:AB16)>0,SUM(K16:AB16),0),0)*H16 -> 0 | BS16: =IF(E16="4XL",IF(SUM(K16:AB16)>0,SUM(K16:AB16),0),0)*H16 -> 0 | BT16: =IF(E16="various",IF(SUM(K16:AB16)>0,SUM(K16:AB16),0),0)*H16 -> 0 | BV16: =IF(D16="All tex.",IF(SUM(K16:AB16)>0,SUM(K16:AB16),0),0)*H16 -> 0 | BW16: =IF(D16="Dual tex.",IF(SUM(K16:AB16)>0,SUM(K16:AB16),0),0)*H16 -> 0 | BY16: =IF(G16="sloper",IF(SUM(K16:AB16)>0,SUM(K16:AB16),0),0)*H16 -> 0 | BZ16: =IF(G16="footholds",IF(SUM(K16:AB16)>0,SUM(K16:AB16),0),0)*H16 -> 0 | CA16: =IF(G16="micros",IF(SUM(K16:AB16)>0,SUM(K16:AB16),0),0)*H16 -> 0 | CB16: =IF(G16="jug",IF(SUM(K16:AB16)>0,SUM(K16:AB16),0),0)*H16 -> 0 | CC16: =IF(G16="ledge",IF(SUM(K16:AB16)>0,SUM(K16:AB16),0),0)*H16 -> 0 | CD16: =IF(G16="edge",IF(SUM(K16:AB16)>0,SUM(K16:AB16),0),0)*H16 -> 0 | CE16: =IF(G16="crimp",IF(SUM(K16:AB16)>0,SUM(K16:AB16),0),0)*H16 -> 0 | CF16: =IF(G16="incut",IF(SUM(K16:AB16)>0,SUM(K16:AB16),0),0)*H16 -> 0 | CG16: =IF(G16="dish",IF(SUM(K16:AB16)>0,SUM(K16:AB16),0),0)*H16 -> 0 | CH16: =IF(G16="pinch",IF(SUM(K16:AB16)>0,SUM(K16:AB16),0),0)*H16 -> 0 | CI16: =IF(G16="pocket",IF(SUM(K16:AB16)>0,SUM(K16:AB16),0),0)*H16 -> 0 | CJ16: =IF(G16="insert",IF(SUM(K16:AB16)>0,SUM(K16:AB16),0),0)*H16 -> 0 | CK16: =IF(G16="feature",IF(SUM(K16:AB16)>0,SUM(K16:AB16),0),0)*H16 -> 0 | CL16: =IF(G16="scoop",IF(SUM(K16:AB16)>0,SUM(K16:AB16),0),0)*H16 -> 0 | CM16: =IF(G16="arete",IF(SUM(K16:AB16)>0,SUM(K16:AB16),0),0)*H16 -> 0 | CN16: =IF(G16="square",IF(SUM(K16:AB16)>0,SUM(K16:AB16),0),0)*H16 -> 0 | CO16: =IF(G16="positive",IF(SUM(K16:AB16)>0,SUM(K16:AB16),0),0)*H16 -> 0 | CP16: =IF(G16="various",IF(SUM(K16:X16)>0,SUM(K16:X16),0),0)*H16 -> 0
A17: NEW | C17: SMPL-67-DT-GRP | D17: Dual tex. | E17: L | F17: 520X210X85 | G17: sloper | H17: 1 | I17: screws | J17: 181 | AC17: =SUM(K17:AB17)*J17 -> 0 | AD17: =IF(SUM(K17:AB17)>0,"Yes","No") -> No | AE17: =IF(A17="New","Yes","No") -> Yes | AG17: 1 | AH17: =AG17*SUM(K17:AB17) -> 0 | AJ17: 1.06 | AK17: =SUM(K17:AB17)*AJ17 -> 0 | AL17: =K17*H17 -> 0 | AM17: =L17*H17 -> 0 | AN17: =M17*H17 -> 0 | AO17: =N17*H17 -> 0 | AP17: =O17*H17 -> 0 | AQ17: =P17*H17 -> 0 | AR17: =Q17*H17 -> 0 | AS17: =R17*H17 -> 0 | AT17: =S17*H17 -> 0 | AU17: =T17*H17 -> 0 | AV17: =U17*H17 -> 0 | AW17: =V17*H17 -> 0 | AX17: =W17*H17 -> 0 | AY17: =X17*H17 -> 0 | AZ17: =Y17*$H17 -> 0 | BA17: =Z17*$H17 -> 0 | BB17: =AA17*$H17 -> 0 | BC17: =AB17*$H17 -> 0 | BD17: =AG17 -> 1 | BE17: =SUM(BG17+BI17+BK17) -> 0 | BF17: 3 | BG17: =BF17*SUM(K17:X17) -> 0 | BH17: 1 | BI17: =BH17*SUM(K17:X17) -> 0 | BK17: =BJ17*SUM(K17:X17) -> 0 | BL17: =IF(E17="XS",IF(SUM(K17:AB17)>0,SUM(K17:AB17),0),0)*H17 -> 0 | BM17: =IF(E17="S",IF(SUM(K17:AB17)>0,SUM(K17:AB17),0),0)*H17 -> 0 | BN17: =IF(E17="M",IF(SUM(K17:AB17)>0,SUM(K17:AB17),0),0)*H17 -> 0 | BO17: =IF(E17="L",IF(SUM(K17:AB17)>0,SUM(K17:AB17),0),0)*H17 -> 0 | BP17: =IF(E17="XL",IF(SUM(K17:AB17)>0,SUM(K17:AB17),0),0)*H17 -> 0 | BQ17: =IF(E17="2XL",IF(SUM(K17:AB17)>0,SUM(K17:AB17),0),0)*H17 -> 0 | BR17: =IF(E17="3XL",IF(SUM(K17:AB17)>0,SUM(K17:AB17),0),0)*H17 -> 0 | BS17: =IF(E17="4XL",IF(SUM(K17:AB17)>0,SUM(K17:AB17),0),0)*H17 -> 0 | BT17: =IF(E17="various",IF(SUM(K17:AB17)>0,SUM(K17:AB17),0),0)*H17 -> 0 | BV17: =IF(D17="All tex.",IF(SUM(K17:AB17)>0,SUM(K17:AB17),0),0)*H17 -> 0 | BW17: =IF(D17="Dual tex.",IF(SUM(K17:AB17)>0,SUM(K17:AB17),0),0)*H17 -> 0 | BY17: =IF(G17="sloper",IF(SUM(K17:AB17)>0,SUM(K17:AB17),0),0)*H17 -> 0 | BZ17: =IF(G17="footholds",IF(SUM(K17:AB17)>0,SUM(K17:AB17),0),0)*H17 -> 0 | CA17: =IF(G17="micros",IF(SUM(K17:AB17)>0,SUM(K17:AB17),0),0)*H17 -> 0 | CB17: =IF(G17="jug",IF(SUM(K17:AB17)>0,SUM(K17:AB17),0),0)*H17 -> 0 | CC17: =IF(G17="ledge",IF(SUM(K17:AB17)>0,SUM(K17:AB17),0),0)*H17 -> 0 | CD17: =IF(G17="edge",IF(SUM(K17:AB17)>0,SUM(K17:AB17),0),0)*H17 -> 0 | CE17: =IF(G17="crimp",IF(SUM(K17:AB17)>0,SUM(K17:AB17),0),0)*H17 -> 0 | CF17: =IF(G17="incut",IF(SUM(K17:AB17)>0,SUM(K17:AB17),0),0)*H17 -> 0 | CG17: =IF(G17="dish",IF(SUM(K17:AB17)>0,SUM(K17:AB17),0),0)*H17 -> 0 | CH17: =IF(G17="pinch",IF(SUM(K17:AB17)>0,SUM(K17:AB17),0),0)*H17 -> 0 | CI17: =IF(G17="pocket",IF(SUM(K17:AB17)>0,SUM(K17:AB17),0),0)*H17 -> 0 | CJ17: =IF(G17="insert",IF(SUM(K17:AB17)>0,SUM(K17:AB17),0),0)*H17 -> 0 | CK17: =IF(G17="feature",IF(SUM(K17:AB17)>0,SUM(K17:AB17),0),0)*H17 -> 0 | CL17: =IF(G17="scoop",IF(SUM(K17:AB17)>0,SUM(K17:AB17),0),0)*H17 -> 0 | CM17: =IF(G17="arete",IF(SUM(K17:AB17)>0,SUM(K17:AB17),0),0)*H17 -> 0 | CN17: =IF(G17="square",IF(SUM(K17:AB17)>0,SUM(K17:AB17),0),0)*H17 -> 0 | CO17: =IF(G17="positive",IF(SUM(K17:AB17)>0,SUM(K17:AB17),0),0)*H17 -> 0 | CP17: =IF(G17="various",IF(SUM(K17:X17)>0,SUM(K17:X17),0),0)*H17 -> 0
A18: NEW | C18: SMPL-71-DT-GRP | D18: Dual tex. | E18: L | F18: 63x24x3 cm | G18: sloper | H18: 1 | I18: screws | J18: 226 | AC18: =SUM(K18:AB18)*J18 -> 0 | AD18: =IF(SUM(K18:AB18)>0,"Yes","No") -> No | AE18: =IF(A18="New","Yes","No") -> Yes | AG18: 1 | AH18: =AG18*SUM(K18:AB18) -> 0 | AJ18: 1.01 | AK18: =SUM(K18:AB18)*AJ18 -> 0 | AL18: =K18*H18 -> 0 | AM18: =L18*H18 -> 0 | AN18: =M18*H18 -> 0 | AO18: =N18*H18 -> 0 | AP18: =O18*H18 -> 0 | AQ18: =P18*H18 -> 0 | AR18: =Q18*H18 -> 0 | AS18: =R18*H18 -> 0 | AT18: =S18*H18 -> 0 | AU18: =T18*H18 -> 0 | AV18: =U18*H18 -> 0 | AW18: =V18*H18 -> 0 | AX18: =W18*H18 -> 0 | AY18: =X18*H18 -> 0 | AZ18: =Y18*$H18 -> 0 | BA18: =Z18*$H18 -> 0 | BB18: =AA18*$H18 -> 0 | BC18: =AB18*$H18 -> 0 | BD18: =AG18 -> 1 | BE18: =SUM(BG18+BI18+BK18) -> 0 | BF18: 4 | BG18: =BF18*SUM(K18:X18) -> 0 | BI18: =BH18*SUM(K18:X18) -> 0 | BK18: =BJ18*SUM(K18:X18) -> 0 | BL18: =IF(E18="XS",IF(SUM(K18:AB18)>0,SUM(K18:AB18),0),0)*H18 -> 0 | BM18: =IF(E18="S",IF(SUM(K18:AB18)>0,SUM(K18:AB18),0),0)*H18 -> 0 | BN18: =IF(E18="M",IF(SUM(K18:AB18)>0,SUM(K18:AB18),0),0)*H18 -> 0 | BO18: =IF(E18="L",IF(SUM(K18:AB18)>0,SUM(K18:AB18),0),0)*H18 -> 0 | BP18: =IF(E18="XL",IF(SUM(K18:AB18)>0,SUM(K18:AB18),0),0)*H18 -> 0 | BQ18: =IF(E18="2XL",IF(SUM(K18:AB18)>0,SUM(K18:AB18),0),0)*H18 -> 0 | BR18: =IF(E18="3XL",IF(SUM(K18:AB18)>0,SUM(K18:AB18),0),0)*H18 -> 0 | BS18: =IF(E18="4XL",IF(SUM(K18:AB18)>0,SUM(K18:AB18),0),0)*H18 -> 0 | BT18: =IF(E18="various",IF(SUM(K18:AB18)>0,SUM(K18:AB18),0),0)*H18 -> 0 | BV18: =IF(D18="All tex.",IF(SUM(K18:AB18)>0,SUM(K18:AB18),0),0)*H18 -> 0 | BW18: =IF(D18="Dual tex.",IF(SUM(K18:AB18)>0,SUM(K18:AB18),0),0)*H18 -> 0 | BY18: =IF(G18="sloper",IF(SUM(K18:AB18)>0,SUM(K18:AB18),0),0)*H18 -> 0 | BZ18: =IF(G18="footholds",IF(SUM(K18:AB18)>0,SUM(K18:AB18),0),0)*H18 -> 0 | CA18: =IF(G18="micros",IF(SUM(K18:AB18)>0,SUM(K18:AB18),0),0)*H18 -> 0 | CB18: =IF(G18="jug",IF(SUM(K18:AB18)>0,SUM(K18:AB18),0),0)*H18 -> 0 | CC18: =IF(G18="ledge",IF(SUM(K18:AB18)>0,SUM(K18:AB18),0),0)*H18 -> 0 | CD18: =IF(G18="edge",IF(SUM(K18:AB18)>0,SUM(K18:AB18),0),0)*H18 -> 0 | CE18: =IF(G18="crimp",IF(SUM(K18:AB18)>0,SUM(K18:AB18),0),0)*H18 -> 0 | CF18: =IF(G18="incut",IF(SUM(K18:AB18)>0,SUM(K18:AB18),0),0)*H18 -> 0 | CG18: =IF(G18="dish",IF(SUM(K18:AB18)>0,SUM(K18:AB18),0),0)*H18 -> 0 | CH18: =IF(G18="pinch",IF(SUM(K18:AB18)>0,SUM(K18:AB18),0),0)*H18 -> 0 | CI18: =IF(G18="pocket",IF(SUM(K18:AB18)>0,SUM(K18:AB18),0),0)*H18 -> 0 | CJ18: =IF(G18="insert",IF(SUM(K18:AB18)>0,SUM(K18:AB18),0),0)*H18 -> 0 | CK18: =IF(G18="feature",IF(SUM(K18:AB18)>0,SUM(K18:AB18),0),0)*H18 -> 0 | CL18: =IF(G18="scoop",IF(SUM(K18:AB18)>0,SUM(K18:AB18),0),0)*H18 -> 0 | CM18: =IF(G18="arete",IF(SUM(K18:AB18)>0,SUM(K18:AB18),0),0)*H18 -> 0 | CN18: =IF(G18="square",IF(SUM(K18:AB18)>0,SUM(K18:AB18),0),0)*H18 -> 0 | CO18: =IF(G18="positive",IF(SUM(K18:AB18)>0,SUM(K18:AB18),0),0)*H18 -> 0 | CP18: =IF(G18="various",IF(SUM(K18:X18)>0,SUM(K18:X18),0),0)*H18 -> 0
A19: NEW | C19: SMPL-72-DT-GRP | D19: Dual tex. | E19: L | F19: 59x21x4 cm | G19: sloper | H19: 1 | I19: screws | J19: 228 | AC19: =SUM(K19:AB19)*J19 -> 0 | AD19: =IF(SUM(K19:AB19)>0,"Yes","No") -> No | AE19: =IF(A19="New","Yes","No") -> Yes | AG19: 1 | AH19: =AG19*SUM(K19:AB19) -> 0 | AJ19: 1 | AK19: =SUM(K19:AB19)*AJ19 -> 0 | AL19: =K19*H19 -> 0 | AM19: =L19*H19 -> 0 | AN19: =M19*H19 -> 0 | AO19: =N19*H19 -> 0 | AP19: =O19*H19 -> 0 | AQ19: =P19*H19 -> 0 | AR19: =Q19*H19 -> 0 | AS19: =R19*H19 -> 0 | AT19: =S19*H19 -> 0 | AU19: =T19*H19 -> 0 | AV19: =U19*H19 -> 0 | AW19: =V19*H19 -> 0 | AX19: =W19*H19 -> 0 | AY19: =X19*H19 -> 0 | AZ19: =Y19*$H19 -> 0 | BA19: =Z19*$H19 -> 0 | BB19: =AA19*$H19 -> 0 | BC19: =AB19*$H19 -> 0 | BD19: =AG19 -> 1 | BE19: =SUM(BG19+BI19+BK19) -> 0 | BF19: 4 | BG19: =BF19*SUM(K19:X19) -> 0 | BH19: 1 | BI19: =BH19*SUM(K19:X19) -> 0 | BK19: =BJ19*SUM(K19:X19) -> 0 | BL19: =IF(E19="XS",IF(SUM(K19:AB19)>0,SUM(K19:AB19),0),0)*H19 -> 0 | BM19: =IF(E19="S",IF(SUM(K19:AB19)>0,SUM(K19:AB19),0),0)*H19 -> 0 | BN19: =IF(E19="M",IF(SUM(K19:AB19)>0,SUM(K19:AB19),0),0)*H19 -> 0 | BO19: =IF(E19="L",IF(SUM(K19:AB19)>0,SUM(K19:AB19),0),0)*H19 -> 0 | BP19: =IF(E19="XL",IF(SUM(K19:AB19)>0,SUM(K19:AB19),0),0)*H19 -> 0 | BQ19: =IF(E19="2XL",IF(SUM(K19:AB19)>0,SUM(K19:AB19),0),0)*H19 -> 0 | BR19: =IF(E19="3XL",IF(SUM(K19:AB19)>0,SUM(K19:AB19),0),0)*H19 -> 0 | BS19: =IF(E19="4XL",IF(SUM(K19:AB19)>0,SUM(K19:AB19),0),0)*H19 -> 0 | BT19: =IF(E19="various",IF(SUM(K19:AB19)>0,SUM(K19:AB19),0),0)*H19 -> 0 | BV19: =IF(D19="All tex.",IF(SUM(K19:AB19)>0,SUM(K19:AB19),0),0)*H19 -> 0 | BW19: =IF(D19="Dual tex.",IF(SUM(K19:AB19)>0,SUM(K19:AB19),0),0)*H19 -> 0 | BY19: =IF(G19="sloper",IF(SUM(K19:AB19)>0,SUM(K19:AB19),0),0)*H19 -> 0 | BZ19: =IF(G19="footholds",IF(SUM(K19:AB19)>0,SUM(K19:AB19),0),0)*H19 -> 0 | CA19: =IF(G19="micros",IF(SUM(K19:AB19)>0,SUM(K19:AB19),0),0)*H19 -> 0 | CB19: =IF(G19="jug",IF(SUM(K19:AB19)>0,SUM(K19:AB19),0),0)*H19 -> 0 | CC19: =IF(G19="ledge",IF(SUM(K19:AB19)>0,SUM(K19:AB19),0),0)*H19 -> 0 | CD19: =IF(G19="edge",IF(SUM(K19:AB19)>0,SUM(K19:AB19),0),0)*H19 -> 0 | CE19: =IF(G19="crimp",IF(SUM(K19:AB19)>0,SUM(K19:AB19),0),0)*H19 -> 0 | CF19: =IF(G19="incut",IF(SUM(K19:AB19)>0,SUM(K19:AB19),0),0)*H19 -> 0 | CG19: =IF(G19="dish",IF(SUM(K19:AB19)>0,SUM(K19:AB19),0),0)*H19 -> 0 | CH19: =IF(G19="pinch",IF(SUM(K19:AB19)>0,SUM(K19:AB19),0),0)*H19 -> 0 | CI19: =IF(G19="pocket",IF(SUM(K19:AB19)>0,SUM(K19:AB19),0),0)*H19 -> 0 | CJ19: =IF(G19="insert",IF(SUM(K19:AB19)>0,SUM(K19:AB19),0),0)*H19 -> 0 | CK19: =IF(G19="feature",IF(SUM(K19:AB19)>0,SUM(K19:AB19),0),0)*H19 -> 0 | CL19: =IF(G19="scoop",IF(SUM(K19:AB19)>0,SUM(K19:AB19),0),0)*H19 -> 0 | CM19: =IF(G19="arete",IF(SUM(K19:AB19)>0,SUM(K19:AB19),0),0)*H19 -> 0 | CN19: =IF(G19="square",IF(SUM(K19:AB19)>0,SUM(K19:AB19),0),0)*H19 -> 0 | CO19: =IF(G19="positive",IF(SUM(K19:AB19)>0,SUM(K19:AB19),0),0)*H19 -> 0 | CP19: =IF(G19="various",IF(SUM(K19:X19)>0,SUM(K19:X19),0),0)*H19 -> 0
A20: NEW | C20: SMPL-73-DT-GRP | D20: Dual tex. | E20: L | F20: 61x23x6 cm | G20: sloper | H20: 1 | I20: screws | J20: 228 | AC20: =SUM(K20:AB20)*J20 -> 0 | AD20: =IF(SUM(K20:AB20)>0,"Yes","No") -> No | AE20: =IF(A20="New","Yes","No") -> Yes | AG20: 1 | AH20: =AG20*SUM(K20:AB20) -> 0 | AJ20: 1.1 | AK20: =SUM(K20:AB20)*AJ20 -> 0 | AL20: =K20*H20 -> 0 | AM20: =L20*H20 -> 0 | AN20: =M20*H20 -> 0 | AO20: =N20*H20 -> 0 | AP20: =O20*H20 -> 0 | AQ20: =P20*H20 -> 0 | AR20: =Q20*H20 -> 0 | AS20: =R20*H20 -> 0 | AT20: =S20*H20 -> 0 | AU20: =T20*H20 -> 0 | AV20: =U20*H20 -> 0 | AW20: =V20*H20 -> 0 | AX20: =W20*H20 -> 0 | AY20: =X20*H20 -> 0 | AZ20: =Y20*$H20 -> 0 | BA20: =Z20*$H20 -> 0 | BB20: =AA20*$H20 -> 0 | BC20: =AB20*$H20 -> 0 | BD20: =AG20 -> 1 | BE20: =SUM(BG20+BI20+BK20) -> 0 | BF20: 3 | BG20: =BF20*SUM(K20:X20) -> 0 | BH20: 1 | BI20: =BH20*SUM(K20:X20) -> 0 | BK20: =BJ20*SUM(K20:X20) -> 0 | BL20: =IF(E20="XS",IF(SUM(K20:AB20)>0,SUM(K20:AB20),0),0)*H20 -> 0 | BM20: =IF(E20="S",IF(SUM(K20:AB20)>0,SUM(K20:AB20),0),0)*H20 -> 0 | BN20: =IF(E20="M",IF(SUM(K20:AB20)>0,SUM(K20:AB20),0),0)*H20 -> 0 | BO20: =IF(E20="L",IF(SUM(K20:AB20)>0,SUM(K20:AB20),0),0)*H20 -> 0 | BP20: =IF(E20="XL",IF(SUM(K20:AB20)>0,SUM(K20:AB20),0),0)*H20 -> 0 | BQ20: =IF(E20="2XL",IF(SUM(K20:AB20)>0,SUM(K20:AB20),0),0)*H20 -> 0 | BR20: =IF(E20="3XL",IF(SUM(K20:AB20)>0,SUM(K20:AB20),0),0)*H20 -> 0 | BS20: =IF(E20="4XL",IF(SUM(K20:AB20)>0,SUM(K20:AB20),0),0)*H20 -> 0 | BT20: =IF(E20="various",IF(SUM(K20:AB20)>0,SUM(K20:AB20),0),0)*H20 -> 0 | BV20: =IF(D20="All tex.",IF(SUM(K20:AB20)>0,SUM(K20:AB20),0),0)*H20 -> 0 | BW20: =IF(D20="Dual tex.",IF(SUM(K20:AB20)>0,SUM(K20:AB20),0),0)*H20 -> 0 | BY20: =IF(G20="sloper",IF(SUM(K20:AB20)>0,SUM(K20:AB20),0),0)*H20 -> 0 | BZ20: =IF(G20="footholds",IF(SUM(K20:AB20)>0,SUM(K20:AB20),0),0)*H20 -> 0 | CA20: =IF(G20="micros",IF(SUM(K20:AB20)>0,SUM(K20:AB20),0),0)*H20 -> 0 | CB20: =IF(G20="jug",IF(SUM(K20:AB20)>0,SUM(K20:AB20),0),0)*H20 -> 0 | CC20: =IF(G20="ledge",IF(SUM(K20:AB20)>0,SUM(K20:AB20),0),0)*H20 -> 0 | CD20: =IF(G20="edge",IF(SUM(K20:AB20)>0,SUM(K20:AB20),0),0)*H20 -> 0 | CE20: =IF(G20="crimp",IF(SUM(K20:AB20)>0,SUM(K20:AB20),0),0)*H20 -> 0 | CF20: =IF(G20="incut",IF(SUM(K20:AB20)>0,SUM(K20:AB20),0),0)*H20 -> 0 | CG20: =IF(G20="dish",IF(SUM(K20:AB20)>0,SUM(K20:AB20),0),0)*H20 -> 0 | CH20: =IF(G20="pinch",IF(SUM(K20:AB20)>0,SUM(K20:AB20),0),0)*H20 -> 0 | CI20: =IF(G20="pocket",IF(SUM(K20:AB20)>0,SUM(K20:AB20),0),0)*H20 -> 0 | CJ20: =IF(G20="insert",IF(SUM(K20:AB20)>0,SUM(K20:AB20),0),0)*H20 -> 0 | CK20: =IF(G20="feature",IF(SUM(K20:AB20)>0,SUM(K20:AB20),0),0)*H20 -> 0 | CL20: =IF(G20="scoop",IF(SUM(K20:AB20)>0,SUM(K20:AB20),0),0)*H20 -> 0 | CM20: =IF(G20="arete",IF(SUM(K20:AB20)>0,SUM(K20:AB20),0),0)*H20 -> 0 | CN20: =IF(G20="square",IF(SUM(K20:AB20)>0,SUM(K20:AB20),0),0)*H20 -> 0 | CO20: =IF(G20="positive",IF(SUM(K20:AB20)>0,SUM(K20:AB20),0),0)*H20 -> 0 | CP20: =IF(G20="various",IF(SUM(K20:X20)>0,SUM(K20:X20),0),0)*H20 -> 0
A21: NEW | C21: SMPL-74-DT-GRP | D21: Dual tex. | E21: L | F21: 605x205x75 | G21: sloper | H21: 1 | I21: screws | J21: 226 | AC21: =SUM(K21:AB21)*J21 -> 0 | AD21: =IF(SUM(K21:AB21)>0,"Yes","No") -> No | AE21: =IF(A21="New","Yes","No") -> Yes | AG21: 1 | AH21: =AG21*SUM(K21:AB21) -> 0 | AJ21: 1.01 | AK21: =SUM(K21:AB21)*AJ21 -> 0 | AL21: =K21*H21 -> 0 | AM21: =L21*H21 -> 0 | AN21: =M21*H21 -> 0 | AO21: =N21*H21 -> 0 | AP21: =O21*H21 -> 0 | AQ21: =P21*H21 -> 0 | AR21: =Q21*H21 -> 0 | AS21: =R21*H21 -> 0 | AT21: =S21*H21 -> 0 | AU21: =T21*H21 -> 0 | AV21: =U21*H21 -> 0 | AW21: =V21*H21 -> 0 | AX21: =W21*H21 -> 0 | AY21: =X21*H21 -> 0 | AZ21: =Y21*$H21 -> 0 | BA21: =Z21*$H21 -> 0 | BB21: =AA21*$H21 -> 0 | BC21: =AB21*$H21 -> 0 | BD21: =AG21 -> 1 | BE21: =SUM(BG21+BI21+BK21) -> 0 | BF21: 3 | BG21: =BF21*SUM(K21:X21) -> 0 | BH21: 1 | BI21: =BH21*SUM(K21:X21) -> 0 | BK21: =BJ21*SUM(K21:X21) -> 0 | BL21: =IF(E21="XS",IF(SUM(K21:AB21)>0,SUM(K21:AB21),0),0)*H21 -> 0 | BM21: =IF(E21="S",IF(SUM(K21:AB21)>0,SUM(K21:AB21),0),0)*H21 -> 0 | BN21: =IF(E21="M",IF(SUM(K21:AB21)>0,SUM(K21:AB21),0),0)*H21 -> 0 | BO21: =IF(E21="L",IF(SUM(K21:AB21)>0,SUM(K21:AB21),0),0)*H21 -> 0 | BP21: =IF(E21="XL",IF(SUM(K21:AB21)>0,SUM(K21:AB21),0),0)*H21 -> 0 | BQ21: =IF(E21="2XL",IF(SUM(K21:AB21)>0,SUM(K21:AB21),0),0)*H21 -> 0 | BR21: =IF(E21="3XL",IF(SUM(K21:AB21)>0,SUM(K21:AB21),0),0)*H21 -> 0 | BS21: =IF(E21="4XL",IF(SUM(K21:AB21)>0,SUM(K21:AB21),0),0)*H21 -> 0 | BT21: =IF(E21="various",IF(SUM(K21:AB21)>0,SUM(K21:AB21),0),0)*H21 -> 0 | BV21: =IF(D21="All tex.",IF(SUM(K21:AB21)>0,SUM(K21:AB21),0),0)*H21 -> 0 | BW21: =IF(D21="Dual tex.",IF(SUM(K21:AB21)>0,SUM(K21:AB21),0),0)*H21 -> 0 | BY21: =IF(G21="sloper",IF(SUM(K21:AB21)>0,SUM(K21:AB21),0),0)*H21 -> 0 | BZ21: =IF(G21="footholds",IF(SUM(K21:AB21)>0,SUM(K21:AB21),0),0)*H21 -> 0 | CA21: =IF(G21="micros",IF(SUM(K21:AB21)>0,SUM(K21:AB21),0),0)*H21 -> 0 | CB21: =IF(G21="jug",IF(SUM(K21:AB21)>0,SUM(K21:AB21),0),0)*H21 -> 0 | CC21: =IF(G21="ledge",IF(SUM(K21:AB21)>0,SUM(K21:AB21),0),0)*H21 -> 0 | CD21: =IF(G21="edge",IF(SUM(K21:AB21)>0,SUM(K21:AB21),0),0)*H21 -> 0 | CE21: =IF(G21="crimp",IF(SUM(K21:AB21)>0,SUM(K21:AB21),0),0)*H21 -> 0 | CF21: =IF(G21="incut",IF(SUM(K21:AB21)>0,SUM(K21:AB21),0),0)*H21 -> 0 | CG21: =IF(G21="dish",IF(SUM(K21:AB21)>0,SUM(K21:AB21),0),0)*H21 -> 0 | CH21: =IF(G21="pinch",IF(SUM(K21:AB21)>0,SUM(K21:AB21),0),0)*H21 -> 0 | CI21: =IF(G21="pocket",IF(SUM(K21:AB21)>0,SUM(K21:AB21),0),0)*H21 -> 0 | CJ21: =IF(G21="insert",IF(SUM(K21:AB21)>0,SUM(K21:AB21),0),0)*H21 -> 0 | CK21: =IF(G21="feature",IF(SUM(K21:AB21)>0,SUM(K21:AB21),0),0)*H21 -> 0 | CL21: =IF(G21="scoop",IF(SUM(K21:AB21)>0,SUM(K21:AB21),0),0)*H21 -> 0 | CM21: =IF(G21="arete",IF(SUM(K21:AB21)>0,SUM(K21:AB21),0),0)*H21 -> 0 | CN21: =IF(G21="square",IF(SUM(K21:AB21)>0,SUM(K21:AB21),0),0)*H21 -> 0 | CO21: =IF(G21="positive",IF(SUM(K21:AB21)>0,SUM(K21:AB21),0),0)*H21 -> 0 | CP21: =IF(G21="various",IF(SUM(K21:X21)>0,SUM(K21:X21),0),0)*H21 -> 0
A22: NEW | C22: SMPL-76-DT-GRP | D22: Dual tex. | E22: L | F22: 60x22x6,5 cm | G22: sloper | H22: 1 | I22: screws | J22: 227 | AC22: =SUM(K22:AB22)*J22 -> 0 | AD22: =IF(SUM(K22:AB22)>0,"Yes","No") -> No | AE22: =IF(A22="New","Yes","No") -> Yes | AG22: 1 | AH22: =AG22*SUM(K22:AB22) -> 0 | AJ22: 1.06 | AK22: =SUM(K22:AB22)*AJ22 -> 0 | AL22: =K22*H22 -> 0 | AM22: =L22*H22 -> 0 | AN22: =M22*H22 -> 0 | AO22: =N22*H22 -> 0 | AP22: =O22*H22 -> 0 | AQ22: =P22*H22 -> 0 | AR22: =Q22*H22 -> 0 | AS22: =R22*H22 -> 0 | AT22: =S22*H22 -> 0 | AU22: =T22*H22 -> 0 | AV22: =U22*H22 -> 0 | AW22: =V22*H22 -> 0 | AX22: =W22*H22 -> 0 | AY22: =X22*H22 -> 0 | AZ22: =Y22*$H22 -> 0 | BA22: =Z22*$H22 -> 0 | BB22: =AA22*$H22 -> 0 | BC22: =AB22*$H22 -> 0 | BD22: =AG22 -> 1 | BE22: =SUM(BG22+BI22+BK22) -> 0 | BF22: 3 | BG22: =BF22*SUM(K22:X22) -> 0 | BH22: 1 | BI22: =BH22*SUM(K22:X22) -> 0 | BK22: =BJ22*SUM(K22:X22) -> 0 | BL22: =IF(E22="XS",IF(SUM(K22:AB22)>0,SUM(K22:AB22),0),0)*H22 -> 0 | BM22: =IF(E22="S",IF(SUM(K22:AB22)>0,SUM(K22:AB22),0),0)*H22 -> 0 | BN22: =IF(E22="M",IF(SUM(K22:AB22)>0,SUM(K22:AB22),0),0)*H22 -> 0 | BO22: =IF(E22="L",IF(SUM(K22:AB22)>0,SUM(K22:AB22),0),0)*H22 -> 0 | BP22: =IF(E22="XL",IF(SUM(K22:AB22)>0,SUM(K22:AB22),0),0)*H22 -> 0 | BQ22: =IF(E22="2XL",IF(SUM(K22:AB22)>0,SUM(K22:AB22),0),0)*H22 -> 0 | BR22: =IF(E22="3XL",IF(SUM(K22:AB22)>0,SUM(K22:AB22),0),0)*H22 -> 0 | BS22: =IF(E22="4XL",IF(SUM(K22:AB22)>0,SUM(K22:AB22),0),0)*H22 -> 0 | BT22: =IF(E22="various",IF(SUM(K22:AB22)>0,SUM(K22:AB22),0),0)*H22 -> 0 | BV22: =IF(D22="All tex.",IF(SUM(K22:AB22)>0,SUM(K22:AB22),0),0)*H22 -> 0 | BW22: =IF(D22="Dual tex.",IF(SUM(K22:AB22)>0,SUM(K22:AB22),0),0)*H22 -> 0 | BY22: =IF(G22="sloper",IF(SUM(K22:AB22)>0,SUM(K22:AB22),0),0)*H22 -> 0 | BZ22: =IF(G22="footholds",IF(SUM(K22:AB22)>0,SUM(K22:AB22),0),0)*H22 -> 0 | CA22: =IF(G22="micros",IF(SUM(K22:AB22)>0,SUM(K22:AB22),0),0)*H22 -> 0 | CB22: =IF(G22="jug",IF(SUM(K22:AB22)>0,SUM(K22:AB22),0),0)*H22 -> 0 | CC22: =IF(G22="ledge",IF(SUM(K22:AB22)>0,SUM(K22:AB22),0),0)*H22 -> 0 | CD22: =IF(G22="edge",IF(SUM(K22:AB22)>0,SUM(K22:AB22),0),0)*H22 -> 0 | CE22: =IF(G22="crimp",IF(SUM(K22:AB22)>0,SUM(K22:AB22),0),0)*H22 -> 0 | CF22: =IF(G22="incut",IF(SUM(K22:AB22)>0,SUM(K22:AB22),0),0)*H22 -> 0 | CG22: =IF(G22="dish",IF(SUM(K22:AB22)>0,SUM(K22:AB22),0),0)*H22 -> 0 | CH22: =IF(G22="pinch",IF(SUM(K22:AB22)>0,SUM(K22:AB22),0),0)*H22 -> 0 | CI22: =IF(G22="pocket",IF(SUM(K22:AB22)>0,SUM(K22:AB22),0),0)*H22 -> 0 | CJ22: =IF(G22="insert",IF(SUM(K22:AB22)>0,SUM(K22:AB22),0),0)*H22 -> 0 | CK22: =IF(G22="feature",IF(SUM(K22:AB22)>0,SUM(K22:AB22),0),0)*H22 -> 0 | CL22: =IF(G22="scoop",IF(SUM(K22:AB22)>0,SUM(K22:AB22),0),0)*H22 -> 0 | CM22: =IF(G22="arete",IF(SUM(K22:AB22)>0,SUM(K22:AB22),0),0)*H22 -> 0 | CN22: =IF(G22="square",IF(SUM(K22:AB22)>0,SUM(K22:AB22),0),0)*H22 -> 0 | CO22: =IF(G22="positive",IF(SUM(K22:AB22)>0,SUM(K22:AB22),0),0)*H22 -> 0 | CP22: =IF(G22="various",IF(SUM(K22:X22)>0,SUM(K22:X22),0),0)*H22 -> 0
A23: NEW | C23: SMPL-77-DT-GRP | D23: Dual tex. | E23: L | F23: 60x21x10,5 cm | G23: sloper | H23: 1 | I23: screws | J23: 231 | AC23: =SUM(K23:AB23)*J23 -> 0 | AD23: =IF(SUM(K23:AB23)>0,"Yes","No") -> No | AE23: =IF(A23="New","Yes","No") -> Yes | AG23: 1 | AH23: =AG23*SUM(K23:AB23) -> 0 | AJ23: 1.32 | AK23: =SUM(K23:AB23)*AJ23 -> 0 | AL23: =K23*H23 -> 0 | AM23: =L23*H23 -> 0 | AN23: =M23*H23 -> 0 | AO23: =N23*H23 -> 0 | AP23: =O23*H23 -> 0 | AQ23: =P23*H23 -> 0 | AR23: =Q23*H23 -> 0 | AS23: =R23*H23 -> 0 | AT23: =S23*H23 -> 0 | AU23: =T23*H23 -> 0 | AV23: =U23*H23 -> 0 | AW23: =V23*H23 -> 0 | AX23: =W23*H23 -> 0 | AY23: =X23*H23 -> 0 | AZ23: =Y23*$H23 -> 0 | BA23: =Z23*$H23 -> 0 | BB23: =AA23*$H23 -> 0 | BC23: =AB23*$H23 -> 0 | BD23: =AG23 -> 1 | BE23: =SUM(BG23+BI23+BK23) -> 0 | BF23: 3 | BG23: =BF23*SUM(K23:X23) -> 0 | BH23: 1 | BI23: =BH23*SUM(K23:X23) -> 0 | BK23: =BJ23*SUM(K23:X23) -> 0 | BL23: =IF(E23="XS",IF(SUM(K23:AB23)>0,SUM(K23:AB23),0),0)*H23 -> 0 | BM23: =IF(E23="S",IF(SUM(K23:AB23)>0,SUM(K23:AB23),0),0)*H23 -> 0 | BN23: =IF(E23="M",IF(SUM(K23:AB23)>0,SUM(K23:AB23),0),0)*H23 -> 0 | BO23: =IF(E23="L",IF(SUM(K23:AB23)>0,SUM(K23:AB23),0),0)*H23 -> 0 | BP23: =IF(E23="XL",IF(SUM(K23:AB23)>0,SUM(K23:AB23),0),0)*H23 -> 0 | BQ23: =IF(E23="2XL",IF(SUM(K23:AB23)>0,SUM(K23:AB23),0),0)*H23 -> 0 | BR23: =IF(E23="3XL",IF(SUM(K23:AB23)>0,SUM(K23:AB23),0),0)*H23 -> 0 | BS23: =IF(E23="4XL",IF(SUM(K23:AB23)>0,SUM(K23:AB23),0),0)*H23 -> 0 | BT23: =IF(E23="various",IF(SUM(K23:AB23)>0,SUM(K23:AB23),0),0)*H23 -> 0 | BV23: =IF(D23="All tex.",IF(SUM(K23:AB23)>0,SUM(K23:AB23),0),0)*H23 -> 0 | BW23: =IF(D23="Dual tex.",IF(SUM(K23:AB23)>0,SUM(K23:AB23),0),0)*H23 -> 0 | BY23: =IF(G23="sloper",IF(SUM(K23:AB23)>0,SUM(K23:AB23),0),0)*H23 -> 0 | BZ23: =IF(G23="footholds",IF(SUM(K23:AB23)>0,SUM(K23:AB23),0),0)*H23 -> 0 | CA23: =IF(G23="micros",IF(SUM(K23:AB23)>0,SUM(K23:AB23),0),0)*H23 -> 0 | CB23: =IF(G23="jug",IF(SUM(K23:AB23)>0,SUM(K23:AB23),0),0)*H23 -> 0 | CC23: =IF(G23="ledge",IF(SUM(K23:AB23)>0,SUM(K23:AB23),0),0)*H23 -> 0 | CD23: =IF(G23="edge",IF(SUM(K23:AB23)>0,SUM(K23:AB23),0),0)*H23 -> 0 | CE23: =IF(G23="crimp",IF(SUM(K23:AB23)>0,SUM(K23:AB23),0),0)*H23 -> 0 | CF23: =IF(G23="incut",IF(SUM(K23:AB23)>0,SUM(K23:AB23),0),0)*H23 -> 0 | CG23: =IF(G23="dish",IF(SUM(K23:AB23)>0,SUM(K23:AB23),0),0)*H23 -> 0 | CH23: =IF(G23="pinch",IF(SUM(K23:AB23)>0,SUM(K23:AB23),0),0)*H23 -> 0 | CI23: =IF(G23="pocket",IF(SUM(K23:AB23)>0,SUM(K23:AB23),0),0)*H23 -> 0 | CJ23: =IF(G23="insert",IF(SUM(K23:AB23)>0,SUM(K23:AB23),0),0)*H23 -> 0 | CK23: =IF(G23="feature",IF(SUM(K23:AB23)>0,SUM(K23:AB23),0),0)*H23 -> 0 | CL23: =IF(G23="scoop",IF(SUM(K23:AB23)>0,SUM(K23:AB23),0),0)*H23 -> 0 | CM23: =IF(G23="arete",IF(SUM(K23:AB23)>0,SUM(K23:AB23),0),0)*H23 -> 0 | CN23: =IF(G23="square",IF(SUM(K23:AB23)>0,SUM(K23:AB23),0),0)*H23 -> 0 | CO23: =IF(G23="positive",IF(SUM(K23:AB23)>0,SUM(K23:AB23),0),0)*H23 -> 0 | CP23: =IF(G23="various",IF(SUM(K23:X23)>0,SUM(K23:X23),0),0)*H23 -> 0
A24: NEW | C24: SMPL-78-DT-GRP | D24: Dual tex. | E24: L | F24: 70x25x8 cm | G24: positive | H24: 1 | I24: screws | J24: 238 | AC24: =SUM(K24:AB24)*J24 -> 0 | AD24: =IF(SUM(K24:AB24)>0,"Yes","No") -> No | AE24: =IF(A24="New","Yes","No") -> Yes | AG24: 1 | AH24: =AG24*SUM(K24:AB24) -> 0 | AJ24: 1.52 | AK24: =SUM(K24:AB24)*AJ24 -> 0 | AL24: =K24*H24 -> 0 | AM24: =L24*H24 -> 0 | AN24: =M24*H24 -> 0 | AO24: =N24*H24 -> 0 | AP24: =O24*H24 -> 0 | AQ24: =P24*H24 -> 0 | AR24: =Q24*H24 -> 0 | AS24: =R24*H24 -> 0 | AT24: =S24*H24 -> 0 | AU24: =T24*H24 -> 0 | AV24: =U24*H24 -> 0 | AW24: =V24*H24 -> 0 | AX24: =W24*H24 -> 0 | AY24: =X24*H24 -> 0 | AZ24: =Y24*$H24 -> 0 | BA24: =Z24*$H24 -> 0 | BB24: =AA24*$H24 -> 0 | BC24: =AB24*$H24 -> 0 | BD24: =AG24 -> 1 | BE24: =SUM(BG24+BI24+BK24) -> 0 | BF24: 4 | BG24: =BF24*SUM(K24:X24) -> 0 | BH24: 1 | BI24: =BH24*SUM(K24:X24) -> 0 | BK24: =BJ24*SUM(K24:X24) -> 0 | BL24: =IF(E24="XS",IF(SUM(K24:AB24)>0,SUM(K24:AB24),0),0)*H24 -> 0 | BM24: =IF(E24="S",IF(SUM(K24:AB24)>0,SUM(K24:AB24),0),0)*H24 -> 0 | BN24: =IF(E24="M",IF(SUM(K24:AB24)>0,SUM(K24:AB24),0),0)*H24 -> 0 | BO24: =IF(E24="L",IF(SUM(K24:AB24)>0,SUM(K24:AB24),0),0)*H24 -> 0 | BP24: =IF(E24="XL",IF(SUM(K24:AB24)>0,SUM(K24:AB24),0),0)*H24 -> 0 | BQ24: =IF(E24="2XL",IF(SUM(K24:AB24)>0,SUM(K24:AB24),0),0)*H24 -> 0 | BR24: =IF(E24="3XL",IF(SUM(K24:AB24)>0,SUM(K24:AB24),0),0)*H24 -> 0 | BS24: =IF(E24="4XL",IF(SUM(K24:AB24)>0,SUM(K24:AB24),0),0)*H24 -> 0 | BT24: =IF(E24="various",IF(SUM(K24:AB24)>0,SUM(K24:AB24),0),0)*H24 -> 0 | BV24: =IF(D24="All tex.",IF(SUM(K24:AB24)>0,SUM(K24:AB24),0),0)*H24 -> 0 | BW24: =IF(D24="Dual tex.",IF(SUM(K24:AB24)>0,SUM(K24:AB24),0),0)*H24 -> 0 | BY24: =IF(G24="sloper",IF(SUM(K24:AB24)>0,SUM(K24:AB24),0),0)*H24 -> 0 | BZ24: =IF(G24="footholds",IF(SUM(K24:AB24)>0,SUM(K24:AB24),0),0)*H24 -> 0 | CA24: =IF(G24="micros",IF(SUM(K24:AB24)>0,SUM(K24:AB24),0),0)*H24 -> 0 | CB24: =IF(G24="jug",IF(SUM(K24:AB24)>0,SUM(K24:AB24),0),0)*H24 -> 0 | CC24: =IF(G24="ledge",IF(SUM(K24:AB24)>0,SUM(K24:AB24),0),0)*H24 -> 0 | CD24: =IF(G24="edge",IF(SUM(K24:AB24)>0,SUM(K24:AB24),0),0)*H24 -> 0 | CE24: =IF(G24="crimp",IF(SUM(K24:AB24)>0,SUM(K24:AB24),0),0)*H24 -> 0 | CF24: =IF(G24="incut",IF(SUM(K24:AB24)>0,SUM(K24:AB24),0),0)*H24 -> 0 | CG24: =IF(G24="dish",IF(SUM(K24:AB24)>0,SUM(K24:AB24),0),0)*H24 -> 0 | CH24: =IF(G24="pinch",IF(SUM(K24:AB24)>0,SUM(K24:AB24),0),0)*H24 -> 0 | CI24: =IF(G24="pocket",IF(SUM(K24:AB24)>0,SUM(K24:AB24),0),0)*H24 -> 0 | CJ24: =IF(G24="insert",IF(SUM(K24:AB24)>0,SUM(K24:AB24),0),0)*H24 -> 0 | CK24: =IF(G24="feature",IF(SUM(K24:AB24)>0,SUM(K24:AB24),0),0)*H24 -> 0 | CL24: =IF(G24="scoop",IF(SUM(K24:AB24)>0,SUM(K24:AB24),0),0)*H24 -> 0 | CM24: =IF(G24="arete",IF(SUM(K24:AB24)>0,SUM(K24:AB24),0),0)*H24 -> 0 | CN24: =IF(G24="square",IF(SUM(K24:AB24)>0,SUM(K24:AB24),0),0)*H24 -> 0 | CO24: =IF(G24="positive",IF(SUM(K24:AB24)>0,SUM(K24:AB24),0),0)*H24 -> 0 | CP24: =IF(G24="various",IF(SUM(K24:X24)>0,SUM(K24:X24),0),0)*H24 -> 0
A25: NEW | C25: SMPL-79-DT-GRP | D25: Dual tex. | E25: L | F25: 63x23x8,5 cm | G25: jug | H25: 1 | I25: screws | J25: 236 | AC25: =SUM(K25:AB25)*J25 -> 0 | AD25: =IF(SUM(K25:AB25)>0,"Yes","No") -> No | AE25: =IF(A25="New","Yes","No") -> Yes | AG25: 1 | AH25: =AG25*SUM(K25:AB25) -> 0 | AJ25: 1.43 | AK25: =SUM(K25:AB25)*AJ25 -> 0 | AL25: =K25*H25 -> 0 | AM25: =L25*H25 -> 0 | AN25: =M25*H25 -> 0 | AO25: =N25*H25 -> 0 | AP25: =O25*H25 -> 0 | AQ25: =P25*H25 -> 0 | AR25: =Q25*H25 -> 0 | AS25: =R25*H25 -> 0 | AT25: =S25*H25 -> 0 | AU25: =T25*H25 -> 0 | AV25: =U25*H25 -> 0 | AW25: =V25*H25 -> 0 | AX25: =W25*H25 -> 0 | AY25: =X25*H25 -> 0 | AZ25: =Y25*$H25 -> 0 | BA25: =Z25*$H25 -> 0 | BB25: =AA25*$H25 -> 0 | BC25: =AB25*$H25 -> 0 | BD25: =AG25 -> 1 | BE25: =SUM(BG25+BI25+BK25) -> 0 | BF25: 3 | BG25: =BF25*SUM(K25:X25) -> 0 | BH25: 2 | BI25: =BH25*SUM(K25:X25) -> 0 | BK25: =BJ25*SUM(K25:X25) -> 0 | BL25: =IF(E25="XS",IF(SUM(K25:AB25)>0,SUM(K25:AB25),0),0)*H25 -> 0 | BM25: =IF(E25="S",IF(SUM(K25:AB25)>0,SUM(K25:AB25),0),0)*H25 -> 0 | BN25: =IF(E25="M",IF(SUM(K25:AB25)>0,SUM(K25:AB25),0),0)*H25 -> 0 | BO25: =IF(E25="L",IF(SUM(K25:AB25)>0,SUM(K25:AB25),0),0)*H25 -> 0 | BP25: =IF(E25="XL",IF(SUM(K25:AB25)>0,SUM(K25:AB25),0),0)*H25 -> 0 | BQ25: =IF(E25="2XL",IF(SUM(K25:AB25)>0,SUM(K25:AB25),0),0)*H25 -> 0 | BR25: =IF(E25="3XL",IF(SUM(K25:AB25)>0,SUM(K25:AB25),0),0)*H25 -> 0 | BS25: =IF(E25="4XL",IF(SUM(K25:AB25)>0,SUM(K25:AB25),0),0)*H25 -> 0 | BT25: =IF(E25="various",IF(SUM(K25:AB25)>0,SUM(K25:AB25),0),0)*H25 -> 0 | BV25: =IF(D25="All tex.",IF(SUM(K25:AB25)>0,SUM(K25:AB25),0),0)*H25 -> 0 | BW25: =IF(D25="Dual tex.",IF(SUM(K25:AB25)>0,SUM(K25:AB25),0),0)*H25 -> 0 | BY25: =IF(G25="sloper",IF(SUM(K25:AB25)>0,SUM(K25:AB25),0),0)*H25 -> 0 | BZ25: =IF(G25="footholds",IF(SUM(K25:AB25)>0,SUM(K25:AB25),0),0)*H25 -> 0 | CA25: =IF(G25="micros",IF(SUM(K25:AB25)>0,SUM(K25:AB25),0),0)*H25 -> 0 | CB25: =IF(G25="jug",IF(SUM(K25:AB25)>0,SUM(K25:AB25),0),0)*H25 -> 0 | CC25: =IF(G25="ledge",IF(SUM(K25:AB25)>0,SUM(K25:AB25),0),0)*H25 -> 0 | CD25: =IF(G25="edge",IF(SUM(K25:AB25)>0,SUM(K25:AB25),0),0)*H25 -> 0 | CE25: =IF(G25="crimp",IF(SUM(K25:AB25)>0,SUM(K25:AB25),0),0)*H25 -> 0 | CF25: =IF(G25="incut",IF(SUM(K25:AB25)>0,SUM(K25:AB25),0),0)*H25 -> 0 | CG25: =IF(G25="dish",IF(SUM(K25:AB25)>0,SUM(K25:AB25),0),0)*H25 -> 0 | CH25: =IF(G25="pinch",IF(SUM(K25:AB25)>0,SUM(K25:AB25),0),0)*H25 -> 0 | CI25: =IF(G25="pocket",IF(SUM(K25:AB25)>0,SUM(K25:AB25),0),0)*H25 -> 0 | CJ25: =IF(G25="insert",IF(SUM(K25:AB25)>0,SUM(K25:AB25),0),0)*H25 -> 0 | CK25: =IF(G25="feature",IF(SUM(K25:AB25)>0,SUM(K25:AB25),0),0)*H25 -> 0 | CL25: =IF(G25="scoop",IF(SUM(K25:AB25)>0,SUM(K25:AB25),0),0)*H25 -> 0 | CM25: =IF(G25="arete",IF(SUM(K25:AB25)>0,SUM(K25:AB25),0),0)*H25 -> 0 | CN25: =IF(G25="square",IF(SUM(K25:AB25)>0,SUM(K25:AB25),0),0)*H25 -> 0 | CO25: =IF(G25="positive",IF(SUM(K25:AB25)>0,SUM(K25:AB25),0),0)*H25 -> 0 | CP25: =IF(G25="various",IF(SUM(K25:X25)>0,SUM(K25:X25),0),0)*H25 -> 0
