Workbook

Sheet Summary of order
H2: order list: NOV 2025
E5: Customer:
B6: 360LINE D.O.O. BAČ 49A SI- 6253 KNEŽAK VAT: SI32177330
E7: Delivery address:
B12: DISCOUNT | D12: %
E15: Sum pieces | F15: Sum kg | G15: Price without VAT | I15: prod. Quota
D16: WOODEN holds | E16: ='Lynx WOODEN HOLDS'!AA7 -> 0 | F16: ='Lynx WOODEN HOLDS'!L3 -> 0 | G16: ='Lynx WOODEN HOLDS'!L1 -> 0 | I16: ='Lynx WOODEN HOLDS'!AC2 -> 0
D17: PLYWOOD volumes | E17: =SUM('Lynx PLYWOOD'!AB7) -> 0 | F17: ='Lynx PLYWOOD'!M3 -> 0 | G17: ='Lynx PLYWOOD'!M1 -> 0 | I17: ='Lynx PLYWOOD'!AD2 -> 0
D18: GRP macros | E18: =SUM('Lynx GRP'!AD7) -> 0 | F18: ='Lynx GRP'!K3 -> 0 | G18: ='Lynx GRP'!K1 -> 0 | I18: ='Lynx GRP'!AF2 -> 0
D19: PE holds | E19: ='Lynx PE'!AE7 -> 0 | F19: =SUM('Lynx PE'!AM11:AM35) -> 0 | H19: =SUM('Lynx PE'!AE11:AE32) -> 0 | I19: ='Lynx PE'!AG2 -> 0
D20: PU holds | E20: =SUM('Lynx PU'!U7) -> 0 | F20: =SUM('Lynx PU'!J3) -> 0 | G20: ='Lynx PU'!J1 -> 0 | I20: ='Lynx PU'!Z7 -> 0
D21: accessories | E21: ='LYNX accessories'!G3 -> 0 | G21: ='LYNX accessories'!G2 -> 0
D22: SUM | E22: =SUM(E16:E21) -> 0 | F22: =SUM(F16:F21) -> 0 | G22: =SUM(G16:H21) -> 0 | I22: =SUM(I16:I21) -> 0
D23: ="DISCOUNT "&C12&" %" -> DISCOUNT % | G23: =G22*C12/100 -> 0
D24: SUM (price without VAT) | G24: =G22-G23 -> 0
B27: No. of pcs. by COLOR | C27: ='Lynx GRP'!L8 -> BLACK RAL 9005 | D27: ='Lynx GRP'!M8 -> WHITE | E27: ='Lynx GRP'!N8 -> RED RAL 3000 | F27: ='Lynx GRP'!O8 -> YELLOW RAL 1018 | G27: ='Lynx GRP'!P8 -> BLUE RAL 5015 | H27: ='Lynx GRP'!Q8 -> BRIGHT GREEN RAL 6018 | I27: ='Lynx GRP'!R8 -> PURE GREEN RAL 6037 | J27: ='Lynx GRP'!S8 -> APRICOT ORANGE RAL 1033 | ... P27: ='Lynx GRP'!Y8 -> DEEP ROSE RAL 4008 | Q27: BROWN RAL 8003 | R27: ='Lynx GRP'!Z8 -> FLUORO PINK | S27: ='Lynx GRP'!AA8 -> FLUORO ORANGE | T27: ='Lynx GRP'!AB8 -> FLUORO YELLOW | U27: ='Lynx GRP'!AC8 -> FLUORO GREEN
C28: ='Lynx PLYWOOD'!N7+'Lynx GRP'!L7+'Lynx PU'!K7+'Lynx WOODEN HOLDS'!M7+'Lynx PE'!L7 -> 0 | D28: ='Lynx PLYWOOD'!O7+'Lynx GRP'!M7+'Lynx PU'!L7+'Lynx WOODEN HOLDS'!N7+'Lynx PE'!M7 -> 0 | E28: ='Lynx PLYWOOD'!P7+'Lynx GRP'!N7+'Lynx PU'!M7+'Lynx WOODEN HOLDS'!O7+'Lynx PE'!N7 -> 0 | F28: ='Lynx PLYWOOD'!Q7+'Lynx GRP'!O7+'Lynx PU'!N7+'Lynx WOODEN HOLDS'!P7+'Lynx PE'!O7 -> 0 | G28: ='Lynx PLYWOOD'!R7+'Lynx GRP'!P7+'Lynx PU'!O7+'Lynx WOODEN HOLDS'!Q7+'Lynx PE'!P7 -> 0 | H28: ='Lynx PLYWOOD'!S7+'Lynx GRP'!Q7+'Lynx PU'!P7+'Lynx WOODEN HOLDS'!R7+'Lynx PE'!Q7 -> 0 | I28: ='Lynx PLYWOOD'!T7+'Lynx GRP'!R7+'Lynx WOODEN HOLDS'!S7+'Lynx PE'!R7 -> 0 | J28: ='Lynx PLYWOOD'!U7+'Lynx GRP'!S7+'Lynx WOODEN HOLDS'!T7+'Lynx PE'!S7 -> 0 | K28: ='Lynx PLYWOOD'!V7+'Lynx GRP'!T7+'Lynx WOODEN HOLDS'!U7+'Lynx PE'!T7 -> 0 | L28: ='Lynx PLYWOOD'!W7+'Lynx GRP'!U7+'Lynx PU'!Q7+'Lynx WOODEN HOLDS'!V7+'Lynx PE'!U7 -> 0 | M28: ='Lynx PLYWOOD'!X7+'Lynx GRP'!V7+'Lynx WOODEN HOLDS'!W7+'Lynx PE'!V7 -> 0 | N28: ='Lynx PLYWOOD'!Y7+'Lynx GRP'!W7+'Lynx PU'!R7+'Lynx WOODEN HOLDS'!X7+'Lynx PE'!W7 -> 0 | O28: ='Lynx PLYWOOD'!Z7+'Lynx GRP'!X7+'Lynx PU'!S7+'Lynx WOODEN HOLDS'!Y7+'Lynx PE'!X7 -> 0 | P28: ='Lynx PLYWOOD'!AA7+'Lynx GRP'!Y7+'Lynx WOODEN HOLDS'!Z7+'Lynx PE'!Y7 -> 0 | Q28: ='Lynx PU'!T7+'Lynx PE'!Z7 -> 0 | R28: ='Lynx GRP'!Z7+'Lynx PE'!AA7 -> 0 | S28: ='Lynx GRP'!AA7+'Lynx PE'!AB7 -> 0 | T28: ='Lynx GRP'!AB7+'Lynx PE'!AC7 -> 0 | U28: ='Lynx GRP'!AC7+'Lynx PE'!AD7 -> 0
B30: No. of pcs. by TEXTURE | C30: all texture | D30: dual texture | E30: natural dual tex.
C31: =SUM('Lynx PLYWOOD'!BM7+'Lynx GRP'!BW7+'Lynx PU'!BE7+'Lynx PE'!CD7) -> 0 | D31: =SUM('Lynx PLYWOOD'!BN7+'Lynx GRP'!BX7+'Lynx PU'!BF7+'Lynx PE'!CE7) -> 0 | E31: ='Lynx WOODEN HOLDS'!BM7 -> 0
B33: No. of WOOD HOLD pcs. by SIZE | C33: XS | D33: S | E33: M | F33: L | G33: XL | H33: 2XL | I33: 3XL | J33: various
C34: ='Lynx WOODEN HOLDS'!BC7 -> 0 | D34: ='Lynx WOODEN HOLDS'!BD7 -> 0 | E34: ='Lynx WOODEN HOLDS'!BE7 -> 0 | F34: ='Lynx WOODEN HOLDS'!BF7 -> 0 | G34: ='Lynx WOODEN HOLDS'!BG7 -> 0 | H34: ='Lynx WOODEN HOLDS'!BH7 -> 0 | I34: ='Lynx WOODEN HOLDS'!BI7 -> 0 | J34: ='Lynx WOODEN HOLDS'!BJ7 -> 0
B36: No. of PLYWOOD pcs. by SIZE | C36: XS | D36: S | E36: M | F36: L | G36: XL | H36: 2XL | I36: 3XL | J36: various
C37: ='Lynx PLYWOOD'!BD7 -> 0 | D37: ='Lynx PLYWOOD'!BE7 -> 0 | E37: ='Lynx PLYWOOD'!BF7 -> 0 | F37: ='Lynx PLYWOOD'!BG7 -> 0 | G37: ='Lynx PLYWOOD'!BH7 -> 0 | H37: ='Lynx PLYWOOD'!BI7 -> 0 | I37: ='Lynx PLYWOOD'!BJ7 -> 0 | J37: ='Lynx PLYWOOD'!BK7 -> 0
B39: No. of GRP pcs. by SIZE | C39: XS | D39: S | E39: M | F39: L | G39: XL | H39: 2XL | I39: 3XL | J39: various
C40: ='Lynx GRP'!BN7 -> 0 | D40: ='Lynx GRP'!BO7 -> 0 | E40: ='Lynx GRP'!BP7 -> 0 | F40: ='Lynx GRP'!BQ7 -> 0 | G40: ='Lynx GRP'!BR7 -> 0 | H40: ='Lynx GRP'!BS7 -> 0 | I40: ='Lynx GRP'!BT7 -> 0 | J40: ='Lynx GRP'!BU7 -> 0
B42: No. of PE pcs. by SIZE | C42: XS | D42: S | E42: M | F42: L | G42: XL | H42: 2XL | I42: 3XL | J42: various
C43: ='Lynx PE'!BU7 -> 0 | D43: ='Lynx PE'!BV7 -> 0 | E43: ='Lynx PE'!BW7 -> 0 | F43: ='Lynx PE'!BX7 -> 0 | G43: ='Lynx PE'!BY7 -> 0 | H43: ='Lynx PE'!BZ7 -> 0 | I43: ='Lynx PE'!CA7 -> 0 | J43: ='Lynx PE'!CB7 -> 0
B45: No. of PU pcs. by SIZE | C45: XS | D45: S | E45: M | F45: L | G45: XL | H45: 2XL | I45: 3XL | J45: various
C46: ='Lynx PU'!AV7 -> 0 | D46: ='Lynx PU'!AW7 -> 0 | E46: ='Lynx PU'!AX7 -> 0 | F46: ='Lynx PU'!AY7 -> 0 | G46: ='Lynx PU'!AZ7 -> 0 | H46: ='Lynx PU'!BA7 -> 0 | I46: ='Lynx PU'!BB7 -> 0 | J46: ='Lynx PU'!BC7 -> 0
B48: No. of pcs. by TYPE | C48: sloper | D48: footholds | E48: micros | F48: jug | G48: ledge | H48: edge | I48: crimp | J48: incut | K48: dish | L48: pinch | M48: pocket | N48: insert | O48: feature | P48: scoop | Q48: arete | R48: flat rectangle | S48: pentagon | T48: pyramid | U48: positive | V48: flat | W48: various
C49: =SUM('Lynx WOODEN HOLDS'!BO7+'Lynx PLYWOOD'!BP7+'Lynx GRP'!BZ7+'Lynx PU'!BH7+'Lynx PE'!CG7) -> 0 | D49: =SUM('Lynx WOODEN HOLDS'!BP7+'Lynx PLYWOOD'!BQ7+'Lynx GRP'!CA7+'Lynx PU'!BI7+'Lynx PE'!CH7) -> 0 | E49: =SUM('Lynx WOODEN HOLDS'!BQ7+'Lynx PLYWOOD'!BR7+'Lynx GRP'!CB7+'Lynx PU'!BJ7+'Lynx PE'!CI7) -> 0 | F49: =SUM('Lynx WOODEN HOLDS'!BR7+'Lynx PLYWOOD'!BS7+'Lynx GRP'!CC7+'Lynx PU'!BK7+'Lynx PE'!CJ7) -> 0 | G49: =SUM('Lynx WOODEN HOLDS'!BS7+'Lynx PLYWOOD'!BT7+'Lynx GRP'!CD7+'Lynx PU'!BL7) -> 0 | H49: =SUM('Lynx WOODEN HOLDS'!BT7+'Lynx PLYWOOD'!BU7+'Lynx GRP'!CE7+'Lynx PU'!BM7+'Lynx PE'!CK7) -> 0 | I49: =SUM('Lynx WOODEN HOLDS'!BU7+'Lynx PLYWOOD'!BV7+'Lynx GRP'!CF7+'Lynx PU'!BN7+'Lynx PE'!CL7) -> 0 | J49: =SUM('Lynx WOODEN HOLDS'!BV7+'Lynx PLYWOOD'!BW7+'Lynx GRP'!CG7+'Lynx PU'!BO7+'Lynx PE'!CM7) -> 0 | K49: =SUM('Lynx WOODEN HOLDS'!BW7+'Lynx PLYWOOD'!BX7+'Lynx GRP'!CH7+'Lynx PU'!BP7+'Lynx PE'!CN7) -> 0 | L49: =SUM('Lynx WOODEN HOLDS'!BX7+'Lynx PLYWOOD'!BY7+'Lynx GRP'!CI7+'Lynx PU'!BQ7+'Lynx PE'!CO7) -> 0 | M49: =SUM('Lynx WOODEN HOLDS'!BY7+'Lynx PLYWOOD'!BZ7+'Lynx GRP'!CJ7+'Lynx PU'!BR7+'Lynx PE'!CP7) -> 0 | N49: =SUM('Lynx WOODEN HOLDS'!BZ7+'Lynx PLYWOOD'!CA7+'Lynx PU'!BS7) -> 0 | O49: =SUM('Lynx WOODEN HOLDS'!CA7+'Lynx PLYWOOD'!CB7+'Lynx PU'!BT7) -> 0 | P49: =SUM('Lynx WOODEN HOLDS'!CB7+'Lynx PLYWOOD'!CC7+'Lynx GRP'!CK7+'Lynx PU'!BU7) -> 0 | Q49: =SUM('Lynx WOODEN HOLDS'!CC7+'Lynx PLYWOOD'!CD7+'Lynx PU'!BV7) -> 0 | R49: =SUM('Lynx WOODEN HOLDS'!CD7+'Lynx PLYWOOD'!CE7+'Lynx GRP'!CL7+'Lynx PU'!BW7) -> 0 | S49: =SUM('Lynx WOODEN HOLDS'!CE7+'Lynx PLYWOOD'!CF7+'Lynx GRP'!CM7+'Lynx PU'!BX7) -> 0 | T49: =SUM('Lynx WOODEN HOLDS'!CF7+'Lynx PLYWOOD'!CG7+'Lynx PU'!BY7) -> 0 | U49: =SUM('Lynx WOODEN HOLDS'!CG7+'Lynx PLYWOOD'!CH7+'Lynx GRP'!CN7+'Lynx PU'!BZ7+'Lynx PE'!CQ7) -> 0 | V49: =SUM('Lynx WOODEN HOLDS'!CH7+'Lynx PLYWOOD'!CI7+'Lynx PU'!CA7) -> 0 | W49: =SUM('Lynx WOODEN HOLDS'!CI7+'Lynx PLYWOOD'!CJ7+'Lynx GRP'!CO7+'Lynx PU'!CB7+'Lynx PE'!CR7) -> 0
B51: No. of SCREWS needed | C51: 50mm | D51: 70mm | E51: 90mm
C52: =SUM('Lynx PLYWOOD'!AZ7+'Lynx GRP'!BH8+'Lynx PU'!AO7+'Lynx WOODEN HOLDS'!AY7+'Lynx PE'!BI8) -> 0 | D52: =SUM('Lynx PLYWOOD'!BA7+'Lynx GRP'!BJ8+'Lynx PU'!AP7+'Lynx WOODEN HOLDS'!AZ7+'Lynx PE'!BK8) -> 0 | E52: ='Lynx PU'!AQ7 -> 0
B54: No. of BOLTS needed | C54: 30mm | D54: 40mm | E54: 50mm | F54: 70mm
C55: ='Lynx PU'!AR7 -> 0 | D55: ='Lynx PU'!AS7+'Lynx PE'!BN7+'Lynx PE'!BO8 -> 0 | E55: ='Lynx PU'!AT7+'Lynx PE'!BQ8 -> 0 | F55: ='Lynx PU'!AU7+'Lynx PE'!BR7+'Lynx PE'!BS8 -> 0
B58: BANK DETAILS:
B59: SI56 3300 0001 0251 921
B60: SWIFT: SI56 3300 0001 0251 921
B61: Bic: HAABSI22
B62: Addiko Bank d.d.
B63: Address: Dunajska cesta 117, 1000 Ljubljana
B65: COMPANY NAME: 360LINE D.O.O.
B66: ADDRESS: Bač 49 A, 6253 Knežak, Slovenia (EU)

Sheet Lynx WOODEN HOLDS
C1: 10cm pyramid symbol for sizing is representing PLYWOOD material | K1: Sum price without VAT | L1: =SUM(AA11:AA33) -> 0 | N1: EUR
K2: Sum SETS | L2: =SUM(M11:Z33) -> 0 | AA2: SUM production quota: | AC2: =AF7 -> 0
K3: SUM | L3: =SUM(AI11:AI33) -> 0 | N3: kg | CJ3: Ordered production quota
AA5: SUM of pcs.
L7: Sum pcs. by colour: | M7: =SUM(AJ11:AJ33) -> 0 | N7: =SUM(AK11:AK33) -> 0 | O7: =SUM(AL11:AL33) -> 0 | P7: =SUM(AM11:AM33) -> 0 | Q7: =SUM(AN11:AN33) -> 0 | R7: =SUM(AO11:AO33) -> 0 | S7: =SUM(AP11:AP33) -> 0 | T7: =SUM(AQ11:AQ33) -> 0 | ... Z7: =SUM(AW11:AW33) -> 0 | AA7: =SUM(M7:Z7) -> 0 | AE7: SUM: | AF7: =SUM(AF11:AF33) -> 0 | AY7: =SUM(SUMPRODUCT($AY$11:$AY$258,N11:N258)+SUMPRODUCT($AY$11:$AY$258,O11:O258)+SUMPRODUCT($AY$11:$AY$258,P11:P258)+SUMPRODUCT($AY$11:$AY$258,Q11:Q258)+SUMPRODUCT($AY$11:$AY$258,T11:T258)+SUMPRODUCT($AY$11:$AY$258,U11:U258)+SUMPRODUCT($AY$11:$AY$258,R11:R258)+SUMPRODUCT($AY$11:$AY$258,V11:V258)+SUMPRODUCT($AY$11:$AY$258,W11:W258)+SUMPRODUCT($AY$11:$AY$258,X11:X258)+SUMPRODUCT($AY$11:$AY$258,Y11:Y258)+SUMPRODUCT($AY$11:$AY$258,Z11:Z258)+SUMPRODUCT($AY$11:$AY$258,M11:M258)+SUMPRODUCT($AY$11:$AY$258,S11:S258)) -> 0 | AZ7: =SUM(SUMPRODUCT($AZ$11:$AZ$258,O11:O258)+SUMPRODUCT($AZ$11:$AZ$258,P11:P258)+SUMPRODUCT($AZ$11:$AZ$258,Q11:Q258)+SUMPRODUCT($AZ$11:$AZ$258,R11:R258)+SUMPRODUCT($AZ$11:$AZ$258,U11:U258)+SUMPRODUCT($AZ$11:$AZ$258,V11:V258)+SUMPRODUCT($AZ$11:$AZ$258,S11:S258)+SUMPRODUCT($AZ$11:$AZ$258,W11:W258)+SUMPRODUCT($AZ$11:$AZ$258,X11:X258)+SUMPRODUCT($AZ$11:$AZ$258,Y11:Y258)+SUMPRODUCT($AZ$11:$AZ$258,Z11:Z258)+SUMPRODUCT($AZ$11:$AZ$258,M11:M258)+SUMPRODUCT($AZ$11:$AZ$258,N11:N258)+SUMPRODUCT($AZ$11:$AZ$258,T11:T258)) -> 0 | BC7: =SUM(BC11:BC159) -> 0 | BD7: =SUM(BD11:BD159) -> 0 | BE7: =SUM(BE11:BE159) -> 0 | BF7: =SUM(BF11:BF159) -> 0 | BG7: =SUM(BG11:BG159) -> 0 | BH7: =SUM(BH11:BH159) -> 0 | BI7: =SUM(BI11:BI159) -> 0 | BJ7: =SUM(BJ11:BJ159) -> 0 | BL7: =SUM(BL11:BL159) -> 0 | BM7: =SUM(BM11:BM159) -> 0 | BO7: =SUM(BO11:BO159) -> 0 | BP7: =SUM(BP11:BP159) -> 0 | BQ7: =SUM(BQ11:BQ159) -> 0 | BR7: =SUM(BR11:BR159) -> 0 | BS7: =SUM(BS11:BS159) -> 0 | BT7: =SUM(BT11:BT159) -> 0 | BU7: =SUM(BU11:BU159) -> 0 | BV7: =SUM(BV11:BV159) -> 0 | ... CI7: =SUM(CI11:CI159) -> 0
B8: NEW | D8: ID | E8: TEXTURE | F8: TYPE | G8: DIMENSIONS | H8: SIZE | I8: PCS. IN SET | J8: T-NUTS | K8: FIXING | L8: PRICE WITHOUT VAT | M8: BLACK RAL 9005 | N8: WHITE | O8: RED RAL 3000 | P8: YELLOW RAL 1018 | Q8: BLUE RAL 5015 | R8: BRIGHT GREEN RAL 6018 | S8: PURE GREEN RAL 6037 | T8: APRICOT ORANGE RAL 1033 | U8: DEEP ORANGE RAL 2011 | V8: PINK RAL 4003 | W8: GREY RAL 7001 | X8: PURPLE S4050-R60B/M | Y8: MINT RAL 6027 | Z8: DEEP ROSE RAL 4008 | AA8: SUM | AB8: ordered | AC8: NEW | AE8: Production quota pet set | AF8: Ordered production quota | AH8: kg | AI8: sum kg | AJ8: black | AK8: white | AL8: red | AM8: yellow | AN8: blue | AO8: green | AP8: pure green | AQ8: orange | AR8: deep orange | AS8: pink | AT8: grey | AU8: purple | AV8: mint | AW8: deep rose | AX8: norma | AY8: screws 50 mm | AZ8: screws 70 mm | BA8: screws longer mm | BC8: XS | BD8: S | BE8: M | BF8: L | BG8: XL | BH8: 2XL | BI8: 3XL | BJ8: various | BL8: all texture | BM8: natural dual texture | BO8: sloper | BP8: footholds | BQ8: micros | BR8: jug | BS8: ledge | BT8: edge | BU8: crimp | BV8: incut | BW8: dish | BX8: pinch | BY8: pocket | BZ8: insert | CA8: feature | CB8: scoop | CC8: positive | CD8: arete | CE8: flat rectangle | CF8: pentagon | CG8: pyramid | CH8: FLAT | CI8: various
M9: 01 | N9: 02 | O9: 03 | P9: 04 | Q9: 05 | R9: 06 | S9: 15 | T9: 07 | U9: 08 | V9: 09 | W9: 10 | X9: 11 | Y9: 12 | Z9: 13
D10: REBEL
B11: NEW | D11: L1-WH-N-DT | E11: Natural dual tex. | F11: jug | G11: 36x17x7,5 cm | H11: M | I11: 1 | J11: 0 | K11: screws | L11: 211.15 | AA11: =L11*M11+L11*N11+L11*O11+L11*P11+L11*Q11+L11*R11+L11*T11+L11*U11+L11*V11+L11*W11+L11*X11+L11*Y11+L11*Z11+L11*S11 -> 0 | AB11: =IF(SUM(M11:Z11)>0,"Yes","No") -> No | AC11: =IF(B11="New","Yes","No") -> Yes | AE11: 1 | AF11: =AE11*M11+AE11*N11+AE11*O11+AE11*P11+AE11*Q11+AE11*R11+AE11*T11+AE11*U11+AE11*V11+AE11*W11+AE11*X11+AE11*Y11+AE11*Z11+AE11*S11 -> 0 | AH11: 0.9 | AI11: =SUM(M11:Z11)*AH11 -> 0 | AJ11: =I11*M11 -> 0 | AK11: =I11*N11 -> 0 | AL11: =I11*O11 -> 0 | AM11: =I11*P11 -> 0 | AN11: =I11*Q11 -> 0 | AO11: =I11*R11 -> 0 | AP11: =I11*S11 -> 0 | AQ11: =I11*T11 -> 0 | AR11: =I11*U11 -> 0 | AS11: =I11*V11 -> 0 | AT11: =I11*W11 -> 0 | AU11: =I11*X11 -> 0 | AV11: =I11*Y11 -> 0 | AW11: =I11*Z11 -> 0 | AX11: 1 | AY11: 4 | BC11: =IF(H11="XS",IF(SUM(M11:Z11)>0,SUM(M11:Z11),0),0)*I11 -> 0 | BD11: =IF(H11="S",IF(SUM(M11:Z11)>0,SUM(M11:Z11),0),0)*I11 -> 0 | BE11: =IF(H11="M",IF(SUM(M11:Z11)>0,SUM(M11:Z11),0),0)*I11 -> 0 | BF11: =IF(H11="L",IF(SUM(M11:Z11)>0,SUM(M11:Z11),0),0)*I11 -> 0 | BG11: =IF(H11="XL",IF(SUM(M11:Z11)>0,SUM(M11:Z11),0),0)*I11 -> 0 | BH11: =IF(H11="2XL",IF(SUM(M11:Z11)>0,SUM(M11:Z11),0),0)*I11 -> 0 | BI11: =IF(H11="3XL",IF(SUM(M11:Z11)>0,SUM(M11:Z11),0),0)*I11 -> 0 | BJ11: =IF(H11="various",IF(SUM(M11:Z11)>0,SUM(M11:Z11),0),0)*I11 -> 0 | BL11: =IF(E11="",IF(SUM(M11:Z11)>0,SUM(M11:Z11),0),0)*I11 -> 0 | BM11: =IF(E11="Natural dual tex.",IF(SUM(M11:Z11)>0,SUM(M11:Z11),0),0)*I11 -> 0 | BO11: =IF(F11="sloper",IF(SUM(M11:Z11)>0,SUM(M11:Z11),0),0)*I11 -> 0 | BP11: =IF(F11="footholds",IF(SUM(M11:Z11)>0,SUM(M11:Z11),0),0)*I11 -> 0 | BQ11: =IF(F11="micros",IF(SUM(M11:Z11)>0,SUM(M11:Z11),0),0)*I11 -> 0 | BR11: =IF(F11="jug",IF(SUM(M11:Z11)>0,SUM(M11:Z11),0),0)*I11 -> 0 | BS11: =IF(F11="ledge",IF(SUM(M11:Z11)>0,SUM(M11:Z11),0),0)*I11 -> 0 | BT11: =IF(F11="edge",IF(SUM(M11:Z11)>0,SUM(M11:Z11),0),0)*I11 -> 0 | BU11: =IF(F11="crimp",IF(SUM(M11:Z11)>0,SUM(M11:Z11),0),0)*I11 -> 0 | BV11: =IF(F11="incut",IF(SUM(M11:Z11)>0,SUM(M11:Z11),0),0)*I11 -> 0 | BW11: =IF(F11="dish",IF(SUM(M11:Z11)>0,SUM(M11:Z11),0),0)*I11 -> 0 | BX11: =IF(F11="pinch",IF(SUM(M11:Z11)>0,SUM(M11:Z11),0),0)*I11 -> 0 | BY11: =IF(F11="pocket",IF(SUM(M11:Z11)>0,SUM(M11:Z11),0),0)*I11 -> 0 | BZ11: =IF(F11="insert",IF(SUM(M11:Z11)>0,SUM(M11:Z11),0),0)*I11 -> 0 | CA11: =IF(F11="feature",IF(SUM(M11:Z11)>0,SUM(M11:Z11),0),0)*I11 -> 0 | CB11: =IF(F11="scoop",IF(SUM(M11:Z11)>0,SUM(M11:Z11),0),0)*I11 -> 0 | CC11: =IF(F11="positive",IF(SUM(M11:Z11)>0,SUM(M11:Z11),0),0)*I11 -> 0 | CD11: =IF(F11="arete",IF(SUM(M11:Z11)>0,SUM(M11:Z11),0),0)*I11 -> 0 | CE11: =IF(F11="flat rectangle",IF(SUM(M11:Z11)>0,SUM(M11:Z11),0),0)*I11 -> 0 | CF11: =IF(F11="pentagon",IF(SUM(M11:Z11)>0,SUM(M11:Z11),0),0)*I11 -> 0 | CG11: =IF(F11="pyramid",IF(SUM(M11:Z11)>0,SUM(M11:Z11),0),0)*I11 -> 0 | CH11: =IF(F11="flat",IF(SUM(M11:Z11)>0,SUM(M11:Z11),0),0)*I11 -> 0 | CI11: =IF(F11="various",IF(SUM(M11:Z11)>0,SUM(M11:Z11),0),0)*I11 -> 0
B12: NEW | D12: L2-WH-N-DT | E12: Natural dual tex. | F12: sloper | G12: 35,5x17x7 cm | H12: M | I12: 1 | J12: 0 | K12: screws | L12: 211.15 | AA12: =L12*M12+L12*N12+L12*O12+L12*P12+L12*Q12+L12*R12+L12*T12+L12*U12+L12*V12+L12*W12+L12*X12+L12*Y12+L12*Z12+L12*S12 -> 0 | AB12: =IF(SUM(M12:Z12)>0,"Yes","No") -> No | AC12: =IF(B12="New","Yes","No") -> Yes | AE12: 1 | AF12: =AE12*M12+AE12*N12+AE12*O12+AE12*P12+AE12*Q12+AE12*R12+AE12*T12+AE12*U12+AE12*V12+AE12*W12+AE12*X12+AE12*Y12+AE12*Z12+AE12*S12 -> 0 | AH12: 0.85 | AI12: =SUM(M12:Z12)*AH12 -> 0 | AJ12: =I12*M12 -> 0 | AK12: =I12*N12 -> 0 | AL12: =I12*O12 -> 0 | AM12: =I12*P12 -> 0 | AN12: =I12*Q12 -> 0 | AO12: =I12*R12 -> 0 | AP12: =I12*S12 -> 0 | AQ12: =I12*T12 -> 0 | AR12: =I12*U12 -> 0 | AS12: =I12*V12 -> 0 | AT12: =I12*W12 -> 0 | AU12: =I12*X12 -> 0 | AV12: =I12*Y12 -> 0 | AW12: =I12*Z12 -> 0 | AX12: 1 | AY12: 4 | BC12: =IF(H12="XS",IF(SUM(M12:Z12)>0,SUM(M12:Z12),0),0)*I12 -> 0 | BD12: =IF(H12="S",IF(SUM(M12:Z12)>0,SUM(M12:Z12),0),0)*I12 -> 0 | BE12: =IF(H12="M",IF(SUM(M12:Z12)>0,SUM(M12:Z12),0),0)*I12 -> 0 | BF12: =IF(H12="L",IF(SUM(M12:Z12)>0,SUM(M12:Z12),0),0)*I12 -> 0 | BG12: =IF(H12="XL",IF(SUM(M12:Z12)>0,SUM(M12:Z12),0),0)*I12 -> 0 | BH12: =IF(H12="2XL",IF(SUM(M12:Z12)>0,SUM(M12:Z12),0),0)*I12 -> 0 | BI12: =IF(H12="3XL",IF(SUM(M12:Z12)>0,SUM(M12:Z12),0),0)*I12 -> 0 | BJ12: =IF(H12="various",IF(SUM(M12:Z12)>0,SUM(M12:Z12),0),0)*I12 -> 0 | BL12: =IF(E12="",IF(SUM(M12:Z12)>0,SUM(M12:Z12),0),0)*I12 -> 0 | BM12: =IF(E12="Natural dual tex.",IF(SUM(M12:Z12)>0,SUM(M12:Z12),0),0)*I12 -> 0 | BO12: =IF(F12="sloper",IF(SUM(M12:Z12)>0,SUM(M12:Z12),0),0)*I12 -> 0 | BP12: =IF(F12="footholds",IF(SUM(M12:Z12)>0,SUM(M12:Z12),0),0)*I12 -> 0 | BQ12: =IF(F12="micros",IF(SUM(M12:Z12)>0,SUM(M12:Z12),0),0)*I12 -> 0 | BR12: =IF(F12="jug",IF(SUM(M12:Z12)>0,SUM(M12:Z12),0),0)*I12 -> 0 | BS12: =IF(F12="ledge",IF(SUM(M12:Z12)>0,SUM(M12:Z12),0),0)*I12 -> 0 | BT12: =IF(F12="edge",IF(SUM(M12:Z12)>0,SUM(M12:Z12),0),0)*I12 -> 0 | BU12: =IF(F12="crimp",IF(SUM(M12:Z12)>0,SUM(M12:Z12),0),0)*I12 -> 0 | BV12: =IF(F12="incut",IF(SUM(M12:Z12)>0,SUM(M12:Z12),0),0)*I12 -> 0 | BW12: =IF(F12="dish",IF(SUM(M12:Z12)>0,SUM(M12:Z12),0),0)*I12 -> 0 | BX12: =IF(F12="pinch",IF(SUM(M12:Z12)>0,SUM(M12:Z12),0),0)*I12 -> 0 | BY12: =IF(F12="pocket",IF(SUM(M12:Z12)>0,SUM(M12:Z12),0),0)*I12 -> 0 | BZ12: =IF(F12="insert",IF(SUM(M12:Z12)>0,SUM(M12:Z12),0),0)*I12 -> 0 | CA12: =IF(F12="feature",IF(SUM(M12:Z12)>0,SUM(M12:Z12),0),0)*I12 -> 0 | CB12: =IF(F12="scoop",IF(SUM(M12:Z12)>0,SUM(M12:Z12),0),0)*I12 -> 0 | CC12: =IF(F12="positive",IF(SUM(M12:Z12)>0,SUM(M12:Z12),0),0)*I12 -> 0 | CD12: =IF(F12="arete",IF(SUM(M12:Z12)>0,SUM(M12:Z12),0),0)*I12 -> 0 | CE12: =IF(F12="flat rectangle",IF(SUM(M12:Z12)>0,SUM(M12:Z12),0),0)*I12 -> 0 | CF12: =IF(F12="pentagon",IF(SUM(M12:Z12)>0,SUM(M12:Z12),0),0)*I12 -> 0 | CG12: =IF(F12="pyramid",IF(SUM(M12:Z12)>0,SUM(M12:Z12),0),0)*I12 -> 0 | CH12: =IF(F12="flat",IF(SUM(M12:Z12)>0,SUM(M12:Z12),0),0)*I12 -> 0 | CI12: =IF(F12="various",IF(SUM(M12:Z12)>0,SUM(M12:Z12),0),0)*I12 -> 0
B13: NEW | D13: L3-WH-N-DT | E13: Natural dual tex. | F13: edge | G13: 42x17x3,5 cm | H13: M | I13: 1 | J13: 0 | K13: screws | L13: 175.1 | AA13: =L13*M13+L13*N13+L13*O13+L13*P13+L13*Q13+L13*R13+L13*T13+L13*U13+L13*V13+L13*W13+L13*X13+L13*Y13+L13*Z13+L13*S13 -> 0 | AB13: =IF(SUM(M13:Z13)>0,"Yes","No") -> No | AC13: =IF(B13="New","Yes","No") -> Yes | AE13: 1 | AF13: =AE13*M13+AE13*N13+AE13*O13+AE13*P13+AE13*Q13+AE13*R13+AE13*T13+AE13*U13+AE13*V13+AE13*W13+AE13*X13+AE13*Y13+AE13*Z13+AE13*S13 -> 0 | AH13: 0.55 | AI13: =SUM(M13:Z13)*AH13 -> 0 | AJ13: =I13*M13 -> 0 | AK13: =I13*N13 -> 0 | AL13: =I13*O13 -> 0 | AM13: =I13*P13 -> 0 | AN13: =I13*Q13 -> 0 | AO13: =I13*R13 -> 0 | AP13: =I13*S13 -> 0 | AQ13: =I13*T13 -> 0 | AR13: =I13*U13 -> 0 | AS13: =I13*V13 -> 0 | AT13: =I13*W13 -> 0 | AU13: =I13*X13 -> 0 | AV13: =I13*Y13 -> 0 | AW13: =I13*Z13 -> 0 | AX13: 1 | AY13: 3 | BC13: =IF(H13="XS",IF(SUM(M13:Z13)>0,SUM(M13:Z13),0),0)*I13 -> 0 | BD13: =IF(H13="S",IF(SUM(M13:Z13)>0,SUM(M13:Z13),0),0)*I13 -> 0 | BE13: =IF(H13="M",IF(SUM(M13:Z13)>0,SUM(M13:Z13),0),0)*I13 -> 0 | BF13: =IF(H13="L",IF(SUM(M13:Z13)>0,SUM(M13:Z13),0),0)*I13 -> 0 | BG13: =IF(H13="XL",IF(SUM(M13:Z13)>0,SUM(M13:Z13),0),0)*I13 -> 0 | BH13: =IF(H13="2XL",IF(SUM(M13:Z13)>0,SUM(M13:Z13),0),0)*I13 -> 0 | BI13: =IF(H13="3XL",IF(SUM(M13:Z13)>0,SUM(M13:Z13),0),0)*I13 -> 0 | BJ13: =IF(H13="various",IF(SUM(M13:Z13)>0,SUM(M13:Z13),0),0)*I13 -> 0 | BL13: =IF(E13="",IF(SUM(M13:Z13)>0,SUM(M13:Z13),0),0)*I13 -> 0 | BM13: =IF(E13="Natural dual tex.",IF(SUM(M13:Z13)>0,SUM(M13:Z13),0),0)*I13 -> 0 | BO13: =IF(F13="sloper",IF(SUM(M13:Z13)>0,SUM(M13:Z13),0),0)*I13 -> 0 | BP13: =IF(F13="footholds",IF(SUM(M13:Z13)>0,SUM(M13:Z13),0),0)*I13 -> 0 | BQ13: =IF(F13="micros",IF(SUM(M13:Z13)>0,SUM(M13:Z13),0),0)*I13 -> 0 | BR13: =IF(F13="jug",IF(SUM(M13:Z13)>0,SUM(M13:Z13),0),0)*I13 -> 0 | BS13: =IF(F13="ledge",IF(SUM(M13:Z13)>0,SUM(M13:Z13),0),0)*I13 -> 0 | BT13: =IF(F13="edge",IF(SUM(M13:Z13)>0,SUM(M13:Z13),0),0)*I13 -> 0 | BU13: =IF(F13="crimp",IF(SUM(M13:Z13)>0,SUM(M13:Z13),0),0)*I13 -> 0 | BV13: =IF(F13="incut",IF(SUM(M13:Z13)>0,SUM(M13:Z13),0),0)*I13 -> 0 | BW13: =IF(F13="dish",IF(SUM(M13:Z13)>0,SUM(M13:Z13),0),0)*I13 -> 0 | BX13: =IF(F13="pinch",IF(SUM(M13:Z13)>0,SUM(M13:Z13),0),0)*I13 -> 0 | BY13: =IF(F13="pocket",IF(SUM(M13:Z13)>0,SUM(M13:Z13),0),0)*I13 -> 0 | BZ13: =IF(F13="insert",IF(SUM(M13:Z13)>0,SUM(M13:Z13),0),0)*I13 -> 0 | CA13: =IF(F13="feature",IF(SUM(M13:Z13)>0,SUM(M13:Z13),0),0)*I13 -> 0 | CB13: =IF(F13="scoop",IF(SUM(M13:Z13)>0,SUM(M13:Z13),0),0)*I13 -> 0 | CC13: =IF(F13="positive",IF(SUM(M13:Z13)>0,SUM(M13:Z13),0),0)*I13 -> 0 | CD13: =IF(F13="arete",IF(SUM(M13:Z13)>0,SUM(M13:Z13),0),0)*I13 -> 0 | CE13: =IF(F13="flat rectangle",IF(SUM(M13:Z13)>0,SUM(M13:Z13),0),0)*I13 -> 0 | CF13: =IF(F13="pentagon",IF(SUM(M13:Z13)>0,SUM(M13:Z13),0),0)*I13 -> 0 | CG13: =IF(F13="pyramid",IF(SUM(M13:Z13)>0,SUM(M13:Z13),0),0)*I13 -> 0 | CH13: =IF(F13="flat",IF(SUM(M13:Z13)>0,SUM(M13:Z13),0),0)*I13 -> 0 | CI13: =IF(F13="various",IF(SUM(M13:Z13)>0,SUM(M13:Z13),0),0)*I13 -> 0
B14: NEW | D14: L4-WH-N-DT | E14: Natural dual tex. | F14: flat | G14: 42x17x3,5 cm | H14: M | I14: 1 | J14: 0 | K14: screws | L14: 175.1 | AA14: =L14*M14+L14*N14+L14*O14+L14*P14+L14*Q14+L14*R14+L14*T14+L14*U14+L14*V14+L14*W14+L14*X14+L14*Y14+L14*Z14+L14*S14 -> 0 | AB14: =IF(SUM(M14:Z14)>0,"Yes","No") -> No | AC14: =IF(B14="New","Yes","No") -> Yes | AE14: 1 | AF14: =AE14*M14+AE14*N14+AE14*O14+AE14*P14+AE14*Q14+AE14*R14+AE14*T14+AE14*U14+AE14*V14+AE14*W14+AE14*X14+AE14*Y14+AE14*Z14+AE14*S14 -> 0 | AH14: 0.55 | AI14: =SUM(M14:Z14)*AH14 -> 0 | AJ14: =I14*M14 -> 0 | AK14: =I14*N14 -> 0 | AL14: =I14*O14 -> 0 | AM14: =I14*P14 -> 0 | AN14: =I14*Q14 -> 0 | AO14: =I14*R14 -> 0 | AP14: =I14*S14 -> 0 | AQ14: =I14*T14 -> 0 | AR14: =I14*U14 -> 0 | AS14: =I14*V14 -> 0 | AT14: =I14*W14 -> 0 | AU14: =I14*X14 -> 0 | AV14: =I14*Y14 -> 0 | AW14: =I14*Z14 -> 0 | AX14: 1 | AY14: 4 | BC14: =IF(H14="XS",IF(SUM(M14:Z14)>0,SUM(M14:Z14),0),0)*I14 -> 0 | BD14: =IF(H14="S",IF(SUM(M14:Z14)>0,SUM(M14:Z14),0),0)*I14 -> 0 | BE14: =IF(H14="M",IF(SUM(M14:Z14)>0,SUM(M14:Z14),0),0)*I14 -> 0 | BF14: =IF(H14="L",IF(SUM(M14:Z14)>0,SUM(M14:Z14),0),0)*I14 -> 0 | BG14: =IF(H14="XL",IF(SUM(M14:Z14)>0,SUM(M14:Z14),0),0)*I14 -> 0 | BH14: =IF(H14="2XL",IF(SUM(M14:Z14)>0,SUM(M14:Z14),0),0)*I14 -> 0 | BI14: =IF(H14="3XL",IF(SUM(M14:Z14)>0,SUM(M14:Z14),0),0)*I14 -> 0 | BJ14: =IF(H14="various",IF(SUM(M14:Z14)>0,SUM(M14:Z14),0),0)*I14 -> 0 | BL14: =IF(E14="",IF(SUM(M14:Z14)>0,SUM(M14:Z14),0),0)*I14 -> 0 | BM14: =IF(E14="Natural dual tex.",IF(SUM(M14:Z14)>0,SUM(M14:Z14),0),0)*I14 -> 0 | BO14: =IF(F14="sloper",IF(SUM(M14:Z14)>0,SUM(M14:Z14),0),0)*I14 -> 0 | BP14: =IF(F14="footholds",IF(SUM(M14:Z14)>0,SUM(M14:Z14),0),0)*I14 -> 0 | BQ14: =IF(F14="micros",IF(SUM(M14:Z14)>0,SUM(M14:Z14),0),0)*I14 -> 0 | BR14: =IF(F14="jug",IF(SUM(M14:Z14)>0,SUM(M14:Z14),0),0)*I14 -> 0 | BS14: =IF(F14="ledge",IF(SUM(M14:Z14)>0,SUM(M14:Z14),0),0)*I14 -> 0 | BT14: =IF(F14="edge",IF(SUM(M14:Z14)>0,SUM(M14:Z14),0),0)*I14 -> 0 | BU14: =IF(F14="crimp",IF(SUM(M14:Z14)>0,SUM(M14:Z14),0),0)*I14 -> 0 | BV14: =IF(F14="incut",IF(SUM(M14:Z14)>0,SUM(M14:Z14),0),0)*I14 -> 0 | BW14: =IF(F14="dish",IF(SUM(M14:Z14)>0,SUM(M14:Z14),0),0)*I14 -> 0 | BX14: =IF(F14="pinch",IF(SUM(M14:Z14)>0,SUM(M14:Z14),0),0)*I14 -> 0 | BY14: =IF(F14="pocket",IF(SUM(M14:Z14)>0,SUM(M14:Z14),0),0)*I14 -> 0 | BZ14: =IF(F14="insert",IF(SUM(M14:Z14)>0,SUM(M14:Z14),0),0)*I14 -> 0 | CA14: =IF(F14="feature",IF(SUM(M14:Z14)>0,SUM(M14:Z14),0),0)*I14 -> 0 | CB14: =IF(F14="scoop",IF(SUM(M14:Z14)>0,SUM(M14:Z14),0),0)*I14 -> 0 | CC14: =IF(F14="positive",IF(SUM(M14:Z14)>0,SUM(M14:Z14),0),0)*I14 -> 0 | CD14: =IF(F14="arete",IF(SUM(M14:Z14)>0,SUM(M14:Z14),0),0)*I14 -> 0 | CE14: =IF(F14="flat rectangle",IF(SUM(M14:Z14)>0,SUM(M14:Z14),0),0)*I14 -> 0 | CF14: =IF(F14="pentagon",IF(SUM(M14:Z14)>0,SUM(M14:Z14),0),0)*I14 -> 0 | CG14: =IF(F14="pyramid",IF(SUM(M14:Z14)>0,SUM(M14:Z14),0),0)*I14 -> 0 | CH14: =IF(F14="flat",IF(SUM(M14:Z14)>0,SUM(M14:Z14),0),0)*I14 -> 0 | CI14: =IF(F14="various",IF(SUM(M14:Z14)>0,SUM(M14:Z14),0),0)*I14 -> 0
B15: NEW | D15: L5-WH-N-DT | E15: Natural dual tex. | F15: sloper | G15: 37x17x7,5 cm | H15: M | I15: 1 | J15: 0 | K15: screws | L15: 211.15 | AA15: =L15*M15+L15*N15+L15*O15+L15*P15+L15*Q15+L15*R15+L15*T15+L15*U15+L15*V15+L15*W15+L15*X15+L15*Y15+L15*Z15+L15*S15 -> 0 | AB15: =IF(SUM(M15:Z15)>0,"Yes","No") -> No | AC15: =IF(B15="New","Yes","No") -> Yes | AE15: 1 | AF15: =AE15*M15+AE15*N15+AE15*O15+AE15*P15+AE15*Q15+AE15*R15+AE15*T15+AE15*U15+AE15*V15+AE15*W15+AE15*X15+AE15*Y15+AE15*Z15+AE15*S15 -> 0 | AH15: 0.85 | AI15: =SUM(M15:Z15)*AH15 -> 0 | AJ15: =I15*M15 -> 0 | AK15: =I15*N15 -> 0 | AL15: =I15*O15 -> 0 | AM15: =I15*P15 -> 0 | AN15: =I15*Q15 -> 0 | AO15: =I15*R15 -> 0 | AP15: =I15*S15 -> 0 | AQ15: =I15*T15 -> 0 | AR15: =I15*U15 -> 0 | AS15: =I15*V15 -> 0 | AT15: =I15*W15 -> 0 | AU15: =I15*X15 -> 0 | AV15: =I15*Y15 -> 0 | AW15: =I15*Z15 -> 0 | AX15: 1 | AY15: 4 | BC15: =IF(H15="XS",IF(SUM(M15:Z15)>0,SUM(M15:Z15),0),0)*I15 -> 0 | BD15: =IF(H15="S",IF(SUM(M15:Z15)>0,SUM(M15:Z15),0),0)*I15 -> 0 | BE15: =IF(H15="M",IF(SUM(M15:Z15)>0,SUM(M15:Z15),0),0)*I15 -> 0 | BF15: =IF(H15="L",IF(SUM(M15:Z15)>0,SUM(M15:Z15),0),0)*I15 -> 0 | BG15: =IF(H15="XL",IF(SUM(M15:Z15)>0,SUM(M15:Z15),0),0)*I15 -> 0 | BH15: =IF(H15="2XL",IF(SUM(M15:Z15)>0,SUM(M15:Z15),0),0)*I15 -> 0 | BI15: =IF(H15="3XL",IF(SUM(M15:Z15)>0,SUM(M15:Z15),0),0)*I15 -> 0 | BJ15: =IF(H15="various",IF(SUM(M15:Z15)>0,SUM(M15:Z15),0),0)*I15 -> 0 | BL15: =IF(E15="",IF(SUM(M15:Z15)>0,SUM(M15:Z15),0),0)*I15 -> 0 | BM15: =IF(E15="Natural dual tex.",IF(SUM(M15:Z15)>0,SUM(M15:Z15),0),0)*I15 -> 0 | BO15: =IF(F15="sloper",IF(SUM(M15:Z15)>0,SUM(M15:Z15),0),0)*I15 -> 0 | BP15: =IF(F15="footholds",IF(SUM(M15:Z15)>0,SUM(M15:Z15),0),0)*I15 -> 0 | BQ15: =IF(F15="micros",IF(SUM(M15:Z15)>0,SUM(M15:Z15),0),0)*I15 -> 0 | BR15: =IF(F15="jug",IF(SUM(M15:Z15)>0,SUM(M15:Z15),0),0)*I15 -> 0 | BS15: =IF(F15="ledge",IF(SUM(M15:Z15)>0,SUM(M15:Z15),0),0)*I15 -> 0 | BT15: =IF(F15="edge",IF(SUM(M15:Z15)>0,SUM(M15:Z15),0),0)*I15 -> 0 | BU15: =IF(F15="crimp",IF(SUM(M15:Z15)>0,SUM(M15:Z15),0),0)*I15 -> 0 | BV15: =IF(F15="incut",IF(SUM(M15:Z15)>0,SUM(M15:Z15),0),0)*I15 -> 0 | BW15: =IF(F15="dish",IF(SUM(M15:Z15)>0,SUM(M15:Z15),0),0)*I15 -> 0 | BX15: =IF(F15="pinch",IF(SUM(M15:Z15)>0,SUM(M15:Z15),0),0)*I15 -> 0 | BY15: =IF(F15="pocket",IF(SUM(M15:Z15)>0,SUM(M15:Z15),0),0)*I15 -> 0 | BZ15: =IF(F15="insert",IF(SUM(M15:Z15)>0,SUM(M15:Z15),0),0)*I15 -> 0 | CA15: =IF(F15="feature",IF(SUM(M15:Z15)>0,SUM(M15:Z15),0),0)*I15 -> 0 | CB15: =IF(F15="scoop",IF(SUM(M15:Z15)>0,SUM(M15:Z15),0),0)*I15 -> 0 | CC15: =IF(F15="positive",IF(SUM(M15:Z15)>0,SUM(M15:Z15),0),0)*I15 -> 0 | CD15: =IF(F15="arete",IF(SUM(M15:Z15)>0,SUM(M15:Z15),0),0)*I15 -> 0 | CE15: =IF(F15="flat rectangle",IF(SUM(M15:Z15)>0,SUM(M15:Z15),0),0)*I15 -> 0 | CF15: =IF(F15="pentagon",IF(SUM(M15:Z15)>0,SUM(M15:Z15),0),0)*I15 -> 0 | CG15: =IF(F15="pyramid",IF(SUM(M15:Z15)>0,SUM(M15:Z15),0),0)*I15 -> 0 | CH15: =IF(F15="flat",IF(SUM(M15:Z15)>0,SUM(M15:Z15),0),0)*I15 -> 0 | CI15: =IF(F15="various",IF(SUM(M15:Z15)>0,SUM(M15:Z15),0),0)*I15 -> 0
B16: NEW | D16: L6-WH-N-DT | E16: Natural dual tex. | F16: positive | G16: 37x17x7,5 cm | H16: M | I16: 1 | J16: 0 | K16: screws | L16: 211.15 | AA16: =L16*M16+L16*N16+L16*O16+L16*P16+L16*Q16+L16*R16+L16*T16+L16*U16+L16*V16+L16*W16+L16*X16+L16*Y16+L16*Z16+L16*S16 -> 0 | AB16: =IF(SUM(M16:Z16)>0,"Yes","No") -> No | AC16: =IF(B16="New","Yes","No") -> Yes | AE16: 1 | AF16: =AE16*M16+AE16*N16+AE16*O16+AE16*P16+AE16*Q16+AE16*R16+AE16*T16+AE16*U16+AE16*V16+AE16*W16+AE16*X16+AE16*Y16+AE16*Z16+AE16*S16 -> 0 | AH16: 0.95 | AI16: =SUM(M16:Z16)*AH16 -> 0 | AJ16: =I16*M16 -> 0 | AK16: =I16*N16 -> 0 | AL16: =I16*O16 -> 0 | AM16: =I16*P16 -> 0 | AN16: =I16*Q16 -> 0 | AO16: =I16*R16 -> 0 | AP16: =I16*S16 -> 0 | AQ16: =I16*T16 -> 0 | AR16: =I16*U16 -> 0 | AS16: =I16*V16 -> 0 | AT16: =I16*W16 -> 0 | AU16: =I16*X16 -> 0 | AV16: =I16*Y16 -> 0 | AW16: =I16*Z16 -> 0 | AX16: 1 | AY16: 4 | BC16: =IF(H16="XS",IF(SUM(M16:Z16)>0,SUM(M16:Z16),0),0)*I16 -> 0 | BD16: =IF(H16="S",IF(SUM(M16:Z16)>0,SUM(M16:Z16),0),0)*I16 -> 0 | BE16: =IF(H16="M",IF(SUM(M16:Z16)>0,SUM(M16:Z16),0),0)*I16 -> 0 | BF16: =IF(H16="L",IF(SUM(M16:Z16)>0,SUM(M16:Z16),0),0)*I16 -> 0 | BG16: =IF(H16="XL",IF(SUM(M16:Z16)>0,SUM(M16:Z16),0),0)*I16 -> 0 | BH16: =IF(H16="2XL",IF(SUM(M16:Z16)>0,SUM(M16:Z16),0),0)*I16 -> 0 | BI16: =IF(H16="3XL",IF(SUM(M16:Z16)>0,SUM(M16:Z16),0),0)*I16 -> 0 | BJ16: =IF(H16="various",IF(SUM(M16:Z16)>0,SUM(M16:Z16),0),0)*I16 -> 0 | BL16: =IF(E16="",IF(SUM(M16:Z16)>0,SUM(M16:Z16),0),0)*I16 -> 0 | BM16: =IF(E16="Natural dual tex.",IF(SUM(M16:Z16)>0,SUM(M16:Z16),0),0)*I16 -> 0 | BO16: =IF(F16="sloper",IF(SUM(M16:Z16)>0,SUM(M16:Z16),0),0)*I16 -> 0 | BP16: =IF(F16="footholds",IF(SUM(M16:Z16)>0,SUM(M16:Z16),0),0)*I16 -> 0 | BQ16: =IF(F16="micros",IF(SUM(M16:Z16)>0,SUM(M16:Z16),0),0)*I16 -> 0 | BR16: =IF(F16="jug",IF(SUM(M16:Z16)>0,SUM(M16:Z16),0),0)*I16 -> 0 | BS16: =IF(F16="ledge",IF(SUM(M16:Z16)>0,SUM(M16:Z16),0),0)*I16 -> 0 | BT16: =IF(F16="edge",IF(SUM(M16:Z16)>0,SUM(M16:Z16),0),0)*I16 -> 0 | BU16: =IF(F16="crimp",IF(SUM(M16:Z16)>0,SUM(M16:Z16),0),0)*I16 -> 0 | BV16: =IF(F16="incut",IF(SUM(M16:Z16)>0,SUM(M16:Z16),0),0)*I16 -> 0 | BW16: =IF(F16="dish",IF(SUM(M16:Z16)>0,SUM(M16:Z16),0),0)*I16 -> 0 | BX16: =IF(F16="pinch",IF(SUM(M16:Z16)>0,SUM(M16:Z16),0),0)*I16 -> 0 | BY16: =IF(F16="pocket",IF(SUM(M16:Z16)>0,SUM(M16:Z16),0),0)*I16 -> 0 | BZ16: =IF(F16="insert",IF(SUM(M16:Z16)>0,SUM(M16:Z16),0),0)*I16 -> 0 | CA16: =IF(F16="feature",IF(SUM(M16:Z16)>0,SUM(M16:Z16),0),0)*I16 -> 0 | CB16: =IF(F16="scoop",IF(SUM(M16:Z16)>0,SUM(M16:Z16),0),0)*I16 -> 0 | CC16: =IF(F16="positive",IF(SUM(M16:Z16)>0,SUM(M16:Z16),0),0)*I16 -> 0 | CD16: =IF(F16="arete",IF(SUM(M16:Z16)>0,SUM(M16:Z16),0),0)*I16 -> 0 | CE16: =IF(F16="flat rectangle",IF(SUM(M16:Z16)>0,SUM(M16:Z16),0),0)*I16 -> 0 | CF16: =IF(F16="pentagon",IF(SUM(M16:Z16)>0,SUM(M16:Z16),0),0)*I16 -> 0 | CG16: =IF(F16="pyramid",IF(SUM(M16:Z16)>0,SUM(M16:Z16),0),0)*I16 -> 0 | CH16: =IF(F16="flat",IF(SUM(M16:Z16)>0,SUM(M16:Z16),0),0)*I16 -> 0 | CI16: =IF(F16="various",IF(SUM(M16:Z16)>0,SUM(M16:Z16),0),0)*I16 -> 0
B17: NEW | D17: L7-WH-N-DT | E17: Natural dual tex. | F17: sloper | G17: 36x17x7,5 cm | H17: M | I17: 1 | J17: 0 | K17: screws | L17: 211.15 | AA17: =L17*M17+L17*N17+L17*O17+L17*P17+L17*Q17+L17*R17+L17*T17+L17*U17+L17*V17+L17*W17+L17*X17+L17*Y17+L17*Z17+L17*S17 -> 0 | AB17: =IF(SUM(M17:Z17)>0,"Yes","No") -> No | AC17: =IF(B17="New","Yes","No") -> Yes | AE17: 1 | AF17: =AE17*M17+AE17*N17+AE17*O17+AE17*P17+AE17*Q17+AE17*R17+AE17*T17+AE17*U17+AE17*V17+AE17*W17+AE17*X17+AE17*Y17+AE17*Z17+AE17*S17 -> 0 | AH17: 0.9 | AI17: =SUM(M17:Z17)*AH17 -> 0 | AJ17: =I17*M17 -> 0 | AK17: =I17*N17 -> 0 | AL17: =I17*O17 -> 0 | AM17: =I17*P17 -> 0 | AN17: =I17*Q17 -> 0 | AO17: =I17*R17 -> 0 | AP17: =I17*S17 -> 0 | AQ17: =I17*T17 -> 0 | AR17: =I17*U17 -> 0 | AS17: =I17*V17 -> 0 | AT17: =I17*W17 -> 0 | AU17: =I17*X17 -> 0 | AV17: =I17*Y17 -> 0 | AW17: =I17*Z17 -> 0 | AX17: 1 | AY17: 4 | BC17: =IF(H17="XS",IF(SUM(M17:Z17)>0,SUM(M17:Z17),0),0)*I17 -> 0 | BD17: =IF(H17="S",IF(SUM(M17:Z17)>0,SUM(M17:Z17),0),0)*I17 -> 0 | BE17: =IF(H17="M",IF(SUM(M17:Z17)>0,SUM(M17:Z17),0),0)*I17 -> 0 | BF17: =IF(H17="L",IF(SUM(M17:Z17)>0,SUM(M17:Z17),0),0)*I17 -> 0 | BG17: =IF(H17="XL",IF(SUM(M17:Z17)>0,SUM(M17:Z17),0),0)*I17 -> 0 | BH17: =IF(H17="2XL",IF(SUM(M17:Z17)>0,SUM(M17:Z17),0),0)*I17 -> 0 | BI17: =IF(H17="3XL",IF(SUM(M17:Z17)>0,SUM(M17:Z17),0),0)*I17 -> 0 | BJ17: =IF(H17="various",IF(SUM(M17:Z17)>0,SUM(M17:Z17),0),0)*I17 -> 0 | BL17: =IF(E17="",IF(SUM(M17:Z17)>0,SUM(M17:Z17),0),0)*I17 -> 0 | BM17: =IF(E17="Natural dual tex.",IF(SUM(M17:Z17)>0,SUM(M17:Z17),0),0)*I17 -> 0 | BO17: =IF(F17="sloper",IF(SUM(M17:Z17)>0,SUM(M17:Z17),0),0)*I17 -> 0 | BP17: =IF(F17="footholds",IF(SUM(M17:Z17)>0,SUM(M17:Z17),0),0)*I17 -> 0 | BQ17: =IF(F17="micros",IF(SUM(M17:Z17)>0,SUM(M17:Z17),0),0)*I17 -> 0 | BR17: =IF(F17="jug",IF(SUM(M17:Z17)>0,SUM(M17:Z17),0),0)*I17 -> 0 | BS17: =IF(F17="ledge",IF(SUM(M17:Z17)>0,SUM(M17:Z17),0),0)*I17 -> 0 | BT17: =IF(F17="edge",IF(SUM(M17:Z17)>0,SUM(M17:Z17),0),0)*I17 -> 0 | BU17: =IF(F17="crimp",IF(SUM(M17:Z17)>0,SUM(M17:Z17),0),0)*I17 -> 0 | BV17: =IF(F17="incut",IF(SUM(M17:Z17)>0,SUM(M17:Z17),0),0)*I17 -> 0 | BW17: =IF(F17="dish",IF(SUM(M17:Z17)>0,SUM(M17:Z17),0),0)*I17 -> 0 | BX17: =IF(F17="pinch",IF(SUM(M17:Z17)>0,SUM(M17:Z17),0),0)*I17 -> 0 | BY17: =IF(F17="pocket",IF(SUM(M17:Z17)>0,SUM(M17:Z17),0),0)*I17 -> 0 | BZ17: =IF(F17="insert",IF(SUM(M17:Z17)>0,SUM(M17:Z17),0),0)*I17 -> 0 | CA17: =IF(F17="feature",IF(SUM(M17:Z17)>0,SUM(M17:Z17),0),0)*I17 -> 0 | CB17: =IF(F17="scoop",IF(SUM(M17:Z17)>0,SUM(M17:Z17),0),0)*I17 -> 0 | CC17: =IF(F17="positive",IF(SUM(M17:Z17)>0,SUM(M17:Z17),0),0)*I17 -> 0 | CD17: =IF(F17="arete",IF(SUM(M17:Z17)>0,SUM(M17:Z17),0),0)*I17 -> 0 | CE17: =IF(F17="flat rectangle",IF(SUM(M17:Z17)>0,SUM(M17:Z17),0),0)*I17 -> 0 | CF17: =IF(F17="pentagon",IF(SUM(M17:Z17)>0,SUM(M17:Z17),0),0)*I17 -> 0 | CG17: =IF(F17="pyramid",IF(SUM(M17:Z17)>0,SUM(M17:Z17),0),0)*I17 -> 0 | CH17: =IF(F17="flat",IF(SUM(M17:Z17)>0,SUM(M17:Z17),0),0)*I17 -> 0 | CI17: =IF(F17="various",IF(SUM(M17:Z17)>0,SUM(M17:Z17),0),0)*I17 -> 0
B18: NEW | D18: L8-WH-N-DT | E18: Natural dual tex. | F18: positive | G18: 36x17x7 cm | H18: M | I18: 1 | J18: 0 | K18: screws | L18: 211.15 | AA18: =L18*M18+L18*N18+L18*O18+L18*P18+L18*Q18+L18*R18+L18*T18+L18*U18+L18*V18+L18*W18+L18*X18+L18*Y18+L18*Z18+L18*S18 -> 0 | AB18: =IF(SUM(M18:Z18)>0,"Yes","No") -> No | AC18: =IF(B18="New","Yes","No") -> Yes | AE18: 1 | AF18: =AE18*M18+AE18*N18+AE18*O18+AE18*P18+AE18*Q18+AE18*R18+AE18*T18+AE18*U18+AE18*V18+AE18*W18+AE18*X18+AE18*Y18+AE18*Z18+AE18*S18 -> 0 | AH18: 0.95 | AI18: =SUM(M18:Z18)*AH18 -> 0 | AJ18: =I18*M18 -> 0 | AK18: =I18*N18 -> 0 | AL18: =I18*O18 -> 0 | AM18: =I18*P18 -> 0 | AN18: =I18*Q18 -> 0 | AO18: =I18*R18 -> 0 | AP18: =I18*S18 -> 0 | AQ18: =I18*T18 -> 0 | AR18: =I18*U18 -> 0 | AS18: =I18*V18 -> 0 | AT18: =I18*W18 -> 0 | AU18: =I18*X18 -> 0 | AV18: =I18*Y18 -> 0 | AW18: =I18*Z18 -> 0 | AX18: 1 | AY18: 4 | BC18: =IF(H18="XS",IF(SUM(M18:Z18)>0,SUM(M18:Z18),0),0)*I18 -> 0 | BD18: =IF(H18="S",IF(SUM(M18:Z18)>0,SUM(M18:Z18),0),0)*I18 -> 0 | BE18: =IF(H18="M",IF(SUM(M18:Z18)>0,SUM(M18:Z18),0),0)*I18 -> 0 | BF18: =IF(H18="L",IF(SUM(M18:Z18)>0,SUM(M18:Z18),0),0)*I18 -> 0 | BG18: =IF(H18="XL",IF(SUM(M18:Z18)>0,SUM(M18:Z18),0),0)*I18 -> 0 | BH18: =IF(H18="2XL",IF(SUM(M18:Z18)>0,SUM(M18:Z18),0),0)*I18 -> 0 | BI18: =IF(H18="3XL",IF(SUM(M18:Z18)>0,SUM(M18:Z18),0),0)*I18 -> 0 | BJ18: =IF(H18="various",IF(SUM(M18:Z18)>0,SUM(M18:Z18),0),0)*I18 -> 0 | BL18: =IF(E18="",IF(SUM(M18:Z18)>0,SUM(M18:Z18),0),0)*I18 -> 0 | BM18: =IF(E18="Natural dual tex.",IF(SUM(M18:Z18)>0,SUM(M18:Z18),0),0)*I18 -> 0 | BO18: =IF(F18="sloper",IF(SUM(M18:Z18)>0,SUM(M18:Z18),0),0)*I18 -> 0 | BP18: =IF(F18="footholds",IF(SUM(M18:Z18)>0,SUM(M18:Z18),0),0)*I18 -> 0 | BQ18: =IF(F18="micros",IF(SUM(M18:Z18)>0,SUM(M18:Z18),0),0)*I18 -> 0 | BR18: =IF(F18="jug",IF(SUM(M18:Z18)>0,SUM(M18:Z18),0),0)*I18 -> 0 | BS18: =IF(F18="ledge",IF(SUM(M18:Z18)>0,SUM(M18:Z18),0),0)*I18 -> 0 | BT18: =IF(F18="edge",IF(SUM(M18:Z18)>0,SUM(M18:Z18),0),0)*I18 -> 0 | BU18: =IF(F18="crimp",IF(SUM(M18:Z18)>0,SUM(M18:Z18),0),0)*I18 -> 0 | BV18: =IF(F18="incut",IF(SUM(M18:Z18)>0,SUM(M18:Z18),0),0)*I18 -> 0 | BW18: =IF(F18="dish",IF(SUM(M18:Z18)>0,SUM(M18:Z18),0),0)*I18 -> 0 | BX18: =IF(F18="pinch",IF(SUM(M18:Z18)>0,SUM(M18:Z18),0),0)*I18 -> 0 | BY18: =IF(F18="pocket",IF(SUM(M18:Z18)>0,SUM(M18:Z18),0),0)*I18 -> 0 | BZ18: =IF(F18="insert",IF(SUM(M18:Z18)>0,SUM(M18:Z18),0),0)*I18 -> 0 | CA18: =IF(F18="feature",IF(SUM(M18:Z18)>0,SUM(M18:Z18),0),0)*I18 -> 0 | CB18: =IF(F18="scoop",IF(SUM(M18:Z18)>0,SUM(M18:Z18),0),0)*I18 -> 0 | CC18: =IF(F18="positive",IF(SUM(M18:Z18)>0,SUM(M18:Z18),0),0)*I18 -> 0 | CD18: =IF(F18="arete",IF(SUM(M18:Z18)>0,SUM(M18:Z18),0),0)*I18 -> 0 | CE18: =IF(F18="flat rectangle",IF(SUM(M18:Z18)>0,SUM(M18:Z18),0),0)*I18 -> 0 | CF18: =IF(F18="pentagon",IF(SUM(M18:Z18)>0,SUM(M18:Z18),0),0)*I18 -> 0 | CG18: =IF(F18="pyramid",IF(SUM(M18:Z18)>0,SUM(M18:Z18),0),0)*I18 -> 0 | CH18: =IF(F18="flat",IF(SUM(M18:Z18)>0,SUM(M18:Z18),0),0)*I18 -> 0 | CI18: =IF(F18="various",IF(SUM(M18:Z18)>0,SUM(M18:Z18),0),0)*I18 -> 0
B19: NEW | D19: L9-WH-N-DT | E19: Natural dual tex. | F19: sloper | G19: 43x17x6,5 cm | H19: M | I19: 1 | J19: 0 | K19: screws | L19: 211.15 | AA19: =L19*M19+L19*N19+L19*O19+L19*P19+L19*Q19+L19*R19+L19*T19+L19*U19+L19*V19+L19*W19+L19*X19+L19*Y19+L19*Z19+L19*S19 -> 0 | AB19: =IF(SUM(M19:Z19)>0,"Yes","No") -> No | AC19: =IF(B19="New","Yes","No") -> Yes | AE19: 1 | AF19: =AE19*M19+AE19*N19+AE19*O19+AE19*P19+AE19*Q19+AE19*R19+AE19*T19+AE19*U19+AE19*V19+AE19*W19+AE19*X19+AE19*Y19+AE19*Z19+AE19*S19 -> 0 | AH19: 0.9 | AI19: =SUM(M19:Z19)*AH19 -> 0 | AJ19: =I19*M19 -> 0 | AK19: =I19*N19 -> 0 | AL19: =I19*O19 -> 0 | AM19: =I19*P19 -> 0 | AN19: =I19*Q19 -> 0 | AO19: =I19*R19 -> 0 | AP19: =I19*S19 -> 0 | AQ19: =I19*T19 -> 0 | AR19: =I19*U19 -> 0 | AS19: =I19*V19 -> 0 | AT19: =I19*W19 -> 0 | AU19: =I19*X19 -> 0 | AV19: =I19*Y19 -> 0 | AW19: =I19*Z19 -> 0 | AX19: 1 | AY19: 4 | BC19: =IF(H19="XS",IF(SUM(M19:Z19)>0,SUM(M19:Z19),0),0)*I19 -> 0 | BD19: =IF(H19="S",IF(SUM(M19:Z19)>0,SUM(M19:Z19),0),0)*I19 -> 0 | BE19: =IF(H19="M",IF(SUM(M19:Z19)>0,SUM(M19:Z19),0),0)*I19 -> 0 | BF19: =IF(H19="L",IF(SUM(M19:Z19)>0,SUM(M19:Z19),0),0)*I19 -> 0 | BG19: =IF(H19="XL",IF(SUM(M19:Z19)>0,SUM(M19:Z19),0),0)*I19 -> 0 | BH19: =IF(H19="2XL",IF(SUM(M19:Z19)>0,SUM(M19:Z19),0),0)*I19 -> 0 | BI19: =IF(H19="3XL",IF(SUM(M19:Z19)>0,SUM(M19:Z19),0),0)*I19 -> 0 | BJ19: =IF(H19="various",IF(SUM(M19:Z19)>0,SUM(M19:Z19),0),0)*I19 -> 0 | BL19: =IF(E19="",IF(SUM(M19:Z19)>0,SUM(M19:Z19),0),0)*I19 -> 0 | BM19: =IF(E19="Natural dual tex.",IF(SUM(M19:Z19)>0,SUM(M19:Z19),0),0)*I19 -> 0 | BO19: =IF(F19="sloper",IF(SUM(M19:Z19)>0,SUM(M19:Z19),0),0)*I19 -> 0 | BP19: =IF(F19="footholds",IF(SUM(M19:Z19)>0,SUM(M19:Z19),0),0)*I19 -> 0 | BQ19: =IF(F19="micros",IF(SUM(M19:Z19)>0,SUM(M19:Z19),0),0)*I19 -> 0 | BR19: =IF(F19="jug",IF(SUM(M19:Z19)>0,SUM(M19:Z19),0),0)*I19 -> 0 | BS19: =IF(F19="ledge",IF(SUM(M19:Z19)>0,SUM(M19:Z19),0),0)*I19 -> 0 | BT19: =IF(F19="edge",IF(SUM(M19:Z19)>0,SUM(M19:Z19),0),0)*I19 -> 0 | BU19: =IF(F19="crimp",IF(SUM(M19:Z19)>0,SUM(M19:Z19),0),0)*I19 -> 0 | BV19: =IF(F19="incut",IF(SUM(M19:Z19)>0,SUM(M19:Z19),0),0)*I19 -> 0 | BW19: =IF(F19="dish",IF(SUM(M19:Z19)>0,SUM(M19:Z19),0),0)*I19 -> 0 | BX19: =IF(F19="pinch",IF(SUM(M19:Z19)>0,SUM(M19:Z19),0),0)*I19 -> 0 | BY19: =IF(F19="pocket",IF(SUM(M19:Z19)>0,SUM(M19:Z19),0),0)*I19 -> 0 | BZ19: =IF(F19="insert",IF(SUM(M19:Z19)>0,SUM(M19:Z19),0),0)*I19 -> 0 | CA19: =IF(F19="feature",IF(SUM(M19:Z19)>0,SUM(M19:Z19),0),0)*I19 -> 0 | CB19: =IF(F19="scoop",IF(SUM(M19:Z19)>0,SUM(M19:Z19),0),0)*I19 -> 0 | CC19: =IF(F19="positive",IF(SUM(M19:Z19)>0,SUM(M19:Z19),0),0)*I19 -> 0 | CD19: =IF(F19="arete",IF(SUM(M19:Z19)>0,SUM(M19:Z19),0),0)*I19 -> 0 | CE19: =IF(F19="flat rectangle",IF(SUM(M19:Z19)>0,SUM(M19:Z19),0),0)*I19 -> 0 | CF19: =IF(F19="pentagon",IF(SUM(M19:Z19)>0,SUM(M19:Z19),0),0)*I19 -> 0 | CG19: =IF(F19="pyramid",IF(SUM(M19:Z19)>0,SUM(M19:Z19),0),0)*I19 -> 0 | CH19: =IF(F19="flat",IF(SUM(M19:Z19)>0,SUM(M19:Z19),0),0)*I19 -> 0 | CI19: =IF(F19="various",IF(SUM(M19:Z19)>0,SUM(M19:Z19),0),0)*I19 -> 0
B20: NEW | D20: L10-WH-N-DT | E20: Natural dual tex. | F20: positive | G20: 42x16,5x7 cm | H20: M | I20: 1 | J20: 0 | K20: screws | L20: 221.45 | AA20: =L20*M20+L20*N20+L20*O20+L20*P20+L20*Q20+L20*R20+L20*T20+L20*U20+L20*V20+L20*W20+L20*X20+L20*Y20+L20*Z20+L20*S20 -> 0 | AB20: =IF(SUM(M20:Z20)>0,"Yes","No") -> No | AC20: =IF(B20="New","Yes","No") -> Yes | AE20: 1 | AF20: =AE20*M20+AE20*N20+AE20*O20+AE20*P20+AE20*Q20+AE20*R20+AE20*T20+AE20*U20+AE20*V20+AE20*W20+AE20*X20+AE20*Y20+AE20*Z20+AE20*S20 -> 0 | AH20: 0.95 | AI20: =SUM(M20:Z20)*AH20 -> 0 | AJ20: =I20*M20 -> 0 | AK20: =I20*N20 -> 0 | AL20: =I20*O20 -> 0 | AM20: =I20*P20 -> 0 | AN20: =I20*Q20 -> 0 | AO20: =I20*R20 -> 0 | AP20: =I20*S20 -> 0 | AQ20: =I20*T20 -> 0 | AR20: =I20*U20 -> 0 | AS20: =I20*V20 -> 0 | AT20: =I20*W20 -> 0 | AU20: =I20*X20 -> 0 | AV20: =I20*Y20 -> 0 | AW20: =I20*Z20 -> 0 | AX20: 1 | AY20: 3 | AZ20: 1 | BC20: =IF(H20="XS",IF(SUM(M20:Z20)>0,SUM(M20:Z20),0),0)*I20 -> 0 | BD20: =IF(H20="S",IF(SUM(M20:Z20)>0,SUM(M20:Z20),0),0)*I20 -> 0 | BE20: =IF(H20="M",IF(SUM(M20:Z20)>0,SUM(M20:Z20),0),0)*I20 -> 0 | BF20: =IF(H20="L",IF(SUM(M20:Z20)>0,SUM(M20:Z20),0),0)*I20 -> 0 | BG20: =IF(H20="XL",IF(SUM(M20:Z20)>0,SUM(M20:Z20),0),0)*I20 -> 0 | BH20: =IF(H20="2XL",IF(SUM(M20:Z20)>0,SUM(M20:Z20),0),0)*I20 -> 0 | BI20: =IF(H20="3XL",IF(SUM(M20:Z20)>0,SUM(M20:Z20),0),0)*I20 -> 0 | BJ20: =IF(H20="various",IF(SUM(M20:Z20)>0,SUM(M20:Z20),0),0)*I20 -> 0 | BL20: =IF(E20="",IF(SUM(M20:Z20)>0,SUM(M20:Z20),0),0)*I20 -> 0 | BM20: =IF(E20="Natural dual tex.",IF(SUM(M20:Z20)>0,SUM(M20:Z20),0),0)*I20 -> 0 | BO20: =IF(F20="sloper",IF(SUM(M20:Z20)>0,SUM(M20:Z20),0),0)*I20 -> 0 | BP20: =IF(F20="footholds",IF(SUM(M20:Z20)>0,SUM(M20:Z20),0),0)*I20 -> 0 | BQ20: =IF(F20="micros",IF(SUM(M20:Z20)>0,SUM(M20:Z20),0),0)*I20 -> 0 | BR20: =IF(F20="jug",IF(SUM(M20:Z20)>0,SUM(M20:Z20),0),0)*I20 -> 0 | BS20: =IF(F20="ledge",IF(SUM(M20:Z20)>0,SUM(M20:Z20),0),0)*I20 -> 0 | BT20: =IF(F20="edge",IF(SUM(M20:Z20)>0,SUM(M20:Z20),0),0)*I20 -> 0 | BU20: =IF(F20="crimp",IF(SUM(M20:Z20)>0,SUM(M20:Z20),0),0)*I20 -> 0 | BV20: =IF(F20="incut",IF(SUM(M20:Z20)>0,SUM(M20:Z20),0),0)*I20 -> 0 | BW20: =IF(F20="dish",IF(SUM(M20:Z20)>0,SUM(M20:Z20),0),0)*I20 -> 0 | BX20: =IF(F20="pinch",IF(SUM(M20:Z20)>0,SUM(M20:Z20),0),0)*I20 -> 0 | BY20: =IF(F20="pocket",IF(SUM(M20:Z20)>0,SUM(M20:Z20),0),0)*I20 -> 0 | BZ20: =IF(F20="insert",IF(SUM(M20:Z20)>0,SUM(M20:Z20),0),0)*I20 -> 0 | CA20: =IF(F20="feature",IF(SUM(M20:Z20)>0,SUM(M20:Z20),0),0)*I20 -> 0 | CB20: =IF(F20="scoop",IF(SUM(M20:Z20)>0,SUM(M20:Z20),0),0)*I20 -> 0 | CC20: =IF(F20="positive",IF(SUM(M20:Z20)>0,SUM(M20:Z20),0),0)*I20 -> 0 | CD20: =IF(F20="arete",IF(SUM(M20:Z20)>0,SUM(M20:Z20),0),0)*I20 -> 0 | CE20: =IF(F20="flat rectangle",IF(SUM(M20:Z20)>0,SUM(M20:Z20),0),0)*I20 -> 0 | CF20: =IF(F20="pentagon",IF(SUM(M20:Z20)>0,SUM(M20:Z20),0),0)*I20 -> 0 | CG20: =IF(F20="pyramid",IF(SUM(M20:Z20)>0,SUM(M20:Z20),0),0)*I20 -> 0 | CH20: =IF(F20="flat",IF(SUM(M20:Z20)>0,SUM(M20:Z20),0),0)*I20 -> 0 | CI20: =IF(F20="various",IF(SUM(M20:Z20)>0,SUM(M20:Z20),0),0)*I20 -> 0
B21: NEW | D21: L11-WH-N-DT | E21: Natural dual tex. | F21: positive | G21: 41x16x7,5 cm | H21: M | I21: 1 | J21: 0 | K21: screws | L21: 221.45 | AA21: =L21*M21+L21*N21+L21*O21+L21*P21+L21*Q21+L21*R21+L21*T21+L21*U21+L21*V21+L21*W21+L21*X21+L21*Y21+L21*Z21+L21*S21 -> 0 | AB21: =IF(SUM(M21:Z21)>0,"Yes","No") -> No | AC21: =IF(B21="New","Yes","No") -> Yes | AE21: 1 | AF21: =AE21*M21+AE21*N21+AE21*O21+AE21*P21+AE21*Q21+AE21*R21+AE21*T21+AE21*U21+AE21*V21+AE21*W21+AE21*X21+AE21*Y21+AE21*Z21+AE21*S21 -> 0 | AH21: 0.9 | AI21: =SUM(M21:Z21)*AH21 -> 0 | AJ21: =I21*M21 -> 0 | AK21: =I21*N21 -> 0 | AL21: =I21*O21 -> 0 | AM21: =I21*P21 -> 0 | AN21: =I21*Q21 -> 0 | AO21: =I21*R21 -> 0 | AP21: =I21*S21 -> 0 | AQ21: =I21*T21 -> 0 | AR21: =I21*U21 -> 0 | AS21: =I21*V21 -> 0 | AT21: =I21*W21 -> 0 | AU21: =I21*X21 -> 0 | AV21: =I21*Y21 -> 0 | AW21: =I21*Z21 -> 0 | AX21: 1 | AY21: 4 | BC21: =IF(H21="XS",IF(SUM(M21:Z21)>0,SUM(M21:Z21),0),0)*I21 -> 0 | BD21: =IF(H21="S",IF(SUM(M21:Z21)>0,SUM(M21:Z21),0),0)*I21 -> 0 | BE21: =IF(H21="M",IF(SUM(M21:Z21)>0,SUM(M21:Z21),0),0)*I21 -> 0 | BF21: =IF(H21="L",IF(SUM(M21:Z21)>0,SUM(M21:Z21),0),0)*I21 -> 0 | BG21: =IF(H21="XL",IF(SUM(M21:Z21)>0,SUM(M21:Z21),0),0)*I21 -> 0 | BH21: =IF(H21="2XL",IF(SUM(M21:Z21)>0,SUM(M21:Z21),0),0)*I21 -> 0 | BI21: =IF(H21="3XL",IF(SUM(M21:Z21)>0,SUM(M21:Z21),0),0)*I21 -> 0 | BJ21: =IF(H21="various",IF(SUM(M21:Z21)>0,SUM(M21:Z21),0),0)*I21 -> 0 | BL21: =IF(E21="",IF(SUM(M21:Z21)>0,SUM(M21:Z21),0),0)*I21 -> 0 | BM21: =IF(E21="Natural dual tex.",IF(SUM(M21:Z21)>0,SUM(M21:Z21),0),0)*I21 -> 0 | BO21: =IF(F21="sloper",IF(SUM(M21:Z21)>0,SUM(M21:Z21),0),0)*I21 -> 0 | BP21: =IF(F21="footholds",IF(SUM(M21:Z21)>0,SUM(M21:Z21),0),0)*I21 -> 0 | BQ21: =IF(F21="micros",IF(SUM(M21:Z21)>0,SUM(M21:Z21),0),0)*I21 -> 0 | BR21: =IF(F21="jug",IF(SUM(M21:Z21)>0,SUM(M21:Z21),0),0)*I21 -> 0 | BS21: =IF(F21="ledge",IF(SUM(M21:Z21)>0,SUM(M21:Z21),0),0)*I21 -> 0 | BT21: =IF(F21="edge",IF(SUM(M21:Z21)>0,SUM(M21:Z21),0),0)*I21 -> 0 | BU21: =IF(F21="crimp",IF(SUM(M21:Z21)>0,SUM(M21:Z21),0),0)*I21 -> 0 | BV21: =IF(F21="incut",IF(SUM(M21:Z21)>0,SUM(M21:Z21),0),0)*I21 -> 0 | BW21: =IF(F21="dish",IF(SUM(M21:Z21)>0,SUM(M21:Z21),0),0)*I21 -> 0 | BX21: =IF(F21="pinch",IF(SUM(M21:Z21)>0,SUM(M21:Z21),0),0)*I21 -> 0 | BY21: =IF(F21="pocket",IF(SUM(M21:Z21)>0,SUM(M21:Z21),0),0)*I21 -> 0 | BZ21: =IF(F21="insert",IF(SUM(M21:Z21)>0,SUM(M21:Z21),0),0)*I21 -> 0 | CA21: =IF(F21="feature",IF(SUM(M21:Z21)>0,SUM(M21:Z21),0),0)*I21 -> 0 | CB21: =IF(F21="scoop",IF(SUM(M21:Z21)>0,SUM(M21:Z21),0),0)*I21 -> 0 | CC21: =IF(F21="positive",IF(SUM(M21:Z21)>0,SUM(M21:Z21),0),0)*I21 -> 0 | CD21: =IF(F21="arete",IF(SUM(M21:Z21)>0,SUM(M21:Z21),0),0)*I21 -> 0 | CE21: =IF(F21="flat rectangle",IF(SUM(M21:Z21)>0,SUM(M21:Z21),0),0)*I21 -> 0 | CF21: =IF(F21="pentagon",IF(SUM(M21:Z21)>0,SUM(M21:Z21),0),0)*I21 -> 0 | CG21: =IF(F21="pyramid",IF(SUM(M21:Z21)>0,SUM(M21:Z21),0),0)*I21 -> 0 | CH21: =IF(F21="flat",IF(SUM(M21:Z21)>0,SUM(M21:Z21),0),0)*I21 -> 0 | CI21: =IF(F21="various",IF(SUM(M21:Z21)>0,SUM(M21:Z21),0),0)*I21 -> 0
B22: NEW | D22: L12-WH-N-DT | E22: Natural dual tex. | F22: sloper | G22: 42x17x7 cm | H22: M | I22: 1 | J22: 0 | K22: screws | L22: 221.45 | AA22: =L22*M22+L22*N22+L22*O22+L22*P22+L22*Q22+L22*R22+L22*T22+L22*U22+L22*V22+L22*W22+L22*X22+L22*Y22+L22*Z22+L22*S22 -> 0 | AB22: =IF(SUM(M22:Z22)>0,"Yes","No") -> No | AC22: =IF(B22="New","Yes","No") -> Yes | AE22: 1 | AF22: =AE22*M22+AE22*N22+AE22*O22+AE22*P22+AE22*Q22+AE22*R22+AE22*T22+AE22*U22+AE22*V22+AE22*W22+AE22*X22+AE22*Y22+AE22*Z22+AE22*S22 -> 0 | AH22: 0.85 | AI22: =SUM(M22:Z22)*AH22 -> 0 | AJ22: =I22*M22 -> 0 | AK22: =I22*N22 -> 0 | AL22: =I22*O22 -> 0 | AM22: =I22*P22 -> 0 | AN22: =I22*Q22 -> 0 | AO22: =I22*R22 -> 0 | AP22: =I22*S22 -> 0 | AQ22: =I22*T22 -> 0 | AR22: =I22*U22 -> 0 | AS22: =I22*V22 -> 0 | AT22: =I22*W22 -> 0 | AU22: =I22*X22 -> 0 | AV22: =I22*Y22 -> 0 | AW22: =I22*Z22 -> 0 | AX22: 1 | AY22: 4 | BC22: =IF(H22="XS",IF(SUM(M22:Z22)>0,SUM(M22:Z22),0),0)*I22 -> 0 | BD22: =IF(H22="S",IF(SUM(M22:Z22)>0,SUM(M22:Z22),0),0)*I22 -> 0 | BE22: =IF(H22="M",IF(SUM(M22:Z22)>0,SUM(M22:Z22),0),0)*I22 -> 0 | BF22: =IF(H22="L",IF(SUM(M22:Z22)>0,SUM(M22:Z22),0),0)*I22 -> 0 | BG22: =IF(H22="XL",IF(SUM(M22:Z22)>0,SUM(M22:Z22),0),0)*I22 -> 0 | BH22: =IF(H22="2XL",IF(SUM(M22:Z22)>0,SUM(M22:Z22),0),0)*I22 -> 0 | BI22: =IF(H22="3XL",IF(SUM(M22:Z22)>0,SUM(M22:Z22),0),0)*I22 -> 0 | BJ22: =IF(H22="various",IF(SUM(M22:Z22)>0,SUM(M22:Z22),0),0)*I22 -> 0 | BL22: =IF(E22="",IF(SUM(M22:Z22)>0,SUM(M22:Z22),0),0)*I22 -> 0 | BM22: =IF(E22="Natural dual tex.",IF(SUM(M22:Z22)>0,SUM(M22:Z22),0),0)*I22 -> 0 | BO22: =IF(F22="sloper",IF(SUM(M22:Z22)>0,SUM(M22:Z22),0),0)*I22 -> 0 | BP22: =IF(F22="footholds",IF(SUM(M22:Z22)>0,SUM(M22:Z22),0),0)*I22 -> 0 | BQ22: =IF(F22="micros",IF(SUM(M22:Z22)>0,SUM(M22:Z22),0),0)*I22 -> 0 | BR22: =IF(F22="jug",IF(SUM(M22:Z22)>0,SUM(M22:Z22),0),0)*I22 -> 0 | BS22: =IF(F22="ledge",IF(SUM(M22:Z22)>0,SUM(M22:Z22),0),0)*I22 -> 0 | BT22: =IF(F22="edge",IF(SUM(M22:Z22)>0,SUM(M22:Z22),0),0)*I22 -> 0 | BU22: =IF(F22="crimp",IF(SUM(M22:Z22)>0,SUM(M22:Z22),0),0)*I22 -> 0 | BV22: =IF(F22="incut",IF(SUM(M22:Z22)>0,SUM(M22:Z22),0),0)*I22 -> 0 | BW22: =IF(F22="dish",IF(SUM(M22:Z22)>0,SUM(M22:Z22),0),0)*I22 -> 0 | BX22: =IF(F22="pinch",IF(SUM(M22:Z22)>0,SUM(M22:Z22),0),0)*I22 -> 0 | BY22: =IF(F22="pocket",IF(SUM(M22:Z22)>0,SUM(M22:Z22),0),0)*I22 -> 0 | BZ22: =IF(F22="insert",IF(SUM(M22:Z22)>0,SUM(M22:Z22),0),0)*I22 -> 0 | CA22: =IF(F22="feature",IF(SUM(M22:Z22)>0,SUM(M22:Z22),0),0)*I22 -> 0 | CB22: =IF(F22="scoop",IF(SUM(M22:Z22)>0,SUM(M22:Z22),0),0)*I22 -> 0 | CC22: =IF(F22="positive",IF(SUM(M22:Z22)>0,SUM(M22:Z22),0),0)*I22 -> 0 | CD22: =IF(F22="arete",IF(SUM(M22:Z22)>0,SUM(M22:Z22),0),0)*I22 -> 0 | CE22: =IF(F22="flat rectangle",IF(SUM(M22:Z22)>0,SUM(M22:Z22),0),0)*I22 -> 0 | CF22: =IF(F22="pentagon",IF(SUM(M22:Z22)>0,SUM(M22:Z22),0),0)*I22 -> 0 | CG22: =IF(F22="pyramid",IF(SUM(M22:Z22)>0,SUM(M22:Z22),0),0)*I22 -> 0 | CH22: =IF(F22="flat",IF(SUM(M22:Z22)>0,SUM(M22:Z22),0),0)*I22 -> 0 | CI22: =IF(F22="various",IF(SUM(M22:Z22)>0,SUM(M22:Z22),0),0)*I22 -> 0
B23: NEW | D23: L13-WH-N-DT | E23: Natural dual tex. | F23: sloper | G23: 51x27x8,5 cm | H23: L | I23: 1 | J23: 0 | K23: screws | L23: 319.3 | AA23: =L23*M23+L23*N23+L23*O23+L23*P23+L23*Q23+L23*R23+L23*T23+L23*U23+L23*V23+L23*W23+L23*X23+L23*Y23+L23*Z23+L23*S23 -> 0 | AB23: =IF(SUM(M23:Z23)>0,"Yes","No") -> No | AC23: =IF(B23="New","Yes","No") -> Yes | AE23: 1 | AF23: =AE23*M23+AE23*N23+AE23*O23+AE23*P23+AE23*Q23+AE23*R23+AE23*T23+AE23*U23+AE23*V23+AE23*W23+AE23*X23+AE23*Y23+AE23*Z23+AE23*S23 -> 0 | AH23: 2.2 | AI23: =SUM(M23:Z23)*AH23 -> 0 | AJ23: =I23*M23 -> 0 | AK23: =I23*N23 -> 0 | AL23: =I23*O23 -> 0 | AM23: =I23*P23 -> 0 | AN23: =I23*Q23 -> 0 | AO23: =I23*R23 -> 0 | AP23: =I23*S23 -> 0 | AQ23: =I23*T23 -> 0 | AR23: =I23*U23 -> 0 | AS23: =I23*V23 -> 0 | AT23: =I23*W23 -> 0 | AU23: =I23*X23 -> 0 | AV23: =I23*Y23 -> 0 | AW23: =I23*Z23 -> 0 | AX23: 1 | AY23: 6 | BC23: =IF(H23="XS",IF(SUM(M23:Z23)>0,SUM(M23:Z23),0),0)*I23 -> 0 | BD23: =IF(H23="S",IF(SUM(M23:Z23)>0,SUM(M23:Z23),0),0)*I23 -> 0 | BE23: =IF(H23="M",IF(SUM(M23:Z23)>0,SUM(M23:Z23),0),0)*I23 -> 0 | BF23: =IF(H23="L",IF(SUM(M23:Z23)>0,SUM(M23:Z23),0),0)*I23 -> 0 | BG23: =IF(H23="XL",IF(SUM(M23:Z23)>0,SUM(M23:Z23),0),0)*I23 -> 0 | BH23: =IF(H23="2XL",IF(SUM(M23:Z23)>0,SUM(M23:Z23),0),0)*I23 -> 0 | BI23: =IF(H23="3XL",IF(SUM(M23:Z23)>0,SUM(M23:Z23),0),0)*I23 -> 0 | BJ23: =IF(H23="various",IF(SUM(M23:Z23)>0,SUM(M23:Z23),0),0)*I23 -> 0 | BL23: =IF(E23="",IF(SUM(M23:Z23)>0,SUM(M23:Z23),0),0)*I23 -> 0 | BM23: =IF(E23="Natural dual tex.",IF(SUM(M23:Z23)>0,SUM(M23:Z23),0),0)*I23 -> 0 | BO23: =IF(F23="sloper",IF(SUM(M23:Z23)>0,SUM(M23:Z23),0),0)*I23 -> 0 | BP23: =IF(F23="footholds",IF(SUM(M23:Z23)>0,SUM(M23:Z23),0),0)*I23 -> 0 | BQ23: =IF(F23="micros",IF(SUM(M23:Z23)>0,SUM(M23:Z23),0),0)*I23 -> 0 | BR23: =IF(F23="jug",IF(SUM(M23:Z23)>0,SUM(M23:Z23),0),0)*I23 -> 0 | BS23: =IF(F23="ledge",IF(SUM(M23:Z23)>0,SUM(M23:Z23),0),0)*I23 -> 0 | BT23: =IF(F23="edge",IF(SUM(M23:Z23)>0,SUM(M23:Z23),0),0)*I23 -> 0 | BU23: =IF(F23="crimp",IF(SUM(M23:Z23)>0,SUM(M23:Z23),0),0)*I23 -> 0 | BV23: =IF(F23="incut",IF(SUM(M23:Z23)>0,SUM(M23:Z23),0),0)*I23 -> 0 | BW23: =IF(F23="dish",IF(SUM(M23:Z23)>0,SUM(M23:Z23),0),0)*I23 -> 0 | BX23: =IF(F23="pinch",IF(SUM(M23:Z23)>0,SUM(M23:Z23),0),0)*I23 -> 0 | BY23: =IF(F23="pocket",IF(SUM(M23:Z23)>0,SUM(M23:Z23),0),0)*I23 -> 0 | BZ23: =IF(F23="insert",IF(SUM(M23:Z23)>0,SUM(M23:Z23),0),0)*I23 -> 0 | CA23: =IF(F23="feature",IF(SUM(M23:Z23)>0,SUM(M23:Z23),0),0)*I23 -> 0 | CB23: =IF(F23="scoop",IF(SUM(M23:Z23)>0,SUM(M23:Z23),0),0)*I23 -> 0 | CC23: =IF(F23="positive",IF(SUM(M23:Z23)>0,SUM(M23:Z23),0),0)*I23 -> 0 | CD23: =IF(F23="arete",IF(SUM(M23:Z23)>0,SUM(M23:Z23),0),0)*I23 -> 0 | CE23: =IF(F23="flat rectangle",IF(SUM(M23:Z23)>0,SUM(M23:Z23),0),0)*I23 -> 0 | CF23: =IF(F23="pentagon",IF(SUM(M23:Z23)>0,SUM(M23:Z23),0),0)*I23 -> 0 | CG23: =IF(F23="pyramid",IF(SUM(M23:Z23)>0,SUM(M23:Z23),0),0)*I23 -> 0 | CH23: =IF(F23="flat",IF(SUM(M23:Z23)>0,SUM(M23:Z23),0),0)*I23 -> 0 | CI23: =IF(F23="various",IF(SUM(M23:Z23)>0,SUM(M23:Z23),0),0)*I23 -> 0
B24: NEW | D24: L14-WH-N-DT | E24: Natural dual tex. | F24: sloper | G24: 48x26x13 cm | H24: M | I24: 1 | J24: 0 | K24: screws | L24: 350.2 | AA24: =L24*M24+L24*N24+L24*O24+L24*P24+L24*Q24+L24*R24+L24*T24+L24*U24+L24*V24+L24*W24+L24*X24+L24*Y24+L24*Z24+L24*S24 -> 0 | AB24: =IF(SUM(M24:Z24)>0,"Yes","No") -> No | AC24: =IF(B24="New","Yes","No") -> Yes | AE24: 1 | AF24: =AE24*M24+AE24*N24+AE24*O24+AE24*P24+AE24*Q24+AE24*R24+AE24*T24+AE24*U24+AE24*V24+AE24*W24+AE24*X24+AE24*Y24+AE24*Z24+AE24*S24 -> 0 | AH24: 2.8 | AI24: =SUM(M24:Z24)*AH24 -> 0 | AJ24: =I24*M24 -> 0 | AK24: =I24*N24 -> 0 | AL24: =I24*O24 -> 0 | AM24: =I24*P24 -> 0 | AN24: =I24*Q24 -> 0 | AO24: =I24*R24 -> 0 | AP24: =I24*S24 -> 0 | AQ24: =I24*T24 -> 0 | AR24: =I24*U24 -> 0 | AS24: =I24*V24 -> 0 | AT24: =I24*W24 -> 0 | AU24: =I24*X24 -> 0 | AV24: =I24*Y24 -> 0 | AW24: =I24*Z24 -> 0 | AX24: 1 | AY24: 6 | BC24: =IF(H24="XS",IF(SUM(M24:Z24)>0,SUM(M24:Z24),0),0)*I24 -> 0 | BD24: =IF(H24="S",IF(SUM(M24:Z24)>0,SUM(M24:Z24),0),0)*I24 -> 0 | BE24: =IF(H24="M",IF(SUM(M24:Z24)>0,SUM(M24:Z24),0),0)*I24 -> 0 | BF24: =IF(H24="L",IF(SUM(M24:Z24)>0,SUM(M24:Z24),0),0)*I24 -> 0 | BG24: =IF(H24="XL",IF(SUM(M24:Z24)>0,SUM(M24:Z24),0),0)*I24 -> 0 | BH24: =IF(H24="2XL",IF(SUM(M24:Z24)>0,SUM(M24:Z24),0),0)*I24 -> 0 | BI24: =IF(H24="3XL",IF(SUM(M24:Z24)>0,SUM(M24:Z24),0),0)*I24 -> 0 | BJ24: =IF(H24="various",IF(SUM(M24:Z24)>0,SUM(M24:Z24),0),0)*I24 -> 0 | BL24: =IF(E24="",IF(SUM(M24:Z24)>0,SUM(M24:Z24),0),0)*I24 -> 0 | BM24: =IF(E24="Natural dual tex.",IF(SUM(M24:Z24)>0,SUM(M24:Z24),0),0)*I24 -> 0 | BO24: =IF(F24="sloper",IF(SUM(M24:Z24)>0,SUM(M24:Z24),0),0)*I24 -> 0 | BP24: =IF(F24="footholds",IF(SUM(M24:Z24)>0,SUM(M24:Z24),0),0)*I24 -> 0 | BQ24: =IF(F24="micros",IF(SUM(M24:Z24)>0,SUM(M24:Z24),0),0)*I24 -> 0 | BR24: =IF(F24="jug",IF(SUM(M24:Z24)>0,SUM(M24:Z24),0),0)*I24 -> 0 | BS24: =IF(F24="ledge",IF(SUM(M24:Z24)>0,SUM(M24:Z24),0),0)*I24 -> 0 | BT24: =IF(F24="edge",IF(SUM(M24:Z24)>0,SUM(M24:Z24),0),0)*I24 -> 0 | BU24: =IF(F24="crimp",IF(SUM(M24:Z24)>0,SUM(M24:Z24),0),0)*I24 -> 0 | BV24: =IF(F24="incut",IF(SUM(M24:Z24)>0,SUM(M24:Z24),0),0)*I24 -> 0 | BW24: =IF(F24="dish",IF(SUM(M24:Z24)>0,SUM(M24:Z24),0),0)*I24 -> 0 | BX24: =IF(F24="pinch",IF(SUM(M24:Z24)>0,SUM(M24:Z24),0),0)*I24 -> 0 | BY24: =IF(F24="pocket",IF(SUM(M24:Z24)>0,SUM(M24:Z24),0),0)*I24 -> 0 | BZ24: =IF(F24="insert",IF(SUM(M24:Z24)>0,SUM(M24:Z24),0),0)*I24 -> 0 | CA24: =IF(F24="feature",IF(SUM(M24:Z24)>0,SUM(M24:Z24),0),0)*I24 -> 0 | CB24: =IF(F24="scoop",IF(SUM(M24:Z24)>0,SUM(M24:Z24),0),0)*I24 -> 0 | CC24: =IF(F24="positive",IF(SUM(M24:Z24)>0,SUM(M24:Z24),0),0)*I24 -> 0 | CD24: =IF(F24="arete",IF(SUM(M24:Z24)>0,SUM(M24:Z24),0),0)*I24 -> 0 | CE24: =IF(F24="flat rectangle",IF(SUM(M24:Z24)>0,SUM(M24:Z24),0),0)*I24 -> 0 | CF24: =IF(F24="pentagon",IF(SUM(M24:Z24)>0,SUM(M24:Z24),0),0)*I24 -> 0 | CG24: =IF(F24="pyramid",IF(SUM(M24:Z24)>0,SUM(M24:Z24),0),0)*I24 -> 0 | CH24: =IF(F24="flat",IF(SUM(M24:Z24)>0,SUM(M24:Z24),0),0)*I24 -> 0 | CI24: =IF(F24="various",IF(SUM(M24:Z24)>0,SUM(M24:Z24),0),0)*I24 -> 0
B25: NEW | D25: L15-WH-N-DT | E25: Natural dual tex. | F25: positive | G25: 86x35x15 cm | H25: XL | I25: 1 | J25: 0 | K25: screws | L25: 664.35 | AA25: =L25*M25+L25*N25+L25*O25+L25*P25+L25*Q25+L25*R25+L25*T25+L25*U25+L25*V25+L25*W25+L25*X25+L25*Y25+L25*Z25+L25*S25 -> 0 | AB25: =IF(SUM(M25:Z25)>0,"Yes","No") -> No | AC25: =IF(B25="New","Yes","No") -> Yes | AE25: 1 | AF25: =AE25*M25+AE25*N25+AE25*O25+AE25*P25+AE25*Q25+AE25*R25+AE25*T25+AE25*U25+AE25*V25+AE25*W25+AE25*X25+AE25*Y25+AE25*Z25+AE25*S25 -> 0 | AH25: 4.3 | AI25: =SUM(M25:Z25)*AH25 -> 0 | AJ25: =I25*M25 -> 0 | AK25: =I25*N25 -> 0 | AL25: =I25*O25 -> 0 | AM25: =I25*P25 -> 0 | AN25: =I25*Q25 -> 0 | AO25: =I25*R25 -> 0 | AP25: =I25*S25 -> 0 | AQ25: =I25*T25 -> 0 | AR25: =I25*U25 -> 0 | AS25: =I25*V25 -> 0 | AT25: =I25*W25 -> 0 | AU25: =I25*X25 -> 0 | AV25: =I25*Y25 -> 0 | AW25: =I25*Z25 -> 0 | AX25: 1 | AY25: 6 | BC25: =IF(H25="XS",IF(SUM(M25:Z25)>0,SUM(M25:Z25),0),0)*I25 -> 0 | BD25: =IF(H25="S",IF(SUM(M25:Z25)>0,SUM(M25:Z25),0),0)*I25 -> 0 | BE25: =IF(H25="M",IF(SUM(M25:Z25)>0,SUM(M25:Z25),0),0)*I25 -> 0 | BF25: =IF(H25="L",IF(SUM(M25:Z25)>0,SUM(M25:Z25),0),0)*I25 -> 0 | BG25: =IF(H25="XL",IF(SUM(M25:Z25)>0,SUM(M25:Z25),0),0)*I25 -> 0 | BH25: =IF(H25="2XL",IF(SUM(M25:Z25)>0,SUM(M25:Z25),0),0)*I25 -> 0 | BI25: =IF(H25="3XL",IF(SUM(M25:Z25)>0,SUM(M25:Z25),0),0)*I25 -> 0 | BJ25: =IF(H25="various",IF(SUM(M25:Z25)>0,SUM(M25:Z25),0),0)*I25 -> 0 | BL25: =IF(E25="",IF(SUM(M25:Z25)>0,SUM(M25:Z25),0),0)*I25 -> 0 | BM25: =IF(E25="Natural dual tex.",IF(SUM(M25:Z25)>0,SUM(M25:Z25),0),0)*I25 -> 0 | BO25: =IF(F25="sloper",IF(SUM(M25:Z25)>0,SUM(M25:Z25),0),0)*I25 -> 0 | BP25: =IF(F25="footholds",IF(SUM(M25:Z25)>0,SUM(M25:Z25),0),0)*I25 -> 0 | BQ25: =IF(F25="micros",IF(SUM(M25:Z25)>0,SUM(M25:Z25),0),0)*I25 -> 0 | BR25: =IF(F25="jug",IF(SUM(M25:Z25)>0,SUM(M25:Z25),0),0)*I25 -> 0 | BS25: =IF(F25="ledge",IF(SUM(M25:Z25)>0,SUM(M25:Z25),0),0)*I25 -> 0 | BT25: =IF(F25="edge",IF(SUM(M25:Z25)>0,SUM(M25:Z25),0),0)*I25 -> 0 | BU25: =IF(F25="crimp",IF(SUM(M25:Z25)>0,SUM(M25:Z25),0),0)*I25 -> 0 | BV25: =IF(F25="incut",IF(SUM(M25:Z25)>0,SUM(M25:Z25),0),0)*I25 -> 0 | BW25: =IF(F25="dish",IF(SUM(M25:Z25)>0,SUM(M25:Z25),0),0)*I25 -> 0 | BX25: =IF(F25="pinch",IF(SUM(M25:Z25)>0,SUM(M25:Z25),0),0)*I25 -> 0 | BY25: =IF(F25="pocket",IF(SUM(M25:Z25)>0,SUM(M25:Z25),0),0)*I25 -> 0 | BZ25: =IF(F25="insert",IF(SUM(M25:Z25)>0,SUM(M25:Z25),0),0)*I25 -> 0 | CA25: =IF(F25="feature",IF(SUM(M25:Z25)>0,SUM(M25:Z25),0),0)*I25 -> 0 | CB25: =IF(F25="scoop",IF(SUM(M25:Z25)>0,SUM(M25:Z25),0),0)*I25 -> 0 | CC25: =IF(F25="positive",IF(SUM(M25:Z25)>0,SUM(M25:Z25),0),0)*I25 -> 0 | CD25: =IF(F25="arete",IF(SUM(M25:Z25)>0,SUM(M25:Z25),0),0)*I25 -> 0 | CE25: =IF(F25="flat rectangle",IF(SUM(M25:Z25)>0,SUM(M25:Z25),0),0)*I25 -> 0 | CF25: =IF(F25="pentagon",IF(SUM(M25:Z25)>0,SUM(M25:Z25),0),0)*I25 -> 0 | CG25: =IF(F25="pyramid",IF(SUM(M25:Z25)>0,SUM(M25:Z25),0),0)*I25 -> 0 | CH25: =IF(F25="flat",IF(SUM(M25:Z25)>0,SUM(M25:Z25),0),0)*I25 -> 0 | CI25: =IF(F25="various",IF(SUM(M25:Z25)>0,SUM(M25:Z25),0),0)*I25 -> 0
B26: NEW | D26: L16-WH-N-DT | E26: Natural dual tex. | F26: positive | G26: 47x26x10 cm | H26: M | I26: 1 | J26: 0 | K26: screws | L26: 319.3 | AA26: =L26*M26+L26*N26+L26*O26+L26*P26+L26*Q26+L26*R26+L26*T26+L26*U26+L26*V26+L26*W26+L26*X26+L26*Y26+L26*Z26+L26*S26 -> 0 | AB26: =IF(SUM(M26:Z26)>0,"Yes","No") -> No | AC26: =IF(B26="New","Yes","No") -> Yes | AE26: 1 | AF26: =AE26*M26+AE26*N26+AE26*O26+AE26*P26+AE26*Q26+AE26*R26+AE26*T26+AE26*U26+AE26*V26+AE26*W26+AE26*X26+AE26*Y26+AE26*Z26+AE26*S26 -> 0 | AH26: 2.2 | AI26: =SUM(M26:Z26)*AH26 -> 0 | AJ26: =I26*M26 -> 0 | AK26: =I26*N26 -> 0 | AL26: =I26*O26 -> 0 | AM26: =I26*P26 -> 0 | AN26: =I26*Q26 -> 0 | AO26: =I26*R26 -> 0 | AP26: =I26*S26 -> 0 | AQ26: =I26*T26 -> 0 | AR26: =I26*U26 -> 0 | AS26: =I26*V26 -> 0 | AT26: =I26*W26 -> 0 | AU26: =I26*X26 -> 0 | AV26: =I26*Y26 -> 0 | AW26: =I26*Z26 -> 0 | AX26: 1 | AY26: 5 | BC26: =IF(H26="XS",IF(SUM(M26:Z26)>0,SUM(M26:Z26),0),0)*I26 -> 0 | BD26: =IF(H26="S",IF(SUM(M26:Z26)>0,SUM(M26:Z26),0),0)*I26 -> 0 | BE26: =IF(H26="M",IF(SUM(M26:Z26)>0,SUM(M26:Z26),0),0)*I26 -> 0 | BF26: =IF(H26="L",IF(SUM(M26:Z26)>0,SUM(M26:Z26),0),0)*I26 -> 0 | BG26: =IF(H26="XL",IF(SUM(M26:Z26)>0,SUM(M26:Z26),0),0)*I26 -> 0 | BH26: =IF(H26="2XL",IF(SUM(M26:Z26)>0,SUM(M26:Z26),0),0)*I26 -> 0 | BI26: =IF(H26="3XL",IF(SUM(M26:Z26)>0,SUM(M26:Z26),0),0)*I26 -> 0 | BJ26: =IF(H26="various",IF(SUM(M26:Z26)>0,SUM(M26:Z26),0),0)*I26 -> 0 | BL26: =IF(E26="",IF(SUM(M26:Z26)>0,SUM(M26:Z26),0),0)*I26 -> 0 | BM26: =IF(E26="Natural dual tex.",IF(SUM(M26:Z26)>0,SUM(M26:Z26),0),0)*I26 -> 0 | BO26: =IF(F26="sloper",IF(SUM(M26:Z26)>0,SUM(M26:Z26),0),0)*I26 -> 0 | BP26: =IF(F26="footholds",IF(SUM(M26:Z26)>0,SUM(M26:Z26),0),0)*I26 -> 0 | BQ26: =IF(F26="micros",IF(SUM(M26:Z26)>0,SUM(M26:Z26),0),0)*I26 -> 0 | BR26: =IF(F26="jug",IF(SUM(M26:Z26)>0,SUM(M26:Z26),0),0)*I26 -> 0 | BS26: =IF(F26="ledge",IF(SUM(M26:Z26)>0,SUM(M26:Z26),0),0)*I26 -> 0 | BT26: =IF(F26="edge",IF(SUM(M26:Z26)>0,SUM(M26:Z26),0),0)*I26 -> 0 | BU26: =IF(F26="crimp",IF(SUM(M26:Z26)>0,SUM(M26:Z26),0),0)*I26 -> 0 | BV26: =IF(F26="incut",IF(SUM(M26:Z26)>0,SUM(M26:Z26),0),0)*I26 -> 0 | BW26: =IF(F26="dish",IF(SUM(M26:Z26)>0,SUM(M26:Z26),0),0)*I26 -> 0 | BX26: =IF(F26="pinch",IF(SUM(M26:Z26)>0,SUM(M26:Z26),0),0)*I26 -> 0 | BY26: =IF(F26="pocket",IF(SUM(M26:Z26)>0,SUM(M26:Z26),0),0)*I26 -> 0 | BZ26: =IF(F26="insert",IF(SUM(M26:Z26)>0,SUM(M26:Z26),0),0)*I26 -> 0 | CA26: =IF(F26="feature",IF(SUM(M26:Z26)>0,SUM(M26:Z26),0),0)*I26 -> 0 | CB26: =IF(F26="scoop",IF(SUM(M26:Z26)>0,SUM(M26:Z26),0),0)*I26 -> 0 | CC26: =IF(F26="positive",IF(SUM(M26:Z26)>0,SUM(M26:Z26),0),0)*I26 -> 0 | CD26: =IF(F26="arete",IF(SUM(M26:Z26)>0,SUM(M26:Z26),0),0)*I26 -> 0 | CE26: =IF(F26="flat rectangle",IF(SUM(M26:Z26)>0,SUM(M26:Z26),0),0)*I26 -> 0 | CF26: =IF(F26="pentagon",IF(SUM(M26:Z26)>0,SUM(M26:Z26),0),0)*I26 -> 0 | CG26: =IF(F26="pyramid",IF(SUM(M26:Z26)>0,SUM(M26:Z26),0),0)*I26 -> 0 | CH26: =IF(F26="flat",IF(SUM(M26:Z26)>0,SUM(M26:Z26),0),0)*I26 -> 0 | CI26: =IF(F26="various",IF(SUM(M26:Z26)>0,SUM(M26:Z26),0),0)*I26 -> 0
B27: NEW | D27: L17-WH-N-DT | E27: Natural dual tex. | F27: positive | G27: 50x26x12,5 cm | H27: M | I27: 1 | J27: 0 | K27: screws | L27: 391.4 | AA27: =L27*M27+L27*N27+L27*O27+L27*P27+L27*Q27+L27*R27+L27*T27+L27*U27+L27*V27+L27*W27+L27*X27+L27*Y27+L27*Z27+L27*S27 -> 0 | AB27: =IF(SUM(M27:Z27)>0,"Yes","No") -> No | AC27: =IF(B27="New","Yes","No") -> Yes | AE27: 1 | AF27: =AE27*M27+AE27*N27+AE27*O27+AE27*P27+AE27*Q27+AE27*R27+AE27*T27+AE27*U27+AE27*V27+AE27*W27+AE27*X27+AE27*Y27+AE27*Z27+AE27*S27 -> 0 | AH27: 2.6 | AI27: =SUM(M27:Z27)*AH27 -> 0 | AJ27: =I27*M27 -> 0 | AK27: =I27*N27 -> 0 | AL27: =I27*O27 -> 0 | AM27: =I27*P27 -> 0 | AN27: =I27*Q27 -> 0 | AO27: =I27*R27 -> 0 | AP27: =I27*S27 -> 0 | AQ27: =I27*T27 -> 0 | AR27: =I27*U27 -> 0 | AS27: =I27*V27 -> 0 | AT27: =I27*W27 -> 0 | AU27: =I27*X27 -> 0 | AV27: =I27*Y27 -> 0 | AW27: =I27*Z27 -> 0 | AX27: 1 | AY27: 6 | BC27: =IF(H27="XS",IF(SUM(M27:Z27)>0,SUM(M27:Z27),0),0)*I27 -> 0 | BD27: =IF(H27="S",IF(SUM(M27:Z27)>0,SUM(M27:Z27),0),0)*I27 -> 0 | BE27: =IF(H27="M",IF(SUM(M27:Z27)>0,SUM(M27:Z27),0),0)*I27 -> 0 | BF27: =IF(H27="L",IF(SUM(M27:Z27)>0,SUM(M27:Z27),0),0)*I27 -> 0 | BG27: =IF(H27="XL",IF(SUM(M27:Z27)>0,SUM(M27:Z27),0),0)*I27 -> 0 | BH27: =IF(H27="2XL",IF(SUM(M27:Z27)>0,SUM(M27:Z27),0),0)*I27 -> 0 | BI27: =IF(H27="3XL",IF(SUM(M27:Z27)>0,SUM(M27:Z27),0),0)*I27 -> 0 | BJ27: =IF(H27="various",IF(SUM(M27:Z27)>0,SUM(M27:Z27),0),0)*I27 -> 0 | BL27: =IF(E27="",IF(SUM(M27:Z27)>0,SUM(M27:Z27),0),0)*I27 -> 0 | BM27: =IF(E27="Natural dual tex.",IF(SUM(M27:Z27)>0,SUM(M27:Z27),0),0)*I27 -> 0 | BO27: =IF(F27="sloper",IF(SUM(M27:Z27)>0,SUM(M27:Z27),0),0)*I27 -> 0 | BP27: =IF(F27="footholds",IF(SUM(M27:Z27)>0,SUM(M27:Z27),0),0)*I27 -> 0 | BQ27: =IF(F27="micros",IF(SUM(M27:Z27)>0,SUM(M27:Z27),0),0)*I27 -> 0 | BR27: =IF(F27="jug",IF(SUM(M27:Z27)>0,SUM(M27:Z27),0),0)*I27 -> 0 | BS27: =IF(F27="ledge",IF(SUM(M27:Z27)>0,SUM(M27:Z27),0),0)*I27 -> 0 | BT27: =IF(F27="edge",IF(SUM(M27:Z27)>0,SUM(M27:Z27),0),0)*I27 -> 0 | BU27: =IF(F27="crimp",IF(SUM(M27:Z27)>0,SUM(M27:Z27),0),0)*I27 -> 0 | BV27: =IF(F27="incut",IF(SUM(M27:Z27)>0,SUM(M27:Z27),0),0)*I27 -> 0 | BW27: =IF(F27="dish",IF(SUM(M27:Z27)>0,SUM(M27:Z27),0),0)*I27 -> 0 | BX27: =IF(F27="pinch",IF(SUM(M27:Z27)>0,SUM(M27:Z27),0),0)*I27 -> 0 | BY27: =IF(F27="pocket",IF(SUM(M27:Z27)>0,SUM(M27:Z27),0),0)*I27 -> 0 | BZ27: =IF(F27="insert",IF(SUM(M27:Z27)>0,SUM(M27:Z27),0),0)*I27 -> 0 | CA27: =IF(F27="feature",IF(SUM(M27:Z27)>0,SUM(M27:Z27),0),0)*I27 -> 0 | CB27: =IF(F27="scoop",IF(SUM(M27:Z27)>0,SUM(M27:Z27),0),0)*I27 -> 0 | CC27: =IF(F27="positive",IF(SUM(M27:Z27)>0,SUM(M27:Z27),0),0)*I27 -> 0 | CD27: =IF(F27="arete",IF(SUM(M27:Z27)>0,SUM(M27:Z27),0),0)*I27 -> 0 | CE27: =IF(F27="flat rectangle",IF(SUM(M27:Z27)>0,SUM(M27:Z27),0),0)*I27 -> 0 | CF27: =IF(F27="pentagon",IF(SUM(M27:Z27)>0,SUM(M27:Z27),0),0)*I27 -> 0 | CG27: =IF(F27="pyramid",IF(SUM(M27:Z27)>0,SUM(M27:Z27),0),0)*I27 -> 0 | CH27: =IF(F27="flat",IF(SUM(M27:Z27)>0,SUM(M27:Z27),0),0)*I27 -> 0 | CI27: =IF(F27="various",IF(SUM(M27:Z27)>0,SUM(M27:Z27),0),0)*I27 -> 0
B28: NEW | D28: L18-WH-N-DT | E28: Natural dual tex. | F28: positive | G28: 75x40x15,5 cm | H28: L | I28: 1 | J28: 0 | K28: screws | L28: 700.4 | AA28: =L28*M28+L28*N28+L28*O28+L28*P28+L28*Q28+L28*R28+L28*T28+L28*U28+L28*V28+L28*W28+L28*X28+L28*Y28+L28*Z28+L28*S28 -> 0 | AB28: =IF(SUM(M28:Z28)>0,"Yes","No") -> No | AC28: =IF(B28="New","Yes","No") -> Yes | AE28: 1 | AF28: =AE28*M28+AE28*N28+AE28*O28+AE28*P28+AE28*Q28+AE28*R28+AE28*T28+AE28*U28+AE28*V28+AE28*W28+AE28*X28+AE28*Y28+AE28*Z28+AE28*S28 -> 0 | AH28: 4.75 | AI28: =SUM(M28:Z28)*AH28 -> 0 | AJ28: =I28*M28 -> 0 | AK28: =I28*N28 -> 0 | AL28: =I28*O28 -> 0 | AM28: =I28*P28 -> 0 | AN28: =I28*Q28 -> 0 | AO28: =I28*R28 -> 0 | AP28: =I28*S28 -> 0 | AQ28: =I28*T28 -> 0 | AR28: =I28*U28 -> 0 | AS28: =I28*V28 -> 0 | AT28: =I28*W28 -> 0 | AU28: =I28*X28 -> 0 | AV28: =I28*Y28 -> 0 | AW28: =I28*Z28 -> 0 | AX28: 1 | AY28: 6 | BC28: =IF(H28="XS",IF(SUM(M28:Z28)>0,SUM(M28:Z28),0),0)*I28 -> 0 | BD28: =IF(H28="S",IF(SUM(M28:Z28)>0,SUM(M28:Z28),0),0)*I28 -> 0 | BE28: =IF(H28="M",IF(SUM(M28:Z28)>0,SUM(M28:Z28),0),0)*I28 -> 0 | BF28: =IF(H28="L",IF(SUM(M28:Z28)>0,SUM(M28:Z28),0),0)*I28 -> 0 | BG28: =IF(H28="XL",IF(SUM(M28:Z28)>0,SUM(M28:Z28),0),0)*I28 -> 0 | BH28: =IF(H28="2XL",IF(SUM(M28:Z28)>0,SUM(M28:Z28),0),0)*I28 -> 0 | BI28: =IF(H28="3XL",IF(SUM(M28:Z28)>0,SUM(M28:Z28),0),0)*I28 -> 0 | BJ28: =IF(H28="various",IF(SUM(M28:Z28)>0,SUM(M28:Z28),0),0)*I28 -> 0 | BL28: =IF(E28="",IF(SUM(M28:Z28)>0,SUM(M28:Z28),0),0)*I28 -> 0 | BM28: =IF(E28="Natural dual tex.",IF(SUM(M28:Z28)>0,SUM(M28:Z28),0),0)*I28 -> 0 | BO28: =IF(F28="sloper",IF(SUM(M28:Z28)>0,SUM(M28:Z28),0),0)*I28 -> 0 | BP28: =IF(F28="footholds",IF(SUM(M28:Z28)>0,SUM(M28:Z28),0),0)*I28 -> 0 | BQ28: =IF(F28="micros",IF(SUM(M28:Z28)>0,SUM(M28:Z28),0),0)*I28 -> 0 | BR28: =IF(F28="jug",IF(SUM(M28:Z28)>0,SUM(M28:Z28),0),0)*I28 -> 0 | BS28: =IF(F28="ledge",IF(SUM(M28:Z28)>0,SUM(M28:Z28),0),0)*I28 -> 0 | BT28: =IF(F28="edge",IF(SUM(M28:Z28)>0,SUM(M28:Z28),0),0)*I28 -> 0 | BU28: =IF(F28="crimp",IF(SUM(M28:Z28)>0,SUM(M28:Z28),0),0)*I28 -> 0 | BV28: =IF(F28="incut",IF(SUM(M28:Z28)>0,SUM(M28:Z28),0),0)*I28 -> 0 | BW28: =IF(F28="dish",IF(SUM(M28:Z28)>0,SUM(M28:Z28),0),0)*I28 -> 0 | BX28: =IF(F28="pinch",IF(SUM(M28:Z28)>0,SUM(M28:Z28),0),0)*I28 -> 0 | BY28: =IF(F28="pocket",IF(SUM(M28:Z28)>0,SUM(M28:Z28),0),0)*I28 -> 0 | BZ28: =IF(F28="insert",IF(SUM(M28:Z28)>0,SUM(M28:Z28),0),0)*I28 -> 0 | CA28: =IF(F28="feature",IF(SUM(M28:Z28)>0,SUM(M28:Z28),0),0)*I28 -> 0 | CB28: =IF(F28="scoop",IF(SUM(M28:Z28)>0,SUM(M28:Z28),0),0)*I28 -> 0 | CC28: =IF(F28="positive",IF(SUM(M28:Z28)>0,SUM(M28:Z28),0),0)*I28 -> 0 | CD28: =IF(F28="arete",IF(SUM(M28:Z28)>0,SUM(M28:Z28),0),0)*I28 -> 0 | CE28: =IF(F28="flat rectangle",IF(SUM(M28:Z28)>0,SUM(M28:Z28),0),0)*I28 -> 0 | CF28: =IF(F28="pentagon",IF(SUM(M28:Z28)>0,SUM(M28:Z28),0),0)*I28 -> 0 | CG28: =IF(F28="pyramid",IF(SUM(M28:Z28)>0,SUM(M28:Z28),0),0)*I28 -> 0 | CH28: =IF(F28="flat",IF(SUM(M28:Z28)>0,SUM(M28:Z28),0),0)*I28 -> 0 | CI28: =IF(F28="various",IF(SUM(M28:Z28)>0,SUM(M28:Z28),0),0)*I28 -> 0
B29: NEW | D29: L19-WH-N-DT | E29: Natural dual tex. | F29: sloper | G29: 48x27x8 cm | H29: M | I29: 1 | J29: 0 | K29: screws | L29: 278.1 | AA29: =L29*M29+L29*N29+L29*O29+L29*P29+L29*Q29+L29*R29+L29*T29+L29*U29+L29*V29+L29*W29+L29*X29+L29*Y29+L29*Z29+L29*S29 -> 0 | AB29: =IF(SUM(M29:Z29)>0,"Yes","No") -> No | AC29: =IF(B29="New","Yes","No") -> Yes | AE29: 1 | AF29: =AE29*M29+AE29*N29+AE29*O29+AE29*P29+AE29*Q29+AE29*R29+AE29*T29+AE29*U29+AE29*V29+AE29*W29+AE29*X29+AE29*Y29+AE29*Z29+AE29*S29 -> 0 | AH29: 2.05 | AI29: =SUM(M29:Z29)*AH29 -> 0 | AJ29: =I29*M29 -> 0 | AK29: =I29*N29 -> 0 | AL29: =I29*O29 -> 0 | AM29: =I29*P29 -> 0 | AN29: =I29*Q29 -> 0 | AO29: =I29*R29 -> 0 | AP29: =I29*S29 -> 0 | AQ29: =I29*T29 -> 0 | AR29: =I29*U29 -> 0 | AS29: =I29*V29 -> 0 | AT29: =I29*W29 -> 0 | AU29: =I29*X29 -> 0 | AV29: =I29*Y29 -> 0 | AW29: =I29*Z29 -> 0 | AX29: 1 | AY29: 5 | BC29: =IF(H29="XS",IF(SUM(M29:Z29)>0,SUM(M29:Z29),0),0)*I29 -> 0 | BD29: =IF(H29="S",IF(SUM(M29:Z29)>0,SUM(M29:Z29),0),0)*I29 -> 0 | BE29: =IF(H29="M",IF(SUM(M29:Z29)>0,SUM(M29:Z29),0),0)*I29 -> 0 | BF29: =IF(H29="L",IF(SUM(M29:Z29)>0,SUM(M29:Z29),0),0)*I29 -> 0 | BG29: =IF(H29="XL",IF(SUM(M29:Z29)>0,SUM(M29:Z29),0),0)*I29 -> 0 | BH29: =IF(H29="2XL",IF(SUM(M29:Z29)>0,SUM(M29:Z29),0),0)*I29 -> 0 | BI29: =IF(H29="3XL",IF(SUM(M29:Z29)>0,SUM(M29:Z29),0),0)*I29 -> 0 | BJ29: =IF(H29="various",IF(SUM(M29:Z29)>0,SUM(M29:Z29),0),0)*I29 -> 0 | BL29: =IF(E29="",IF(SUM(M29:Z29)>0,SUM(M29:Z29),0),0)*I29 -> 0 | BM29: =IF(E29="Natural dual tex.",IF(SUM(M29:Z29)>0,SUM(M29:Z29),0),0)*I29 -> 0 | BO29: =IF(F29="sloper",IF(SUM(M29:Z29)>0,SUM(M29:Z29),0),0)*I29 -> 0 | BP29: =IF(F29="footholds",IF(SUM(M29:Z29)>0,SUM(M29:Z29),0),0)*I29 -> 0 | BQ29: =IF(F29="micros",IF(SUM(M29:Z29)>0,SUM(M29:Z29),0),0)*I29 -> 0 | BR29: =IF(F29="jug",IF(SUM(M29:Z29)>0,SUM(M29:Z29),0),0)*I29 -> 0 | BS29: =IF(F29="ledge",IF(SUM(M29:Z29)>0,SUM(M29:Z29),0),0)*I29 -> 0 | BT29: =IF(F29="edge",IF(SUM(M29:Z29)>0,SUM(M29:Z29),0),0)*I29 -> 0 | BU29: =IF(F29="crimp",IF(SUM(M29:Z29)>0,SUM(M29:Z29),0),0)*I29 -> 0 | BV29: =IF(F29="incut",IF(SUM(M29:Z29)>0,SUM(M29:Z29),0),0)*I29 -> 0 | BW29: =IF(F29="dish",IF(SUM(M29:Z29)>0,SUM(M29:Z29),0),0)*I29 -> 0 | BX29: =IF(F29="pinch",IF(SUM(M29:Z29)>0,SUM(M29:Z29),0),0)*I29 -> 0 | BY29: =IF(F29="pocket",IF(SUM(M29:Z29)>0,SUM(M29:Z29),0),0)*I29 -> 0 | BZ29: =IF(F29="insert",IF(SUM(M29:Z29)>0,SUM(M29:Z29),0),0)*I29 -> 0 | CA29: =IF(F29="feature",IF(SUM(M29:Z29)>0,SUM(M29:Z29),0),0)*I29 -> 0 | CB29: =IF(F29="scoop",IF(SUM(M29:Z29)>0,SUM(M29:Z29),0),0)*I29 -> 0 | CC29: =IF(F29="positive",IF(SUM(M29:Z29)>0,SUM(M29:Z29),0),0)*I29 -> 0 | CD29: =IF(F29="arete",IF(SUM(M29:Z29)>0,SUM(M29:Z29),0),0)*I29 -> 0 | CE29: =IF(F29="flat rectangle",IF(SUM(M29:Z29)>0,SUM(M29:Z29),0),0)*I29 -> 0 | CF29: =IF(F29="pentagon",IF(SUM(M29:Z29)>0,SUM(M29:Z29),0),0)*I29 -> 0 | CG29: =IF(F29="pyramid",IF(SUM(M29:Z29)>0,SUM(M29:Z29),0),0)*I29 -> 0 | CH29: =IF(F29="flat",IF(SUM(M29:Z29)>0,SUM(M29:Z29),0),0)*I29 -> 0 | CI29: =IF(F29="various",IF(SUM(M29:Z29)>0,SUM(M29:Z29),0),0)*I29 -> 0
B30: NEW | D30: L20-WH-N-DT | E30: Natural dual tex. | F30: flat | G30: 48x27x5,5 cm | H30: M | I30: 1 | J30: 0 | K30: screws | L30: 236.9 | AA30: =L30*M30+L30*N30+L30*O30+L30*P30+L30*Q30+L30*R30+L30*T30+L30*U30+L30*V30+L30*W30+L30*X30+L30*Y30+L30*Z30+L30*S30 -> 0 | AB30: =IF(SUM(M30:Z30)>0,"Yes","No") -> No | AC30: =IF(B30="New","Yes","No") -> Yes | AE30: 1 | AF30: =AE30*M30+AE30*N30+AE30*O30+AE30*P30+AE30*Q30+AE30*R30+AE30*T30+AE30*U30+AE30*V30+AE30*W30+AE30*X30+AE30*Y30+AE30*Z30+AE30*S30 -> 0 | AH30: 1.8 | AI30: =SUM(M30:Z30)*AH30 -> 0 | AJ30: =I30*M30 -> 0 | AK30: =I30*N30 -> 0 | AL30: =I30*O30 -> 0 | AM30: =I30*P30 -> 0 | AN30: =I30*Q30 -> 0 | AO30: =I30*R30 -> 0 | AP30: =I30*S30 -> 0 | AQ30: =I30*T30 -> 0 | AR30: =I30*U30 -> 0 | AS30: =I30*V30 -> 0 | AT30: =I30*W30 -> 0 | AU30: =I30*X30 -> 0 | AV30: =I30*Y30 -> 0 | AW30: =I30*Z30 -> 0 | AX30: 1 | AY30: 5 | BC30: =IF(H30="XS",IF(SUM(M30:Z30)>0,SUM(M30:Z30),0),0)*I30 -> 0 | BD30: =IF(H30="S",IF(SUM(M30:Z30)>0,SUM(M30:Z30),0),0)*I30 -> 0 | BE30: =IF(H30="M",IF(SUM(M30:Z30)>0,SUM(M30:Z30),0),0)*I30 -> 0 | BF30: =IF(H30="L",IF(SUM(M30:Z30)>0,SUM(M30:Z30),0),0)*I30 -> 0 | BG30: =IF(H30="XL",IF(SUM(M30:Z30)>0,SUM(M30:Z30),0),0)*I30 -> 0 | BH30: =IF(H30="2XL",IF(SUM(M30:Z30)>0,SUM(M30:Z30),0),0)*I30 -> 0 | BI30: =IF(H30="3XL",IF(SUM(M30:Z30)>0,SUM(M30:Z30),0),0)*I30 -> 0 | BJ30: =IF(H30="various",IF(SUM(M30:Z30)>0,SUM(M30:Z30),0),0)*I30 -> 0 | BL30: =IF(E30="",IF(SUM(M30:Z30)>0,SUM(M30:Z30),0),0)*I30 -> 0 | BM30: =IF(E30="Natural dual tex.",IF(SUM(M30:Z30)>0,SUM(M30:Z30),0),0)*I30 -> 0 | BO30: =IF(F30="sloper",IF(SUM(M30:Z30)>0,SUM(M30:Z30),0),0)*I30 -> 0 | BP30: =IF(F30="footholds",IF(SUM(M30:Z30)>0,SUM(M30:Z30),0),0)*I30 -> 0 | BQ30: =IF(F30="micros",IF(SUM(M30:Z30)>0,SUM(M30:Z30),0),0)*I30 -> 0 | BR30: =IF(F30="jug",IF(SUM(M30:Z30)>0,SUM(M30:Z30),0),0)*I30 -> 0 | BS30: =IF(F30="ledge",IF(SUM(M30:Z30)>0,SUM(M30:Z30),0),0)*I30 -> 0 | BT30: =IF(F30="edge",IF(SUM(M30:Z30)>0,SUM(M30:Z30),0),0)*I30 -> 0 | BU30: =IF(F30="crimp",IF(SUM(M30:Z30)>0,SUM(M30:Z30),0),0)*I30 -> 0 | BV30: =IF(F30="incut",IF(SUM(M30:Z30)>0,SUM(M30:Z30),0),0)*I30 -> 0 | BW30: =IF(F30="dish",IF(SUM(M30:Z30)>0,SUM(M30:Z30),0),0)*I30 -> 0 | BX30: =IF(F30="pinch",IF(SUM(M30:Z30)>0,SUM(M30:Z30),0),0)*I30 -> 0 | BY30: =IF(F30="pocket",IF(SUM(M30:Z30)>0,SUM(M30:Z30),0),0)*I30 -> 0 | BZ30: =IF(F30="insert",IF(SUM(M30:Z30)>0,SUM(M30:Z30),0),0)*I30 -> 0 | CA30: =IF(F30="feature",IF(SUM(M30:Z30)>0,SUM(M30:Z30),0),0)*I30 -> 0 | CB30: =IF(F30="scoop",IF(SUM(M30:Z30)>0,SUM(M30:Z30),0),0)*I30 -> 0 | CC30: =IF(F30="positive",IF(SUM(M30:Z30)>0,SUM(M30:Z30),0),0)*I30 -> 0 | CD30: =IF(F30="arete",IF(SUM(M30:Z30)>0,SUM(M30:Z30),0),0)*I30 -> 0 | CE30: =IF(F30="flat rectangle",IF(SUM(M30:Z30)>0,SUM(M30:Z30),0),0)*I30 -> 0 | CF30: =IF(F30="pentagon",IF(SUM(M30:Z30)>0,SUM(M30:Z30),0),0)*I30 -> 0 | CG30: =IF(F30="pyramid",IF(SUM(M30:Z30)>0,SUM(M30:Z30),0),0)*I30 -> 0 | CH30: =IF(F30="flat",IF(SUM(M30:Z30)>0,SUM(M30:Z30),0),0)*I30 -> 0 | CI30: =IF(F30="various",IF(SUM(M30:Z30)>0,SUM(M30:Z30),0),0)*I30 -> 0
B31: NEW | D31: L21-WH-N-DT | E31: Natural dual tex. | F31: various | G31: asymmetric sets: 3, 4, 9, 10, 11, 12, 15, 18 | H31: various | I31: 8 | J31: 0 | K31: screws | L31: 2590.45 | AA31: =L31*M31+L31*N31+L31*O31+L31*P31+L31*Q31+L31*R31+L31*T31+L31*U31+L31*V31+L31*W31+L31*X31+L31*Y31+L31*Z31+L31*S31 -> 0 | AB31: =IF(SUM(M31:Z31)>0,"Yes","No") -> No | AC31: =IF(B31="New","Yes","No") -> Yes | AE31: 8 | AF31: =AE31*M31+AE31*N31+AE31*O31+AE31*P31+AE31*Q31+AE31*R31+AE31*T31+AE31*U31+AE31*V31+AE31*W31+AE31*X31+AE31*Y31+AE31*Z31+AE31*S31 -> 0 | AH31: 13.75 | AI31: =SUM(M31:Z31)*AH31 -> 0 | AJ31: =I31*M31 -> 0 | AK31: =I31*N31 -> 0 | AL31: =I31*O31 -> 0 | AM31: =I31*P31 -> 0 | AN31: =I31*Q31 -> 0 | AO31: =I31*R31 -> 0 | AP31: =I31*S31 -> 0 | AQ31: =I31*T31 -> 0 | AR31: =I31*U31 -> 0 | AS31: =I31*V31 -> 0 | AT31: =I31*W31 -> 0 | AU31: =I31*X31 -> 0 | AV31: =I31*Y31 -> 0 | AW31: =I31*Z31 -> 0 | AX31: 8 | AY31: 34 | AZ31: 1 | BC31: =IF(H31="XS",IF(SUM(M31:Z31)>0,SUM(M31:Z31),0),0)*I31 -> 0 | BD31: =IF(H31="S",IF(SUM(M31:Z31)>0,SUM(M31:Z31),0),0)*I31 -> 0 | BE31: =IF(H31="M",IF(SUM(M31:Z31)>0,SUM(M31:Z31),0),0)*I31 -> 0 | BF31: =IF(H31="L",IF(SUM(M31:Z31)>0,SUM(M31:Z31),0),0)*I31 -> 0 | BG31: =IF(H31="XL",IF(SUM(M31:Z31)>0,SUM(M31:Z31),0),0)*I31 -> 0 | BH31: =IF(H31="2XL",IF(SUM(M31:Z31)>0,SUM(M31:Z31),0),0)*I31 -> 0 | BI31: =IF(H31="3XL",IF(SUM(M31:Z31)>0,SUM(M31:Z31),0),0)*I31 -> 0 | BJ31: =IF(H31="various",IF(SUM(M31:Z31)>0,SUM(M31:Z31),0),0)*I31 -> 0 | BL31: =IF(E31="",IF(SUM(M31:Z31)>0,SUM(M31:Z31),0),0)*I31 -> 0 | BM31: =IF(E31="Natural dual tex.",IF(SUM(M31:Z31)>0,SUM(M31:Z31),0),0)*I31 -> 0 | BO31: =IF(F31="sloper",IF(SUM(M31:Z31)>0,SUM(M31:Z31),0),0)*I31 -> 0 | BP31: =IF(F31="footholds",IF(SUM(M31:Z31)>0,SUM(M31:Z31),0),0)*I31 -> 0 | BQ31: =IF(F31="micros",IF(SUM(M31:Z31)>0,SUM(M31:Z31),0),0)*I31 -> 0 | BR31: =IF(F31="jug",IF(SUM(M31:Z31)>0,SUM(M31:Z31),0),0)*I31 -> 0 | BS31: =IF(F31="ledge",IF(SUM(M31:Z31)>0,SUM(M31:Z31),0),0)*I31 -> 0 | BT31: =IF(F31="edge",IF(SUM(M31:Z31)>0,SUM(M31:Z31),0),0)*I31 -> 0 | BU31: =IF(F31="crimp",IF(SUM(M31:Z31)>0,SUM(M31:Z31),0),0)*I31 -> 0 | BV31: =IF(F31="incut",IF(SUM(M31:Z31)>0,SUM(M31:Z31),0),0)*I31 -> 0 | BW31: =IF(F31="dish",IF(SUM(M31:Z31)>0,SUM(M31:Z31),0),0)*I31 -> 0 | BX31: =IF(F31="pinch",IF(SUM(M31:Z31)>0,SUM(M31:Z31),0),0)*I31 -> 0 | BY31: =IF(F31="pocket",IF(SUM(M31:Z31)>0,SUM(M31:Z31),0),0)*I31 -> 0 | BZ31: =IF(F31="insert",IF(SUM(M31:Z31)>0,SUM(M31:Z31),0),0)*I31 -> 0 | CA31: =IF(F31="feature",IF(SUM(M31:Z31)>0,SUM(M31:Z31),0),0)*I31 -> 0 | CB31: =IF(F31="scoop",IF(SUM(M31:Z31)>0,SUM(M31:Z31),0),0)*I31 -> 0 | CC31: =IF(F31="positive",IF(SUM(M31:Z31)>0,SUM(M31:Z31),0),0)*I31 -> 0 | CD31: =IF(F31="arete",IF(SUM(M31:Z31)>0,SUM(M31:Z31),0),0)*I31 -> 0 | CE31: =IF(F31="flat rectangle",IF(SUM(M31:Z31)>0,SUM(M31:Z31),0),0)*I31 -> 0 | CF31: =IF(F31="pentagon",IF(SUM(M31:Z31)>0,SUM(M31:Z31),0),0)*I31 -> 0 | CG31: =IF(F31="pyramid",IF(SUM(M31:Z31)>0,SUM(M31:Z31),0),0)*I31 -> 0 | CH31: =IF(F31="flat",IF(SUM(M31:Z31)>0,SUM(M31:Z31),0),0)*I31 -> 0 | CI31: =IF(F31="various",IF(SUM(M31:Z31)>0,SUM(M31:Z31),0),0)*I31 -> 0
B32: NEW | D32: L22-WH-N-DT | E32: Natural dual tex. | F32: various | G32: symmetric sets: 1, 2, 5, 6, 7, 8, 13, 14, 16, 17, 19, 20 | H32: M | I32: 12 | J32: 0 | K32: screws | L32: 3162.1 | AA32: =L32*M32+L32*N32+L32*O32+L32*P32+L32*Q32+L32*R32+L32*T32+L32*U32+L32*V32+L32*W32+L32*X32+L32*Y32+L32*Z32+L32*S32 -> 0 | AB32: =IF(SUM(M32:Z32)>0,"Yes","No") -> No | AC32: =IF(B32="New","Yes","No") -> Yes | AE32: 12 | AF32: =AE32*M32+AE32*N32+AE32*O32+AE32*P32+AE32*Q32+AE32*R32+AE32*T32+AE32*U32+AE32*V32+AE32*W32+AE32*X32+AE32*Y32+AE32*Z32+AE32*S32 -> 0 | AH32: 19.05 | AI32: =SUM(M32:Z32)*AH32 -> 0 | AJ32: =I32*M32 -> 0 | AK32: =I32*N32 -> 0 | AL32: =I32*O32 -> 0 | AM32: =I32*P32 -> 0 | AN32: =I32*Q32 -> 0 | AO32: =I32*R32 -> 0 | AP32: =I32*S32 -> 0 | AQ32: =I32*T32 -> 0 | AR32: =I32*U32 -> 0 | AS32: =I32*V32 -> 0 | AT32: =I32*W32 -> 0 | AU32: =I32*X32 -> 0 | AV32: =I32*Y32 -> 0 | AW32: =I32*Z32 -> 0 | AX32: 12 | AY32: 57 | BC32: =IF(H32="XS",IF(SUM(M32:Z32)>0,SUM(M32:Z32),0),0)*I32 -> 0 | BD32: =IF(H32="S",IF(SUM(M32:Z32)>0,SUM(M32:Z32),0),0)*I32 -> 0 | BE32: =IF(H32="M",IF(SUM(M32:Z32)>0,SUM(M32:Z32),0),0)*I32 -> 0 | BF32: =IF(H32="L",IF(SUM(M32:Z32)>0,SUM(M32:Z32),0),0)*I32 -> 0 | BG32: =IF(H32="XL",IF(SUM(M32:Z32)>0,SUM(M32:Z32),0),0)*I32 -> 0 | BH32: =IF(H32="2XL",IF(SUM(M32:Z32)>0,SUM(M32:Z32),0),0)*I32 -> 0 | BI32: =IF(H32="3XL",IF(SUM(M32:Z32)>0,SUM(M32:Z32),0),0)*I32 -> 0 | BJ32: =IF(H32="various",IF(SUM(M32:Z32)>0,SUM(M32:Z32),0),0)*I32 -> 0 | BL32: =IF(E32="",IF(SUM(M32:Z32)>0,SUM(M32:Z32),0),0)*I32 -> 0 | BM32: =IF(E32="Natural dual tex.",IF(SUM(M32:Z32)>0,SUM(M32:Z32),0),0)*I32 -> 0 | BO32: =IF(F32="sloper",IF(SUM(M32:Z32)>0,SUM(M32:Z32),0),0)*I32 -> 0 | BP32: =IF(F32="footholds",IF(SUM(M32:Z32)>0,SUM(M32:Z32),0),0)*I32 -> 0 | BQ32: =IF(F32="micros",IF(SUM(M32:Z32)>0,SUM(M32:Z32),0),0)*I32 -> 0 | BR32: =IF(F32="jug",IF(SUM(M32:Z32)>0,SUM(M32:Z32),0),0)*I32 -> 0 | BS32: =IF(F32="ledge",IF(SUM(M32:Z32)>0,SUM(M32:Z32),0),0)*I32 -> 0 | BT32: =IF(F32="edge",IF(SUM(M32:Z32)>0,SUM(M32:Z32),0),0)*I32 -> 0 | BU32: =IF(F32="crimp",IF(SUM(M32:Z32)>0,SUM(M32:Z32),0),0)*I32 -> 0 | BV32: =IF(F32="incut",IF(SUM(M32:Z32)>0,SUM(M32:Z32),0),0)*I32 -> 0 | BW32: =IF(F32="dish",IF(SUM(M32:Z32)>0,SUM(M32:Z32),0),0)*I32 -> 0 | BX32: =IF(F32="pinch",IF(SUM(M32:Z32)>0,SUM(M32:Z32),0),0)*I32 -> 0 | BY32: =IF(F32="pocket",IF(SUM(M32:Z32)>0,SUM(M32:Z32),0),0)*I32 -> 0 | BZ32: =IF(F32="insert",IF(SUM(M32:Z32)>0,SUM(M32:Z32),0),0)*I32 -> 0 | CA32: =IF(F32="feature",IF(SUM(M32:Z32)>0,SUM(M32:Z32),0),0)*I32 -> 0 | CB32: =IF(F32="scoop",IF(SUM(M32:Z32)>0,SUM(M32:Z32),0),0)*I32 -> 0 | CC32: =IF(F32="positive",IF(SUM(M32:Z32)>0,SUM(M32:Z32),0),0)*I32 -> 0 | CD32: =IF(F32="arete",IF(SUM(M32:Z32)>0,SUM(M32:Z32),0),0)*I32 -> 0 | CE32: =IF(F32="flat rectangle",IF(SUM(M32:Z32)>0,SUM(M32:Z32),0),0)*I32 -> 0 | CF32: =IF(F32="pentagon",IF(SUM(M32:Z32)>0,SUM(M32:Z32),0),0)*I32 -> 0 | CG32: =IF(F32="pyramid",IF(SUM(M32:Z32)>0,SUM(M32:Z32),0),0)*I32 -> 0 | CH32: =IF(F32="flat",IF(SUM(M32:Z32)>0,SUM(M32:Z32),0),0)*I32 -> 0 | CI32: =IF(F32="various",IF(SUM(M32:Z32)>0,SUM(M32:Z32),0),0)*I32 -> 0
B33: NEW | D33: L23-WH-N-DT | E33: Natural dual tex. | F33: various | G33: sets: 1 to 20 | H33: various | I33: 20 | J33: 0 | K33: screws | L33: 5752.55 | AA33: =L33*M33+L33*N33+L33*O33+L33*P33+L33*Q33+L33*R33+L33*T33+L33*U33+L33*V33+L33*W33+L33*X33+L33*Y33+L33*Z33+L33*S33 -> 0 | AB33: =IF(SUM(M33:Z33)>0,"Yes","No") -> No | AC33: =IF(B33="New","Yes","No") -> Yes | AE33: 20 | AF33: =AE33*M33+AE33*N33+AE33*O33+AE33*P33+AE33*Q33+AE33*R33+AE33*T33+AE33*U33+AE33*V33+AE33*W33+AE33*X33+AE33*Y33+AE33*Z33+AE33*S33 -> 0 | AH33: 32.8 | AI33: =SUM(M33:Z33)*AH33 -> 0 | AJ33: =I33*M33 -> 0 | AK33: =I33*N33 -> 0 | AL33: =I33*O33 -> 0 | AM33: =I33*P33 -> 0 | AN33: =I33*Q33 -> 0 | AO33: =I33*R33 -> 0 | AP33: =I33*S33 -> 0 | AQ33: =I33*T33 -> 0 | AR33: =I33*U33 -> 0 | AS33: =I33*V33 -> 0 | AT33: =I33*W33 -> 0 | AU33: =I33*X33 -> 0 | AV33: =I33*Y33 -> 0 | AW33: =I33*Z33 -> 0 | AX33: 20 | AY33: 91 | AZ33: 1 | BC33: =IF(H33="XS",IF(SUM(M33:Z33)>0,SUM(M33:Z33),0),0)*I33 -> 0 | BD33: =IF(H33="S",IF(SUM(M33:Z33)>0,SUM(M33:Z33),0),0)*I33 -> 0 | BE33: =IF(H33="M",IF(SUM(M33:Z33)>0,SUM(M33:Z33),0),0)*I33 -> 0 | BF33: =IF(H33="L",IF(SUM(M33:Z33)>0,SUM(M33:Z33),0),0)*I33 -> 0 | BG33: =IF(H33="XL",IF(SUM(M33:Z33)>0,SUM(M33:Z33),0),0)*I33 -> 0 | BH33: =IF(H33="2XL",IF(SUM(M33:Z33)>0,SUM(M33:Z33),0),0)*I33 -> 0 | BI33: =IF(H33="3XL",IF(SUM(M33:Z33)>0,SUM(M33:Z33),0),0)*I33 -> 0 | BJ33: =IF(H33="various",IF(SUM(M33:Z33)>0,SUM(M33:Z33),0),0)*I33 -> 0 | BL33: =IF(E33="",IF(SUM(M33:Z33)>0,SUM(M33:Z33),0),0)*I33 -> 0 | BM33: =IF(E33="Natural dual tex.",IF(SUM(M33:Z33)>0,SUM(M33:Z33),0),0)*I33 -> 0 | BO33: =IF(F33="sloper",IF(SUM(M33:Z33)>0,SUM(M33:Z33),0),0)*I33 -> 0 | BP33: =IF(F33="footholds",IF(SUM(M33:Z33)>0,SUM(M33:Z33),0),0)*I33 -> 0 | BQ33: =IF(F33="micros",IF(SUM(M33:Z33)>0,SUM(M33:Z33),0),0)*I33 -> 0 | BR33: =IF(F33="jug",IF(SUM(M33:Z33)>0,SUM(M33:Z33),0),0)*I33 -> 0 | BS33: =IF(F33="ledge",IF(SUM(M33:Z33)>0,SUM(M33:Z33),0),0)*I33 -> 0 | BT33: =IF(F33="edge",IF(SUM(M33:Z33)>0,SUM(M33:Z33),0),0)*I33 -> 0 | BU33: =IF(F33="crimp",IF(SUM(M33:Z33)>0,SUM(M33:Z33),0),0)*I33 -> 0 | BV33: =IF(F33="incut",IF(SUM(M33:Z33)>0,SUM(M33:Z33),0),0)*I33 -> 0 | BW33: =IF(F33="dish",IF(SUM(M33:Z33)>0,SUM(M33:Z33),0),0)*I33 -> 0 | BX33: =IF(F33="pinch",IF(SUM(M33:Z33)>0,SUM(M33:Z33),0),0)*I33 -> 0 | BY33: =IF(F33="pocket",IF(SUM(M33:Z33)>0,SUM(M33:Z33),0),0)*I33 -> 0 | BZ33: =IF(F33="insert",IF(SUM(M33:Z33)>0,SUM(M33:Z33),0),0)*I33 -> 0 | CA33: =IF(F33="feature",IF(SUM(M33:Z33)>0,SUM(M33:Z33),0),0)*I33 -> 0 | CB33: =IF(F33="scoop",IF(SUM(M33:Z33)>0,SUM(M33:Z33),0),0)*I33 -> 0 | CC33: =IF(F33="positive",IF(SUM(M33:Z33)>0,SUM(M33:Z33),0),0)*I33 -> 0 | CD33: =IF(F33="arete",IF(SUM(M33:Z33)>0,SUM(M33:Z33),0),0)*I33 -> 0 | CE33: =IF(F33="flat rectangle",IF(SUM(M33:Z33)>0,SUM(M33:Z33),0),0)*I33 -> 0 | CF33: =IF(F33="pentagon",IF(SUM(M33:Z33)>0,SUM(M33:Z33),0),0)*I33 -> 0 | CG33: =IF(F33="pyramid",IF(SUM(M33:Z33)>0,SUM(M33:Z33),0),0)*I33 -> 0 | CH33: =IF(F33="flat",IF(SUM(M33:Z33)>0,SUM(M33:Z33),0),0)*I33 -> 0 | CI33: =IF(F33="various",IF(SUM(M33:Z33)>0,SUM(M33:Z33),0),0)*I33 -> 0

Sheet PROD. Lynx Woodholds
I1: SUM kosov | J1: kg
I2: =P4 -> 0 | J2: ='Lynx WOODEN HOLDS'!L3 -> 0
A3: stranka: | B3: ='PROD. lynx GRP'!C3 -> 0 | M3: št.naročila: | N3: ='PROD. lynx GRP'!N3 -> 0
A4: LYNX WOOD HOLDS | P4: =SUM(P6:P25) -> 0 | Q4: =SUM(Q6:Q25) -> 0 | R4: =SUM(R6:R25) -> 0
A5: izdelek | B5: black | C5: white | D5: red | E5: yellow | F5: blue | G5: bright green | H5: pure green | I5: apricot orange | J5: deep orange | K5: pink | L5: grey | M5: purple | N5: mint | O5: deep rose | P5: sum KOS | Q5: sum set | R5: sum NORMA
A6: ='Lynx WOODEN HOLDS'!D11 -> L1-WH-N-DT | B6: =IF(IF('Lynx WOODEN HOLDS'!M11=0,0,'Lynx WOODEN HOLDS'!M11)+IF('Lynx WOODEN HOLDS'!M$32=0,0,'Lynx WOODEN HOLDS'!M$32)+IF('Lynx WOODEN HOLDS'!M$33=0,0,'Lynx WOODEN HOLDS'!M$33)=0,"",IF('Lynx WOODEN HOLDS'!M11=0,0,'Lynx WOODEN HOLDS'!M11)+IF('Lynx WOODEN HOLDS'!M$32=0,0,'Lynx WOODEN HOLDS'!M$32)+IF('Lynx WOODEN HOLDS'!M$33=0,0,'Lynx WOODEN HOLDS'!M$33)) | C6: =IF(IF('Lynx WOODEN HOLDS'!N11=0,0,'Lynx WOODEN HOLDS'!N11)+IF('Lynx WOODEN HOLDS'!N$32=0,0,'Lynx WOODEN HOLDS'!N$32)+IF('Lynx WOODEN HOLDS'!N$33=0,0,'Lynx WOODEN HOLDS'!N$33)=0,"",IF('Lynx WOODEN HOLDS'!N11=0,0,'Lynx WOODEN HOLDS'!N11)+IF('Lynx WOODEN HOLDS'!N$32=0,0,'Lynx WOODEN HOLDS'!N$32)+IF('Lynx WOODEN HOLDS'!N$33=0,0,'Lynx WOODEN HOLDS'!N$33)) | D6: =IF(IF('Lynx WOODEN HOLDS'!O11=0,0,'Lynx WOODEN HOLDS'!O11)+IF('Lynx WOODEN HOLDS'!O$32=0,0,'Lynx WOODEN HOLDS'!O$32)+IF('Lynx WOODEN HOLDS'!O$33=0,0,'Lynx WOODEN HOLDS'!O$33)=0,"",IF('Lynx WOODEN HOLDS'!O11=0,0,'Lynx WOODEN HOLDS'!O11)+IF('Lynx WOODEN HOLDS'!O$32=0,0,'Lynx WOODEN HOLDS'!O$32)+IF('Lynx WOODEN HOLDS'!O$33=0,0,'Lynx WOODEN HOLDS'!O$33)) | E6: =IF(IF('Lynx WOODEN HOLDS'!P11=0,0,'Lynx WOODEN HOLDS'!P11)+IF('Lynx WOODEN HOLDS'!P$32=0,0,'Lynx WOODEN HOLDS'!P$32)+IF('Lynx WOODEN HOLDS'!P$33=0,0,'Lynx WOODEN HOLDS'!P$33)=0,"",IF('Lynx WOODEN HOLDS'!P11=0,0,'Lynx WOODEN HOLDS'!P11)+IF('Lynx WOODEN HOLDS'!P$32=0,0,'Lynx WOODEN HOLDS'!P$32)+IF('Lynx WOODEN HOLDS'!P$33=0,0,'Lynx WOODEN HOLDS'!P$33)) | F6: =IF(IF('Lynx WOODEN HOLDS'!Q11=0,0,'Lynx WOODEN HOLDS'!Q11)+IF('Lynx WOODEN HOLDS'!Q$32=0,0,'Lynx WOODEN HOLDS'!Q$32)+IF('Lynx WOODEN HOLDS'!Q$33=0,0,'Lynx WOODEN HOLDS'!Q$33)=0,"",IF('Lynx WOODEN HOLDS'!Q11=0,0,'Lynx WOODEN HOLDS'!Q11)+IF('Lynx WOODEN HOLDS'!Q$32=0,0,'Lynx WOODEN HOLDS'!Q$32)+IF('Lynx WOODEN HOLDS'!Q$33=0,0,'Lynx WOODEN HOLDS'!Q$33)) | G6: =IF(IF('Lynx WOODEN HOLDS'!R11=0,0,'Lynx WOODEN HOLDS'!R11)+IF('Lynx WOODEN HOLDS'!R$32=0,0,'Lynx WOODEN HOLDS'!R$32)+IF('Lynx WOODEN HOLDS'!R$33=0,0,'Lynx WOODEN HOLDS'!R$33)=0,"",IF('Lynx WOODEN HOLDS'!R11=0,0,'Lynx WOODEN HOLDS'!R11)+IF('Lynx WOODEN HOLDS'!R$32=0,0,'Lynx WOODEN HOLDS'!R$32)+IF('Lynx WOODEN HOLDS'!R$33=0,0,'Lynx WOODEN HOLDS'!R$33)) | H6: =IF(IF('Lynx WOODEN HOLDS'!S11=0,0,'Lynx WOODEN HOLDS'!S11)+IF('Lynx WOODEN HOLDS'!S$32=0,0,'Lynx WOODEN HOLDS'!S$32)+IF('Lynx WOODEN HOLDS'!S$33=0,0,'Lynx WOODEN HOLDS'!S$33)=0,"",IF('Lynx WOODEN HOLDS'!S11=0,0,'Lynx WOODEN HOLDS'!S11)+IF('Lynx WOODEN HOLDS'!S$32=0,0,'Lynx WOODEN HOLDS'!S$32)+IF('Lynx WOODEN HOLDS'!S$33=0,0,'Lynx WOODEN HOLDS'!S$33)) | I6: =IF(IF('Lynx WOODEN HOLDS'!T11=0,0,'Lynx WOODEN HOLDS'!T11)+IF('Lynx WOODEN HOLDS'!T$32=0,0,'Lynx WOODEN HOLDS'!T$32)+IF('Lynx WOODEN HOLDS'!T$33=0,0,'Lynx WOODEN HOLDS'!T$33)=0,"",IF('Lynx WOODEN HOLDS'!T11=0,0,'Lynx WOODEN HOLDS'!T11)+IF('Lynx WOODEN HOLDS'!T$32=0,0,'Lynx WOODEN HOLDS'!T$32)+IF('Lynx WOODEN HOLDS'!T$33=0,0,'Lynx WOODEN HOLDS'!T$33)) | ... O6: =IF(IF('Lynx WOODEN HOLDS'!Z11=0,0,'Lynx WOODEN HOLDS'!Z11)+IF('Lynx WOODEN HOLDS'!Z$32=0,0,'Lynx WOODEN HOLDS'!Z$32)+IF('Lynx WOODEN HOLDS'!Z$33=0,0,'Lynx WOODEN HOLDS'!Z$33)=0,"",IF('Lynx WOODEN HOLDS'!Z11=0,0,'Lynx WOODEN HOLDS'!Z11)+IF('Lynx WOODEN HOLDS'!Z$32=0,0,'Lynx WOODEN HOLDS'!Z$32)+IF('Lynx WOODEN HOLDS'!Z$33=0,0,'Lynx WOODEN HOLDS'!Z$33)) | P6: =Q6*'Lynx WOODEN HOLDS'!I11 -> 0 | Q6: =SUM(B6:O6) -> 0 | R6: =Q6*'Lynx WOODEN HOLDS'!AX11 -> 0
A7: ='Lynx WOODEN HOLDS'!D12 -> L2-WH-N-DT | B7: =IF(IF('Lynx WOODEN HOLDS'!M12=0,0,'Lynx WOODEN HOLDS'!M12)+IF('Lynx WOODEN HOLDS'!M$32=0,0,'Lynx WOODEN HOLDS'!M$32)+IF('Lynx WOODEN HOLDS'!M$33=0,0,'Lynx WOODEN HOLDS'!M$33)=0,"",IF('Lynx WOODEN HOLDS'!M12=0,0,'Lynx WOODEN HOLDS'!M12)+IF('Lynx WOODEN HOLDS'!M$32=0,0,'Lynx WOODEN HOLDS'!M$32)+IF('Lynx WOODEN HOLDS'!M$33=0,0,'Lynx WOODEN HOLDS'!M$33)) | C7: =IF(IF('Lynx WOODEN HOLDS'!N12=0,0,'Lynx WOODEN HOLDS'!N12)+IF('Lynx WOODEN HOLDS'!N$32=0,0,'Lynx WOODEN HOLDS'!N$32)+IF('Lynx WOODEN HOLDS'!N$33=0,0,'Lynx WOODEN HOLDS'!N$33)=0,"",IF('Lynx WOODEN HOLDS'!N12=0,0,'Lynx WOODEN HOLDS'!N12)+IF('Lynx WOODEN HOLDS'!N$32=0,0,'Lynx WOODEN HOLDS'!N$32)+IF('Lynx WOODEN HOLDS'!N$33=0,0,'Lynx WOODEN HOLDS'!N$33)) | D7: =IF(IF('Lynx WOODEN HOLDS'!O12=0,0,'Lynx WOODEN HOLDS'!O12)+IF('Lynx WOODEN HOLDS'!O$32=0,0,'Lynx WOODEN HOLDS'!O$32)+IF('Lynx WOODEN HOLDS'!O$33=0,0,'Lynx WOODEN HOLDS'!O$33)=0,"",IF('Lynx WOODEN HOLDS'!O12=0,0,'Lynx WOODEN HOLDS'!O12)+IF('Lynx WOODEN HOLDS'!O$32=0,0,'Lynx WOODEN HOLDS'!O$32)+IF('Lynx WOODEN HOLDS'!O$33=0,0,'Lynx WOODEN HOLDS'!O$33)) | E7: =IF(IF('Lynx WOODEN HOLDS'!P12=0,0,'Lynx WOODEN HOLDS'!P12)+IF('Lynx WOODEN HOLDS'!P$32=0,0,'Lynx WOODEN HOLDS'!P$32)+IF('Lynx WOODEN HOLDS'!P$33=0,0,'Lynx WOODEN HOLDS'!P$33)=0,"",IF('Lynx WOODEN HOLDS'!P12=0,0,'Lynx WOODEN HOLDS'!P12)+IF('Lynx WOODEN HOLDS'!P$32=0,0,'Lynx WOODEN HOLDS'!P$32)+IF('Lynx WOODEN HOLDS'!P$33=0,0,'Lynx WOODEN HOLDS'!P$33)) | F7: =IF(IF('Lynx WOODEN HOLDS'!Q12=0,0,'Lynx WOODEN HOLDS'!Q12)+IF('Lynx WOODEN HOLDS'!Q$32=0,0,'Lynx WOODEN HOLDS'!Q$32)+IF('Lynx WOODEN HOLDS'!Q$33=0,0,'Lynx WOODEN HOLDS'!Q$33)=0,"",IF('Lynx WOODEN HOLDS'!Q12=0,0,'Lynx WOODEN HOLDS'!Q12)+IF('Lynx WOODEN HOLDS'!Q$32=0,0,'Lynx WOODEN HOLDS'!Q$32)+IF('Lynx WOODEN HOLDS'!Q$33=0,0,'Lynx WOODEN HOLDS'!Q$33)) | G7: =IF(IF('Lynx WOODEN HOLDS'!R12=0,0,'Lynx WOODEN HOLDS'!R12)+IF('Lynx WOODEN HOLDS'!R$32=0,0,'Lynx WOODEN HOLDS'!R$32)+IF('Lynx WOODEN HOLDS'!R$33=0,0,'Lynx WOODEN HOLDS'!R$33)=0,"",IF('Lynx WOODEN HOLDS'!R12=0,0,'Lynx WOODEN HOLDS'!R12)+IF('Lynx WOODEN HOLDS'!R$32=0,0,'Lynx WOODEN HOLDS'!R$32)+IF('Lynx WOODEN HOLDS'!R$33=0,0,'Lynx WOODEN HOLDS'!R$33)) | H7: =IF(IF('Lynx WOODEN HOLDS'!S12=0,0,'Lynx WOODEN HOLDS'!S12)+IF('Lynx WOODEN HOLDS'!S$32=0,0,'Lynx WOODEN HOLDS'!S$32)+IF('Lynx WOODEN HOLDS'!S$33=0,0,'Lynx WOODEN HOLDS'!S$33)=0,"",IF('Lynx WOODEN HOLDS'!S12=0,0,'Lynx WOODEN HOLDS'!S12)+IF('Lynx WOODEN HOLDS'!S$32=0,0,'Lynx WOODEN HOLDS'!S$32)+IF('Lynx WOODEN HOLDS'!S$33=0,0,'Lynx WOODEN HOLDS'!S$33)) | I7: =IF(IF('Lynx WOODEN HOLDS'!T12=0,0,'Lynx WOODEN HOLDS'!T12)+IF('Lynx WOODEN HOLDS'!T$32=0,0,'Lynx WOODEN HOLDS'!T$32)+IF('Lynx WOODEN HOLDS'!T$33=0,0,'Lynx WOODEN HOLDS'!T$33)=0,"",IF('Lynx WOODEN HOLDS'!T12=0,0,'Lynx WOODEN HOLDS'!T12)+IF('Lynx WOODEN HOLDS'!T$32=0,0,'Lynx WOODEN HOLDS'!T$32)+IF('Lynx WOODEN HOLDS'!T$33=0,0,'Lynx WOODEN HOLDS'!T$33)) | ... O7: =IF(IF('Lynx WOODEN HOLDS'!Z12=0,0,'Lynx WOODEN HOLDS'!Z12)+IF('Lynx WOODEN HOLDS'!Z$32=0,0,'Lynx WOODEN HOLDS'!Z$32)+IF('Lynx WOODEN HOLDS'!Z$33=0,0,'Lynx WOODEN HOLDS'!Z$33)=0,"",IF('Lynx WOODEN HOLDS'!Z12=0,0,'Lynx WOODEN HOLDS'!Z12)+IF('Lynx WOODEN HOLDS'!Z$32=0,0,'Lynx WOODEN HOLDS'!Z$32)+IF('Lynx WOODEN HOLDS'!Z$33=0,0,'Lynx WOODEN HOLDS'!Z$33)) | P7: =Q7*'Lynx WOODEN HOLDS'!I12 -> 0 | Q7: =SUM(B7:O7) -> 0 | R7: =Q7*'Lynx WOODEN HOLDS'!AX12 -> 0
A8: ='Lynx WOODEN HOLDS'!D13 -> L3-WH-N-DT | B8: =IF(IF('Lynx WOODEN HOLDS'!M13=0,0,'Lynx WOODEN HOLDS'!M13)+IF('Lynx WOODEN HOLDS'!M$31=0,0,'Lynx WOODEN HOLDS'!M$31)+IF('Lynx WOODEN HOLDS'!M$33=0,0,'Lynx WOODEN HOLDS'!M$33)=0,"",IF('Lynx WOODEN HOLDS'!M13=0,0,'Lynx WOODEN HOLDS'!M13)+IF('Lynx WOODEN HOLDS'!M$31=0,0,'Lynx WOODEN HOLDS'!M$31)+IF('Lynx WOODEN HOLDS'!M$33=0,0,'Lynx WOODEN HOLDS'!M$33)) | C8: =IF(IF('Lynx WOODEN HOLDS'!N13=0,0,'Lynx WOODEN HOLDS'!N13)+IF('Lynx WOODEN HOLDS'!N$31=0,0,'Lynx WOODEN HOLDS'!N$31)+IF('Lynx WOODEN HOLDS'!N$33=0,0,'Lynx WOODEN HOLDS'!N$33)=0,"",IF('Lynx WOODEN HOLDS'!N13=0,0,'Lynx WOODEN HOLDS'!N13)+IF('Lynx WOODEN HOLDS'!N$31=0,0,'Lynx WOODEN HOLDS'!N$31)+IF('Lynx WOODEN HOLDS'!N$33=0,0,'Lynx WOODEN HOLDS'!N$33)) | D8: =IF(IF('Lynx WOODEN HOLDS'!O13=0,0,'Lynx WOODEN HOLDS'!O13)+IF('Lynx WOODEN HOLDS'!O$31=0,0,'Lynx WOODEN HOLDS'!O$31)+IF('Lynx WOODEN HOLDS'!O$33=0,0,'Lynx WOODEN HOLDS'!O$33)=0,"",IF('Lynx WOODEN HOLDS'!O13=0,0,'Lynx WOODEN HOLDS'!O13)+IF('Lynx WOODEN HOLDS'!O$31=0,0,'Lynx WOODEN HOLDS'!O$31)+IF('Lynx WOODEN HOLDS'!O$33=0,0,'Lynx WOODEN HOLDS'!O$33)) | E8: =IF(IF('Lynx WOODEN HOLDS'!P13=0,0,'Lynx WOODEN HOLDS'!P13)+IF('Lynx WOODEN HOLDS'!P$31=0,0,'Lynx WOODEN HOLDS'!P$31)+IF('Lynx WOODEN HOLDS'!P$33=0,0,'Lynx WOODEN HOLDS'!P$33)=0,"",IF('Lynx WOODEN HOLDS'!P13=0,0,'Lynx WOODEN HOLDS'!P13)+IF('Lynx WOODEN HOLDS'!P$31=0,0,'Lynx WOODEN HOLDS'!P$31)+IF('Lynx WOODEN HOLDS'!P$33=0,0,'Lynx WOODEN HOLDS'!P$33)) | F8: =IF(IF('Lynx WOODEN HOLDS'!Q13=0,0,'Lynx WOODEN HOLDS'!Q13)+IF('Lynx WOODEN HOLDS'!Q$31=0,0,'Lynx WOODEN HOLDS'!Q$31)+IF('Lynx WOODEN HOLDS'!Q$33=0,0,'Lynx WOODEN HOLDS'!Q$33)=0,"",IF('Lynx WOODEN HOLDS'!Q13=0,0,'Lynx WOODEN HOLDS'!Q13)+IF('Lynx WOODEN HOLDS'!Q$31=0,0,'Lynx WOODEN HOLDS'!Q$31)+IF('Lynx WOODEN HOLDS'!Q$33=0,0,'Lynx WOODEN HOLDS'!Q$33)) | G8: =IF(IF('Lynx WOODEN HOLDS'!R13=0,0,'Lynx WOODEN HOLDS'!R13)+IF('Lynx WOODEN HOLDS'!R$31=0,0,'Lynx WOODEN HOLDS'!R$31)+IF('Lynx WOODEN HOLDS'!R$33=0,0,'Lynx WOODEN HOLDS'!R$33)=0,"",IF('Lynx WOODEN HOLDS'!R13=0,0,'Lynx WOODEN HOLDS'!R13)+IF('Lynx WOODEN HOLDS'!R$31=0,0,'Lynx WOODEN HOLDS'!R$31)+IF('Lynx WOODEN HOLDS'!R$33=0,0,'Lynx WOODEN HOLDS'!R$33)) | H8: =IF(IF('Lynx WOODEN HOLDS'!S13=0,0,'Lynx WOODEN HOLDS'!S13)+IF('Lynx WOODEN HOLDS'!S$31=0,0,'Lynx WOODEN HOLDS'!S$31)+IF('Lynx WOODEN HOLDS'!S$33=0,0,'Lynx WOODEN HOLDS'!S$33)=0,"",IF('Lynx WOODEN HOLDS'!S13=0,0,'Lynx WOODEN HOLDS'!S13)+IF('Lynx WOODEN HOLDS'!S$31=0,0,'Lynx WOODEN HOLDS'!S$31)+IF('Lynx WOODEN HOLDS'!S$33=0,0,'Lynx WOODEN HOLDS'!S$33)) | I8: =IF(IF('Lynx WOODEN HOLDS'!T13=0,0,'Lynx WOODEN HOLDS'!T13)+IF('Lynx WOODEN HOLDS'!T$31=0,0,'Lynx WOODEN HOLDS'!T$31)+IF('Lynx WOODEN HOLDS'!T$33=0,0,'Lynx WOODEN HOLDS'!T$33)=0,"",IF('Lynx WOODEN HOLDS'!T13=0,0,'Lynx WOODEN HOLDS'!T13)+IF('Lynx WOODEN HOLDS'!T$31=0,0,'Lynx WOODEN HOLDS'!T$31)+IF('Lynx WOODEN HOLDS'!T$33=0,0,'Lynx WOODEN HOLDS'!T$33)) | ... O8: =IF(IF('Lynx WOODEN HOLDS'!Z13=0,0,'Lynx WOODEN HOLDS'!Z13)+IF('Lynx WOODEN HOLDS'!Z$31=0,0,'Lynx WOODEN HOLDS'!Z$31)+IF('Lynx WOODEN HOLDS'!Z$33=0,0,'Lynx WOODEN HOLDS'!Z$33)=0,"",IF('Lynx WOODEN HOLDS'!Z13=0,0,'Lynx WOODEN HOLDS'!Z13)+IF('Lynx WOODEN HOLDS'!Z$31=0,0,'Lynx WOODEN HOLDS'!Z$31)+IF('Lynx WOODEN HOLDS'!Z$33=0,0,'Lynx WOODEN HOLDS'!Z$33)) | P8: =Q8*'Lynx WOODEN HOLDS'!I13 -> 0 | Q8: =SUM(B8:O8) -> 0 | R8: =Q8*'Lynx WOODEN HOLDS'!AX13 -> 0
A9: ='Lynx WOODEN HOLDS'!D14 -> L4-WH-N-DT | B9: =IF(IF('Lynx WOODEN HOLDS'!M14=0,0,'Lynx WOODEN HOLDS'!M14)+IF('Lynx WOODEN HOLDS'!M$31=0,0,'Lynx WOODEN HOLDS'!M$31)+IF('Lynx WOODEN HOLDS'!M$33=0,0,'Lynx WOODEN HOLDS'!M$33)=0,"",IF('Lynx WOODEN HOLDS'!M14=0,0,'Lynx WOODEN HOLDS'!M14)+IF('Lynx WOODEN HOLDS'!M$31=0,0,'Lynx WOODEN HOLDS'!M$31)+IF('Lynx WOODEN HOLDS'!M$33=0,0,'Lynx WOODEN HOLDS'!M$33)) | C9: =IF(IF('Lynx WOODEN HOLDS'!N14=0,0,'Lynx WOODEN HOLDS'!N14)+IF('Lynx WOODEN HOLDS'!N$31=0,0,'Lynx WOODEN HOLDS'!N$31)+IF('Lynx WOODEN HOLDS'!N$33=0,0,'Lynx WOODEN HOLDS'!N$33)=0,"",IF('Lynx WOODEN HOLDS'!N14=0,0,'Lynx WOODEN HOLDS'!N14)+IF('Lynx WOODEN HOLDS'!N$31=0,0,'Lynx WOODEN HOLDS'!N$31)+IF('Lynx WOODEN HOLDS'!N$33=0,0,'Lynx WOODEN HOLDS'!N$33)) | D9: =IF(IF('Lynx WOODEN HOLDS'!O14=0,0,'Lynx WOODEN HOLDS'!O14)+IF('Lynx WOODEN HOLDS'!O$31=0,0,'Lynx WOODEN HOLDS'!O$31)+IF('Lynx WOODEN HOLDS'!O$33=0,0,'Lynx WOODEN HOLDS'!O$33)=0,"",IF('Lynx WOODEN HOLDS'!O14=0,0,'Lynx WOODEN HOLDS'!O14)+IF('Lynx WOODEN HOLDS'!O$31=0,0,'Lynx WOODEN HOLDS'!O$31)+IF('Lynx WOODEN HOLDS'!O$33=0,0,'Lynx WOODEN HOLDS'!O$33)) | E9: =IF(IF('Lynx WOODEN HOLDS'!P14=0,0,'Lynx WOODEN HOLDS'!P14)+IF('Lynx WOODEN HOLDS'!P$31=0,0,'Lynx WOODEN HOLDS'!P$31)+IF('Lynx WOODEN HOLDS'!P$33=0,0,'Lynx WOODEN HOLDS'!P$33)=0,"",IF('Lynx WOODEN HOLDS'!P14=0,0,'Lynx WOODEN HOLDS'!P14)+IF('Lynx WOODEN HOLDS'!P$31=0,0,'Lynx WOODEN HOLDS'!P$31)+IF('Lynx WOODEN HOLDS'!P$33=0,0,'Lynx WOODEN HOLDS'!P$33)) | F9: =IF(IF('Lynx WOODEN HOLDS'!Q14=0,0,'Lynx WOODEN HOLDS'!Q14)+IF('Lynx WOODEN HOLDS'!Q$31=0,0,'Lynx WOODEN HOLDS'!Q$31)+IF('Lynx WOODEN HOLDS'!Q$33=0,0,'Lynx WOODEN HOLDS'!Q$33)=0,"",IF('Lynx WOODEN HOLDS'!Q14=0,0,'Lynx WOODEN HOLDS'!Q14)+IF('Lynx WOODEN HOLDS'!Q$31=0,0,'Lynx WOODEN HOLDS'!Q$31)+IF('Lynx WOODEN HOLDS'!Q$33=0,0,'Lynx WOODEN HOLDS'!Q$33)) | G9: =IF(IF('Lynx WOODEN HOLDS'!R14=0,0,'Lynx WOODEN HOLDS'!R14)+IF('Lynx WOODEN HOLDS'!R$31=0,0,'Lynx WOODEN HOLDS'!R$31)+IF('Lynx WOODEN HOLDS'!R$33=0,0,'Lynx WOODEN HOLDS'!R$33)=0,"",IF('Lynx WOODEN HOLDS'!R14=0,0,'Lynx WOODEN HOLDS'!R14)+IF('Lynx WOODEN HOLDS'!R$31=0,0,'Lynx WOODEN HOLDS'!R$31)+IF('Lynx WOODEN HOLDS'!R$33=0,0,'Lynx WOODEN HOLDS'!R$33)) | H9: =IF(IF('Lynx WOODEN HOLDS'!S14=0,0,'Lynx WOODEN HOLDS'!S14)+IF('Lynx WOODEN HOLDS'!S$31=0,0,'Lynx WOODEN HOLDS'!S$31)+IF('Lynx WOODEN HOLDS'!S$33=0,0,'Lynx WOODEN HOLDS'!S$33)=0,"",IF('Lynx WOODEN HOLDS'!S14=0,0,'Lynx WOODEN HOLDS'!S14)+IF('Lynx WOODEN HOLDS'!S$31=0,0,'Lynx WOODEN HOLDS'!S$31)+IF('Lynx WOODEN HOLDS'!S$33=0,0,'Lynx WOODEN HOLDS'!S$33)) | I9: =IF(IF('Lynx WOODEN HOLDS'!T14=0,0,'Lynx WOODEN HOLDS'!T14)+IF('Lynx WOODEN HOLDS'!T$31=0,0,'Lynx WOODEN HOLDS'!T$31)+IF('Lynx WOODEN HOLDS'!T$33=0,0,'Lynx WOODEN HOLDS'!T$33)=0,"",IF('Lynx WOODEN HOLDS'!T14=0,0,'Lynx WOODEN HOLDS'!T14)+IF('Lynx WOODEN HOLDS'!T$31=0,0,'Lynx WOODEN HOLDS'!T$31)+IF('Lynx WOODEN HOLDS'!T$33=0,0,'Lynx WOODEN HOLDS'!T$33)) | ... O9: =IF(IF('Lynx WOODEN HOLDS'!Z14=0,0,'Lynx WOODEN HOLDS'!Z14)+IF('Lynx WOODEN HOLDS'!Z$31=0,0,'Lynx WOODEN HOLDS'!Z$31)+IF('Lynx WOODEN HOLDS'!Z$33=0,0,'Lynx WOODEN HOLDS'!Z$33)=0,"",IF('Lynx WOODEN HOLDS'!Z14=0,0,'Lynx WOODEN HOLDS'!Z14)+IF('Lynx WOODEN HOLDS'!Z$31=0,0,'Lynx WOODEN HOLDS'!Z$31)+IF('Lynx WOODEN HOLDS'!Z$33=0,0,'Lynx WOODEN HOLDS'!Z$33)) | P9: =Q9*'Lynx WOODEN HOLDS'!I14 -> 0 | Q9: =SUM(B9:O9) -> 0 | R9: =Q9*'Lynx WOODEN HOLDS'!AX14 -> 0
A10: ='Lynx WOODEN HOLDS'!D15 -> L5-WH-N-DT | B10: =IF(IF('Lynx WOODEN HOLDS'!M15=0,0,'Lynx WOODEN HOLDS'!M15)+IF('Lynx WOODEN HOLDS'!M$32=0,0,'Lynx WOODEN HOLDS'!M$32)+IF('Lynx WOODEN HOLDS'!M$33=0,0,'Lynx WOODEN HOLDS'!M$33)=0,"",IF('Lynx WOODEN HOLDS'!M15=0,0,'Lynx WOODEN HOLDS'!M15)+IF('Lynx WOODEN HOLDS'!M$32=0,0,'Lynx WOODEN HOLDS'!M$32)+IF('Lynx WOODEN HOLDS'!M$33=0,0,'Lynx WOODEN HOLDS'!M$33)) | C10: =IF(IF('Lynx WOODEN HOLDS'!N15=0,0,'Lynx WOODEN HOLDS'!N15)+IF('Lynx WOODEN HOLDS'!N$32=0,0,'Lynx WOODEN HOLDS'!N$32)+IF('Lynx WOODEN HOLDS'!N$33=0,0,'Lynx WOODEN HOLDS'!N$33)=0,"",IF('Lynx WOODEN HOLDS'!N15=0,0,'Lynx WOODEN HOLDS'!N15)+IF('Lynx WOODEN HOLDS'!N$32=0,0,'Lynx WOODEN HOLDS'!N$32)+IF('Lynx WOODEN HOLDS'!N$33=0,0,'Lynx WOODEN HOLDS'!N$33)) | D10: =IF(IF('Lynx WOODEN HOLDS'!O15=0,0,'Lynx WOODEN HOLDS'!O15)+IF('Lynx WOODEN HOLDS'!O$32=0,0,'Lynx WOODEN HOLDS'!O$32)+IF('Lynx WOODEN HOLDS'!O$33=0,0,'Lynx WOODEN HOLDS'!O$33)=0,"",IF('Lynx WOODEN HOLDS'!O15=0,0,'Lynx WOODEN HOLDS'!O15)+IF('Lynx WOODEN HOLDS'!O$32=0,0,'Lynx WOODEN HOLDS'!O$32)+IF('Lynx WOODEN HOLDS'!O$33=0,0,'Lynx WOODEN HOLDS'!O$33)) | E10: =IF(IF('Lynx WOODEN HOLDS'!P15=0,0,'Lynx WOODEN HOLDS'!P15)+IF('Lynx WOODEN HOLDS'!P$32=0,0,'Lynx WOODEN HOLDS'!P$32)+IF('Lynx WOODEN HOLDS'!P$33=0,0,'Lynx WOODEN HOLDS'!P$33)=0,"",IF('Lynx WOODEN HOLDS'!P15=0,0,'Lynx WOODEN HOLDS'!P15)+IF('Lynx WOODEN HOLDS'!P$32=0,0,'Lynx WOODEN HOLDS'!P$32)+IF('Lynx WOODEN HOLDS'!P$33=0,0,'Lynx WOODEN HOLDS'!P$33)) | F10: =IF(IF('Lynx WOODEN HOLDS'!Q15=0,0,'Lynx WOODEN HOLDS'!Q15)+IF('Lynx WOODEN HOLDS'!Q$32=0,0,'Lynx WOODEN HOLDS'!Q$32)+IF('Lynx WOODEN HOLDS'!Q$33=0,0,'Lynx WOODEN HOLDS'!Q$33)=0,"",IF('Lynx WOODEN HOLDS'!Q15=0,0,'Lynx WOODEN HOLDS'!Q15)+IF('Lynx WOODEN HOLDS'!Q$32=0,0,'Lynx WOODEN HOLDS'!Q$32)+IF('Lynx WOODEN HOLDS'!Q$33=0,0,'Lynx WOODEN HOLDS'!Q$33)) | G10: =IF(IF('Lynx WOODEN HOLDS'!R15=0,0,'Lynx WOODEN HOLDS'!R15)+IF('Lynx WOODEN HOLDS'!R$32=0,0,'Lynx WOODEN HOLDS'!R$32)+IF('Lynx WOODEN HOLDS'!R$33=0,0,'Lynx WOODEN HOLDS'!R$33)=0,"",IF('Lynx WOODEN HOLDS'!R15=0,0,'Lynx WOODEN HOLDS'!R15)+IF('Lynx WOODEN HOLDS'!R$32=0,0,'Lynx WOODEN HOLDS'!R$32)+IF('Lynx WOODEN HOLDS'!R$33=0,0,'Lynx WOODEN HOLDS'!R$33)) | H10: =IF(IF('Lynx WOODEN HOLDS'!S15=0,0,'Lynx WOODEN HOLDS'!S15)+IF('Lynx WOODEN HOLDS'!S$32=0,0,'Lynx WOODEN HOLDS'!S$32)+IF('Lynx WOODEN HOLDS'!S$33=0,0,'Lynx WOODEN HOLDS'!S$33)=0,"",IF('Lynx WOODEN HOLDS'!S15=0,0,'Lynx WOODEN HOLDS'!S15)+IF('Lynx WOODEN HOLDS'!S$32=0,0,'Lynx WOODEN HOLDS'!S$32)+IF('Lynx WOODEN HOLDS'!S$33=0,0,'Lynx WOODEN HOLDS'!S$33)) | I10: =IF(IF('Lynx WOODEN HOLDS'!T15=0,0,'Lynx WOODEN HOLDS'!T15)+IF('Lynx WOODEN HOLDS'!T$32=0,0,'Lynx WOODEN HOLDS'!T$32)+IF('Lynx WOODEN HOLDS'!T$33=0,0,'Lynx WOODEN HOLDS'!T$33)=0,"",IF('Lynx WOODEN HOLDS'!T15=0,0,'Lynx WOODEN HOLDS'!T15)+IF('Lynx WOODEN HOLDS'!T$32=0,0,'Lynx WOODEN HOLDS'!T$32)+IF('Lynx WOODEN HOLDS'!T$33=0,0,'Lynx WOODEN HOLDS'!T$33)) | ... O10: =IF(IF('Lynx WOODEN HOLDS'!Z15=0,0,'Lynx WOODEN HOLDS'!Z15)+IF('Lynx WOODEN HOLDS'!Z$32=0,0,'Lynx WOODEN HOLDS'!Z$32)+IF('Lynx WOODEN HOLDS'!Z$33=0,0,'Lynx WOODEN HOLDS'!Z$33)=0,"",IF('Lynx WOODEN HOLDS'!Z15=0,0,'Lynx WOODEN HOLDS'!Z15)+IF('Lynx WOODEN HOLDS'!Z$32=0,0,'Lynx WOODEN HOLDS'!Z$32)+IF('Lynx WOODEN HOLDS'!Z$33=0,0,'Lynx WOODEN HOLDS'!Z$33)) | P10: =Q10*'Lynx WOODEN HOLDS'!I15 -> 0 | Q10: =SUM(B10:O10) -> 0 | R10: =Q10*'Lynx WOODEN HOLDS'!AX15 -> 0
A11: ='Lynx WOODEN HOLDS'!D16 -> L6-WH-N-DT | B11: =IF(IF('Lynx WOODEN HOLDS'!M16=0,0,'Lynx WOODEN HOLDS'!M16)+IF('Lynx WOODEN HOLDS'!M$32=0,0,'Lynx WOODEN HOLDS'!M$32)+IF('Lynx WOODEN HOLDS'!M$33=0,0,'Lynx WOODEN HOLDS'!M$33)=0,"",IF('Lynx WOODEN HOLDS'!M16=0,0,'Lynx WOODEN HOLDS'!M16)+IF('Lynx WOODEN HOLDS'!M$32=0,0,'Lynx WOODEN HOLDS'!M$32)+IF('Lynx WOODEN HOLDS'!M$33=0,0,'Lynx WOODEN HOLDS'!M$33)) | C11: =IF(IF('Lynx WOODEN HOLDS'!N16=0,0,'Lynx WOODEN HOLDS'!N16)+IF('Lynx WOODEN HOLDS'!N$32=0,0,'Lynx WOODEN HOLDS'!N$32)+IF('Lynx WOODEN HOLDS'!N$33=0,0,'Lynx WOODEN HOLDS'!N$33)=0,"",IF('Lynx WOODEN HOLDS'!N16=0,0,'Lynx WOODEN HOLDS'!N16)+IF('Lynx WOODEN HOLDS'!N$32=0,0,'Lynx WOODEN HOLDS'!N$32)+IF('Lynx WOODEN HOLDS'!N$33=0,0,'Lynx WOODEN HOLDS'!N$33)) | D11: =IF(IF('Lynx WOODEN HOLDS'!O16=0,0,'Lynx WOODEN HOLDS'!O16)+IF('Lynx WOODEN HOLDS'!O$32=0,0,'Lynx WOODEN HOLDS'!O$32)+IF('Lynx WOODEN HOLDS'!O$33=0,0,'Lynx WOODEN HOLDS'!O$33)=0,"",IF('Lynx WOODEN HOLDS'!O16=0,0,'Lynx WOODEN HOLDS'!O16)+IF('Lynx WOODEN HOLDS'!O$32=0,0,'Lynx WOODEN HOLDS'!O$32)+IF('Lynx WOODEN HOLDS'!O$33=0,0,'Lynx WOODEN HOLDS'!O$33)) | E11: =IF(IF('Lynx WOODEN HOLDS'!P16=0,0,'Lynx WOODEN HOLDS'!P16)+IF('Lynx WOODEN HOLDS'!P$32=0,0,'Lynx WOODEN HOLDS'!P$32)+IF('Lynx WOODEN HOLDS'!P$33=0,0,'Lynx WOODEN HOLDS'!P$33)=0,"",IF('Lynx WOODEN HOLDS'!P16=0,0,'Lynx WOODEN HOLDS'!P16)+IF('Lynx WOODEN HOLDS'!P$32=0,0,'Lynx WOODEN HOLDS'!P$32)+IF('Lynx WOODEN HOLDS'!P$33=0,0,'Lynx WOODEN HOLDS'!P$33)) | F11: =IF(IF('Lynx WOODEN HOLDS'!Q16=0,0,'Lynx WOODEN HOLDS'!Q16)+IF('Lynx WOODEN HOLDS'!Q$32=0,0,'Lynx WOODEN HOLDS'!Q$32)+IF('Lynx WOODEN HOLDS'!Q$33=0,0,'Lynx WOODEN HOLDS'!Q$33)=0,"",IF('Lynx WOODEN HOLDS'!Q16=0,0,'Lynx WOODEN HOLDS'!Q16)+IF('Lynx WOODEN HOLDS'!Q$32=0,0,'Lynx WOODEN HOLDS'!Q$32)+IF('Lynx WOODEN HOLDS'!Q$33=0,0,'Lynx WOODEN HOLDS'!Q$33)) | G11: =IF(IF('Lynx WOODEN HOLDS'!R16=0,0,'Lynx WOODEN HOLDS'!R16)+IF('Lynx WOODEN HOLDS'!R$32=0,0,'Lynx WOODEN HOLDS'!R$32)+IF('Lynx WOODEN HOLDS'!R$33=0,0,'Lynx WOODEN HOLDS'!R$33)=0,"",IF('Lynx WOODEN HOLDS'!R16=0,0,'Lynx WOODEN HOLDS'!R16)+IF('Lynx WOODEN HOLDS'!R$32=0,0,'Lynx WOODEN HOLDS'!R$32)+IF('Lynx WOODEN HOLDS'!R$33=0,0,'Lynx WOODEN HOLDS'!R$33)) | H11: =IF(IF('Lynx WOODEN HOLDS'!S16=0,0,'Lynx WOODEN HOLDS'!S16)+IF('Lynx WOODEN HOLDS'!S$32=0,0,'Lynx WOODEN HOLDS'!S$32)+IF('Lynx WOODEN HOLDS'!S$33=0,0,'Lynx WOODEN HOLDS'!S$33)=0,"",IF('Lynx WOODEN HOLDS'!S16=0,0,'Lynx WOODEN HOLDS'!S16)+IF('Lynx WOODEN HOLDS'!S$32=0,0,'Lynx WOODEN HOLDS'!S$32)+IF('Lynx WOODEN HOLDS'!S$33=0,0,'Lynx WOODEN HOLDS'!S$33)) | I11: =IF(IF('Lynx WOODEN HOLDS'!T16=0,0,'Lynx WOODEN HOLDS'!T16)+IF('Lynx WOODEN HOLDS'!T$32=0,0,'Lynx WOODEN HOLDS'!T$32)+IF('Lynx WOODEN HOLDS'!T$33=0,0,'Lynx WOODEN HOLDS'!T$33)=0,"",IF('Lynx WOODEN HOLDS'!T16=0,0,'Lynx WOODEN HOLDS'!T16)+IF('Lynx WOODEN HOLDS'!T$32=0,0,'Lynx WOODEN HOLDS'!T$32)+IF('Lynx WOODEN HOLDS'!T$33=0,0,'Lynx WOODEN HOLDS'!T$33)) | ... O11: =IF(IF('Lynx WOODEN HOLDS'!Z16=0,0,'Lynx WOODEN HOLDS'!Z16)+IF('Lynx WOODEN HOLDS'!Z$32=0,0,'Lynx WOODEN HOLDS'!Z$32)+IF('Lynx WOODEN HOLDS'!Z$33=0,0,'Lynx WOODEN HOLDS'!Z$33)=0,"",IF('Lynx WOODEN HOLDS'!Z16=0,0,'Lynx WOODEN HOLDS'!Z16)+IF('Lynx WOODEN HOLDS'!Z$32=0,0,'Lynx WOODEN HOLDS'!Z$32)+IF('Lynx WOODEN HOLDS'!Z$33=0,0,'Lynx WOODEN HOLDS'!Z$33)) | P11: =Q11*'Lynx WOODEN HOLDS'!I16 -> 0 | Q11: =SUM(B11:O11) -> 0 | R11: =Q11*'Lynx WOODEN HOLDS'!AX16 -> 0
A12: ='Lynx WOODEN HOLDS'!D17 -> L7-WH-N-DT | B12: =IF(IF('Lynx WOODEN HOLDS'!M17=0,0,'Lynx WOODEN HOLDS'!M17)+IF('Lynx WOODEN HOLDS'!M$32=0,0,'Lynx WOODEN HOLDS'!M$32)+IF('Lynx WOODEN HOLDS'!M$33=0,0,'Lynx WOODEN HOLDS'!M$33)=0,"",IF('Lynx WOODEN HOLDS'!M17=0,0,'Lynx WOODEN HOLDS'!M17)+IF('Lynx WOODEN HOLDS'!M$32=0,0,'Lynx WOODEN HOLDS'!M$32)+IF('Lynx WOODEN HOLDS'!M$33=0,0,'Lynx WOODEN HOLDS'!M$33)) | C12: =IF(IF('Lynx WOODEN HOLDS'!N17=0,0,'Lynx WOODEN HOLDS'!N17)+IF('Lynx WOODEN HOLDS'!N$32=0,0,'Lynx WOODEN HOLDS'!N$32)+IF('Lynx WOODEN HOLDS'!N$33=0,0,'Lynx WOODEN HOLDS'!N$33)=0,"",IF('Lynx WOODEN HOLDS'!N17=0,0,'Lynx WOODEN HOLDS'!N17)+IF('Lynx WOODEN HOLDS'!N$32=0,0,'Lynx WOODEN HOLDS'!N$32)+IF('Lynx WOODEN HOLDS'!N$33=0,0,'Lynx WOODEN HOLDS'!N$33)) | D12: =IF(IF('Lynx WOODEN HOLDS'!O17=0,0,'Lynx WOODEN HOLDS'!O17)+IF('Lynx WOODEN HOLDS'!O$32=0,0,'Lynx WOODEN HOLDS'!O$32)+IF('Lynx WOODEN HOLDS'!O$33=0,0,'Lynx WOODEN HOLDS'!O$33)=0,"",IF('Lynx WOODEN HOLDS'!O17=0,0,'Lynx WOODEN HOLDS'!O17)+IF('Lynx WOODEN HOLDS'!O$32=0,0,'Lynx WOODEN HOLDS'!O$32)+IF('Lynx WOODEN HOLDS'!O$33=0,0,'Lynx WOODEN HOLDS'!O$33)) | E12: =IF(IF('Lynx WOODEN HOLDS'!P17=0,0,'Lynx WOODEN HOLDS'!P17)+IF('Lynx WOODEN HOLDS'!P$32=0,0,'Lynx WOODEN HOLDS'!P$32)+IF('Lynx WOODEN HOLDS'!P$33=0,0,'Lynx WOODEN HOLDS'!P$33)=0,"",IF('Lynx WOODEN HOLDS'!P17=0,0,'Lynx WOODEN HOLDS'!P17)+IF('Lynx WOODEN HOLDS'!P$32=0,0,'Lynx WOODEN HOLDS'!P$32)+IF('Lynx WOODEN HOLDS'!P$33=0,0,'Lynx WOODEN HOLDS'!P$33)) | F12: =IF(IF('Lynx WOODEN HOLDS'!Q17=0,0,'Lynx WOODEN HOLDS'!Q17)+IF('Lynx WOODEN HOLDS'!Q$32=0,0,'Lynx WOODEN HOLDS'!Q$32)+IF('Lynx WOODEN HOLDS'!Q$33=0,0,'Lynx WOODEN HOLDS'!Q$33)=0,"",IF('Lynx WOODEN HOLDS'!Q17=0,0,'Lynx WOODEN HOLDS'!Q17)+IF('Lynx WOODEN HOLDS'!Q$32=0,0,'Lynx WOODEN HOLDS'!Q$32)+IF('Lynx WOODEN HOLDS'!Q$33=0,0,'Lynx WOODEN HOLDS'!Q$33)) | G12: =IF(IF('Lynx WOODEN HOLDS'!R17=0,0,'Lynx WOODEN HOLDS'!R17)+IF('Lynx WOODEN HOLDS'!R$32=0,0,'Lynx WOODEN HOLDS'!R$32)+IF('Lynx WOODEN HOLDS'!R$33=0,0,'Lynx WOODEN HOLDS'!R$33)=0,"",IF('Lynx WOODEN HOLDS'!R17=0,0,'Lynx WOODEN HOLDS'!R17)+IF('Lynx WOODEN HOLDS'!R$32=0,0,'Lynx WOODEN HOLDS'!R$32)+IF('Lynx WOODEN HOLDS'!R$33=0,0,'Lynx WOODEN HOLDS'!R$33)) | H12: =IF(IF('Lynx WOODEN HOLDS'!S17=0,0,'Lynx WOODEN HOLDS'!S17)+IF('Lynx WOODEN HOLDS'!S$32=0,0,'Lynx WOODEN HOLDS'!S$32)+IF('Lynx WOODEN HOLDS'!S$33=0,0,'Lynx WOODEN HOLDS'!S$33)=0,"",IF('Lynx WOODEN HOLDS'!S17=0,0,'Lynx WOODEN HOLDS'!S17)+IF('Lynx WOODEN HOLDS'!S$32=0,0,'Lynx WOODEN HOLDS'!S$32)+IF('Lynx WOODEN HOLDS'!S$33=0,0,'Lynx WOODEN HOLDS'!S$33)) | I12: =IF(IF('Lynx WOODEN HOLDS'!T17=0,0,'Lynx WOODEN HOLDS'!T17)+IF('Lynx WOODEN HOLDS'!T$32=0,0,'Lynx WOODEN HOLDS'!T$32)+IF('Lynx WOODEN HOLDS'!T$33=0,0,'Lynx WOODEN HOLDS'!T$33)=0,"",IF('Lynx WOODEN HOLDS'!T17=0,0,'Lynx WOODEN HOLDS'!T17)+IF('Lynx WOODEN HOLDS'!T$32=0,0,'Lynx WOODEN HOLDS'!T$32)+IF('Lynx WOODEN HOLDS'!T$33=0,0,'Lynx WOODEN HOLDS'!T$33)) | ... O12: =IF(IF('Lynx WOODEN HOLDS'!Z17=0,0,'Lynx WOODEN HOLDS'!Z17)+IF('Lynx WOODEN HOLDS'!Z$32=0,0,'Lynx WOODEN HOLDS'!Z$32)+IF('Lynx WOODEN HOLDS'!Z$33=0,0,'Lynx WOODEN HOLDS'!Z$33)=0,"",IF('Lynx WOODEN HOLDS'!Z17=0,0,'Lynx WOODEN HOLDS'!Z17)+IF('Lynx WOODEN HOLDS'!Z$32=0,0,'Lynx WOODEN HOLDS'!Z$32)+IF('Lynx WOODEN HOLDS'!Z$33=0,0,'Lynx WOODEN HOLDS'!Z$33)) | P12: =Q12*'Lynx WOODEN HOLDS'!I17 -> 0 | Q12: =SUM(B12:O12) -> 0 | R12: =Q12*'Lynx WOODEN HOLDS'!AX17 -> 0
A13: ='Lynx WOODEN HOLDS'!D18 -> L8-WH-N-DT | B13: =IF(IF('Lynx WOODEN HOLDS'!M18=0,0,'Lynx WOODEN HOLDS'!M18)+IF('Lynx WOODEN HOLDS'!M$32=0,0,'Lynx WOODEN HOLDS'!M$32)+IF('Lynx WOODEN HOLDS'!M$33=0,0,'Lynx WOODEN HOLDS'!M$33)=0,"",IF('Lynx WOODEN HOLDS'!M18=0,0,'Lynx WOODEN HOLDS'!M18)+IF('Lynx WOODEN HOLDS'!M$32=0,0,'Lynx WOODEN HOLDS'!M$32)+IF('Lynx WOODEN HOLDS'!M$33=0,0,'Lynx WOODEN HOLDS'!M$33)) | C13: =IF(IF('Lynx WOODEN HOLDS'!N18=0,0,'Lynx WOODEN HOLDS'!N18)+IF('Lynx WOODEN HOLDS'!N$32=0,0,'Lynx WOODEN HOLDS'!N$32)+IF('Lynx WOODEN HOLDS'!N$33=0,0,'Lynx WOODEN HOLDS'!N$33)=0,"",IF('Lynx WOODEN HOLDS'!N18=0,0,'Lynx WOODEN HOLDS'!N18)+IF('Lynx WOODEN HOLDS'!N$32=0,0,'Lynx WOODEN HOLDS'!N$32)+IF('Lynx WOODEN HOLDS'!N$33=0,0,'Lynx WOODEN HOLDS'!N$33)) | D13: =IF(IF('Lynx WOODEN HOLDS'!O18=0,0,'Lynx WOODEN HOLDS'!O18)+IF('Lynx WOODEN HOLDS'!O$32=0,0,'Lynx WOODEN HOLDS'!O$32)+IF('Lynx WOODEN HOLDS'!O$33=0,0,'Lynx WOODEN HOLDS'!O$33)=0,"",IF('Lynx WOODEN HOLDS'!O18=0,0,'Lynx WOODEN HOLDS'!O18)+IF('Lynx WOODEN HOLDS'!O$32=0,0,'Lynx WOODEN HOLDS'!O$32)+IF('Lynx WOODEN HOLDS'!O$33=0,0,'Lynx WOODEN HOLDS'!O$33)) | E13: =IF(IF('Lynx WOODEN HOLDS'!P18=0,0,'Lynx WOODEN HOLDS'!P18)+IF('Lynx WOODEN HOLDS'!P$32=0,0,'Lynx WOODEN HOLDS'!P$32)+IF('Lynx WOODEN HOLDS'!P$33=0,0,'Lynx WOODEN HOLDS'!P$33)=0,"",IF('Lynx WOODEN HOLDS'!P18=0,0,'Lynx WOODEN HOLDS'!P18)+IF('Lynx WOODEN HOLDS'!P$32=0,0,'Lynx WOODEN HOLDS'!P$32)+IF('Lynx WOODEN HOLDS'!P$33=0,0,'Lynx WOODEN HOLDS'!P$33)) | F13: =IF(IF('Lynx WOODEN HOLDS'!Q18=0,0,'Lynx WOODEN HOLDS'!Q18)+IF('Lynx WOODEN HOLDS'!Q$32=0,0,'Lynx WOODEN HOLDS'!Q$32)+IF('Lynx WOODEN HOLDS'!Q$33=0,0,'Lynx WOODEN HOLDS'!Q$33)=0,"",IF('Lynx WOODEN HOLDS'!Q18=0,0,'Lynx WOODEN HOLDS'!Q18)+IF('Lynx WOODEN HOLDS'!Q$32=0,0,'Lynx WOODEN HOLDS'!Q$32)+IF('Lynx WOODEN HOLDS'!Q$33=0,0,'Lynx WOODEN HOLDS'!Q$33)) | G13: =IF(IF('Lynx WOODEN HOLDS'!R18=0,0,'Lynx WOODEN HOLDS'!R18)+IF('Lynx WOODEN HOLDS'!R$32=0,0,'Lynx WOODEN HOLDS'!R$32)+IF('Lynx WOODEN HOLDS'!R$33=0,0,'Lynx WOODEN HOLDS'!R$33)=0,"",IF('Lynx WOODEN HOLDS'!R18=0,0,'Lynx WOODEN HOLDS'!R18)+IF('Lynx WOODEN HOLDS'!R$32=0,0,'Lynx WOODEN HOLDS'!R$32)+IF('Lynx WOODEN HOLDS'!R$33=0,0,'Lynx WOODEN HOLDS'!R$33)) | H13: =IF(IF('Lynx WOODEN HOLDS'!S18=0,0,'Lynx WOODEN HOLDS'!S18)+IF('Lynx WOODEN HOLDS'!S$32=0,0,'Lynx WOODEN HOLDS'!S$32)+IF('Lynx WOODEN HOLDS'!S$33=0,0,'Lynx WOODEN HOLDS'!S$33)=0,"",IF('Lynx WOODEN HOLDS'!S18=0,0,'Lynx WOODEN HOLDS'!S18)+IF('Lynx WOODEN HOLDS'!S$32=0,0,'Lynx WOODEN HOLDS'!S$32)+IF('Lynx WOODEN HOLDS'!S$33=0,0,'Lynx WOODEN HOLDS'!S$33)) | I13: =IF(IF('Lynx WOODEN HOLDS'!T18=0,0,'Lynx WOODEN HOLDS'!T18)+IF('Lynx WOODEN HOLDS'!T$32=0,0,'Lynx WOODEN HOLDS'!T$32)+IF('Lynx WOODEN HOLDS'!T$33=0,0,'Lynx WOODEN HOLDS'!T$33)=0,"",IF('Lynx WOODEN HOLDS'!T18=0,0,'Lynx WOODEN HOLDS'!T18)+IF('Lynx WOODEN HOLDS'!T$32=0,0,'Lynx WOODEN HOLDS'!T$32)+IF('Lynx WOODEN HOLDS'!T$33=0,0,'Lynx WOODEN HOLDS'!T$33)) | ... O13: =IF(IF('Lynx WOODEN HOLDS'!Z18=0,0,'Lynx WOODEN HOLDS'!Z18)+IF('Lynx WOODEN HOLDS'!Z$32=0,0,'Lynx WOODEN HOLDS'!Z$32)+IF('Lynx WOODEN HOLDS'!Z$33=0,0,'Lynx WOODEN HOLDS'!Z$33)=0,"",IF('Lynx WOODEN HOLDS'!Z18=0,0,'Lynx WOODEN HOLDS'!Z18)+IF('Lynx WOODEN HOLDS'!Z$32=0,0,'Lynx WOODEN HOLDS'!Z$32)+IF('Lynx WOODEN HOLDS'!Z$33=0,0,'Lynx WOODEN HOLDS'!Z$33)) | P13: =Q13*'Lynx WOODEN HOLDS'!I18 -> 0 | Q13: =SUM(B13:O13) -> 0 | R13: =Q13*'Lynx WOODEN HOLDS'!AX18 -> 0
A14: ='Lynx WOODEN HOLDS'!D19 -> L9-WH-N-DT | B14: =IF(IF('Lynx WOODEN HOLDS'!M19=0,0,'Lynx WOODEN HOLDS'!M19)+IF('Lynx WOODEN HOLDS'!M$31=0,0,'Lynx WOODEN HOLDS'!M$31)+IF('Lynx WOODEN HOLDS'!M$33=0,0,'Lynx WOODEN HOLDS'!M$33)=0,"",IF('Lynx WOODEN HOLDS'!M19=0,0,'Lynx WOODEN HOLDS'!M19)+IF('Lynx WOODEN HOLDS'!M$31=0,0,'Lynx WOODEN HOLDS'!M$31)+IF('Lynx WOODEN HOLDS'!M$33=0,0,'Lynx WOODEN HOLDS'!M$33)) | C14: =IF(IF('Lynx WOODEN HOLDS'!N19=0,0,'Lynx WOODEN HOLDS'!N19)+IF('Lynx WOODEN HOLDS'!N$31=0,0,'Lynx WOODEN HOLDS'!N$31)+IF('Lynx WOODEN HOLDS'!N$33=0,0,'Lynx WOODEN HOLDS'!N$33)=0,"",IF('Lynx WOODEN HOLDS'!N19=0,0,'Lynx WOODEN HOLDS'!N19)+IF('Lynx WOODEN HOLDS'!N$31=0,0,'Lynx WOODEN HOLDS'!N$31)+IF('Lynx WOODEN HOLDS'!N$33=0,0,'Lynx WOODEN HOLDS'!N$33)) | D14: =IF(IF('Lynx WOODEN HOLDS'!O19=0,0,'Lynx WOODEN HOLDS'!O19)+IF('Lynx WOODEN HOLDS'!O$31=0,0,'Lynx WOODEN HOLDS'!O$31)+IF('Lynx WOODEN HOLDS'!O$33=0,0,'Lynx WOODEN HOLDS'!O$33)=0,"",IF('Lynx WOODEN HOLDS'!O19=0,0,'Lynx WOODEN HOLDS'!O19)+IF('Lynx WOODEN HOLDS'!O$31=0,0,'Lynx WOODEN HOLDS'!O$31)+IF('Lynx WOODEN HOLDS'!O$33=0,0,'Lynx WOODEN HOLDS'!O$33)) | E14: =IF(IF('Lynx WOODEN HOLDS'!P19=0,0,'Lynx WOODEN HOLDS'!P19)+IF('Lynx WOODEN HOLDS'!P$31=0,0,'Lynx WOODEN HOLDS'!P$31)+IF('Lynx WOODEN HOLDS'!P$33=0,0,'Lynx WOODEN HOLDS'!P$33)=0,"",IF('Lynx WOODEN HOLDS'!P19=0,0,'Lynx WOODEN HOLDS'!P19)+IF('Lynx WOODEN HOLDS'!P$31=0,0,'Lynx WOODEN HOLDS'!P$31)+IF('Lynx WOODEN HOLDS'!P$33=0,0,'Lynx WOODEN HOLDS'!P$33)) | F14: =IF(IF('Lynx WOODEN HOLDS'!Q19=0,0,'Lynx WOODEN HOLDS'!Q19)+IF('Lynx WOODEN HOLDS'!Q$31=0,0,'Lynx WOODEN HOLDS'!Q$31)+IF('Lynx WOODEN HOLDS'!Q$33=0,0,'Lynx WOODEN HOLDS'!Q$33)=0,"",IF('Lynx WOODEN HOLDS'!Q19=0,0,'Lynx WOODEN HOLDS'!Q19)+IF('Lynx WOODEN HOLDS'!Q$31=0,0,'Lynx WOODEN HOLDS'!Q$31)+IF('Lynx WOODEN HOLDS'!Q$33=0,0,'Lynx WOODEN HOLDS'!Q$33)) | G14: =IF(IF('Lynx WOODEN HOLDS'!R19=0,0,'Lynx WOODEN HOLDS'!R19)+IF('Lynx WOODEN HOLDS'!R$31=0,0,'Lynx WOODEN HOLDS'!R$31)+IF('Lynx WOODEN HOLDS'!R$33=0,0,'Lynx WOODEN HOLDS'!R$33)=0,"",IF('Lynx WOODEN HOLDS'!R19=0,0,'Lynx WOODEN HOLDS'!R19)+IF('Lynx WOODEN HOLDS'!R$31=0,0,'Lynx WOODEN HOLDS'!R$31)+IF('Lynx WOODEN HOLDS'!R$33=0,0,'Lynx WOODEN HOLDS'!R$33)) | H14: =IF(IF('Lynx WOODEN HOLDS'!S19=0,0,'Lynx WOODEN HOLDS'!S19)+IF('Lynx WOODEN HOLDS'!S$31=0,0,'Lynx WOODEN HOLDS'!S$31)+IF('Lynx WOODEN HOLDS'!S$33=0,0,'Lynx WOODEN HOLDS'!S$33)=0,"",IF('Lynx WOODEN HOLDS'!S19=0,0,'Lynx WOODEN HOLDS'!S19)+IF('Lynx WOODEN HOLDS'!S$31=0,0,'Lynx WOODEN HOLDS'!S$31)+IF('Lynx WOODEN HOLDS'!S$33=0,0,'Lynx WOODEN HOLDS'!S$33)) | I14: =IF(IF('Lynx WOODEN HOLDS'!T19=0,0,'Lynx WOODEN HOLDS'!T19)+IF('Lynx WOODEN HOLDS'!T$31=0,0,'Lynx WOODEN HOLDS'!T$31)+IF('Lynx WOODEN HOLDS'!T$33=0,0,'Lynx WOODEN HOLDS'!T$33)=0,"",IF('Lynx WOODEN HOLDS'!T19=0,0,'Lynx WOODEN HOLDS'!T19)+IF('Lynx WOODEN HOLDS'!T$31=0,0,'Lynx WOODEN HOLDS'!T$31)+IF('Lynx WOODEN HOLDS'!T$33=0,0,'Lynx WOODEN HOLDS'!T$33)) | ... O14: =IF(IF('Lynx WOODEN HOLDS'!Z19=0,0,'Lynx WOODEN HOLDS'!Z19)+IF('Lynx WOODEN HOLDS'!Z$31=0,0,'Lynx WOODEN HOLDS'!Z$31)+IF('Lynx WOODEN HOLDS'!Z$33=0,0,'Lynx WOODEN HOLDS'!Z$33)=0,"",IF('Lynx WOODEN HOLDS'!Z19=0,0,'Lynx WOODEN HOLDS'!Z19)+IF('Lynx WOODEN HOLDS'!Z$31=0,0,'Lynx WOODEN HOLDS'!Z$31)+IF('Lynx WOODEN HOLDS'!Z$33=0,0,'Lynx WOODEN HOLDS'!Z$33)) | P14: =Q14*'Lynx WOODEN HOLDS'!I19 -> 0 | Q14: =SUM(B14:O14) -> 0 | R14: =Q14*'Lynx WOODEN HOLDS'!AX19 -> 0
A15: ='Lynx WOODEN HOLDS'!D20 -> L10-WH-N-DT | B15: =IF(IF('Lynx WOODEN HOLDS'!M20=0,0,'Lynx WOODEN HOLDS'!M20)+IF('Lynx WOODEN HOLDS'!M$31=0,0,'Lynx WOODEN HOLDS'!M$31)+IF('Lynx WOODEN HOLDS'!M$33=0,0,'Lynx WOODEN HOLDS'!M$33)=0,"",IF('Lynx WOODEN HOLDS'!M20=0,0,'Lynx WOODEN HOLDS'!M20)+IF('Lynx WOODEN HOLDS'!M$31=0,0,'Lynx WOODEN HOLDS'!M$31)+IF('Lynx WOODEN HOLDS'!M$33=0,0,'Lynx WOODEN HOLDS'!M$33)) | C15: =IF(IF('Lynx WOODEN HOLDS'!N20=0,0,'Lynx WOODEN HOLDS'!N20)+IF('Lynx WOODEN HOLDS'!N$31=0,0,'Lynx WOODEN HOLDS'!N$31)+IF('Lynx WOODEN HOLDS'!N$33=0,0,'Lynx WOODEN HOLDS'!N$33)=0,"",IF('Lynx WOODEN HOLDS'!N20=0,0,'Lynx WOODEN HOLDS'!N20)+IF('Lynx WOODEN HOLDS'!N$31=0,0,'Lynx WOODEN HOLDS'!N$31)+IF('Lynx WOODEN HOLDS'!N$33=0,0,'Lynx WOODEN HOLDS'!N$33)) | D15: =IF(IF('Lynx WOODEN HOLDS'!O20=0,0,'Lynx WOODEN HOLDS'!O20)+IF('Lynx WOODEN HOLDS'!O$31=0,0,'Lynx WOODEN HOLDS'!O$31)+IF('Lynx WOODEN HOLDS'!O$33=0,0,'Lynx WOODEN HOLDS'!O$33)=0,"",IF('Lynx WOODEN HOLDS'!O20=0,0,'Lynx WOODEN HOLDS'!O20)+IF('Lynx WOODEN HOLDS'!O$31=0,0,'Lynx WOODEN HOLDS'!O$31)+IF('Lynx WOODEN HOLDS'!O$33=0,0,'Lynx WOODEN HOLDS'!O$33)) | E15: =IF(IF('Lynx WOODEN HOLDS'!P20=0,0,'Lynx WOODEN HOLDS'!P20)+IF('Lynx WOODEN HOLDS'!P$31=0,0,'Lynx WOODEN HOLDS'!P$31)+IF('Lynx WOODEN HOLDS'!P$33=0,0,'Lynx WOODEN HOLDS'!P$33)=0,"",IF('Lynx WOODEN HOLDS'!P20=0,0,'Lynx WOODEN HOLDS'!P20)+IF('Lynx WOODEN HOLDS'!P$31=0,0,'Lynx WOODEN HOLDS'!P$31)+IF('Lynx WOODEN HOLDS'!P$33=0,0,'Lynx WOODEN HOLDS'!P$33)) | F15: =IF(IF('Lynx WOODEN HOLDS'!Q20=0,0,'Lynx WOODEN HOLDS'!Q20)+IF('Lynx WOODEN HOLDS'!Q$31=0,0,'Lynx WOODEN HOLDS'!Q$31)+IF('Lynx WOODEN HOLDS'!Q$33=0,0,'Lynx WOODEN HOLDS'!Q$33)=0,"",IF('Lynx WOODEN HOLDS'!Q20=0,0,'Lynx WOODEN HOLDS'!Q20)+IF('Lynx WOODEN HOLDS'!Q$31=0,0,'Lynx WOODEN HOLDS'!Q$31)+IF('Lynx WOODEN HOLDS'!Q$33=0,0,'Lynx WOODEN HOLDS'!Q$33)) | G15: =IF(IF('Lynx WOODEN HOLDS'!R20=0,0,'Lynx WOODEN HOLDS'!R20)+IF('Lynx WOODEN HOLDS'!R$31=0,0,'Lynx WOODEN HOLDS'!R$31)+IF('Lynx WOODEN HOLDS'!R$33=0,0,'Lynx WOODEN HOLDS'!R$33)=0,"",IF('Lynx WOODEN HOLDS'!R20=0,0,'Lynx WOODEN HOLDS'!R20)+IF('Lynx WOODEN HOLDS'!R$31=0,0,'Lynx WOODEN HOLDS'!R$31)+IF('Lynx WOODEN HOLDS'!R$33=0,0,'Lynx WOODEN HOLDS'!R$33)) | H15: =IF(IF('Lynx WOODEN HOLDS'!S20=0,0,'Lynx WOODEN HOLDS'!S20)+IF('Lynx WOODEN HOLDS'!S$31=0,0,'Lynx WOODEN HOLDS'!S$31)+IF('Lynx WOODEN HOLDS'!S$33=0,0,'Lynx WOODEN HOLDS'!S$33)=0,"",IF('Lynx WOODEN HOLDS'!S20=0,0,'Lynx WOODEN HOLDS'!S20)+IF('Lynx WOODEN HOLDS'!S$31=0,0,'Lynx WOODEN HOLDS'!S$31)+IF('Lynx WOODEN HOLDS'!S$33=0,0,'Lynx WOODEN HOLDS'!S$33)) | I15: =IF(IF('Lynx WOODEN HOLDS'!T20=0,0,'Lynx WOODEN HOLDS'!T20)+IF('Lynx WOODEN HOLDS'!T$31=0,0,'Lynx WOODEN HOLDS'!T$31)+IF('Lynx WOODEN HOLDS'!T$33=0,0,'Lynx WOODEN HOLDS'!T$33)=0,"",IF('Lynx WOODEN HOLDS'!T20=0,0,'Lynx WOODEN HOLDS'!T20)+IF('Lynx WOODEN HOLDS'!T$31=0,0,'Lynx WOODEN HOLDS'!T$31)+IF('Lynx WOODEN HOLDS'!T$33=0,0,'Lynx WOODEN HOLDS'!T$33)) | ... O15: =IF(IF('Lynx WOODEN HOLDS'!Z20=0,0,'Lynx WOODEN HOLDS'!Z20)+IF('Lynx WOODEN HOLDS'!Z$31=0,0,'Lynx WOODEN HOLDS'!Z$31)+IF('Lynx WOODEN HOLDS'!Z$33=0,0,'Lynx WOODEN HOLDS'!Z$33)=0,"",IF('Lynx WOODEN HOLDS'!Z20=0,0,'Lynx WOODEN HOLDS'!Z20)+IF('Lynx WOODEN HOLDS'!Z$31=0,0,'Lynx WOODEN HOLDS'!Z$31)+IF('Lynx WOODEN HOLDS'!Z$33=0,0,'Lynx WOODEN HOLDS'!Z$33)) | P15: =Q15*'Lynx WOODEN HOLDS'!I20 -> 0 | Q15: =SUM(B15:O15) -> 0 | R15: =Q15*'Lynx WOODEN HOLDS'!AX20 -> 0
A16: ='Lynx WOODEN HOLDS'!D21 -> L11-WH-N-DT | B16: =IF(IF('Lynx WOODEN HOLDS'!M21=0,0,'Lynx WOODEN HOLDS'!M21)+IF('Lynx WOODEN HOLDS'!M$31=0,0,'Lynx WOODEN HOLDS'!M$31)+IF('Lynx WOODEN HOLDS'!M$33=0,0,'Lynx WOODEN HOLDS'!M$33)=0,"",IF('Lynx WOODEN HOLDS'!M21=0,0,'Lynx WOODEN HOLDS'!M21)+IF('Lynx WOODEN HOLDS'!M$31=0,0,'Lynx WOODEN HOLDS'!M$31)+IF('Lynx WOODEN HOLDS'!M$33=0,0,'Lynx WOODEN HOLDS'!M$33)) | C16: =IF(IF('Lynx WOODEN HOLDS'!N21=0,0,'Lynx WOODEN HOLDS'!N21)+IF('Lynx WOODEN HOLDS'!N$31=0,0,'Lynx WOODEN HOLDS'!N$31)+IF('Lynx WOODEN HOLDS'!N$33=0,0,'Lynx WOODEN HOLDS'!N$33)=0,"",IF('Lynx WOODEN HOLDS'!N21=0,0,'Lynx WOODEN HOLDS'!N21)+IF('Lynx WOODEN HOLDS'!N$31=0,0,'Lynx WOODEN HOLDS'!N$31)+IF('Lynx WOODEN HOLDS'!N$33=0,0,'Lynx WOODEN HOLDS'!N$33)) | D16: =IF(IF('Lynx WOODEN HOLDS'!O21=0,0,'Lynx WOODEN HOLDS'!O21)+IF('Lynx WOODEN HOLDS'!O$31=0,0,'Lynx WOODEN HOLDS'!O$31)+IF('Lynx WOODEN HOLDS'!O$33=0,0,'Lynx WOODEN HOLDS'!O$33)=0,"",IF('Lynx WOODEN HOLDS'!O21=0,0,'Lynx WOODEN HOLDS'!O21)+IF('Lynx WOODEN HOLDS'!O$31=0,0,'Lynx WOODEN HOLDS'!O$31)+IF('Lynx WOODEN HOLDS'!O$33=0,0,'Lynx WOODEN HOLDS'!O$33)) | E16: =IF(IF('Lynx WOODEN HOLDS'!P21=0,0,'Lynx WOODEN HOLDS'!P21)+IF('Lynx WOODEN HOLDS'!P$31=0,0,'Lynx WOODEN HOLDS'!P$31)+IF('Lynx WOODEN HOLDS'!P$33=0,0,'Lynx WOODEN HOLDS'!P$33)=0,"",IF('Lynx WOODEN HOLDS'!P21=0,0,'Lynx WOODEN HOLDS'!P21)+IF('Lynx WOODEN HOLDS'!P$31=0,0,'Lynx WOODEN HOLDS'!P$31)+IF('Lynx WOODEN HOLDS'!P$33=0,0,'Lynx WOODEN HOLDS'!P$33)) | F16: =IF(IF('Lynx WOODEN HOLDS'!Q21=0,0,'Lynx WOODEN HOLDS'!Q21)+IF('Lynx WOODEN HOLDS'!Q$31=0,0,'Lynx WOODEN HOLDS'!Q$31)+IF('Lynx WOODEN HOLDS'!Q$33=0,0,'Lynx WOODEN HOLDS'!Q$33)=0,"",IF('Lynx WOODEN HOLDS'!Q21=0,0,'Lynx WOODEN HOLDS'!Q21)+IF('Lynx WOODEN HOLDS'!Q$31=0,0,'Lynx WOODEN HOLDS'!Q$31)+IF('Lynx WOODEN HOLDS'!Q$33=0,0,'Lynx WOODEN HOLDS'!Q$33)) | G16: =IF(IF('Lynx WOODEN HOLDS'!R21=0,0,'Lynx WOODEN HOLDS'!R21)+IF('Lynx WOODEN HOLDS'!R$31=0,0,'Lynx WOODEN HOLDS'!R$31)+IF('Lynx WOODEN HOLDS'!R$33=0,0,'Lynx WOODEN HOLDS'!R$33)=0,"",IF('Lynx WOODEN HOLDS'!R21=0,0,'Lynx WOODEN HOLDS'!R21)+IF('Lynx WOODEN HOLDS'!R$31=0,0,'Lynx WOODEN HOLDS'!R$31)+IF('Lynx WOODEN HOLDS'!R$33=0,0,'Lynx WOODEN HOLDS'!R$33)) | H16: =IF(IF('Lynx WOODEN HOLDS'!S21=0,0,'Lynx WOODEN HOLDS'!S21)+IF('Lynx WOODEN HOLDS'!S$31=0,0,'Lynx WOODEN HOLDS'!S$31)+IF('Lynx WOODEN HOLDS'!S$33=0,0,'Lynx WOODEN HOLDS'!S$33)=0,"",IF('Lynx WOODEN HOLDS'!S21=0,0,'Lynx WOODEN HOLDS'!S21)+IF('Lynx WOODEN HOLDS'!S$31=0,0,'Lynx WOODEN HOLDS'!S$31)+IF('Lynx WOODEN HOLDS'!S$33=0,0,'Lynx WOODEN HOLDS'!S$33)) | I16: =IF(IF('Lynx WOODEN HOLDS'!T21=0,0,'Lynx WOODEN HOLDS'!T21)+IF('Lynx WOODEN HOLDS'!T$31=0,0,'Lynx WOODEN HOLDS'!T$31)+IF('Lynx WOODEN HOLDS'!T$33=0,0,'Lynx WOODEN HOLDS'!T$33)=0,"",IF('Lynx WOODEN HOLDS'!T21=0,0,'Lynx WOODEN HOLDS'!T21)+IF('Lynx WOODEN HOLDS'!T$31=0,0,'Lynx WOODEN HOLDS'!T$31)+IF('Lynx WOODEN HOLDS'!T$33=0,0,'Lynx WOODEN HOLDS'!T$33)) | ... O16: =IF(IF('Lynx WOODEN HOLDS'!Z21=0,0,'Lynx WOODEN HOLDS'!Z21)+IF('Lynx WOODEN HOLDS'!Z$31=0,0,'Lynx WOODEN HOLDS'!Z$31)+IF('Lynx WOODEN HOLDS'!Z$33=0,0,'Lynx WOODEN HOLDS'!Z$33)=0,"",IF('Lynx WOODEN HOLDS'!Z21=0,0,'Lynx WOODEN HOLDS'!Z21)+IF('Lynx WOODEN HOLDS'!Z$31=0,0,'Lynx WOODEN HOLDS'!Z$31)+IF('Lynx WOODEN HOLDS'!Z$33=0,0,'Lynx WOODEN HOLDS'!Z$33)) | P16: =Q16*'Lynx WOODEN HOLDS'!I21 -> 0 | Q16: =SUM(B16:O16) -> 0 | R16: =Q16*'Lynx WOODEN HOLDS'!AX21 -> 0
A17: ='Lynx WOODEN HOLDS'!D22 -> L12-WH-N-DT | B17: =IF(IF('Lynx WOODEN HOLDS'!M22=0,0,'Lynx WOODEN HOLDS'!M22)+IF('Lynx WOODEN HOLDS'!M$31=0,0,'Lynx WOODEN HOLDS'!M$31)+IF('Lynx WOODEN HOLDS'!M$33=0,0,'Lynx WOODEN HOLDS'!M$33)=0,"",IF('Lynx WOODEN HOLDS'!M22=0,0,'Lynx WOODEN HOLDS'!M22)+IF('Lynx WOODEN HOLDS'!M$31=0,0,'Lynx WOODEN HOLDS'!M$31)+IF('Lynx WOODEN HOLDS'!M$33=0,0,'Lynx WOODEN HOLDS'!M$33)) | C17: =IF(IF('Lynx WOODEN HOLDS'!N22=0,0,'Lynx WOODEN HOLDS'!N22)+IF('Lynx WOODEN HOLDS'!N$31=0,0,'Lynx WOODEN HOLDS'!N$31)+IF('Lynx WOODEN HOLDS'!N$33=0,0,'Lynx WOODEN HOLDS'!N$33)=0,"",IF('Lynx WOODEN HOLDS'!N22=0,0,'Lynx WOODEN HOLDS'!N22)+IF('Lynx WOODEN HOLDS'!N$31=0,0,'Lynx WOODEN HOLDS'!N$31)+IF('Lynx WOODEN HOLDS'!N$33=0,0,'Lynx WOODEN HOLDS'!N$33)) | D17: =IF(IF('Lynx WOODEN HOLDS'!O22=0,0,'Lynx WOODEN HOLDS'!O22)+IF('Lynx WOODEN HOLDS'!O$31=0,0,'Lynx WOODEN HOLDS'!O$31)+IF('Lynx WOODEN HOLDS'!O$33=0,0,'Lynx WOODEN HOLDS'!O$33)=0,"",IF('Lynx WOODEN HOLDS'!O22=0,0,'Lynx WOODEN HOLDS'!O22)+IF('Lynx WOODEN HOLDS'!O$31=0,0,'Lynx WOODEN HOLDS'!O$31)+IF('Lynx WOODEN HOLDS'!O$33=0,0,'Lynx WOODEN HOLDS'!O$33)) | E17: =IF(IF('Lynx WOODEN HOLDS'!P22=0,0,'Lynx WOODEN HOLDS'!P22)+IF('Lynx WOODEN HOLDS'!P$31=0,0,'Lynx WOODEN HOLDS'!P$31)+IF('Lynx WOODEN HOLDS'!P$33=0,0,'Lynx WOODEN HOLDS'!P$33)=0,"",IF('Lynx WOODEN HOLDS'!P22=0,0,'Lynx WOODEN HOLDS'!P22)+IF('Lynx WOODEN HOLDS'!P$31=0,0,'Lynx WOODEN HOLDS'!P$31)+IF('Lynx WOODEN HOLDS'!P$33=0,0,'Lynx WOODEN HOLDS'!P$33)) | F17: =IF(IF('Lynx WOODEN HOLDS'!Q22=0,0,'Lynx WOODEN HOLDS'!Q22)+IF('Lynx WOODEN HOLDS'!Q$31=0,0,'Lynx WOODEN HOLDS'!Q$31)+IF('Lynx WOODEN HOLDS'!Q$33=0,0,'Lynx WOODEN HOLDS'!Q$33)=0,"",IF('Lynx WOODEN HOLDS'!Q22=0,0,'Lynx WOODEN HOLDS'!Q22)+IF('Lynx WOODEN HOLDS'!Q$31=0,0,'Lynx WOODEN HOLDS'!Q$31)+IF('Lynx WOODEN HOLDS'!Q$33=0,0,'Lynx WOODEN HOLDS'!Q$33)) | G17: =IF(IF('Lynx WOODEN HOLDS'!R22=0,0,'Lynx WOODEN HOLDS'!R22)+IF('Lynx WOODEN HOLDS'!R$31=0,0,'Lynx WOODEN HOLDS'!R$31)+IF('Lynx WOODEN HOLDS'!R$33=0,0,'Lynx WOODEN HOLDS'!R$33)=0,"",IF('Lynx WOODEN HOLDS'!R22=0,0,'Lynx WOODEN HOLDS'!R22)+IF('Lynx WOODEN HOLDS'!R$31=0,0,'Lynx WOODEN HOLDS'!R$31)+IF('Lynx WOODEN HOLDS'!R$33=0,0,'Lynx WOODEN HOLDS'!R$33)) | H17: =IF(IF('Lynx WOODEN HOLDS'!S22=0,0,'Lynx WOODEN HOLDS'!S22)+IF('Lynx WOODEN HOLDS'!S$31=0,0,'Lynx WOODEN HOLDS'!S$31)+IF('Lynx WOODEN HOLDS'!S$33=0,0,'Lynx WOODEN HOLDS'!S$33)=0,"",IF('Lynx WOODEN HOLDS'!S22=0,0,'Lynx WOODEN HOLDS'!S22)+IF('Lynx WOODEN HOLDS'!S$31=0,0,'Lynx WOODEN HOLDS'!S$31)+IF('Lynx WOODEN HOLDS'!S$33=0,0,'Lynx WOODEN HOLDS'!S$33)) | I17: =IF(IF('Lynx WOODEN HOLDS'!T22=0,0,'Lynx WOODEN HOLDS'!T22)+IF('Lynx WOODEN HOLDS'!T$31=0,0,'Lynx WOODEN HOLDS'!T$31)+IF('Lynx WOODEN HOLDS'!T$33=0,0,'Lynx WOODEN HOLDS'!T$33)=0,"",IF('Lynx WOODEN HOLDS'!T22=0,0,'Lynx WOODEN HOLDS'!T22)+IF('Lynx WOODEN HOLDS'!T$31=0,0,'Lynx WOODEN HOLDS'!T$31)+IF('Lynx WOODEN HOLDS'!T$33=0,0,'Lynx WOODEN HOLDS'!T$33)) | ... O17: =IF(IF('Lynx WOODEN HOLDS'!Z22=0,0,'Lynx WOODEN HOLDS'!Z22)+IF('Lynx WOODEN HOLDS'!Z$31=0,0,'Lynx WOODEN HOLDS'!Z$31)+IF('Lynx WOODEN HOLDS'!Z$33=0,0,'Lynx WOODEN HOLDS'!Z$33)=0,"",IF('Lynx WOODEN HOLDS'!Z22=0,0,'Lynx WOODEN HOLDS'!Z22)+IF('Lynx WOODEN HOLDS'!Z$31=0,0,'Lynx WOODEN HOLDS'!Z$31)+IF('Lynx WOODEN HOLDS'!Z$33=0,0,'Lynx WOODEN HOLDS'!Z$33)) | P17: =Q17*'Lynx WOODEN HOLDS'!I22 -> 0 | Q17: =SUM(B17:O17) -> 0 | R17: =Q17*'Lynx WOODEN HOLDS'!AX22 -> 0
A18: ='Lynx WOODEN HOLDS'!D23 -> L13-WH-N-DT | B18: =IF(IF('Lynx WOODEN HOLDS'!M23=0,0,'Lynx WOODEN HOLDS'!M23)+IF('Lynx WOODEN HOLDS'!M$32=0,0,'Lynx WOODEN HOLDS'!M$32)+IF('Lynx WOODEN HOLDS'!M$33=0,0,'Lynx WOODEN HOLDS'!M$33)=0,"",IF('Lynx WOODEN HOLDS'!M23=0,0,'Lynx WOODEN HOLDS'!M23)+IF('Lynx WOODEN HOLDS'!M$32=0,0,'Lynx WOODEN HOLDS'!M$32)+IF('Lynx WOODEN HOLDS'!M$33=0,0,'Lynx WOODEN HOLDS'!M$33)) | C18: =IF(IF('Lynx WOODEN HOLDS'!N23=0,0,'Lynx WOODEN HOLDS'!N23)+IF('Lynx WOODEN HOLDS'!N$32=0,0,'Lynx WOODEN HOLDS'!N$32)+IF('Lynx WOODEN HOLDS'!N$33=0,0,'Lynx WOODEN HOLDS'!N$33)=0,"",IF('Lynx WOODEN HOLDS'!N23=0,0,'Lynx WOODEN HOLDS'!N23)+IF('Lynx WOODEN HOLDS'!N$32=0,0,'Lynx WOODEN HOLDS'!N$32)+IF('Lynx WOODEN HOLDS'!N$33=0,0,'Lynx WOODEN HOLDS'!N$33)) | D18: =IF(IF('Lynx WOODEN HOLDS'!O23=0,0,'Lynx WOODEN HOLDS'!O23)+IF('Lynx WOODEN HOLDS'!O$32=0,0,'Lynx WOODEN HOLDS'!O$32)+IF('Lynx WOODEN HOLDS'!O$33=0,0,'Lynx WOODEN HOLDS'!O$33)=0,"",IF('Lynx WOODEN HOLDS'!O23=0,0,'Lynx WOODEN HOLDS'!O23)+IF('Lynx WOODEN HOLDS'!O$32=0,0,'Lynx WOODEN HOLDS'!O$32)+IF('Lynx WOODEN HOLDS'!O$33=0,0,'Lynx WOODEN HOLDS'!O$33)) | E18: =IF(IF('Lynx WOODEN HOLDS'!P23=0,0,'Lynx WOODEN HOLDS'!P23)+IF('Lynx WOODEN HOLDS'!P$32=0,0,'Lynx WOODEN HOLDS'!P$32)+IF('Lynx WOODEN HOLDS'!P$33=0,0,'Lynx WOODEN HOLDS'!P$33)=0,"",IF('Lynx WOODEN HOLDS'!P23=0,0,'Lynx WOODEN HOLDS'!P23)+IF('Lynx WOODEN HOLDS'!P$32=0,0,'Lynx WOODEN HOLDS'!P$32)+IF('Lynx WOODEN HOLDS'!P$33=0,0,'Lynx WOODEN HOLDS'!P$33)) | F18: =IF(IF('Lynx WOODEN HOLDS'!Q23=0,0,'Lynx WOODEN HOLDS'!Q23)+IF('Lynx WOODEN HOLDS'!Q$32=0,0,'Lynx WOODEN HOLDS'!Q$32)+IF('Lynx WOODEN HOLDS'!Q$33=0,0,'Lynx WOODEN HOLDS'!Q$33)=0,"",IF('Lynx WOODEN HOLDS'!Q23=0,0,'Lynx WOODEN HOLDS'!Q23)+IF('Lynx WOODEN HOLDS'!Q$32=0,0,'Lynx WOODEN HOLDS'!Q$32)+IF('Lynx WOODEN HOLDS'!Q$33=0,0,'Lynx WOODEN HOLDS'!Q$33)) | G18: =IF(IF('Lynx WOODEN HOLDS'!R23=0,0,'Lynx WOODEN HOLDS'!R23)+IF('Lynx WOODEN HOLDS'!R$32=0,0,'Lynx WOODEN HOLDS'!R$32)+IF('Lynx WOODEN HOLDS'!R$33=0,0,'Lynx WOODEN HOLDS'!R$33)=0,"",IF('Lynx WOODEN HOLDS'!R23=0,0,'Lynx WOODEN HOLDS'!R23)+IF('Lynx WOODEN HOLDS'!R$32=0,0,'Lynx WOODEN HOLDS'!R$32)+IF('Lynx WOODEN HOLDS'!R$33=0,0,'Lynx WOODEN HOLDS'!R$33)) | H18: =IF(IF('Lynx WOODEN HOLDS'!S23=0,0,'Lynx WOODEN HOLDS'!S23)+IF('Lynx WOODEN HOLDS'!S$32=0,0,'Lynx WOODEN HOLDS'!S$32)+IF('Lynx WOODEN HOLDS'!S$33=0,0,'Lynx WOODEN HOLDS'!S$33)=0,"",IF('Lynx WOODEN HOLDS'!S23=0,0,'Lynx WOODEN HOLDS'!S23)+IF('Lynx WOODEN HOLDS'!S$32=0,0,'Lynx WOODEN HOLDS'!S$32)+IF('Lynx WOODEN HOLDS'!S$33=0,0,'Lynx WOODEN HOLDS'!S$33)) | I18: =IF(IF('Lynx WOODEN HOLDS'!T23=0,0,'Lynx WOODEN HOLDS'!T23)+IF('Lynx WOODEN HOLDS'!T$32=0,0,'Lynx WOODEN HOLDS'!T$32)+IF('Lynx WOODEN HOLDS'!T$33=0,0,'Lynx WOODEN HOLDS'!T$33)=0,"",IF('Lynx WOODEN HOLDS'!T23=0,0,'Lynx WOODEN HOLDS'!T23)+IF('Lynx WOODEN HOLDS'!T$32=0,0,'Lynx WOODEN HOLDS'!T$32)+IF('Lynx WOODEN HOLDS'!T$33=0,0,'Lynx WOODEN HOLDS'!T$33)) | ... O18: =IF(IF('Lynx WOODEN HOLDS'!Z23=0,0,'Lynx WOODEN HOLDS'!Z23)+IF('Lynx WOODEN HOLDS'!Z$32=0,0,'Lynx WOODEN HOLDS'!Z$32)+IF('Lynx WOODEN HOLDS'!Z$33=0,0,'Lynx WOODEN HOLDS'!Z$33)=0,"",IF('Lynx WOODEN HOLDS'!Z23=0,0,'Lynx WOODEN HOLDS'!Z23)+IF('Lynx WOODEN HOLDS'!Z$32=0,0,'Lynx WOODEN HOLDS'!Z$32)+IF('Lynx WOODEN HOLDS'!Z$33=0,0,'Lynx WOODEN HOLDS'!Z$33)) | P18: =Q18*'Lynx WOODEN HOLDS'!I23 -> 0 | Q18: =SUM(B18:O18) -> 0 | R18: =Q18*'Lynx WOODEN HOLDS'!AX23 -> 0
A19: ='Lynx WOODEN HOLDS'!D24 -> L14-WH-N-DT | B19: =IF(IF('Lynx WOODEN HOLDS'!M24=0,0,'Lynx WOODEN HOLDS'!M24)+IF('Lynx WOODEN HOLDS'!M$32=0,0,'Lynx WOODEN HOLDS'!M$32)+IF('Lynx WOODEN HOLDS'!M$33=0,0,'Lynx WOODEN HOLDS'!M$33)=0,"",IF('Lynx WOODEN HOLDS'!M24=0,0,'Lynx WOODEN HOLDS'!M24)+IF('Lynx WOODEN HOLDS'!M$32=0,0,'Lynx WOODEN HOLDS'!M$32)+IF('Lynx WOODEN HOLDS'!M$33=0,0,'Lynx WOODEN HOLDS'!M$33)) | C19: =IF(IF('Lynx WOODEN HOLDS'!N24=0,0,'Lynx WOODEN HOLDS'!N24)+IF('Lynx WOODEN HOLDS'!N$32=0,0,'Lynx WOODEN HOLDS'!N$32)+IF('Lynx WOODEN HOLDS'!N$33=0,0,'Lynx WOODEN HOLDS'!N$33)=0,"",IF('Lynx WOODEN HOLDS'!N24=0,0,'Lynx WOODEN HOLDS'!N24)+IF('Lynx WOODEN HOLDS'!N$32=0,0,'Lynx WOODEN HOLDS'!N$32)+IF('Lynx WOODEN HOLDS'!N$33=0,0,'Lynx WOODEN HOLDS'!N$33)) | D19: =IF(IF('Lynx WOODEN HOLDS'!O24=0,0,'Lynx WOODEN HOLDS'!O24)+IF('Lynx WOODEN HOLDS'!O$32=0,0,'Lynx WOODEN HOLDS'!O$32)+IF('Lynx WOODEN HOLDS'!O$33=0,0,'Lynx WOODEN HOLDS'!O$33)=0,"",IF('Lynx WOODEN HOLDS'!O24=0,0,'Lynx WOODEN HOLDS'!O24)+IF('Lynx WOODEN HOLDS'!O$32=0,0,'Lynx WOODEN HOLDS'!O$32)+IF('Lynx WOODEN HOLDS'!O$33=0,0,'Lynx WOODEN HOLDS'!O$33)) | E19: =IF(IF('Lynx WOODEN HOLDS'!P24=0,0,'Lynx WOODEN HOLDS'!P24)+IF('Lynx WOODEN HOLDS'!P$32=0,0,'Lynx WOODEN HOLDS'!P$32)+IF('Lynx WOODEN HOLDS'!P$33=0,0,'Lynx WOODEN HOLDS'!P$33)=0,"",IF('Lynx WOODEN HOLDS'!P24=0,0,'Lynx WOODEN HOLDS'!P24)+IF('Lynx WOODEN HOLDS'!P$32=0,0,'Lynx WOODEN HOLDS'!P$32)+IF('Lynx WOODEN HOLDS'!P$33=0,0,'Lynx WOODEN HOLDS'!P$33)) | F19: =IF(IF('Lynx WOODEN HOLDS'!Q24=0,0,'Lynx WOODEN HOLDS'!Q24)+IF('Lynx WOODEN HOLDS'!Q$32=0,0,'Lynx WOODEN HOLDS'!Q$32)+IF('Lynx WOODEN HOLDS'!Q$33=0,0,'Lynx WOODEN HOLDS'!Q$33)=0,"",IF('Lynx WOODEN HOLDS'!Q24=0,0,'Lynx WOODEN HOLDS'!Q24)+IF('Lynx WOODEN HOLDS'!Q$32=0,0,'Lynx WOODEN HOLDS'!Q$32)+IF('Lynx WOODEN HOLDS'!Q$33=0,0,'Lynx WOODEN HOLDS'!Q$33)) | G19: =IF(IF('Lynx WOODEN HOLDS'!R24=0,0,'Lynx WOODEN HOLDS'!R24)+IF('Lynx WOODEN HOLDS'!R$32=0,0,'Lynx WOODEN HOLDS'!R$32)+IF('Lynx WOODEN HOLDS'!R$33=0,0,'Lynx WOODEN HOLDS'!R$33)=0,"",IF('Lynx WOODEN HOLDS'!R24=0,0,'Lynx WOODEN HOLDS'!R24)+IF('Lynx WOODEN HOLDS'!R$32=0,0,'Lynx WOODEN HOLDS'!R$32)+IF('Lynx WOODEN HOLDS'!R$33=0,0,'Lynx WOODEN HOLDS'!R$33)) | H19: =IF(IF('Lynx WOODEN HOLDS'!S24=0,0,'Lynx WOODEN HOLDS'!S24)+IF('Lynx WOODEN HOLDS'!S$32=0,0,'Lynx WOODEN HOLDS'!S$32)+IF('Lynx WOODEN HOLDS'!S$33=0,0,'Lynx WOODEN HOLDS'!S$33)=0,"",IF('Lynx WOODEN HOLDS'!S24=0,0,'Lynx WOODEN HOLDS'!S24)+IF('Lynx WOODEN HOLDS'!S$32=0,0,'Lynx WOODEN HOLDS'!S$32)+IF('Lynx WOODEN HOLDS'!S$33=0,0,'Lynx WOODEN HOLDS'!S$33)) | I19: =IF(IF('Lynx WOODEN HOLDS'!T24=0,0,'Lynx WOODEN HOLDS'!T24)+IF('Lynx WOODEN HOLDS'!T$32=0,0,'Lynx WOODEN HOLDS'!T$32)+IF('Lynx WOODEN HOLDS'!T$33=0,0,'Lynx WOODEN HOLDS'!T$33)=0,"",IF('Lynx WOODEN HOLDS'!T24=0,0,'Lynx WOODEN HOLDS'!T24)+IF('Lynx WOODEN HOLDS'!T$32=0,0,'Lynx WOODEN HOLDS'!T$32)+IF('Lynx WOODEN HOLDS'!T$33=0,0,'Lynx WOODEN HOLDS'!T$33)) | ... O19: =IF(IF('Lynx WOODEN HOLDS'!Z24=0,0,'Lynx WOODEN HOLDS'!Z24)+IF('Lynx WOODEN HOLDS'!Z$32=0,0,'Lynx WOODEN HOLDS'!Z$32)+IF('Lynx WOODEN HOLDS'!Z$33=0,0,'Lynx WOODEN HOLDS'!Z$33)=0,"",IF('Lynx WOODEN HOLDS'!Z24=0,0,'Lynx WOODEN HOLDS'!Z24)+IF('Lynx WOODEN HOLDS'!Z$32=0,0,'Lynx WOODEN HOLDS'!Z$32)+IF('Lynx WOODEN HOLDS'!Z$33=0,0,'Lynx WOODEN HOLDS'!Z$33)) | P19: =Q19*'Lynx WOODEN HOLDS'!I24 -> 0 | Q19: =SUM(B19:O19) -> 0 | R19: =Q19*'Lynx WOODEN HOLDS'!AX24 -> 0
A20: ='Lynx WOODEN HOLDS'!D25 -> L15-WH-N-DT | B20: =IF(IF('Lynx WOODEN HOLDS'!M25=0,0,'Lynx WOODEN HOLDS'!M25)+IF('Lynx WOODEN HOLDS'!M$31=0,0,'Lynx WOODEN HOLDS'!M$31)+IF('Lynx WOODEN HOLDS'!M$33=0,0,'Lynx WOODEN HOLDS'!M$33)=0,"",IF('Lynx WOODEN HOLDS'!M25=0,0,'Lynx WOODEN HOLDS'!M25)+IF('Lynx WOODEN HOLDS'!M$31=0,0,'Lynx WOODEN HOLDS'!M$31)+IF('Lynx WOODEN HOLDS'!M$33=0,0,'Lynx WOODEN HOLDS'!M$33)) | C20: =IF(IF('Lynx WOODEN HOLDS'!N25=0,0,'Lynx WOODEN HOLDS'!N25)+IF('Lynx WOODEN HOLDS'!N$31=0,0,'Lynx WOODEN HOLDS'!N$31)+IF('Lynx WOODEN HOLDS'!N$33=0,0,'Lynx WOODEN HOLDS'!N$33)=0,"",IF('Lynx WOODEN HOLDS'!N25=0,0,'Lynx WOODEN HOLDS'!N25)+IF('Lynx WOODEN HOLDS'!N$31=0,0,'Lynx WOODEN HOLDS'!N$31)+IF('Lynx WOODEN HOLDS'!N$33=0,0,'Lynx WOODEN HOLDS'!N$33)) | D20: =IF(IF('Lynx WOODEN HOLDS'!O25=0,0,'Lynx WOODEN HOLDS'!O25)+IF('Lynx WOODEN HOLDS'!O$31=0,0,'Lynx WOODEN HOLDS'!O$31)+IF('Lynx WOODEN HOLDS'!O$33=0,0,'Lynx WOODEN HOLDS'!O$33)=0,"",IF('Lynx WOODEN HOLDS'!O25=0,0,'Lynx WOODEN HOLDS'!O25)+IF('Lynx WOODEN HOLDS'!O$31=0,0,'Lynx WOODEN HOLDS'!O$31)+IF('Lynx WOODEN HOLDS'!O$33=0,0,'Lynx WOODEN HOLDS'!O$33)) | E20: =IF(IF('Lynx WOODEN HOLDS'!P25=0,0,'Lynx WOODEN HOLDS'!P25)+IF('Lynx WOODEN HOLDS'!P$31=0,0,'Lynx WOODEN HOLDS'!P$31)+IF('Lynx WOODEN HOLDS'!P$33=0,0,'Lynx WOODEN HOLDS'!P$33)=0,"",IF('Lynx WOODEN HOLDS'!P25=0,0,'Lynx WOODEN HOLDS'!P25)+IF('Lynx WOODEN HOLDS'!P$31=0,0,'Lynx WOODEN HOLDS'!P$31)+IF('Lynx WOODEN HOLDS'!P$33=0,0,'Lynx WOODEN HOLDS'!P$33)) | F20: =IF(IF('Lynx WOODEN HOLDS'!Q25=0,0,'Lynx WOODEN HOLDS'!Q25)+IF('Lynx WOODEN HOLDS'!Q$31=0,0,'Lynx WOODEN HOLDS'!Q$31)+IF('Lynx WOODEN HOLDS'!Q$33=0,0,'Lynx WOODEN HOLDS'!Q$33)=0,"",IF('Lynx WOODEN HOLDS'!Q25=0,0,'Lynx WOODEN HOLDS'!Q25)+IF('Lynx WOODEN HOLDS'!Q$31=0,0,'Lynx WOODEN HOLDS'!Q$31)+IF('Lynx WOODEN HOLDS'!Q$33=0,0,'Lynx WOODEN HOLDS'!Q$33)) | G20: =IF(IF('Lynx WOODEN HOLDS'!R25=0,0,'Lynx WOODEN HOLDS'!R25)+IF('Lynx WOODEN HOLDS'!R$31=0,0,'Lynx WOODEN HOLDS'!R$31)+IF('Lynx WOODEN HOLDS'!R$33=0,0,'Lynx WOODEN HOLDS'!R$33)=0,"",IF('Lynx WOODEN HOLDS'!R25=0,0,'Lynx WOODEN HOLDS'!R25)+IF('Lynx WOODEN HOLDS'!R$31=0,0,'Lynx WOODEN HOLDS'!R$31)+IF('Lynx WOODEN HOLDS'!R$33=0,0,'Lynx WOODEN HOLDS'!R$33)) | H20: =IF(IF('Lynx WOODEN HOLDS'!S25=0,0,'Lynx WOODEN HOLDS'!S25)+IF('Lynx WOODEN HOLDS'!S$31=0,0,'Lynx WOODEN HOLDS'!S$31)+IF('Lynx WOODEN HOLDS'!S$33=0,0,'Lynx WOODEN HOLDS'!S$33)=0,"",IF('Lynx WOODEN HOLDS'!S25=0,0,'Lynx WOODEN HOLDS'!S25)+IF('Lynx WOODEN HOLDS'!S$31=0,0,'Lynx WOODEN HOLDS'!S$31)+IF('Lynx WOODEN HOLDS'!S$33=0,0,'Lynx WOODEN HOLDS'!S$33)) | I20: =IF(IF('Lynx WOODEN HOLDS'!T25=0,0,'Lynx WOODEN HOLDS'!T25)+IF('Lynx WOODEN HOLDS'!T$31=0,0,'Lynx WOODEN HOLDS'!T$31)+IF('Lynx WOODEN HOLDS'!T$33=0,0,'Lynx WOODEN HOLDS'!T$33)=0,"",IF('Lynx WOODEN HOLDS'!T25=0,0,'Lynx WOODEN HOLDS'!T25)+IF('Lynx WOODEN HOLDS'!T$31=0,0,'Lynx WOODEN HOLDS'!T$31)+IF('Lynx WOODEN HOLDS'!T$33=0,0,'Lynx WOODEN HOLDS'!T$33)) | ... O20: =IF(IF('Lynx WOODEN HOLDS'!Z25=0,0,'Lynx WOODEN HOLDS'!Z25)+IF('Lynx WOODEN HOLDS'!Z$31=0,0,'Lynx WOODEN HOLDS'!Z$31)+IF('Lynx WOODEN HOLDS'!Z$33=0,0,'Lynx WOODEN HOLDS'!Z$33)=0,"",IF('Lynx WOODEN HOLDS'!Z25=0,0,'Lynx WOODEN HOLDS'!Z25)+IF('Lynx WOODEN HOLDS'!Z$31=0,0,'Lynx WOODEN HOLDS'!Z$31)+IF('Lynx WOODEN HOLDS'!Z$33=0,0,'Lynx WOODEN HOLDS'!Z$33)) | P20: =Q20*'Lynx WOODEN HOLDS'!I25 -> 0 | Q20: =SUM(B20:O20) -> 0 | R20: =Q20*'Lynx WOODEN HOLDS'!AX25 -> 0
A21: ='Lynx WOODEN HOLDS'!D26 -> L16-WH-N-DT | B21: =IF(IF('Lynx WOODEN HOLDS'!M26=0,0,'Lynx WOODEN HOLDS'!M26)+IF('Lynx WOODEN HOLDS'!M$32=0,0,'Lynx WOODEN HOLDS'!M$32)+IF('Lynx WOODEN HOLDS'!M$33=0,0,'Lynx WOODEN HOLDS'!M$33)=0,"",IF('Lynx WOODEN HOLDS'!M26=0,0,'Lynx WOODEN HOLDS'!M26)+IF('Lynx WOODEN HOLDS'!M$32=0,0,'Lynx WOODEN HOLDS'!M$32)+IF('Lynx WOODEN HOLDS'!M$33=0,0,'Lynx WOODEN HOLDS'!M$33)) | C21: =IF(IF('Lynx WOODEN HOLDS'!N26=0,0,'Lynx WOODEN HOLDS'!N26)+IF('Lynx WOODEN HOLDS'!N$32=0,0,'Lynx WOODEN HOLDS'!N$32)+IF('Lynx WOODEN HOLDS'!N$33=0,0,'Lynx WOODEN HOLDS'!N$33)=0,"",IF('Lynx WOODEN HOLDS'!N26=0,0,'Lynx WOODEN HOLDS'!N26)+IF('Lynx WOODEN HOLDS'!N$32=0,0,'Lynx WOODEN HOLDS'!N$32)+IF('Lynx WOODEN HOLDS'!N$33=0,0,'Lynx WOODEN HOLDS'!N$33)) | D21: =IF(IF('Lynx WOODEN HOLDS'!O26=0,0,'Lynx WOODEN HOLDS'!O26)+IF('Lynx WOODEN HOLDS'!O$32=0,0,'Lynx WOODEN HOLDS'!O$32)+IF('Lynx WOODEN HOLDS'!O$33=0,0,'Lynx WOODEN HOLDS'!O$33)=0,"",IF('Lynx WOODEN HOLDS'!O26=0,0,'Lynx WOODEN HOLDS'!O26)+IF('Lynx WOODEN HOLDS'!O$32=0,0,'Lynx WOODEN HOLDS'!O$32)+IF('Lynx WOODEN HOLDS'!O$33=0,0,'Lynx WOODEN HOLDS'!O$33)) | E21: =IF(IF('Lynx WOODEN HOLDS'!P26=0,0,'Lynx WOODEN HOLDS'!P26)+IF('Lynx WOODEN HOLDS'!P$32=0,0,'Lynx WOODEN HOLDS'!P$32)+IF('Lynx WOODEN HOLDS'!P$33=0,0,'Lynx WOODEN HOLDS'!P$33)=0,"",IF('Lynx WOODEN HOLDS'!P26=0,0,'Lynx WOODEN HOLDS'!P26)+IF('Lynx WOODEN HOLDS'!P$32=0,0,'Lynx WOODEN HOLDS'!P$32)+IF('Lynx WOODEN HOLDS'!P$33=0,0,'Lynx WOODEN HOLDS'!P$33)) | F21: =IF(IF('Lynx WOODEN HOLDS'!Q26=0,0,'Lynx WOODEN HOLDS'!Q26)+IF('Lynx WOODEN HOLDS'!Q$32=0,0,'Lynx WOODEN HOLDS'!Q$32)+IF('Lynx WOODEN HOLDS'!Q$33=0,0,'Lynx WOODEN HOLDS'!Q$33)=0,"",IF('Lynx WOODEN HOLDS'!Q26=0,0,'Lynx WOODEN HOLDS'!Q26)+IF('Lynx WOODEN HOLDS'!Q$32=0,0,'Lynx WOODEN HOLDS'!Q$32)+IF('Lynx WOODEN HOLDS'!Q$33=0,0,'Lynx WOODEN HOLDS'!Q$33)) | G21: =IF(IF('Lynx WOODEN HOLDS'!R26=0,0,'Lynx WOODEN HOLDS'!R26)+IF('Lynx WOODEN HOLDS'!R$32=0,0,'Lynx WOODEN HOLDS'!R$32)+IF('Lynx WOODEN HOLDS'!R$33=0,0,'Lynx WOODEN HOLDS'!R$33)=0,"",IF('Lynx WOODEN HOLDS'!R26=0,0,'Lynx WOODEN HOLDS'!R26)+IF('Lynx WOODEN HOLDS'!R$32=0,0,'Lynx WOODEN HOLDS'!R$32)+IF('Lynx WOODEN HOLDS'!R$33=0,0,'Lynx WOODEN HOLDS'!R$33)) | H21: =IF(IF('Lynx WOODEN HOLDS'!S26=0,0,'Lynx WOODEN HOLDS'!S26)+IF('Lynx WOODEN HOLDS'!S$32=0,0,'Lynx WOODEN HOLDS'!S$32)+IF('Lynx WOODEN HOLDS'!S$33=0,0,'Lynx WOODEN HOLDS'!S$33)=0,"",IF('Lynx WOODEN HOLDS'!S26=0,0,'Lynx WOODEN HOLDS'!S26)+IF('Lynx WOODEN HOLDS'!S$32=0,0,'Lynx WOODEN HOLDS'!S$32)+IF('Lynx WOODEN HOLDS'!S$33=0,0,'Lynx WOODEN HOLDS'!S$33)) | I21: =IF(IF('Lynx WOODEN HOLDS'!T26=0,0,'Lynx WOODEN HOLDS'!T26)+IF('Lynx WOODEN HOLDS'!T$32=0,0,'Lynx WOODEN HOLDS'!T$32)+IF('Lynx WOODEN HOLDS'!T$33=0,0,'Lynx WOODEN HOLDS'!T$33)=0,"",IF('Lynx WOODEN HOLDS'!T26=0,0,'Lynx WOODEN HOLDS'!T26)+IF('Lynx WOODEN HOLDS'!T$32=0,0,'Lynx WOODEN HOLDS'!T$32)+IF('Lynx WOODEN HOLDS'!T$33=0,0,'Lynx WOODEN HOLDS'!T$33)) | ... O21: =IF(IF('Lynx WOODEN HOLDS'!Z26=0,0,'Lynx WOODEN HOLDS'!Z26)+IF('Lynx WOODEN HOLDS'!Z$32=0,0,'Lynx WOODEN HOLDS'!Z$32)+IF('Lynx WOODEN HOLDS'!Z$33=0,0,'Lynx WOODEN HOLDS'!Z$33)=0,"",IF('Lynx WOODEN HOLDS'!Z26=0,0,'Lynx WOODEN HOLDS'!Z26)+IF('Lynx WOODEN HOLDS'!Z$32=0,0,'Lynx WOODEN HOLDS'!Z$32)+IF('Lynx WOODEN HOLDS'!Z$33=0,0,'Lynx WOODEN HOLDS'!Z$33)) | P21: =Q21*'Lynx WOODEN HOLDS'!I26 -> 0 | Q21: =SUM(B21:O21) -> 0 | R21: =Q21*'Lynx WOODEN HOLDS'!AX26 -> 0
A22: ='Lynx WOODEN HOLDS'!D27 -> L17-WH-N-DT | B22: =IF(IF('Lynx WOODEN HOLDS'!M27=0,0,'Lynx WOODEN HOLDS'!M27)+IF('Lynx WOODEN HOLDS'!M$32=0,0,'Lynx WOODEN HOLDS'!M$32)+IF('Lynx WOODEN HOLDS'!M$33=0,0,'Lynx WOODEN HOLDS'!M$33)=0,"",IF('Lynx WOODEN HOLDS'!M27=0,0,'Lynx WOODEN HOLDS'!M27)+IF('Lynx WOODEN HOLDS'!M$32=0,0,'Lynx WOODEN HOLDS'!M$32)+IF('Lynx WOODEN HOLDS'!M$33=0,0,'Lynx WOODEN HOLDS'!M$33)) | C22: =IF(IF('Lynx WOODEN HOLDS'!N27=0,0,'Lynx WOODEN HOLDS'!N27)+IF('Lynx WOODEN HOLDS'!N$32=0,0,'Lynx WOODEN HOLDS'!N$32)+IF('Lynx WOODEN HOLDS'!N$33=0,0,'Lynx WOODEN HOLDS'!N$33)=0,"",IF('Lynx WOODEN HOLDS'!N27=0,0,'Lynx WOODEN HOLDS'!N27)+IF('Lynx WOODEN HOLDS'!N$32=0,0,'Lynx WOODEN HOLDS'!N$32)+IF('Lynx WOODEN HOLDS'!N$33=0,0,'Lynx WOODEN HOLDS'!N$33)) | D22: =IF(IF('Lynx WOODEN HOLDS'!O27=0,0,'Lynx WOODEN HOLDS'!O27)+IF('Lynx WOODEN HOLDS'!O$32=0,0,'Lynx WOODEN HOLDS'!O$32)+IF('Lynx WOODEN HOLDS'!O$33=0,0,'Lynx WOODEN HOLDS'!O$33)=0,"",IF('Lynx WOODEN HOLDS'!O27=0,0,'Lynx WOODEN HOLDS'!O27)+IF('Lynx WOODEN HOLDS'!O$32=0,0,'Lynx WOODEN HOLDS'!O$32)+IF('Lynx WOODEN HOLDS'!O$33=0,0,'Lynx WOODEN HOLDS'!O$33)) | E22: =IF(IF('Lynx WOODEN HOLDS'!P27=0,0,'Lynx WOODEN HOLDS'!P27)+IF('Lynx WOODEN HOLDS'!P$32=0,0,'Lynx WOODEN HOLDS'!P$32)+IF('Lynx WOODEN HOLDS'!P$33=0,0,'Lynx WOODEN HOLDS'!P$33)=0,"",IF('Lynx WOODEN HOLDS'!P27=0,0,'Lynx WOODEN HOLDS'!P27)+IF('Lynx WOODEN HOLDS'!P$32=0,0,'Lynx WOODEN HOLDS'!P$32)+IF('Lynx WOODEN HOLDS'!P$33=0,0,'Lynx WOODEN HOLDS'!P$33)) | F22: =IF(IF('Lynx WOODEN HOLDS'!Q27=0,0,'Lynx WOODEN HOLDS'!Q27)+IF('Lynx WOODEN HOLDS'!Q$32=0,0,'Lynx WOODEN HOLDS'!Q$32)+IF('Lynx WOODEN HOLDS'!Q$33=0,0,'Lynx WOODEN HOLDS'!Q$33)=0,"",IF('Lynx WOODEN HOLDS'!Q27=0,0,'Lynx WOODEN HOLDS'!Q27)+IF('Lynx WOODEN HOLDS'!Q$32=0,0,'Lynx WOODEN HOLDS'!Q$32)+IF('Lynx WOODEN HOLDS'!Q$33=0,0,'Lynx WOODEN HOLDS'!Q$33)) | G22: =IF(IF('Lynx WOODEN HOLDS'!R27=0,0,'Lynx WOODEN HOLDS'!R27)+IF('Lynx WOODEN HOLDS'!R$32=0,0,'Lynx WOODEN HOLDS'!R$32)+IF('Lynx WOODEN HOLDS'!R$33=0,0,'Lynx WOODEN HOLDS'!R$33)=0,"",IF('Lynx WOODEN HOLDS'!R27=0,0,'Lynx WOODEN HOLDS'!R27)+IF('Lynx WOODEN HOLDS'!R$32=0,0,'Lynx WOODEN HOLDS'!R$32)+IF('Lynx WOODEN HOLDS'!R$33=0,0,'Lynx WOODEN HOLDS'!R$33)) | H22: =IF(IF('Lynx WOODEN HOLDS'!S27=0,0,'Lynx WOODEN HOLDS'!S27)+IF('Lynx WOODEN HOLDS'!S$32=0,0,'Lynx WOODEN HOLDS'!S$32)+IF('Lynx WOODEN HOLDS'!S$33=0,0,'Lynx WOODEN HOLDS'!S$33)=0,"",IF('Lynx WOODEN HOLDS'!S27=0,0,'Lynx WOODEN HOLDS'!S27)+IF('Lynx WOODEN HOLDS'!S$32=0,0,'Lynx WOODEN HOLDS'!S$32)+IF('Lynx WOODEN HOLDS'!S$33=0,0,'Lynx WOODEN HOLDS'!S$33)) | I22: =IF(IF('Lynx WOODEN HOLDS'!T27=0,0,'Lynx WOODEN HOLDS'!T27)+IF('Lynx WOODEN HOLDS'!T$32=0,0,'Lynx WOODEN HOLDS'!T$32)+IF('Lynx WOODEN HOLDS'!T$33=0,0,'Lynx WOODEN HOLDS'!T$33)=0,"",IF('Lynx WOODEN HOLDS'!T27=0,0,'Lynx WOODEN HOLDS'!T27)+IF('Lynx WOODEN HOLDS'!T$32=0,0,'Lynx WOODEN HOLDS'!T$32)+IF('Lynx WOODEN HOLDS'!T$33=0,0,'Lynx WOODEN HOLDS'!T$33)) | ... O22: =IF(IF('Lynx WOODEN HOLDS'!Z27=0,0,'Lynx WOODEN HOLDS'!Z27)+IF('Lynx WOODEN HOLDS'!Z$32=0,0,'Lynx WOODEN HOLDS'!Z$32)+IF('Lynx WOODEN HOLDS'!Z$33=0,0,'Lynx WOODEN HOLDS'!Z$33)=0,"",IF('Lynx WOODEN HOLDS'!Z27=0,0,'Lynx WOODEN HOLDS'!Z27)+IF('Lynx WOODEN HOLDS'!Z$32=0,0,'Lynx WOODEN HOLDS'!Z$32)+IF('Lynx WOODEN HOLDS'!Z$33=0,0,'Lynx WOODEN HOLDS'!Z$33)) | P22: =Q22*'Lynx WOODEN HOLDS'!I27 -> 0 | Q22: =SUM(B22:O22) -> 0 | R22: =Q22*'Lynx WOODEN HOLDS'!AX27 -> 0
A23: ='Lynx WOODEN HOLDS'!D28 -> L18-WH-N-DT | B23: =IF(IF('Lynx WOODEN HOLDS'!M28=0,0,'Lynx WOODEN HOLDS'!M28)+IF('Lynx WOODEN HOLDS'!M$31=0,0,'Lynx WOODEN HOLDS'!M$31)+IF('Lynx WOODEN HOLDS'!M$33=0,0,'Lynx WOODEN HOLDS'!M$33)=0,"",IF('Lynx WOODEN HOLDS'!M28=0,0,'Lynx WOODEN HOLDS'!M28)+IF('Lynx WOODEN HOLDS'!M$31=0,0,'Lynx WOODEN HOLDS'!M$31)+IF('Lynx WOODEN HOLDS'!M$33=0,0,'Lynx WOODEN HOLDS'!M$33)) | C23: =IF(IF('Lynx WOODEN HOLDS'!N28=0,0,'Lynx WOODEN HOLDS'!N28)+IF('Lynx WOODEN HOLDS'!N$31=0,0,'Lynx WOODEN HOLDS'!N$31)+IF('Lynx WOODEN HOLDS'!N$33=0,0,'Lynx WOODEN HOLDS'!N$33)=0,"",IF('Lynx WOODEN HOLDS'!N28=0,0,'Lynx WOODEN HOLDS'!N28)+IF('Lynx WOODEN HOLDS'!N$31=0,0,'Lynx WOODEN HOLDS'!N$31)+IF('Lynx WOODEN HOLDS'!N$33=0,0,'Lynx WOODEN HOLDS'!N$33)) | D23: =IF(IF('Lynx WOODEN HOLDS'!O28=0,0,'Lynx WOODEN HOLDS'!O28)+IF('Lynx WOODEN HOLDS'!O$31=0,0,'Lynx WOODEN HOLDS'!O$31)+IF('Lynx WOODEN HOLDS'!O$33=0,0,'Lynx WOODEN HOLDS'!O$33)=0,"",IF('Lynx WOODEN HOLDS'!O28=0,0,'Lynx WOODEN HOLDS'!O28)+IF('Lynx WOODEN HOLDS'!O$31=0,0,'Lynx WOODEN HOLDS'!O$31)+IF('Lynx WOODEN HOLDS'!O$33=0,0,'Lynx WOODEN HOLDS'!O$33)) | E23: =IF(IF('Lynx WOODEN HOLDS'!P28=0,0,'Lynx WOODEN HOLDS'!P28)+IF('Lynx WOODEN HOLDS'!P$31=0,0,'Lynx WOODEN HOLDS'!P$31)+IF('Lynx WOODEN HOLDS'!P$33=0,0,'Lynx WOODEN HOLDS'!P$33)=0,"",IF('Lynx WOODEN HOLDS'!P28=0,0,'Lynx WOODEN HOLDS'!P28)+IF('Lynx WOODEN HOLDS'!P$31=0,0,'Lynx WOODEN HOLDS'!P$31)+IF('Lynx WOODEN HOLDS'!P$33=0,0,'Lynx WOODEN HOLDS'!P$33)) | F23: =IF(IF('Lynx WOODEN HOLDS'!Q28=0,0,'Lynx WOODEN HOLDS'!Q28)+IF('Lynx WOODEN HOLDS'!Q$31=0,0,'Lynx WOODEN HOLDS'!Q$31)+IF('Lynx WOODEN HOLDS'!Q$33=0,0,'Lynx WOODEN HOLDS'!Q$33)=0,"",IF('Lynx WOODEN HOLDS'!Q28=0,0,'Lynx WOODEN HOLDS'!Q28)+IF('Lynx WOODEN HOLDS'!Q$31=0,0,'Lynx WOODEN HOLDS'!Q$31)+IF('Lynx WOODEN HOLDS'!Q$33=0,0,'Lynx WOODEN HOLDS'!Q$33)) | G23: =IF(IF('Lynx WOODEN HOLDS'!R28=0,0,'Lynx WOODEN HOLDS'!R28)+IF('Lynx WOODEN HOLDS'!R$31=0,0,'Lynx WOODEN HOLDS'!R$31)+IF('Lynx WOODEN HOLDS'!R$33=0,0,'Lynx WOODEN HOLDS'!R$33)=0,"",IF('Lynx WOODEN HOLDS'!R28=0,0,'Lynx WOODEN HOLDS'!R28)+IF('Lynx WOODEN HOLDS'!R$31=0,0,'Lynx WOODEN HOLDS'!R$31)+IF('Lynx WOODEN HOLDS'!R$33=0,0,'Lynx WOODEN HOLDS'!R$33)) | H23: =IF(IF('Lynx WOODEN HOLDS'!S28=0,0,'Lynx WOODEN HOLDS'!S28)+IF('Lynx WOODEN HOLDS'!S$31=0,0,'Lynx WOODEN HOLDS'!S$31)+IF('Lynx WOODEN HOLDS'!S$33=0,0,'Lynx WOODEN HOLDS'!S$33)=0,"",IF('Lynx WOODEN HOLDS'!S28=0,0,'Lynx WOODEN HOLDS'!S28)+IF('Lynx WOODEN HOLDS'!S$31=0,0,'Lynx WOODEN HOLDS'!S$31)+IF('Lynx WOODEN HOLDS'!S$33=0,0,'Lynx WOODEN HOLDS'!S$33)) | I23: =IF(IF('Lynx WOODEN HOLDS'!T28=0,0,'Lynx WOODEN HOLDS'!T28)+IF('Lynx WOODEN HOLDS'!T$31=0,0,'Lynx WOODEN HOLDS'!T$31)+IF('Lynx WOODEN HOLDS'!T$33=0,0,'Lynx WOODEN HOLDS'!T$33)=0,"",IF('Lynx WOODEN HOLDS'!T28=0,0,'Lynx WOODEN HOLDS'!T28)+IF('Lynx WOODEN HOLDS'!T$31=0,0,'Lynx WOODEN HOLDS'!T$31)+IF('Lynx WOODEN HOLDS'!T$33=0,0,'Lynx WOODEN HOLDS'!T$33)) | ... O23: =IF(IF('Lynx WOODEN HOLDS'!Z28=0,0,'Lynx WOODEN HOLDS'!Z28)+IF('Lynx WOODEN HOLDS'!Z$31=0,0,'Lynx WOODEN HOLDS'!Z$31)+IF('Lynx WOODEN HOLDS'!Z$33=0,0,'Lynx WOODEN HOLDS'!Z$33)=0,"",IF('Lynx WOODEN HOLDS'!Z28=0,0,'Lynx WOODEN HOLDS'!Z28)+IF('Lynx WOODEN HOLDS'!Z$31=0,0,'Lynx WOODEN HOLDS'!Z$31)+IF('Lynx WOODEN HOLDS'!Z$33=0,0,'Lynx WOODEN HOLDS'!Z$33)) | P23: =Q23*'Lynx WOODEN HOLDS'!I28 -> 0 | Q23: =SUM(B23:O23) -> 0 | R23: =Q23*'Lynx WOODEN HOLDS'!AX28 -> 0
A24: ='Lynx WOODEN HOLDS'!D29 -> L19-WH-N-DT | B24: =IF(IF('Lynx WOODEN HOLDS'!M29=0,0,'Lynx WOODEN HOLDS'!M29)+IF('Lynx WOODEN HOLDS'!M$32=0,0,'Lynx WOODEN HOLDS'!M$32)+IF('Lynx WOODEN HOLDS'!M$33=0,0,'Lynx WOODEN HOLDS'!M$33)=0,"",IF('Lynx WOODEN HOLDS'!M29=0,0,'Lynx WOODEN HOLDS'!M29)+IF('Lynx WOODEN HOLDS'!M$32=0,0,'Lynx WOODEN HOLDS'!M$32)+IF('Lynx WOODEN HOLDS'!M$33=0,0,'Lynx WOODEN HOLDS'!M$33)) | C24: =IF(IF('Lynx WOODEN HOLDS'!N29=0,0,'Lynx WOODEN HOLDS'!N29)+IF('Lynx WOODEN HOLDS'!N$32=0,0,'Lynx WOODEN HOLDS'!N$32)+IF('Lynx WOODEN HOLDS'!N$33=0,0,'Lynx WOODEN HOLDS'!N$33)=0,"",IF('Lynx WOODEN HOLDS'!N29=0,0,'Lynx WOODEN HOLDS'!N29)+IF('Lynx WOODEN HOLDS'!N$32=0,0,'Lynx WOODEN HOLDS'!N$32)+IF('Lynx WOODEN HOLDS'!N$33=0,0,'Lynx WOODEN HOLDS'!N$33)) | D24: =IF(IF('Lynx WOODEN HOLDS'!O29=0,0,'Lynx WOODEN HOLDS'!O29)+IF('Lynx WOODEN HOLDS'!O$32=0,0,'Lynx WOODEN HOLDS'!O$32)+IF('Lynx WOODEN HOLDS'!O$33=0,0,'Lynx WOODEN HOLDS'!O$33)=0,"",IF('Lynx WOODEN HOLDS'!O29=0,0,'Lynx WOODEN HOLDS'!O29)+IF('Lynx WOODEN HOLDS'!O$32=0,0,'Lynx WOODEN HOLDS'!O$32)+IF('Lynx WOODEN HOLDS'!O$33=0,0,'Lynx WOODEN HOLDS'!O$33)) | E24: =IF(IF('Lynx WOODEN HOLDS'!P29=0,0,'Lynx WOODEN HOLDS'!P29)+IF('Lynx WOODEN HOLDS'!P$32=0,0,'Lynx WOODEN HOLDS'!P$32)+IF('Lynx WOODEN HOLDS'!P$33=0,0,'Lynx WOODEN HOLDS'!P$33)=0,"",IF('Lynx WOODEN HOLDS'!P29=0,0,'Lynx WOODEN HOLDS'!P29)+IF('Lynx WOODEN HOLDS'!P$32=0,0,'Lynx WOODEN HOLDS'!P$32)+IF('Lynx WOODEN HOLDS'!P$33=0,0,'Lynx WOODEN HOLDS'!P$33)) | F24: =IF(IF('Lynx WOODEN HOLDS'!Q29=0,0,'Lynx WOODEN HOLDS'!Q29)+IF('Lynx WOODEN HOLDS'!Q$32=0,0,'Lynx WOODEN HOLDS'!Q$32)+IF('Lynx WOODEN HOLDS'!Q$33=0,0,'Lynx WOODEN HOLDS'!Q$33)=0,"",IF('Lynx WOODEN HOLDS'!Q29=0,0,'Lynx WOODEN HOLDS'!Q29)+IF('Lynx WOODEN HOLDS'!Q$32=0,0,'Lynx WOODEN HOLDS'!Q$32)+IF('Lynx WOODEN HOLDS'!Q$33=0,0,'Lynx WOODEN HOLDS'!Q$33)) | G24: =IF(IF('Lynx WOODEN HOLDS'!R29=0,0,'Lynx WOODEN HOLDS'!R29)+IF('Lynx WOODEN HOLDS'!R$32=0,0,'Lynx WOODEN HOLDS'!R$32)+IF('Lynx WOODEN HOLDS'!R$33=0,0,'Lynx WOODEN HOLDS'!R$33)=0,"",IF('Lynx WOODEN HOLDS'!R29=0,0,'Lynx WOODEN HOLDS'!R29)+IF('Lynx WOODEN HOLDS'!R$32=0,0,'Lynx WOODEN HOLDS'!R$32)+IF('Lynx WOODEN HOLDS'!R$33=0,0,'Lynx WOODEN HOLDS'!R$33)) | H24: =IF(IF('Lynx WOODEN HOLDS'!S29=0,0,'Lynx WOODEN HOLDS'!S29)+IF('Lynx WOODEN HOLDS'!S$32=0,0,'Lynx WOODEN HOLDS'!S$32)+IF('Lynx WOODEN HOLDS'!S$33=0,0,'Lynx WOODEN HOLDS'!S$33)=0,"",IF('Lynx WOODEN HOLDS'!S29=0,0,'Lynx WOODEN HOLDS'!S29)+IF('Lynx WOODEN HOLDS'!S$32=0,0,'Lynx WOODEN HOLDS'!S$32)+IF('Lynx WOODEN HOLDS'!S$33=0,0,'Lynx WOODEN HOLDS'!S$33)) | I24: =IF(IF('Lynx WOODEN HOLDS'!T29=0,0,'Lynx WOODEN HOLDS'!T29)+IF('Lynx WOODEN HOLDS'!T$32=0,0,'Lynx WOODEN HOLDS'!T$32)+IF('Lynx WOODEN HOLDS'!T$33=0,0,'Lynx WOODEN HOLDS'!T$33)=0,"",IF('Lynx WOODEN HOLDS'!T29=0,0,'Lynx WOODEN HOLDS'!T29)+IF('Lynx WOODEN HOLDS'!T$32=0,0,'Lynx WOODEN HOLDS'!T$32)+IF('Lynx WOODEN HOLDS'!T$33=0,0,'Lynx WOODEN HOLDS'!T$33)) | ... O24: =IF(IF('Lynx WOODEN HOLDS'!Z29=0,0,'Lynx WOODEN HOLDS'!Z29)+IF('Lynx WOODEN HOLDS'!Z$32=0,0,'Lynx WOODEN HOLDS'!Z$32)+IF('Lynx WOODEN HOLDS'!Z$33=0,0,'Lynx WOODEN HOLDS'!Z$33)=0,"",IF('Lynx WOODEN HOLDS'!Z29=0,0,'Lynx WOODEN HOLDS'!Z29)+IF('Lynx WOODEN HOLDS'!Z$32=0,0,'Lynx WOODEN HOLDS'!Z$32)+IF('Lynx WOODEN HOLDS'!Z$33=0,0,'Lynx WOODEN HOLDS'!Z$33)) | P24: =Q24*'Lynx WOODEN HOLDS'!I29 -> 0 | Q24: =SUM(B24:O24) -> 0 | R24: =Q24*'Lynx WOODEN HOLDS'!AX29 -> 0
A25: ='Lynx WOODEN HOLDS'!D30 -> L20-WH-N-DT | B25: =IF(IF('Lynx WOODEN HOLDS'!M30=0,0,'Lynx WOODEN HOLDS'!M30)+IF('Lynx WOODEN HOLDS'!M$32=0,0,'Lynx WOODEN HOLDS'!M$32)+IF('Lynx WOODEN HOLDS'!M$33=0,0,'Lynx WOODEN HOLDS'!M$33)=0,"",IF('Lynx WOODEN HOLDS'!M30=0,0,'Lynx WOODEN HOLDS'!M30)+IF('Lynx WOODEN HOLDS'!M$32=0,0,'Lynx WOODEN HOLDS'!M$32)+IF('Lynx WOODEN HOLDS'!M$33=0,0,'Lynx WOODEN HOLDS'!M$33)) | C25: =IF(IF('Lynx WOODEN HOLDS'!N30=0,0,'Lynx WOODEN HOLDS'!N30)+IF('Lynx WOODEN HOLDS'!N$32=0,0,'Lynx WOODEN HOLDS'!N$32)+IF('Lynx WOODEN HOLDS'!N$33=0,0,'Lynx WOODEN HOLDS'!N$33)=0,"",IF('Lynx WOODEN HOLDS'!N30=0,0,'Lynx WOODEN HOLDS'!N30)+IF('Lynx WOODEN HOLDS'!N$32=0,0,'Lynx WOODEN HOLDS'!N$32)+IF('Lynx WOODEN HOLDS'!N$33=0,0,'Lynx WOODEN HOLDS'!N$33)) | D25: =IF(IF('Lynx WOODEN HOLDS'!O30=0,0,'Lynx WOODEN HOLDS'!O30)+IF('Lynx WOODEN HOLDS'!O$32=0,0,'Lynx WOODEN HOLDS'!O$32)+IF('Lynx WOODEN HOLDS'!O$33=0,0,'Lynx WOODEN HOLDS'!O$33)=0,"",IF('Lynx WOODEN HOLDS'!O30=0,0,'Lynx WOODEN HOLDS'!O30)+IF('Lynx WOODEN HOLDS'!O$32=0,0,'Lynx WOODEN HOLDS'!O$32)+IF('Lynx WOODEN HOLDS'!O$33=0,0,'Lynx WOODEN HOLDS'!O$33)) | E25: =IF(IF('Lynx WOODEN HOLDS'!P30=0,0,'Lynx WOODEN HOLDS'!P30)+IF('Lynx WOODEN HOLDS'!P$32=0,0,'Lynx WOODEN HOLDS'!P$32)+IF('Lynx WOODEN HOLDS'!P$33=0,0,'Lynx WOODEN HOLDS'!P$33)=0,"",IF('Lynx WOODEN HOLDS'!P30=0,0,'Lynx WOODEN HOLDS'!P30)+IF('Lynx WOODEN HOLDS'!P$32=0,0,'Lynx WOODEN HOLDS'!P$32)+IF('Lynx WOODEN HOLDS'!P$33=0,0,'Lynx WOODEN HOLDS'!P$33)) | F25: =IF(IF('Lynx WOODEN HOLDS'!Q30=0,0,'Lynx WOODEN HOLDS'!Q30)+IF('Lynx WOODEN HOLDS'!Q$32=0,0,'Lynx WOODEN HOLDS'!Q$32)+IF('Lynx WOODEN HOLDS'!Q$33=0,0,'Lynx WOODEN HOLDS'!Q$33)=0,"",IF('Lynx WOODEN HOLDS'!Q30=0,0,'Lynx WOODEN HOLDS'!Q30)+IF('Lynx WOODEN HOLDS'!Q$32=0,0,'Lynx WOODEN HOLDS'!Q$32)+IF('Lynx WOODEN HOLDS'!Q$33=0,0,'Lynx WOODEN HOLDS'!Q$33)) | G25: =IF(IF('Lynx WOODEN HOLDS'!R30=0,0,'Lynx WOODEN HOLDS'!R30)+IF('Lynx WOODEN HOLDS'!R$32=0,0,'Lynx WOODEN HOLDS'!R$32)+IF('Lynx WOODEN HOLDS'!R$33=0,0,'Lynx WOODEN HOLDS'!R$33)=0,"",IF('Lynx WOODEN HOLDS'!R30=0,0,'Lynx WOODEN HOLDS'!R30)+IF('Lynx WOODEN HOLDS'!R$32=0,0,'Lynx WOODEN HOLDS'!R$32)+IF('Lynx WOODEN HOLDS'!R$33=0,0,'Lynx WOODEN HOLDS'!R$33)) | H25: =IF(IF('Lynx WOODEN HOLDS'!S30=0,0,'Lynx WOODEN HOLDS'!S30)+IF('Lynx WOODEN HOLDS'!S$32=0,0,'Lynx WOODEN HOLDS'!S$32)+IF('Lynx WOODEN HOLDS'!S$33=0,0,'Lynx WOODEN HOLDS'!S$33)=0,"",IF('Lynx WOODEN HOLDS'!S30=0,0,'Lynx WOODEN HOLDS'!S30)+IF('Lynx WOODEN HOLDS'!S$32=0,0,'Lynx WOODEN HOLDS'!S$32)+IF('Lynx WOODEN HOLDS'!S$33=0,0,'Lynx WOODEN HOLDS'!S$33)) | I25: =IF(IF('Lynx WOODEN HOLDS'!T30=0,0,'Lynx WOODEN HOLDS'!T30)+IF('Lynx WOODEN HOLDS'!T$32=0,0,'Lynx WOODEN HOLDS'!T$32)+IF('Lynx WOODEN HOLDS'!T$33=0,0,'Lynx WOODEN HOLDS'!T$33)=0,"",IF('Lynx WOODEN HOLDS'!T30=0,0,'Lynx WOODEN HOLDS'!T30)+IF('Lynx WOODEN HOLDS'!T$32=0,0,'Lynx WOODEN HOLDS'!T$32)+IF('Lynx WOODEN HOLDS'!T$33=0,0,'Lynx WOODEN HOLDS'!T$33)) | ... O25: =IF(IF('Lynx WOODEN HOLDS'!Z30=0,0,'Lynx WOODEN HOLDS'!Z30)+IF('Lynx WOODEN HOLDS'!Z$32=0,0,'Lynx WOODEN HOLDS'!Z$32)+IF('Lynx WOODEN HOLDS'!Z$33=0,0,'Lynx WOODEN HOLDS'!Z$33)=0,"",IF('Lynx WOODEN HOLDS'!Z30=0,0,'Lynx WOODEN HOLDS'!Z30)+IF('Lynx WOODEN HOLDS'!Z$32=0,0,'Lynx WOODEN HOLDS'!Z$32)+IF('Lynx WOODEN HOLDS'!Z$33=0,0,'Lynx WOODEN HOLDS'!Z$33)) | P25: =Q25*'Lynx WOODEN HOLDS'!I30 -> 0 | Q25: =SUM(B25:O25) -> 0 | R25: =Q25*'Lynx WOODEN HOLDS'!AX30 -> 0

Sheet PACK. Lynx WOODHOLDS
A1: ='PROD. lynx GRP'!C3 -> 0 | N1: ='PROD. lynx GRP'!N3 -> 0 | R1: =SUM(R3:R22) -> 0
A2: sum KOS | B2: sum set | C2: SET | D2: black | E2: white | F2: red | G2: yellow | H2: blue | I2: bright green | J2: pure green | K2: apricot orange | L2: deep orange | M2: pink | N2: grey | O2: purple | P2: mint | Q2: deep rose | R2: SUM set
A3: =B3*'Lynx PLYWOOD'!J11 -> 0 | B3: =SUM(C3:O3) -> 0 | C3: ='Lynx WOODEN HOLDS'!D11 -> L1-WH-N-DT | D3: =IF('Lynx WOODEN HOLDS'!M11=0,0,'Lynx WOODEN HOLDS'!M11)+IF('Lynx WOODEN HOLDS'!M$32=0,0,'Lynx WOODEN HOLDS'!M$32)+IF('Lynx WOODEN HOLDS'!M$33=0,0,'Lynx WOODEN HOLDS'!M$33) -> 0 | E3: =IF('Lynx WOODEN HOLDS'!N11=0,0,'Lynx WOODEN HOLDS'!N11)+IF('Lynx WOODEN HOLDS'!N$32=0,0,'Lynx WOODEN HOLDS'!N$32)+IF('Lynx WOODEN HOLDS'!N$33=0,0,'Lynx WOODEN HOLDS'!N$33) -> 0 | F3: =IF('Lynx WOODEN HOLDS'!O11=0,0,'Lynx WOODEN HOLDS'!O11)+IF('Lynx WOODEN HOLDS'!O$32=0,0,'Lynx WOODEN HOLDS'!O$32)+IF('Lynx WOODEN HOLDS'!O$33=0,0,'Lynx WOODEN HOLDS'!O$33) -> 0 | G3: =IF('Lynx WOODEN HOLDS'!P11=0,0,'Lynx WOODEN HOLDS'!P11)+IF('Lynx WOODEN HOLDS'!P$32=0,0,'Lynx WOODEN HOLDS'!P$32)+IF('Lynx WOODEN HOLDS'!P$33=0,0,'Lynx WOODEN HOLDS'!P$33) -> 0 | H3: =IF('Lynx WOODEN HOLDS'!Q11=0,0,'Lynx WOODEN HOLDS'!Q11)+IF('Lynx WOODEN HOLDS'!Q$32=0,0,'Lynx WOODEN HOLDS'!Q$32)+IF('Lynx WOODEN HOLDS'!Q$33=0,0,'Lynx WOODEN HOLDS'!Q$33) -> 0 | I3: =IF('Lynx WOODEN HOLDS'!R11=0,0,'Lynx WOODEN HOLDS'!R11)+IF('Lynx WOODEN HOLDS'!R$32=0,0,'Lynx WOODEN HOLDS'!R$32)+IF('Lynx WOODEN HOLDS'!R$33=0,0,'Lynx WOODEN HOLDS'!R$33) -> 0 | J3: =IF('Lynx WOODEN HOLDS'!S11=0,0,'Lynx WOODEN HOLDS'!S11)+IF('Lynx WOODEN HOLDS'!S$32=0,0,'Lynx WOODEN HOLDS'!S$32)+IF('Lynx WOODEN HOLDS'!S$33=0,0,'Lynx WOODEN HOLDS'!S$33) -> 0 | K3: =IF('Lynx WOODEN HOLDS'!T11=0,0,'Lynx WOODEN HOLDS'!T11)+IF('Lynx WOODEN HOLDS'!T$32=0,0,'Lynx WOODEN HOLDS'!T$32)+IF('Lynx WOODEN HOLDS'!T$33=0,0,'Lynx WOODEN HOLDS'!T$33) -> 0 | ... Q3: =IF('Lynx WOODEN HOLDS'!Z11=0,0,'Lynx WOODEN HOLDS'!Z11)+IF('Lynx WOODEN HOLDS'!Z$32=0,0,'Lynx WOODEN HOLDS'!Z$32)+IF('Lynx WOODEN HOLDS'!Z$33=0,0,'Lynx WOODEN HOLDS'!Z$33) -> 0 | R3: ='PROD. Lynx Woodholds'!Q6 -> 0
A4: =B4*'Lynx PLYWOOD'!J12 -> 0 | B4: =SUM(C4:O4) -> 0 | C4: ='Lynx WOODEN HOLDS'!D12 -> L2-WH-N-DT | D4: =IF('Lynx WOODEN HOLDS'!M12=0,0,'Lynx WOODEN HOLDS'!M12)+IF('Lynx WOODEN HOLDS'!M$32=0,0,'Lynx WOODEN HOLDS'!M$32)+IF('Lynx WOODEN HOLDS'!M$33=0,0,'Lynx WOODEN HOLDS'!M$33) -> 0 | E4: =IF('Lynx WOODEN HOLDS'!N12=0,0,'Lynx WOODEN HOLDS'!N12)+IF('Lynx WOODEN HOLDS'!N$32=0,0,'Lynx WOODEN HOLDS'!N$32)+IF('Lynx WOODEN HOLDS'!N$33=0,0,'Lynx WOODEN HOLDS'!N$33) -> 0 | F4: =IF('Lynx WOODEN HOLDS'!O12=0,0,'Lynx WOODEN HOLDS'!O12)+IF('Lynx WOODEN HOLDS'!O$32=0,0,'Lynx WOODEN HOLDS'!O$32)+IF('Lynx WOODEN HOLDS'!O$33=0,0,'Lynx WOODEN HOLDS'!O$33) -> 0 | G4: =IF('Lynx WOODEN HOLDS'!P12=0,0,'Lynx WOODEN HOLDS'!P12)+IF('Lynx WOODEN HOLDS'!P$32=0,0,'Lynx WOODEN HOLDS'!P$32)+IF('Lynx WOODEN HOLDS'!P$33=0,0,'Lynx WOODEN HOLDS'!P$33) -> 0 | H4: =IF('Lynx WOODEN HOLDS'!Q12=0,0,'Lynx WOODEN HOLDS'!Q12)+IF('Lynx WOODEN HOLDS'!Q$32=0,0,'Lynx WOODEN HOLDS'!Q$32)+IF('Lynx WOODEN HOLDS'!Q$33=0,0,'Lynx WOODEN HOLDS'!Q$33) -> 0 | I4: =IF('Lynx WOODEN HOLDS'!R12=0,0,'Lynx WOODEN HOLDS'!R12)+IF('Lynx WOODEN HOLDS'!R$32=0,0,'Lynx WOODEN HOLDS'!R$32)+IF('Lynx WOODEN HOLDS'!R$33=0,0,'Lynx WOODEN HOLDS'!R$33) -> 0 | J4: =IF('Lynx WOODEN HOLDS'!S12=0,0,'Lynx WOODEN HOLDS'!S12)+IF('Lynx WOODEN HOLDS'!S$32=0,0,'Lynx WOODEN HOLDS'!S$32)+IF('Lynx WOODEN HOLDS'!S$33=0,0,'Lynx WOODEN HOLDS'!S$33) -> 0 | K4: =IF('Lynx WOODEN HOLDS'!T12=0,0,'Lynx WOODEN HOLDS'!T12)+IF('Lynx WOODEN HOLDS'!T$32=0,0,'Lynx WOODEN HOLDS'!T$32)+IF('Lynx WOODEN HOLDS'!T$33=0,0,'Lynx WOODEN HOLDS'!T$33) -> 0 | ... Q4: =IF('Lynx WOODEN HOLDS'!Z12=0,0,'Lynx WOODEN HOLDS'!Z12)+IF('Lynx WOODEN HOLDS'!Z$32=0,0,'Lynx WOODEN HOLDS'!Z$32)+IF('Lynx WOODEN HOLDS'!Z$33=0,0,'Lynx WOODEN HOLDS'!Z$33) -> 0 | R4: ='PROD. Lynx Woodholds'!Q7 -> 0
A5: =B5*'Lynx PLYWOOD'!#REF! -> #REF! | B5: =SUM(C5:O5) -> 0 | C5: ='Lynx WOODEN HOLDS'!D13 -> L3-WH-N-DT | D5: =IF('Lynx WOODEN HOLDS'!M13=0,0,'Lynx WOODEN HOLDS'!M13)+IF('Lynx WOODEN HOLDS'!M$31=0,0,'Lynx WOODEN HOLDS'!M$31)+IF('Lynx WOODEN HOLDS'!M$33=0,0,'Lynx WOODEN HOLDS'!M$33) -> 0 | E5: =IF('Lynx WOODEN HOLDS'!N13=0,0,'Lynx WOODEN HOLDS'!N13)+IF('Lynx WOODEN HOLDS'!N$31=0,0,'Lynx WOODEN HOLDS'!N$31)+IF('Lynx WOODEN HOLDS'!N$33=0,0,'Lynx WOODEN HOLDS'!N$33) -> 0 | F5: =IF('Lynx WOODEN HOLDS'!O13=0,0,'Lynx WOODEN HOLDS'!O13)+IF('Lynx WOODEN HOLDS'!O$31=0,0,'Lynx WOODEN HOLDS'!O$31)+IF('Lynx WOODEN HOLDS'!O$33=0,0,'Lynx WOODEN HOLDS'!O$33) -> 0 | G5: =IF('Lynx WOODEN HOLDS'!P13=0,0,'Lynx WOODEN HOLDS'!P13)+IF('Lynx WOODEN HOLDS'!P$31=0,0,'Lynx WOODEN HOLDS'!P$31)+IF('Lynx WOODEN HOLDS'!P$33=0,0,'Lynx WOODEN HOLDS'!P$33) -> 0 | H5: =IF('Lynx WOODEN HOLDS'!Q13=0,0,'Lynx WOODEN HOLDS'!Q13)+IF('Lynx WOODEN HOLDS'!Q$31=0,0,'Lynx WOODEN HOLDS'!Q$31)+IF('Lynx WOODEN HOLDS'!Q$33=0,0,'Lynx WOODEN HOLDS'!Q$33) -> 0 | I5: =IF('Lynx WOODEN HOLDS'!R13=0,0,'Lynx WOODEN HOLDS'!R13)+IF('Lynx WOODEN HOLDS'!R$31=0,0,'Lynx WOODEN HOLDS'!R$31)+IF('Lynx WOODEN HOLDS'!R$33=0,0,'Lynx WOODEN HOLDS'!R$33) -> 0 | J5: =IF('Lynx WOODEN HOLDS'!S13=0,0,'Lynx WOODEN HOLDS'!S13)+IF('Lynx WOODEN HOLDS'!S$31=0,0,'Lynx WOODEN HOLDS'!S$31)+IF('Lynx WOODEN HOLDS'!S$33=0,0,'Lynx WOODEN HOLDS'!S$33) -> 0 | K5: =IF('Lynx WOODEN HOLDS'!T13=0,0,'Lynx WOODEN HOLDS'!T13)+IF('Lynx WOODEN HOLDS'!T$31=0,0,'Lynx WOODEN HOLDS'!T$31)+IF('Lynx WOODEN HOLDS'!T$33=0,0,'Lynx WOODEN HOLDS'!T$33) -> 0 | ... Q5: =IF('Lynx WOODEN HOLDS'!Z13=0,0,'Lynx WOODEN HOLDS'!Z13)+IF('Lynx WOODEN HOLDS'!Z$31=0,0,'Lynx WOODEN HOLDS'!Z$31)+IF('Lynx WOODEN HOLDS'!Z$33=0,0,'Lynx WOODEN HOLDS'!Z$33) -> 0 | R5: ='PROD. Lynx Woodholds'!Q8 -> 0
A6: =B6*'Lynx PLYWOOD'!#REF! -> #REF! | B6: =SUM(C6:O6) -> 0 | C6: ='Lynx WOODEN HOLDS'!D14 -> L4-WH-N-DT | D6: =IF('Lynx WOODEN HOLDS'!M14=0,0,'Lynx WOODEN HOLDS'!M14)+IF('Lynx WOODEN HOLDS'!M$31=0,0,'Lynx WOODEN HOLDS'!M$31)+IF('Lynx WOODEN HOLDS'!M$33=0,0,'Lynx WOODEN HOLDS'!M$33) -> 0 | E6: =IF('Lynx WOODEN HOLDS'!N14=0,0,'Lynx WOODEN HOLDS'!N14)+IF('Lynx WOODEN HOLDS'!N$31=0,0,'Lynx WOODEN HOLDS'!N$31)+IF('Lynx WOODEN HOLDS'!N$33=0,0,'Lynx WOODEN HOLDS'!N$33) -> 0 | F6: =IF('Lynx WOODEN HOLDS'!O14=0,0,'Lynx WOODEN HOLDS'!O14)+IF('Lynx WOODEN HOLDS'!O$31=0,0,'Lynx WOODEN HOLDS'!O$31)+IF('Lynx WOODEN HOLDS'!O$33=0,0,'Lynx WOODEN HOLDS'!O$33) -> 0 | G6: =IF('Lynx WOODEN HOLDS'!P14=0,0,'Lynx WOODEN HOLDS'!P14)+IF('Lynx WOODEN HOLDS'!P$31=0,0,'Lynx WOODEN HOLDS'!P$31)+IF('Lynx WOODEN HOLDS'!P$33=0,0,'Lynx WOODEN HOLDS'!P$33) -> 0 | H6: =IF('Lynx WOODEN HOLDS'!Q14=0,0,'Lynx WOODEN HOLDS'!Q14)+IF('Lynx WOODEN HOLDS'!Q$31=0,0,'Lynx WOODEN HOLDS'!Q$31)+IF('Lynx WOODEN HOLDS'!Q$33=0,0,'Lynx WOODEN HOLDS'!Q$33) -> 0 | I6: =IF('Lynx WOODEN HOLDS'!R14=0,0,'Lynx WOODEN HOLDS'!R14)+IF('Lynx WOODEN HOLDS'!R$31=0,0,'Lynx WOODEN HOLDS'!R$31)+IF('Lynx WOODEN HOLDS'!R$33=0,0,'Lynx WOODEN HOLDS'!R$33) -> 0 | J6: =IF('Lynx WOODEN HOLDS'!S14=0,0,'Lynx WOODEN HOLDS'!S14)+IF('Lynx WOODEN HOLDS'!S$31=0,0,'Lynx WOODEN HOLDS'!S$31)+IF('Lynx WOODEN HOLDS'!S$33=0,0,'Lynx WOODEN HOLDS'!S$33) -> 0 | K6: =IF('Lynx WOODEN HOLDS'!T14=0,0,'Lynx WOODEN HOLDS'!T14)+IF('Lynx WOODEN HOLDS'!T$31=0,0,'Lynx WOODEN HOLDS'!T$31)+IF('Lynx WOODEN HOLDS'!T$33=0,0,'Lynx WOODEN HOLDS'!T$33) -> 0 | ... Q6: =IF('Lynx WOODEN HOLDS'!Z14=0,0,'Lynx WOODEN HOLDS'!Z14)+IF('Lynx WOODEN HOLDS'!Z$31=0,0,'Lynx WOODEN HOLDS'!Z$31)+IF('Lynx WOODEN HOLDS'!Z$33=0,0,'Lynx WOODEN HOLDS'!Z$33) -> 0 | R6: ='PROD. Lynx Woodholds'!Q9 -> 0
A7: =B7*'Lynx PLYWOOD'!#REF! -> #REF! | B7: =SUM(C7:O7) -> 0 | C7: ='Lynx WOODEN HOLDS'!D15 -> L5-WH-N-DT | D7: =IF('Lynx WOODEN HOLDS'!M15=0,0,'Lynx WOODEN HOLDS'!M15)+IF('Lynx WOODEN HOLDS'!M$32=0,0,'Lynx WOODEN HOLDS'!M$32)+IF('Lynx WOODEN HOLDS'!M$33=0,0,'Lynx WOODEN HOLDS'!M$33) -> 0 | E7: =IF('Lynx WOODEN HOLDS'!N15=0,0,'Lynx WOODEN HOLDS'!N15)+IF('Lynx WOODEN HOLDS'!N$32=0,0,'Lynx WOODEN HOLDS'!N$32)+IF('Lynx WOODEN HOLDS'!N$33=0,0,'Lynx WOODEN HOLDS'!N$33) -> 0 | F7: =IF('Lynx WOODEN HOLDS'!O15=0,0,'Lynx WOODEN HOLDS'!O15)+IF('Lynx WOODEN HOLDS'!O$32=0,0,'Lynx WOODEN HOLDS'!O$32)+IF('Lynx WOODEN HOLDS'!O$33=0,0,'Lynx WOODEN HOLDS'!O$33) -> 0 | G7: =IF('Lynx WOODEN HOLDS'!P15=0,0,'Lynx WOODEN HOLDS'!P15)+IF('Lynx WOODEN HOLDS'!P$32=0,0,'Lynx WOODEN HOLDS'!P$32)+IF('Lynx WOODEN HOLDS'!P$33=0,0,'Lynx WOODEN HOLDS'!P$33) -> 0 | H7: =IF('Lynx WOODEN HOLDS'!Q15=0,0,'Lynx WOODEN HOLDS'!Q15)+IF('Lynx WOODEN HOLDS'!Q$32=0,0,'Lynx WOODEN HOLDS'!Q$32)+IF('Lynx WOODEN HOLDS'!Q$33=0,0,'Lynx WOODEN HOLDS'!Q$33) -> 0 | I7: =IF('Lynx WOODEN HOLDS'!R15=0,0,'Lynx WOODEN HOLDS'!R15)+IF('Lynx WOODEN HOLDS'!R$32=0,0,'Lynx WOODEN HOLDS'!R$32)+IF('Lynx WOODEN HOLDS'!R$33=0,0,'Lynx WOODEN HOLDS'!R$33) -> 0 | J7: =IF('Lynx WOODEN HOLDS'!S15=0,0,'Lynx WOODEN HOLDS'!S15)+IF('Lynx WOODEN HOLDS'!S$32=0,0,'Lynx WOODEN HOLDS'!S$32)+IF('Lynx WOODEN HOLDS'!S$33=0,0,'Lynx WOODEN HOLDS'!S$33) -> 0 | K7: =IF('Lynx WOODEN HOLDS'!T15=0,0,'Lynx WOODEN HOLDS'!T15)+IF('Lynx WOODEN HOLDS'!T$32=0,0,'Lynx WOODEN HOLDS'!T$32)+IF('Lynx WOODEN HOLDS'!T$33=0,0,'Lynx WOODEN HOLDS'!T$33) -> 0 | ... Q7: =IF('Lynx WOODEN HOLDS'!Z15=0,0,'Lynx WOODEN HOLDS'!Z15)+IF('Lynx WOODEN HOLDS'!Z$32=0,0,'Lynx WOODEN HOLDS'!Z$32)+IF('Lynx WOODEN HOLDS'!Z$33=0,0,'Lynx WOODEN HOLDS'!Z$33) -> 0 | R7: ='PROD. Lynx Woodholds'!Q10 -> 0
A8: =B8*'Lynx PLYWOOD'!#REF! -> #REF! | B8: =SUM(C8:O8) -> 0 | C8: ='Lynx WOODEN HOLDS'!D16 -> L6-WH-N-DT | D8: =IF('Lynx WOODEN HOLDS'!M16=0,0,'Lynx WOODEN HOLDS'!M16)+IF('Lynx WOODEN HOLDS'!M$32=0,0,'Lynx WOODEN HOLDS'!M$32)+IF('Lynx WOODEN HOLDS'!M$33=0,0,'Lynx WOODEN HOLDS'!M$33) -> 0 | E8: =IF('Lynx WOODEN HOLDS'!N16=0,0,'Lynx WOODEN HOLDS'!N16)+IF('Lynx WOODEN HOLDS'!N$32=0,0,'Lynx WOODEN HOLDS'!N$32)+IF('Lynx WOODEN HOLDS'!N$33=0,0,'Lynx WOODEN HOLDS'!N$33) -> 0 | F8: =IF('Lynx WOODEN HOLDS'!O16=0,0,'Lynx WOODEN HOLDS'!O16)+IF('Lynx WOODEN HOLDS'!O$32=0,0,'Lynx WOODEN HOLDS'!O$32)+IF('Lynx WOODEN HOLDS'!O$33=0,0,'Lynx WOODEN HOLDS'!O$33) -> 0 | G8: =IF('Lynx WOODEN HOLDS'!P16=0,0,'Lynx WOODEN HOLDS'!P16)+IF('Lynx WOODEN HOLDS'!P$32=0,0,'Lynx WOODEN HOLDS'!P$32)+IF('Lynx WOODEN HOLDS'!P$33=0,0,'Lynx WOODEN HOLDS'!P$33) -> 0 | H8: =IF('Lynx WOODEN HOLDS'!Q16=0,0,'Lynx WOODEN HOLDS'!Q16)+IF('Lynx WOODEN HOLDS'!Q$32=0,0,'Lynx WOODEN HOLDS'!Q$32)+IF('Lynx WOODEN HOLDS'!Q$33=0,0,'Lynx WOODEN HOLDS'!Q$33) -> 0 | I8: =IF('Lynx WOODEN HOLDS'!R16=0,0,'Lynx WOODEN HOLDS'!R16)+IF('Lynx WOODEN HOLDS'!R$32=0,0,'Lynx WOODEN HOLDS'!R$32)+IF('Lynx WOODEN HOLDS'!R$33=0,0,'Lynx WOODEN HOLDS'!R$33) -> 0 | J8: =IF('Lynx WOODEN HOLDS'!S16=0,0,'Lynx WOODEN HOLDS'!S16)+IF('Lynx WOODEN HOLDS'!S$32=0,0,'Lynx WOODEN HOLDS'!S$32)+IF('Lynx WOODEN HOLDS'!S$33=0,0,'Lynx WOODEN HOLDS'!S$33) -> 0 | K8: =IF('Lynx WOODEN HOLDS'!T16=0,0,'Lynx WOODEN HOLDS'!T16)+IF('Lynx WOODEN HOLDS'!T$32=0,0,'Lynx WOODEN HOLDS'!T$32)+IF('Lynx WOODEN HOLDS'!T$33=0,0,'Lynx WOODEN HOLDS'!T$33) -> 0 | ... Q8: =IF('Lynx WOODEN HOLDS'!Z16=0,0,'Lynx WOODEN HOLDS'!Z16)+IF('Lynx WOODEN HOLDS'!Z$32=0,0,'Lynx WOODEN HOLDS'!Z$32)+IF('Lynx WOODEN HOLDS'!Z$33=0,0,'Lynx WOODEN HOLDS'!Z$33) -> 0 | R8: ='PROD. Lynx Woodholds'!Q11 -> 0
A9: =B9*'Lynx PLYWOOD'!#REF! -> #REF! | B9: =SUM(C9:O9) -> 0 | C9: ='Lynx WOODEN HOLDS'!D17 -> L7-WH-N-DT | D9: =IF('Lynx WOODEN HOLDS'!M17=0,0,'Lynx WOODEN HOLDS'!M17)+IF('Lynx WOODEN HOLDS'!M$32=0,0,'Lynx WOODEN HOLDS'!M$32)+IF('Lynx WOODEN HOLDS'!M$33=0,0,'Lynx WOODEN HOLDS'!M$33) -> 0 | E9: =IF('Lynx WOODEN HOLDS'!N17=0,0,'Lynx WOODEN HOLDS'!N17)+IF('Lynx WOODEN HOLDS'!N$32=0,0,'Lynx WOODEN HOLDS'!N$32)+IF('Lynx WOODEN HOLDS'!N$33=0,0,'Lynx WOODEN HOLDS'!N$33) -> 0 | F9: =IF('Lynx WOODEN HOLDS'!O17=0,0,'Lynx WOODEN HOLDS'!O17)+IF('Lynx WOODEN HOLDS'!O$32=0,0,'Lynx WOODEN HOLDS'!O$32)+IF('Lynx WOODEN HOLDS'!O$33=0,0,'Lynx WOODEN HOLDS'!O$33) -> 0 | G9: =IF('Lynx WOODEN HOLDS'!P17=0,0,'Lynx WOODEN HOLDS'!P17)+IF('Lynx WOODEN HOLDS'!P$32=0,0,'Lynx WOODEN HOLDS'!P$32)+IF('Lynx WOODEN HOLDS'!P$33=0,0,'Lynx WOODEN HOLDS'!P$33) -> 0 | H9: =IF('Lynx WOODEN HOLDS'!Q17=0,0,'Lynx WOODEN HOLDS'!Q17)+IF('Lynx WOODEN HOLDS'!Q$32=0,0,'Lynx WOODEN HOLDS'!Q$32)+IF('Lynx WOODEN HOLDS'!Q$33=0,0,'Lynx WOODEN HOLDS'!Q$33) -> 0 | I9: =IF('Lynx WOODEN HOLDS'!R17=0,0,'Lynx WOODEN HOLDS'!R17)+IF('Lynx WOODEN HOLDS'!R$32=0,0,'Lynx WOODEN HOLDS'!R$32)+IF('Lynx WOODEN HOLDS'!R$33=0,0,'Lynx WOODEN HOLDS'!R$33) -> 0 | J9: =IF('Lynx WOODEN HOLDS'!S17=0,0,'Lynx WOODEN HOLDS'!S17)+IF('Lynx WOODEN HOLDS'!S$32=0,0,'Lynx WOODEN HOLDS'!S$32)+IF('Lynx WOODEN HOLDS'!S$33=0,0,'Lynx WOODEN HOLDS'!S$33) -> 0 | K9: =IF('Lynx WOODEN HOLDS'!T17=0,0,'Lynx WOODEN HOLDS'!T17)+IF('Lynx WOODEN HOLDS'!T$32=0,0,'Lynx WOODEN HOLDS'!T$32)+IF('Lynx WOODEN HOLDS'!T$33=0,0,'Lynx WOODEN HOLDS'!T$33) -> 0 | ... Q9: =IF('Lynx WOODEN HOLDS'!Z17=0,0,'Lynx WOODEN HOLDS'!Z17)+IF('Lynx WOODEN HOLDS'!Z$32=0,0,'Lynx WOODEN HOLDS'!Z$32)+IF('Lynx WOODEN HOLDS'!Z$33=0,0,'Lynx WOODEN HOLDS'!Z$33) -> 0 | R9: ='PROD. Lynx Woodholds'!Q12 -> 0
A10: =B10*'Lynx PLYWOOD'!#REF! -> #REF! | B10: =SUM(C10:O10) -> 0 | C10: ='Lynx WOODEN HOLDS'!D18 -> L8-WH-N-DT | D10: =IF('Lynx WOODEN HOLDS'!M18=0,0,'Lynx WOODEN HOLDS'!M18)+IF('Lynx WOODEN HOLDS'!M$32=0,0,'Lynx WOODEN HOLDS'!M$32)+IF('Lynx WOODEN HOLDS'!M$33=0,0,'Lynx WOODEN HOLDS'!M$33) -> 0 | E10: =IF('Lynx WOODEN HOLDS'!N18=0,0,'Lynx WOODEN HOLDS'!N18)+IF('Lynx WOODEN HOLDS'!N$32=0,0,'Lynx WOODEN HOLDS'!N$32)+IF('Lynx WOODEN HOLDS'!N$33=0,0,'Lynx WOODEN HOLDS'!N$33) -> 0 | F10: =IF('Lynx WOODEN HOLDS'!O18=0,0,'Lynx WOODEN HOLDS'!O18)+IF('Lynx WOODEN HOLDS'!O$32=0,0,'Lynx WOODEN HOLDS'!O$32)+IF('Lynx WOODEN HOLDS'!O$33=0,0,'Lynx WOODEN HOLDS'!O$33) -> 0 | G10: =IF('Lynx WOODEN HOLDS'!P18=0,0,'Lynx WOODEN HOLDS'!P18)+IF('Lynx WOODEN HOLDS'!P$32=0,0,'Lynx WOODEN HOLDS'!P$32)+IF('Lynx WOODEN HOLDS'!P$33=0,0,'Lynx WOODEN HOLDS'!P$33) -> 0 | H10: =IF('Lynx WOODEN HOLDS'!Q18=0,0,'Lynx WOODEN HOLDS'!Q18)+IF('Lynx WOODEN HOLDS'!Q$32=0,0,'Lynx WOODEN HOLDS'!Q$32)+IF('Lynx WOODEN HOLDS'!Q$33=0,0,'Lynx WOODEN HOLDS'!Q$33) -> 0 | I10: =IF('Lynx WOODEN HOLDS'!R18=0,0,'Lynx WOODEN HOLDS'!R18)+IF('Lynx WOODEN HOLDS'!R$32=0,0,'Lynx WOODEN HOLDS'!R$32)+IF('Lynx WOODEN HOLDS'!R$33=0,0,'Lynx WOODEN HOLDS'!R$33) -> 0 | J10: =IF('Lynx WOODEN HOLDS'!S18=0,0,'Lynx WOODEN HOLDS'!S18)+IF('Lynx WOODEN HOLDS'!S$32=0,0,'Lynx WOODEN HOLDS'!S$32)+IF('Lynx WOODEN HOLDS'!S$33=0,0,'Lynx WOODEN HOLDS'!S$33) -> 0 | K10: =IF('Lynx WOODEN HOLDS'!T18=0,0,'Lynx WOODEN HOLDS'!T18)+IF('Lynx WOODEN HOLDS'!T$32=0,0,'Lynx WOODEN HOLDS'!T$32)+IF('Lynx WOODEN HOLDS'!T$33=0,0,'Lynx WOODEN HOLDS'!T$33) -> 0 | ... Q10: =IF('Lynx WOODEN HOLDS'!Z18=0,0,'Lynx WOODEN HOLDS'!Z18)+IF('Lynx WOODEN HOLDS'!Z$32=0,0,'Lynx WOODEN HOLDS'!Z$32)+IF('Lynx WOODEN HOLDS'!Z$33=0,0,'Lynx WOODEN HOLDS'!Z$33) -> 0 | R10: ='PROD. Lynx Woodholds'!Q13 -> 0
A11: =B11*'Lynx PLYWOOD'!#REF! -> #REF! | B11: =SUM(C11:O11) -> 0 | C11: ='Lynx WOODEN HOLDS'!D19 -> L9-WH-N-DT | D11: =IF('Lynx WOODEN HOLDS'!M19=0,0,'Lynx WOODEN HOLDS'!M19)+IF('Lynx WOODEN HOLDS'!M$31=0,0,'Lynx WOODEN HOLDS'!M$31)+IF('Lynx WOODEN HOLDS'!M$33=0,0,'Lynx WOODEN HOLDS'!M$33) -> 0 | E11: =IF('Lynx WOODEN HOLDS'!N19=0,0,'Lynx WOODEN HOLDS'!N19)+IF('Lynx WOODEN HOLDS'!N$31=0,0,'Lynx WOODEN HOLDS'!N$31)+IF('Lynx WOODEN HOLDS'!N$33=0,0,'Lynx WOODEN HOLDS'!N$33) -> 0 | F11: =IF('Lynx WOODEN HOLDS'!O19=0,0,'Lynx WOODEN HOLDS'!O19)+IF('Lynx WOODEN HOLDS'!O$31=0,0,'Lynx WOODEN HOLDS'!O$31)+IF('Lynx WOODEN HOLDS'!O$33=0,0,'Lynx WOODEN HOLDS'!O$33) -> 0 | G11: =IF('Lynx WOODEN HOLDS'!P19=0,0,'Lynx WOODEN HOLDS'!P19)+IF('Lynx WOODEN HOLDS'!P$31=0,0,'Lynx WOODEN HOLDS'!P$31)+IF('Lynx WOODEN HOLDS'!P$33=0,0,'Lynx WOODEN HOLDS'!P$33) -> 0 | H11: =IF('Lynx WOODEN HOLDS'!Q19=0,0,'Lynx WOODEN HOLDS'!Q19)+IF('Lynx WOODEN HOLDS'!Q$31=0,0,'Lynx WOODEN HOLDS'!Q$31)+IF('Lynx WOODEN HOLDS'!Q$33=0,0,'Lynx WOODEN HOLDS'!Q$33) -> 0 | I11: =IF('Lynx WOODEN HOLDS'!R19=0,0,'Lynx WOODEN HOLDS'!R19)+IF('Lynx WOODEN HOLDS'!R$31=0,0,'Lynx WOODEN HOLDS'!R$31)+IF('Lynx WOODEN HOLDS'!R$33=0,0,'Lynx WOODEN HOLDS'!R$33) -> 0 | J11: =IF('Lynx WOODEN HOLDS'!S19=0,0,'Lynx WOODEN HOLDS'!S19)+IF('Lynx WOODEN HOLDS'!S$31=0,0,'Lynx WOODEN HOLDS'!S$31)+IF('Lynx WOODEN HOLDS'!S$33=0,0,'Lynx WOODEN HOLDS'!S$33) -> 0 | K11: =IF('Lynx WOODEN HOLDS'!T19=0,0,'Lynx WOODEN HOLDS'!T19)+IF('Lynx WOODEN HOLDS'!T$31=0,0,'Lynx WOODEN HOLDS'!T$31)+IF('Lynx WOODEN HOLDS'!T$33=0,0,'Lynx WOODEN HOLDS'!T$33) -> 0 | ... Q11: =IF('Lynx WOODEN HOLDS'!Z19=0,0,'Lynx WOODEN HOLDS'!Z19)+IF('Lynx WOODEN HOLDS'!Z$31=0,0,'Lynx WOODEN HOLDS'!Z$31)+IF('Lynx WOODEN HOLDS'!Z$33=0,0,'Lynx WOODEN HOLDS'!Z$33) -> 0 | R11: ='PROD. Lynx Woodholds'!Q14 -> 0
A12: =B12*'Lynx PLYWOOD'!J13 -> 0 | B12: =SUM(C12:O12) -> 0 | C12: ='Lynx WOODEN HOLDS'!D20 -> L10-WH-N-DT | D12: =IF('Lynx WOODEN HOLDS'!M20=0,0,'Lynx WOODEN HOLDS'!M20)+IF('Lynx WOODEN HOLDS'!M$31=0,0,'Lynx WOODEN HOLDS'!M$31)+IF('Lynx WOODEN HOLDS'!M$33=0,0,'Lynx WOODEN HOLDS'!M$33) -> 0 | E12: =IF('Lynx WOODEN HOLDS'!N20=0,0,'Lynx WOODEN HOLDS'!N20)+IF('Lynx WOODEN HOLDS'!N$31=0,0,'Lynx WOODEN HOLDS'!N$31)+IF('Lynx WOODEN HOLDS'!N$33=0,0,'Lynx WOODEN HOLDS'!N$33) -> 0 | F12: =IF('Lynx WOODEN HOLDS'!O20=0,0,'Lynx WOODEN HOLDS'!O20)+IF('Lynx WOODEN HOLDS'!O$31=0,0,'Lynx WOODEN HOLDS'!O$31)+IF('Lynx WOODEN HOLDS'!O$33=0,0,'Lynx WOODEN HOLDS'!O$33) -> 0 | G12: =IF('Lynx WOODEN HOLDS'!P20=0,0,'Lynx WOODEN HOLDS'!P20)+IF('Lynx WOODEN HOLDS'!P$31=0,0,'Lynx WOODEN HOLDS'!P$31)+IF('Lynx WOODEN HOLDS'!P$33=0,0,'Lynx WOODEN HOLDS'!P$33) -> 0 | H12: =IF('Lynx WOODEN HOLDS'!Q20=0,0,'Lynx WOODEN HOLDS'!Q20)+IF('Lynx WOODEN HOLDS'!Q$31=0,0,'Lynx WOODEN HOLDS'!Q$31)+IF('Lynx WOODEN HOLDS'!Q$33=0,0,'Lynx WOODEN HOLDS'!Q$33) -> 0 | I12: =IF('Lynx WOODEN HOLDS'!R20=0,0,'Lynx WOODEN HOLDS'!R20)+IF('Lynx WOODEN HOLDS'!R$31=0,0,'Lynx WOODEN HOLDS'!R$31)+IF('Lynx WOODEN HOLDS'!R$33=0,0,'Lynx WOODEN HOLDS'!R$33) -> 0 | J12: =IF('Lynx WOODEN HOLDS'!S20=0,0,'Lynx WOODEN HOLDS'!S20)+IF('Lynx WOODEN HOLDS'!S$31=0,0,'Lynx WOODEN HOLDS'!S$31)+IF('Lynx WOODEN HOLDS'!S$33=0,0,'Lynx WOODEN HOLDS'!S$33) -> 0 | K12: =IF('Lynx WOODEN HOLDS'!T20=0,0,'Lynx WOODEN HOLDS'!T20)+IF('Lynx WOODEN HOLDS'!T$31=0,0,'Lynx WOODEN HOLDS'!T$31)+IF('Lynx WOODEN HOLDS'!T$33=0,0,'Lynx WOODEN HOLDS'!T$33) -> 0 | ... Q12: =IF('Lynx WOODEN HOLDS'!Z20=0,0,'Lynx WOODEN HOLDS'!Z20)+IF('Lynx WOODEN HOLDS'!Z$31=0,0,'Lynx WOODEN HOLDS'!Z$31)+IF('Lynx WOODEN HOLDS'!Z$33=0,0,'Lynx WOODEN HOLDS'!Z$33) -> 0 | R12: ='PROD. Lynx Woodholds'!Q15 -> 0
A13: =B13*'Lynx PLYWOOD'!J14 -> 0 | B13: =SUM(C13:O13) -> 0 | C13: ='Lynx WOODEN HOLDS'!D21 -> L11-WH-N-DT | D13: =IF('Lynx WOODEN HOLDS'!M21=0,0,'Lynx WOODEN HOLDS'!M21)+IF('Lynx WOODEN HOLDS'!M$31=0,0,'Lynx WOODEN HOLDS'!M$31)+IF('Lynx WOODEN HOLDS'!M$33=0,0,'Lynx WOODEN HOLDS'!M$33) -> 0 | E13: =IF('Lynx WOODEN HOLDS'!N21=0,0,'Lynx WOODEN HOLDS'!N21)+IF('Lynx WOODEN HOLDS'!N$31=0,0,'Lynx WOODEN HOLDS'!N$31)+IF('Lynx WOODEN HOLDS'!N$33=0,0,'Lynx WOODEN HOLDS'!N$33) -> 0 | F13: =IF('Lynx WOODEN HOLDS'!O21=0,0,'Lynx WOODEN HOLDS'!O21)+IF('Lynx WOODEN HOLDS'!O$31=0,0,'Lynx WOODEN HOLDS'!O$31)+IF('Lynx WOODEN HOLDS'!O$33=0,0,'Lynx WOODEN HOLDS'!O$33) -> 0 | G13: =IF('Lynx WOODEN HOLDS'!P21=0,0,'Lynx WOODEN HOLDS'!P21)+IF('Lynx WOODEN HOLDS'!P$31=0,0,'Lynx WOODEN HOLDS'!P$31)+IF('Lynx WOODEN HOLDS'!P$33=0,0,'Lynx WOODEN HOLDS'!P$33) -> 0 | H13: =IF('Lynx WOODEN HOLDS'!Q21=0,0,'Lynx WOODEN HOLDS'!Q21)+IF('Lynx WOODEN HOLDS'!Q$31=0,0,'Lynx WOODEN HOLDS'!Q$31)+IF('Lynx WOODEN HOLDS'!Q$33=0,0,'Lynx WOODEN HOLDS'!Q$33) -> 0 | I13: =IF('Lynx WOODEN HOLDS'!R21=0,0,'Lynx WOODEN HOLDS'!R21)+IF('Lynx WOODEN HOLDS'!R$31=0,0,'Lynx WOODEN HOLDS'!R$31)+IF('Lynx WOODEN HOLDS'!R$33=0,0,'Lynx WOODEN HOLDS'!R$33) -> 0 | J13: =IF('Lynx WOODEN HOLDS'!S21=0,0,'Lynx WOODEN HOLDS'!S21)+IF('Lynx WOODEN HOLDS'!S$31=0,0,'Lynx WOODEN HOLDS'!S$31)+IF('Lynx WOODEN HOLDS'!S$33=0,0,'Lynx WOODEN HOLDS'!S$33) -> 0 | K13: =IF('Lynx WOODEN HOLDS'!T21=0,0,'Lynx WOODEN HOLDS'!T21)+IF('Lynx WOODEN HOLDS'!T$31=0,0,'Lynx WOODEN HOLDS'!T$31)+IF('Lynx WOODEN HOLDS'!T$33=0,0,'Lynx WOODEN HOLDS'!T$33) -> 0 | ... Q13: =IF('Lynx WOODEN HOLDS'!Z21=0,0,'Lynx WOODEN HOLDS'!Z21)+IF('Lynx WOODEN HOLDS'!Z$31=0,0,'Lynx WOODEN HOLDS'!Z$31)+IF('Lynx WOODEN HOLDS'!Z$33=0,0,'Lynx WOODEN HOLDS'!Z$33) -> 0 | R13: ='PROD. Lynx Woodholds'!Q16 -> 0
A14: =B14*'Lynx PLYWOOD'!J15 -> 0 | B14: =SUM(C14:O14) -> 0 | C14: ='Lynx WOODEN HOLDS'!D22 -> L12-WH-N-DT | D14: =IF('Lynx WOODEN HOLDS'!M22=0,0,'Lynx WOODEN HOLDS'!M22)+IF('Lynx WOODEN HOLDS'!M$31=0,0,'Lynx WOODEN HOLDS'!M$31)+IF('Lynx WOODEN HOLDS'!M$33=0,0,'Lynx WOODEN HOLDS'!M$33) -> 0 | E14: =IF('Lynx WOODEN HOLDS'!N22=0,0,'Lynx WOODEN HOLDS'!N22)+IF('Lynx WOODEN HOLDS'!N$31=0,0,'Lynx WOODEN HOLDS'!N$31)+IF('Lynx WOODEN HOLDS'!N$33=0,0,'Lynx WOODEN HOLDS'!N$33) -> 0 | F14: =IF('Lynx WOODEN HOLDS'!O22=0,0,'Lynx WOODEN HOLDS'!O22)+IF('Lynx WOODEN HOLDS'!O$31=0,0,'Lynx WOODEN HOLDS'!O$31)+IF('Lynx WOODEN HOLDS'!O$33=0,0,'Lynx WOODEN HOLDS'!O$33) -> 0 | G14: =IF('Lynx WOODEN HOLDS'!P22=0,0,'Lynx WOODEN HOLDS'!P22)+IF('Lynx WOODEN HOLDS'!P$31=0,0,'Lynx WOODEN HOLDS'!P$31)+IF('Lynx WOODEN HOLDS'!P$33=0,0,'Lynx WOODEN HOLDS'!P$33) -> 0 | H14: =IF('Lynx WOODEN HOLDS'!Q22=0,0,'Lynx WOODEN HOLDS'!Q22)+IF('Lynx WOODEN HOLDS'!Q$31=0,0,'Lynx WOODEN HOLDS'!Q$31)+IF('Lynx WOODEN HOLDS'!Q$33=0,0,'Lynx WOODEN HOLDS'!Q$33) -> 0 | I14: =IF('Lynx WOODEN HOLDS'!R22=0,0,'Lynx WOODEN HOLDS'!R22)+IF('Lynx WOODEN HOLDS'!R$31=0,0,'Lynx WOODEN HOLDS'!R$31)+IF('Lynx WOODEN HOLDS'!R$33=0,0,'Lynx WOODEN HOLDS'!R$33) -> 0 | J14: =IF('Lynx WOODEN HOLDS'!S22=0,0,'Lynx WOODEN HOLDS'!S22)+IF('Lynx WOODEN HOLDS'!S$31=0,0,'Lynx WOODEN HOLDS'!S$31)+IF('Lynx WOODEN HOLDS'!S$33=0,0,'Lynx WOODEN HOLDS'!S$33) -> 0 | K14: =IF('Lynx WOODEN HOLDS'!T22=0,0,'Lynx WOODEN HOLDS'!T22)+IF('Lynx WOODEN HOLDS'!T$31=0,0,'Lynx WOODEN HOLDS'!T$31)+IF('Lynx WOODEN HOLDS'!T$33=0,0,'Lynx WOODEN HOLDS'!T$33) -> 0 | ... Q14: =IF('Lynx WOODEN HOLDS'!Z22=0,0,'Lynx WOODEN HOLDS'!Z22)+IF('Lynx WOODEN HOLDS'!Z$31=0,0,'Lynx WOODEN HOLDS'!Z$31)+IF('Lynx WOODEN HOLDS'!Z$33=0,0,'Lynx WOODEN HOLDS'!Z$33) -> 0 | R14: ='PROD. Lynx Woodholds'!Q17 -> 0
A15: =B15*'Lynx PLYWOOD'!J16 -> 0 | B15: =SUM(C15:O15) -> 0 | C15: ='Lynx WOODEN HOLDS'!D23 -> L13-WH-N-DT | D15: =IF('Lynx WOODEN HOLDS'!M23=0,0,'Lynx WOODEN HOLDS'!M23)+IF('Lynx WOODEN HOLDS'!M$32=0,0,'Lynx WOODEN HOLDS'!M$32)+IF('Lynx WOODEN HOLDS'!M$33=0,0,'Lynx WOODEN HOLDS'!M$33) -> 0 | E15: =IF('Lynx WOODEN HOLDS'!N23=0,0,'Lynx WOODEN HOLDS'!N23)+IF('Lynx WOODEN HOLDS'!N$32=0,0,'Lynx WOODEN HOLDS'!N$32)+IF('Lynx WOODEN HOLDS'!N$33=0,0,'Lynx WOODEN HOLDS'!N$33) -> 0 | F15: =IF('Lynx WOODEN HOLDS'!O23=0,0,'Lynx WOODEN HOLDS'!O23)+IF('Lynx WOODEN HOLDS'!O$32=0,0,'Lynx WOODEN HOLDS'!O$32)+IF('Lynx WOODEN HOLDS'!O$33=0,0,'Lynx WOODEN HOLDS'!O$33) -> 0 | G15: =IF('Lynx WOODEN HOLDS'!P23=0,0,'Lynx WOODEN HOLDS'!P23)+IF('Lynx WOODEN HOLDS'!P$32=0,0,'Lynx WOODEN HOLDS'!P$32)+IF('Lynx WOODEN HOLDS'!P$33=0,0,'Lynx WOODEN HOLDS'!P$33) -> 0 | H15: =IF('Lynx WOODEN HOLDS'!Q23=0,0,'Lynx WOODEN HOLDS'!Q23)+IF('Lynx WOODEN HOLDS'!Q$32=0,0,'Lynx WOODEN HOLDS'!Q$32)+IF('Lynx WOODEN HOLDS'!Q$33=0,0,'Lynx WOODEN HOLDS'!Q$33) -> 0 | I15: =IF('Lynx WOODEN HOLDS'!R23=0,0,'Lynx WOODEN HOLDS'!R23)+IF('Lynx WOODEN HOLDS'!R$32=0,0,'Lynx WOODEN HOLDS'!R$32)+IF('Lynx WOODEN HOLDS'!R$33=0,0,'Lynx WOODEN HOLDS'!R$33) -> 0 | J15: =IF('Lynx WOODEN HOLDS'!S23=0,0,'Lynx WOODEN HOLDS'!S23)+IF('Lynx WOODEN HOLDS'!S$32=0,0,'Lynx WOODEN HOLDS'!S$32)+IF('Lynx WOODEN HOLDS'!S$33=0,0,'Lynx WOODEN HOLDS'!S$33) -> 0 | K15: =IF('Lynx WOODEN HOLDS'!T23=0,0,'Lynx WOODEN HOLDS'!T23)+IF('Lynx WOODEN HOLDS'!T$32=0,0,'Lynx WOODEN HOLDS'!T$32)+IF('Lynx WOODEN HOLDS'!T$33=0,0,'Lynx WOODEN HOLDS'!T$33) -> 0 | ... Q15: =IF('Lynx WOODEN HOLDS'!Z23=0,0,'Lynx WOODEN HOLDS'!Z23)+IF('Lynx WOODEN HOLDS'!Z$32=0,0,'Lynx WOODEN HOLDS'!Z$32)+IF('Lynx WOODEN HOLDS'!Z$33=0,0,'Lynx WOODEN HOLDS'!Z$33) -> 0 | R15: ='PROD. Lynx Woodholds'!Q18 -> 0
A16: =B16*'Lynx PLYWOOD'!J17 -> 0 | B16: =SUM(C16:O16) -> 0 | C16: ='Lynx WOODEN HOLDS'!D24 -> L14-WH-N-DT | D16: =IF('Lynx WOODEN HOLDS'!M24=0,0,'Lynx WOODEN HOLDS'!M24)+IF('Lynx WOODEN HOLDS'!M$32=0,0,'Lynx WOODEN HOLDS'!M$32)+IF('Lynx WOODEN HOLDS'!M$33=0,0,'Lynx WOODEN HOLDS'!M$33) -> 0 | E16: =IF('Lynx WOODEN HOLDS'!N24=0,0,'Lynx WOODEN HOLDS'!N24)+IF('Lynx WOODEN HOLDS'!N$32=0,0,'Lynx WOODEN HOLDS'!N$32)+IF('Lynx WOODEN HOLDS'!N$33=0,0,'Lynx WOODEN HOLDS'!N$33) -> 0 | F16: =IF('Lynx WOODEN HOLDS'!O24=0,0,'Lynx WOODEN HOLDS'!O24)+IF('Lynx WOODEN HOLDS'!O$32=0,0,'Lynx WOODEN HOLDS'!O$32)+IF('Lynx WOODEN HOLDS'!O$33=0,0,'Lynx WOODEN HOLDS'!O$33) -> 0 | G16: =IF('Lynx WOODEN HOLDS'!P24=0,0,'Lynx WOODEN HOLDS'!P24)+IF('Lynx WOODEN HOLDS'!P$32=0,0,'Lynx WOODEN HOLDS'!P$32)+IF('Lynx WOODEN HOLDS'!P$33=0,0,'Lynx WOODEN HOLDS'!P$33) -> 0 | H16: =IF('Lynx WOODEN HOLDS'!Q24=0,0,'Lynx WOODEN HOLDS'!Q24)+IF('Lynx WOODEN HOLDS'!Q$32=0,0,'Lynx WOODEN HOLDS'!Q$32)+IF('Lynx WOODEN HOLDS'!Q$33=0,0,'Lynx WOODEN HOLDS'!Q$33) -> 0 | I16: =IF('Lynx WOODEN HOLDS'!R24=0,0,'Lynx WOODEN HOLDS'!R24)+IF('Lynx WOODEN HOLDS'!R$32=0,0,'Lynx WOODEN HOLDS'!R$32)+IF('Lynx WOODEN HOLDS'!R$33=0,0,'Lynx WOODEN HOLDS'!R$33) -> 0 | J16: =IF('Lynx WOODEN HOLDS'!S24=0,0,'Lynx WOODEN HOLDS'!S24)+IF('Lynx WOODEN HOLDS'!S$32=0,0,'Lynx WOODEN HOLDS'!S$32)+IF('Lynx WOODEN HOLDS'!S$33=0,0,'Lynx WOODEN HOLDS'!S$33) -> 0 | K16: =IF('Lynx WOODEN HOLDS'!T24=0,0,'Lynx WOODEN HOLDS'!T24)+IF('Lynx WOODEN HOLDS'!T$32=0,0,'Lynx WOODEN HOLDS'!T$32)+IF('Lynx WOODEN HOLDS'!T$33=0,0,'Lynx WOODEN HOLDS'!T$33) -> 0 | ... Q16: =IF('Lynx WOODEN HOLDS'!Z24=0,0,'Lynx WOODEN HOLDS'!Z24)+IF('Lynx WOODEN HOLDS'!Z$32=0,0,'Lynx WOODEN HOLDS'!Z$32)+IF('Lynx WOODEN HOLDS'!Z$33=0,0,'Lynx WOODEN HOLDS'!Z$33) -> 0 | R16: ='PROD. Lynx Woodholds'!Q19 -> 0
A17: =B17*'Lynx PLYWOOD'!#REF! -> #REF! | B17: =SUM(C17:O17) -> 0 | C17: ='Lynx WOODEN HOLDS'!D25 -> L15-WH-N-DT | D17: =IF('Lynx WOODEN HOLDS'!M25=0,0,'Lynx WOODEN HOLDS'!M25)+IF('Lynx WOODEN HOLDS'!M$31=0,0,'Lynx WOODEN HOLDS'!M$31)+IF('Lynx WOODEN HOLDS'!M$33=0,0,'Lynx WOODEN HOLDS'!M$33) -> 0 | E17: =IF('Lynx WOODEN HOLDS'!N25=0,0,'Lynx WOODEN HOLDS'!N25)+IF('Lynx WOODEN HOLDS'!N$31=0,0,'Lynx WOODEN HOLDS'!N$31)+IF('Lynx WOODEN HOLDS'!N$33=0,0,'Lynx WOODEN HOLDS'!N$33) -> 0 | F17: =IF('Lynx WOODEN HOLDS'!O25=0,0,'Lynx WOODEN HOLDS'!O25)+IF('Lynx WOODEN HOLDS'!O$31=0,0,'Lynx WOODEN HOLDS'!O$31)+IF('Lynx WOODEN HOLDS'!O$33=0,0,'Lynx WOODEN HOLDS'!O$33) -> 0 | G17: =IF('Lynx WOODEN HOLDS'!P25=0,0,'Lynx WOODEN HOLDS'!P25)+IF('Lynx WOODEN HOLDS'!P$31=0,0,'Lynx WOODEN HOLDS'!P$31)+IF('Lynx WOODEN HOLDS'!P$33=0,0,'Lynx WOODEN HOLDS'!P$33) -> 0 | H17: =IF('Lynx WOODEN HOLDS'!Q25=0,0,'Lynx WOODEN HOLDS'!Q25)+IF('Lynx WOODEN HOLDS'!Q$31=0,0,'Lynx WOODEN HOLDS'!Q$31)+IF('Lynx WOODEN HOLDS'!Q$33=0,0,'Lynx WOODEN HOLDS'!Q$33) -> 0 | I17: =IF('Lynx WOODEN HOLDS'!R25=0,0,'Lynx WOODEN HOLDS'!R25)+IF('Lynx WOODEN HOLDS'!R$31=0,0,'Lynx WOODEN HOLDS'!R$31)+IF('Lynx WOODEN HOLDS'!R$33=0,0,'Lynx WOODEN HOLDS'!R$33) -> 0 | J17: =IF('Lynx WOODEN HOLDS'!S25=0,0,'Lynx WOODEN HOLDS'!S25)+IF('Lynx WOODEN HOLDS'!S$31=0,0,'Lynx WOODEN HOLDS'!S$31)+IF('Lynx WOODEN HOLDS'!S$33=0,0,'Lynx WOODEN HOLDS'!S$33) -> 0 | K17: =IF('Lynx WOODEN HOLDS'!T25=0,0,'Lynx WOODEN HOLDS'!T25)+IF('Lynx WOODEN HOLDS'!T$31=0,0,'Lynx WOODEN HOLDS'!T$31)+IF('Lynx WOODEN HOLDS'!T$33=0,0,'Lynx WOODEN HOLDS'!T$33) -> 0 | ... Q17: =IF('Lynx WOODEN HOLDS'!Z25=0,0,'Lynx WOODEN HOLDS'!Z25)+IF('Lynx WOODEN HOLDS'!Z$31=0,0,'Lynx WOODEN HOLDS'!Z$31)+IF('Lynx WOODEN HOLDS'!Z$33=0,0,'Lynx WOODEN HOLDS'!Z$33) -> 0 | R17: ='PROD. Lynx Woodholds'!Q20 -> 0
A18: =B18*'Lynx PLYWOOD'!#REF! -> #REF! | B18: =SUM(C18:O18) -> 0 | C18: ='Lynx WOODEN HOLDS'!D26 -> L16-WH-N-DT | D18: =IF('Lynx WOODEN HOLDS'!M26=0,0,'Lynx WOODEN HOLDS'!M26)+IF('Lynx WOODEN HOLDS'!M$32=0,0,'Lynx WOODEN HOLDS'!M$32)+IF('Lynx WOODEN HOLDS'!M$33=0,0,'Lynx WOODEN HOLDS'!M$33) -> 0 | E18: =IF('Lynx WOODEN HOLDS'!N26=0,0,'Lynx WOODEN HOLDS'!N26)+IF('Lynx WOODEN HOLDS'!N$32=0,0,'Lynx WOODEN HOLDS'!N$32)+IF('Lynx WOODEN HOLDS'!N$33=0,0,'Lynx WOODEN HOLDS'!N$33) -> 0 | F18: =IF('Lynx WOODEN HOLDS'!O26=0,0,'Lynx WOODEN HOLDS'!O26)+IF('Lynx WOODEN HOLDS'!O$32=0,0,'Lynx WOODEN HOLDS'!O$32)+IF('Lynx WOODEN HOLDS'!O$33=0,0,'Lynx WOODEN HOLDS'!O$33) -> 0 | G18: =IF('Lynx WOODEN HOLDS'!P26=0,0,'Lynx WOODEN HOLDS'!P26)+IF('Lynx WOODEN HOLDS'!P$32=0,0,'Lynx WOODEN HOLDS'!P$32)+IF('Lynx WOODEN HOLDS'!P$33=0,0,'Lynx WOODEN HOLDS'!P$33) -> 0 | H18: =IF('Lynx WOODEN HOLDS'!Q26=0,0,'Lynx WOODEN HOLDS'!Q26)+IF('Lynx WOODEN HOLDS'!Q$32=0,0,'Lynx WOODEN HOLDS'!Q$32)+IF('Lynx WOODEN HOLDS'!Q$33=0,0,'Lynx WOODEN HOLDS'!Q$33) -> 0 | I18: =IF('Lynx WOODEN HOLDS'!R26=0,0,'Lynx WOODEN HOLDS'!R26)+IF('Lynx WOODEN HOLDS'!R$32=0,0,'Lynx WOODEN HOLDS'!R$32)+IF('Lynx WOODEN HOLDS'!R$33=0,0,'Lynx WOODEN HOLDS'!R$33) -> 0 | J18: =IF('Lynx WOODEN HOLDS'!S26=0,0,'Lynx WOODEN HOLDS'!S26)+IF('Lynx WOODEN HOLDS'!S$32=0,0,'Lynx WOODEN HOLDS'!S$32)+IF('Lynx WOODEN HOLDS'!S$33=0,0,'Lynx WOODEN HOLDS'!S$33) -> 0 | K18: =IF('Lynx WOODEN HOLDS'!T26=0,0,'Lynx WOODEN HOLDS'!T26)+IF('Lynx WOODEN HOLDS'!T$32=0,0,'Lynx WOODEN HOLDS'!T$32)+IF('Lynx WOODEN HOLDS'!T$33=0,0,'Lynx WOODEN HOLDS'!T$33) -> 0 | ... Q18: =IF('Lynx WOODEN HOLDS'!Z26=0,0,'Lynx WOODEN HOLDS'!Z26)+IF('Lynx WOODEN HOLDS'!Z$32=0,0,'Lynx WOODEN HOLDS'!Z$32)+IF('Lynx WOODEN HOLDS'!Z$33=0,0,'Lynx WOODEN HOLDS'!Z$33) -> 0 | R18: ='PROD. Lynx Woodholds'!Q21 -> 0
A19: =B19*'Lynx PLYWOOD'!#REF! -> #REF! | B19: =SUM(C19:O19) -> 0 | C19: ='Lynx WOODEN HOLDS'!D27 -> L17-WH-N-DT | D19: =IF('Lynx WOODEN HOLDS'!M27=0,0,'Lynx WOODEN HOLDS'!M27)+IF('Lynx WOODEN HOLDS'!M$32=0,0,'Lynx WOODEN HOLDS'!M$32)+IF('Lynx WOODEN HOLDS'!M$33=0,0,'Lynx WOODEN HOLDS'!M$33) -> 0 | E19: =IF('Lynx WOODEN HOLDS'!N27=0,0,'Lynx WOODEN HOLDS'!N27)+IF('Lynx WOODEN HOLDS'!N$32=0,0,'Lynx WOODEN HOLDS'!N$32)+IF('Lynx WOODEN HOLDS'!N$33=0,0,'Lynx WOODEN HOLDS'!N$33) -> 0 | F19: =IF('Lynx WOODEN HOLDS'!O27=0,0,'Lynx WOODEN HOLDS'!O27)+IF('Lynx WOODEN HOLDS'!O$32=0,0,'Lynx WOODEN HOLDS'!O$32)+IF('Lynx WOODEN HOLDS'!O$33=0,0,'Lynx WOODEN HOLDS'!O$33) -> 0 | G19: =IF('Lynx WOODEN HOLDS'!P27=0,0,'Lynx WOODEN HOLDS'!P27)+IF('Lynx WOODEN HOLDS'!P$32=0,0,'Lynx WOODEN HOLDS'!P$32)+IF('Lynx WOODEN HOLDS'!P$33=0,0,'Lynx WOODEN HOLDS'!P$33) -> 0 | H19: =IF('Lynx WOODEN HOLDS'!Q27=0,0,'Lynx WOODEN HOLDS'!Q27)+IF('Lynx WOODEN HOLDS'!Q$32=0,0,'Lynx WOODEN HOLDS'!Q$32)+IF('Lynx WOODEN HOLDS'!Q$33=0,0,'Lynx WOODEN HOLDS'!Q$33) -> 0 | I19: =IF('Lynx WOODEN HOLDS'!R27=0,0,'Lynx WOODEN HOLDS'!R27)+IF('Lynx WOODEN HOLDS'!R$32=0,0,'Lynx WOODEN HOLDS'!R$32)+IF('Lynx WOODEN HOLDS'!R$33=0,0,'Lynx WOODEN HOLDS'!R$33) -> 0 | J19: =IF('Lynx WOODEN HOLDS'!S27=0,0,'Lynx WOODEN HOLDS'!S27)+IF('Lynx WOODEN HOLDS'!S$32=0,0,'Lynx WOODEN HOLDS'!S$32)+IF('Lynx WOODEN HOLDS'!S$33=0,0,'Lynx WOODEN HOLDS'!S$33) -> 0 | K19: =IF('Lynx WOODEN HOLDS'!T27=0,0,'Lynx WOODEN HOLDS'!T27)+IF('Lynx WOODEN HOLDS'!T$32=0,0,'Lynx WOODEN HOLDS'!T$32)+IF('Lynx WOODEN HOLDS'!T$33=0,0,'Lynx WOODEN HOLDS'!T$33) -> 0 | ... Q19: =IF('Lynx WOODEN HOLDS'!Z27=0,0,'Lynx WOODEN HOLDS'!Z27)+IF('Lynx WOODEN HOLDS'!Z$32=0,0,'Lynx WOODEN HOLDS'!Z$32)+IF('Lynx WOODEN HOLDS'!Z$33=0,0,'Lynx WOODEN HOLDS'!Z$33) -> 0 | R19: ='PROD. Lynx Woodholds'!Q22 -> 0
A20: =B20*'Lynx PLYWOOD'!J20 -> 0 | B20: =SUM(C20:O20) -> 0 | C20: ='Lynx WOODEN HOLDS'!D28 -> L18-WH-N-DT | D20: =IF('Lynx WOODEN HOLDS'!M28=0,0,'Lynx WOODEN HOLDS'!M28)+IF('Lynx WOODEN HOLDS'!M$31=0,0,'Lynx WOODEN HOLDS'!M$31)+IF('Lynx WOODEN HOLDS'!M$33=0,0,'Lynx WOODEN HOLDS'!M$33) -> 0 | E20: =IF('Lynx WOODEN HOLDS'!N28=0,0,'Lynx WOODEN HOLDS'!N28)+IF('Lynx WOODEN HOLDS'!N$31=0,0,'Lynx WOODEN HOLDS'!N$31)+IF('Lynx WOODEN HOLDS'!N$33=0,0,'Lynx WOODEN HOLDS'!N$33) -> 0 | F20: =IF('Lynx WOODEN HOLDS'!O28=0,0,'Lynx WOODEN HOLDS'!O28)+IF('Lynx WOODEN HOLDS'!O$31=0,0,'Lynx WOODEN HOLDS'!O$31)+IF('Lynx WOODEN HOLDS'!O$33=0,0,'Lynx WOODEN HOLDS'!O$33) -> 0 | G20: =IF('Lynx WOODEN HOLDS'!P28=0,0,'Lynx WOODEN HOLDS'!P28)+IF('Lynx WOODEN HOLDS'!P$31=0,0,'Lynx WOODEN HOLDS'!P$31)+IF('Lynx WOODEN HOLDS'!P$33=0,0,'Lynx WOODEN HOLDS'!P$33) -> 0 | H20: =IF('Lynx WOODEN HOLDS'!Q28=0,0,'Lynx WOODEN HOLDS'!Q28)+IF('Lynx WOODEN HOLDS'!Q$31=0,0,'Lynx WOODEN HOLDS'!Q$31)+IF('Lynx WOODEN HOLDS'!Q$33=0,0,'Lynx WOODEN HOLDS'!Q$33) -> 0 | I20: =IF('Lynx WOODEN HOLDS'!R28=0,0,'Lynx WOODEN HOLDS'!R28)+IF('Lynx WOODEN HOLDS'!R$31=0,0,'Lynx WOODEN HOLDS'!R$31)+IF('Lynx WOODEN HOLDS'!R$33=0,0,'Lynx WOODEN HOLDS'!R$33) -> 0 | J20: =IF('Lynx WOODEN HOLDS'!S28=0,0,'Lynx WOODEN HOLDS'!S28)+IF('Lynx WOODEN HOLDS'!S$31=0,0,'Lynx WOODEN HOLDS'!S$31)+IF('Lynx WOODEN HOLDS'!S$33=0,0,'Lynx WOODEN HOLDS'!S$33) -> 0 | K20: =IF('Lynx WOODEN HOLDS'!T28=0,0,'Lynx WOODEN HOLDS'!T28)+IF('Lynx WOODEN HOLDS'!T$31=0,0,'Lynx WOODEN HOLDS'!T$31)+IF('Lynx WOODEN HOLDS'!T$33=0,0,'Lynx WOODEN HOLDS'!T$33) -> 0 | ... Q20: =IF('Lynx WOODEN HOLDS'!Z28=0,0,'Lynx WOODEN HOLDS'!Z28)+IF('Lynx WOODEN HOLDS'!Z$31=0,0,'Lynx WOODEN HOLDS'!Z$31)+IF('Lynx WOODEN HOLDS'!Z$33=0,0,'Lynx WOODEN HOLDS'!Z$33) -> 0 | R20: ='PROD. Lynx Woodholds'!Q23 -> 0
A21: =B21*'Lynx PLYWOOD'!J21 -> 0 | B21: =SUM(C21:O21) -> 0 | C21: ='Lynx WOODEN HOLDS'!D29 -> L19-WH-N-DT | D21: =IF('Lynx WOODEN HOLDS'!M29=0,0,'Lynx WOODEN HOLDS'!M29)+IF('Lynx WOODEN HOLDS'!M$32=0,0,'Lynx WOODEN HOLDS'!M$32)+IF('Lynx WOODEN HOLDS'!M$33=0,0,'Lynx WOODEN HOLDS'!M$33) -> 0 | E21: =IF('Lynx WOODEN HOLDS'!N29=0,0,'Lynx WOODEN HOLDS'!N29)+IF('Lynx WOODEN HOLDS'!N$32=0,0,'Lynx WOODEN HOLDS'!N$32)+IF('Lynx WOODEN HOLDS'!N$33=0,0,'Lynx WOODEN HOLDS'!N$33) -> 0 | F21: =IF('Lynx WOODEN HOLDS'!O29=0,0,'Lynx WOODEN HOLDS'!O29)+IF('Lynx WOODEN HOLDS'!O$32=0,0,'Lynx WOODEN HOLDS'!O$32)+IF('Lynx WOODEN HOLDS'!O$33=0,0,'Lynx WOODEN HOLDS'!O$33) -> 0 | G21: =IF('Lynx WOODEN HOLDS'!P29=0,0,'Lynx WOODEN HOLDS'!P29)+IF('Lynx WOODEN HOLDS'!P$32=0,0,'Lynx WOODEN HOLDS'!P$32)+IF('Lynx WOODEN HOLDS'!P$33=0,0,'Lynx WOODEN HOLDS'!P$33) -> 0 | H21: =IF('Lynx WOODEN HOLDS'!Q29=0,0,'Lynx WOODEN HOLDS'!Q29)+IF('Lynx WOODEN HOLDS'!Q$32=0,0,'Lynx WOODEN HOLDS'!Q$32)+IF('Lynx WOODEN HOLDS'!Q$33=0,0,'Lynx WOODEN HOLDS'!Q$33) -> 0 | I21: =IF('Lynx WOODEN HOLDS'!R29=0,0,'Lynx WOODEN HOLDS'!R29)+IF('Lynx WOODEN HOLDS'!R$32=0,0,'Lynx WOODEN HOLDS'!R$32)+IF('Lynx WOODEN HOLDS'!R$33=0,0,'Lynx WOODEN HOLDS'!R$33) -> 0 | J21: =IF('Lynx WOODEN HOLDS'!S29=0,0,'Lynx WOODEN HOLDS'!S29)+IF('Lynx WOODEN HOLDS'!S$32=0,0,'Lynx WOODEN HOLDS'!S$32)+IF('Lynx WOODEN HOLDS'!S$33=0,0,'Lynx WOODEN HOLDS'!S$33) -> 0 | K21: =IF('Lynx WOODEN HOLDS'!T29=0,0,'Lynx WOODEN HOLDS'!T29)+IF('Lynx WOODEN HOLDS'!T$32=0,0,'Lynx WOODEN HOLDS'!T$32)+IF('Lynx WOODEN HOLDS'!T$33=0,0,'Lynx WOODEN HOLDS'!T$33) -> 0 | ... Q21: =IF('Lynx WOODEN HOLDS'!Z29=0,0,'Lynx WOODEN HOLDS'!Z29)+IF('Lynx WOODEN HOLDS'!Z$32=0,0,'Lynx WOODEN HOLDS'!Z$32)+IF('Lynx WOODEN HOLDS'!Z$33=0,0,'Lynx WOODEN HOLDS'!Z$33) -> 0 | R21: ='PROD. Lynx Woodholds'!Q24 -> 0
A22: =B22*'Lynx PLYWOOD'!J22 -> 0 | B22: =SUM(C22:O22) -> 0 | C22: ='Lynx WOODEN HOLDS'!D30 -> L20-WH-N-DT | D22: =IF('Lynx WOODEN HOLDS'!M30=0,0,'Lynx WOODEN HOLDS'!M30)+IF('Lynx WOODEN HOLDS'!M$32=0,0,'Lynx WOODEN HOLDS'!M$32)+IF('Lynx WOODEN HOLDS'!M$33=0,0,'Lynx WOODEN HOLDS'!M$33) -> 0 | E22: =IF('Lynx WOODEN HOLDS'!N30=0,0,'Lynx WOODEN HOLDS'!N30)+IF('Lynx WOODEN HOLDS'!N$32=0,0,'Lynx WOODEN HOLDS'!N$32)+IF('Lynx WOODEN HOLDS'!N$33=0,0,'Lynx WOODEN HOLDS'!N$33) -> 0 | F22: =IF('Lynx WOODEN HOLDS'!O30=0,0,'Lynx WOODEN HOLDS'!O30)+IF('Lynx WOODEN HOLDS'!O$32=0,0,'Lynx WOODEN HOLDS'!O$32)+IF('Lynx WOODEN HOLDS'!O$33=0,0,'Lynx WOODEN HOLDS'!O$33) -> 0 | G22: =IF('Lynx WOODEN HOLDS'!P30=0,0,'Lynx WOODEN HOLDS'!P30)+IF('Lynx WOODEN HOLDS'!P$32=0,0,'Lynx WOODEN HOLDS'!P$32)+IF('Lynx WOODEN HOLDS'!P$33=0,0,'Lynx WOODEN HOLDS'!P$33) -> 0 | H22: =IF('Lynx WOODEN HOLDS'!Q30=0,0,'Lynx WOODEN HOLDS'!Q30)+IF('Lynx WOODEN HOLDS'!Q$32=0,0,'Lynx WOODEN HOLDS'!Q$32)+IF('Lynx WOODEN HOLDS'!Q$33=0,0,'Lynx WOODEN HOLDS'!Q$33) -> 0 | I22: =IF('Lynx WOODEN HOLDS'!R30=0,0,'Lynx WOODEN HOLDS'!R30)+IF('Lynx WOODEN HOLDS'!R$32=0,0,'Lynx WOODEN HOLDS'!R$32)+IF('Lynx WOODEN HOLDS'!R$33=0,0,'Lynx WOODEN HOLDS'!R$33) -> 0 | J22: =IF('Lynx WOODEN HOLDS'!S30=0,0,'Lynx WOODEN HOLDS'!S30)+IF('Lynx WOODEN HOLDS'!S$32=0,0,'Lynx WOODEN HOLDS'!S$32)+IF('Lynx WOODEN HOLDS'!S$33=0,0,'Lynx WOODEN HOLDS'!S$33) -> 0 | K22: =IF('Lynx WOODEN HOLDS'!T30=0,0,'Lynx WOODEN HOLDS'!T30)+IF('Lynx WOODEN HOLDS'!T$32=0,0,'Lynx WOODEN HOLDS'!T$32)+IF('Lynx WOODEN HOLDS'!T$33=0,0,'Lynx WOODEN HOLDS'!T$33) -> 0 | ... Q22: =IF('Lynx WOODEN HOLDS'!Z30=0,0,'Lynx WOODEN HOLDS'!Z30)+IF('Lynx WOODEN HOLDS'!Z$32=0,0,'Lynx WOODEN HOLDS'!Z$32)+IF('Lynx WOODEN HOLDS'!Z$33=0,0,'Lynx WOODEN HOLDS'!Z$33) -> 0 | R22: ='PROD. Lynx Woodholds'!Q25 -> 0
Q23: Responsible for packing:
D24: Palette No.: | I24: Date:
D25: Dimensions: | I25: Name:
I26: Signature:

Sheet Lynx PLYWOOD
C1: 10cm pyramid symbol for sizing is representing PLYWOOD material | L1: Sum price without VAT | M1: =SUM(AB11:AB74) -> 0 | O1: EUR
L2: Sum SETS | M2: =SUM(N11:AA74) -> 0 | AB2: SUM production quota: | AD2: =AG7 -> 0
L3: SUM | M3: =SUM(AJ11:AJ74) -> 0 | O3: kg | CK3: Ordered production quota
AB5: SUM of pcs.
M7: Sum pcs. by colour: | N7: =SUM(AK11:AK74) -> 0 | O7: =SUM(AL11:AL74) -> 0 | P7: =SUM(AM11:AM74) -> 0 | Q7: =SUM(AN11:AN74) -> 0 | R7: =SUM(AO11:AO74) -> 0 | S7: =SUM(AP11:AP74) -> 0 | T7: =SUM(AQ11:AQ74) -> 0 | U7: =SUM(AR11:AR74) -> 0 | ... AA7: =SUM(AX11:AX74) -> 0 | AB7: =SUM(N7:AA7) -> 0 | AF7: SUM: | AG7: =SUM(AG11:AG74) -> 0 | AZ7: =SUM(SUMPRODUCT($AZ$11:$AZ$299,O11:O299)+SUMPRODUCT($AZ$11:$AZ$299,P11:P299)+SUMPRODUCT($AZ$11:$AZ$299,Q11:Q299)+SUMPRODUCT($AZ$11:$AZ$299,R11:R299)+SUMPRODUCT($AZ$11:$AZ$299,U11:U299)+SUMPRODUCT($AZ$11:$AZ$299,V11:V299)+SUMPRODUCT($AZ$11:$AZ$299,S11:S299)+SUMPRODUCT($AZ$11:$AZ$299,W11:W299)+SUMPRODUCT($AZ$11:$AZ$299,X11:X299)+SUMPRODUCT($AZ$11:$AZ$299,Y11:Y299)+SUMPRODUCT($AZ$11:$AZ$299,Z11:Z299)+SUMPRODUCT($AZ$11:$AZ$299,AA11:AA299)+SUMPRODUCT($AZ$11:$AZ$299,N11:N299)+SUMPRODUCT($AZ$11:$AZ$299,T11:T299)) -> 0 | BD7: =SUM(BD11:BD200) -> 0 | BE7: =SUM(BE11:BE200) -> 0 | BF7: =SUM(BF11:BF200) -> 0 | BG7: =SUM(BG11:BG200) -> 0 | BH7: =SUM(BH11:BH200) -> 0 | BI7: =SUM(BI11:BI200) -> 0 | BJ7: =SUM(BJ11:BJ200) -> 0 | BK7: =SUM(BK11:BK200) -> 0 | BM7: =SUM(BM11:BM200) -> 0 | BN7: =SUM(BN11:BN200) -> 0 | BP7: =SUM(BP11:BP200) -> 0 | BQ7: =SUM(BQ11:BQ200) -> 0 | BR7: =SUM(BR11:BR200) -> 0 | BS7: =SUM(BS11:BS200) -> 0 | BT7: =SUM(BT11:BT200) -> 0 | BU7: =SUM(BU11:BU200) -> 0 | BV7: =SUM(BV11:BV200) -> 0 | BW7: =SUM(BW11:BW200) -> 0 | ... CH7: =SUM(CH11:CH200) -> 0 | CJ7: =SUM(CJ11:CJ200) -> 0
B8: NEW | D8: ID | E8: CNC ID | F8: TEXTURE | G8: TYPE | H8: DIMENSIONS | I8: SIZE | J8: PCS. IN SET | K8: T-NUTS | L8: FIXING | M8: PRICE WITHOUT VAT | N8: BLACK RAL 9005 | O8: WHITE | P8: RED RAL 3000 | Q8: YELLOW RAL 1018 | R8: BLUE RAL 5015 | S8: BRIGHT GREEN RAL 6018 | T8: PURE GREEN RAL 6037 | U8: APRICOT ORANGE RAL 1033 | V8: DEEP ORANGE RAL 2011 | W8: PINK RAL 4003 | X8: GREY RAL 7001 | Y8: PURPLE S4050-R60B/M | Z8: MINT RAL 6027 | AA8: DEEP ROSE RAL 4008 | AB8: SUM | AC8: ordered | AD8: NEW | AF8: Production quota pet set | AG8: Ordered production quota | AI8: kg | AJ8: sum kg | AK8: black | AL8: white | AM8: red | AN8: yellow | AO8: blue | AP8: green | AQ8: pure green | AR8: orange | AS8: deep orange | AT8: pink | AU8: grey | AV8: purple | AW8: mint | AX8: deep rose | AY8: norma | AZ8: screws 50 mm | BA8: screws 70 mm | BB8: screws longer mm | BD8: XS | BE8: S | BF8: M | BG8: L | BH8: XL | BI8: 2XL | BJ8: 3XL | BK8: various | BM8: all texture | BN8: dual texture | BP8: sloper | BQ8: footholds | BR8: micros | BS8: jug | BT8: ledge | BU8: edge | BV8: crimp | BW8: incut | BX8: dish | BY8: pinch | BZ8: pocket | CA8: insert | CB8: feature | CC8: scoop | CD8: arete | CE8: flat rectangle | CF8: pentagon | CG8: pyramid | CH8: positive | CJ8: various
N9: 01 | O9: 02 | P9: 03 | Q9: 04 | R9: 05 | S9: 06 | T9: 15 | U9: 07 | V9: 08 | W9: 09 | X9: 10 | Y9: 11 | Z9: 12 | AA9: 13
D10: RAMPS
D11: L1-W | E11: 21 | G11: arete | H11: 118x40x10 cm | I11: XL | J11: 1 | K11: 0 | L11: screws | M11: 200.61825 | AB11: =M11*N11+M11*O11+M11*P11+M11*Q11+M11*R11+M11*S11+M11*U11+M11*V11+M11*W11+M11*X11+M11*Y11+M11*Z11+M11*AA11+M11*T11 -> 0 | AC11: =IF(SUM(N11:AA11)>0,"Yes","No") -> No | AD11: =IF(B11="New","Yes","No") -> No | AF11: 1 | AG11: =AF11*N11+AF11*O11+AF11*P11+AF11*Q11+AF11*R11+AF11*S11+AF11*U11+AF11*V11+AF11*W11+AF11*X11+AF11*Y11+AF11*Z11+AF11*AA11+AF11*T11 -> 0 | AI11: 5.4 | AJ11: =SUM(N11:AA11)*AI11 -> 0 | AK11: =J11*N11 -> 0 | AL11: =J11*O11 -> 0 | AM11: =J11*P11 -> 0 | AN11: =J11*Q11 -> 0 | AO11: =J11*R11 -> 0 | AP11: =J11*S11 -> 0 | AQ11: =J11*T11 -> 0 | AR11: =J11*U11 -> 0 | AS11: =J11*V11 -> 0 | AT11: =J11*W11 -> 0 | AU11: =J11*X11 -> 0 | AV11: =J11*Y11 -> 0 | AW11: =J11*Z11 -> 0 | AX11: =J11*AA11 -> 0 | AY11: 1 | AZ11: 7 | BD11: =IF(I11="XS",IF(SUM(N11:AA11)>0,SUM(N11:AA11),0),0)*J11 -> 0 | BE11: =IF(I11="S",IF(SUM(N11:AA11)>0,SUM(N11:AA11),0),0)*J11 -> 0 | BF11: =IF(I11="M",IF(SUM(N11:AA11)>0,SUM(N11:AA11),0),0)*J11 -> 0 | BG11: =IF(I11="L",IF(SUM(N11:AA11)>0,SUM(N11:AA11),0),0)*J11 -> 0 | BH11: =IF(I11="XL",IF(SUM(N11:AA11)>0,SUM(N11:AA11),0),0)*J11 -> 0 | BI11: =IF(I11="2XL",IF(SUM(N11:AA11)>0,SUM(N11:AA11),0),0)*J11 -> 0 | BJ11: =IF(I11="3XL",IF(SUM(N11:AA11)>0,SUM(N11:AA11),0),0)*J11 -> 0 | BK11: =IF(I11="various",IF(SUM(N11:AA11)>0,SUM(N11:AA11),0),0)*J11 -> 0 | BM11: =IF(F11="",IF(SUM(N11:AA11)>0,SUM(N11:AA11),0),0)*J11 -> 0 | BN11: =IF(F11="Dual tex.",IF(SUM(N11:AA11)>0,SUM(N11:AA11),0),0)*J11 -> 0 | BP11: =IF(G11="sloper",IF(SUM(N11:AA11)>0,SUM(N11:AA11),0),0)*J11 -> 0 | BQ11: =IF(G11="footholds",IF(SUM(N11:AA11)>0,SUM(N11:AA11),0),0)*J11 -> 0 | BR11: =IF(G11="micros",IF(SUM(N11:AA11)>0,SUM(N11:AA11),0),0)*J11 -> 0 | BS11: =IF(G11="jug",IF(SUM(N11:AA11)>0,SUM(N11:AA11),0),0)*J11 -> 0 | BT11: =IF(G11="ledge",IF(SUM(N11:AA11)>0,SUM(N11:AA11),0),0)*J11 -> 0 | BU11: =IF(G11="edge",IF(SUM(N11:AA11)>0,SUM(N11:AA11),0),0)*J11 -> 0 | BV11: =IF(G11="crimp",IF(SUM(N11:AA11)>0,SUM(N11:AA11),0),0)*J11 -> 0 | BW11: =IF(G11="incut",IF(SUM(N11:AA11)>0,SUM(N11:AA11),0),0)*J11 -> 0 | BX11: =IF(G11="dish",IF(SUM(N11:AA11)>0,SUM(N11:AA11),0),0)*J11 -> 0 | BY11: =IF(G11="pinch",IF(SUM(N11:AA11)>0,SUM(N11:AA11),0),0)*J11 -> 0 | BZ11: =IF(G11="pocket",IF(SUM(N11:AA11)>0,SUM(N11:AA11),0),0)*J11 -> 0 | CA11: =IF(G11="insert",IF(SUM(N11:AA11)>0,SUM(N11:AA11),0),0)*J11 -> 0 | CB11: =IF(G11="feature",IF(SUM(N11:AA11)>0,SUM(N11:AA11),0),0)*J11 -> 0 | CC11: =IF(G11="scoop",IF(SUM(N11:AA11)>0,SUM(N11:AA11),0),0)*J11 -> 0 | CD11: =IF(G11="arete",IF(SUM(N11:AA11)>0,SUM(N11:AA11),0),0)*J11 -> 0 | CE11: =IF(G11="flat rectangle",IF(SUM(N11:AA11)>0,SUM(N11:AA11),0),0)*J11 -> 0 | CF11: =IF(G11="pentagon",IF(SUM(N11:AA11)>0,SUM(N11:AA11),0),0)*J11 -> 0 | CG11: =IF(G11="pyramid",IF(SUM(N11:AA11)>0,SUM(N11:AA11),0),0)*J11 -> 0 | CH11: =IF(L11="positive",IF(SUM(S11:AF11)>0,SUM(S11:AF11),0),0)*O11 -> 0 | CJ11: =IF(G11="various",IF(SUM(N11:AA11)>0,SUM(N11:AA11),0),0)*J11 -> 0
D12: L2-W | E12: 22, 23, 24 | G12: arete | H12: 93x32x8 cm, 74x25x6 cm, 60x21x4 cm | I12: L | J12: 3 | K12: 0 | L12: screws | M12: 332.4531 | AB12: =M12*N12+M12*O12+M12*P12+M12*Q12+M12*R12+M12*S12+M12*U12+M12*V12+M12*W12+M12*X12+M12*Y12+M12*Z12+M12*AA12+M12*T12 -> 0 | AC12: =IF(SUM(N12:AA12)>0,"Yes","No") -> No | AD12: =IF(B12="New","Yes","No") -> No | AF12: 3 | AG12: =AF12*N12+AF12*O12+AF12*P12+AF12*Q12+AF12*R12+AF12*S12+AF12*U12+AF12*V12+AF12*W12+AF12*X12+AF12*Y12+AF12*Z12+AF12*AA12+AF12*T12 -> 0 | AI12: =3.3+2.1+1.5 -> 6.9 | AJ12: =SUM(N12:AA12)*AI12 -> 0 | AK12: =J12*N12 -> 0 | AL12: =J12*O12 -> 0 | AM12: =J12*P12 -> 0 | AN12: =J12*Q12 -> 0 | AO12: =J12*R12 -> 0 | AP12: =J12*S12 -> 0 | AQ12: =J12*T12 -> 0 | AR12: =J12*U12 -> 0 | AS12: =J12*V12 -> 0 | AT12: =J12*W12 -> 0 | AU12: =J12*X12 -> 0 | AV12: =J12*Y12 -> 0 | AW12: =J12*Z12 -> 0 | AX12: =J12*AA12 -> 0 | AY12: 3 | AZ12: 16 | BD12: =IF(I12="XS",IF(SUM(N12:AA12)>0,SUM(N12:AA12),0),0)*J12 -> 0 | BE12: =IF(I12="S",IF(SUM(N12:AA12)>0,SUM(N12:AA12),0),0)*J12 -> 0 | BF12: =IF(I12="M",IF(SUM(N12:AA12)>0,SUM(N12:AA12),0),0)*J12 -> 0 | BG12: =IF(I12="L",IF(SUM(N12:AA12)>0,SUM(N12:AA12),0),0)*J12 -> 0 | BH12: =IF(I12="XL",IF(SUM(N12:AA12)>0,SUM(N12:AA12),0),0)*J12 -> 0 | BI12: =IF(I12="2XL",IF(SUM(N12:AA12)>0,SUM(N12:AA12),0),0)*J12 -> 0 | BJ12: =IF(I12="3XL",IF(SUM(N12:AA12)>0,SUM(N12:AA12),0),0)*J12 -> 0 | BK12: =IF(I12="various",IF(SUM(N12:AA12)>0,SUM(N12:AA12),0),0)*J12 -> 0 | BM12: =IF(F12="",IF(SUM(N12:AA12)>0,SUM(N12:AA12),0),0)*J12 -> 0 | BN12: =IF(F12="Dual tex.",IF(SUM(N12:AA12)>0,SUM(N12:AA12),0),0)*J12 -> 0 | BP12: =IF(G12="sloper",IF(SUM(N12:AA12)>0,SUM(N12:AA12),0),0)*J12 -> 0 | BQ12: =IF(G12="footholds",IF(SUM(N12:AA12)>0,SUM(N12:AA12),0),0)*J12 -> 0 | BR12: =IF(G12="micros",IF(SUM(N12:AA12)>0,SUM(N12:AA12),0),0)*J12 -> 0 | BS12: =IF(G12="jug",IF(SUM(N12:AA12)>0,SUM(N12:AA12),0),0)*J12 -> 0 | BT12: =IF(G12="ledge",IF(SUM(N12:AA12)>0,SUM(N12:AA12),0),0)*J12 -> 0 | BU12: =IF(G12="edge",IF(SUM(N12:AA12)>0,SUM(N12:AA12),0),0)*J12 -> 0 | BV12: =IF(G12="crimp",IF(SUM(N12:AA12)>0,SUM(N12:AA12),0),0)*J12 -> 0 | BW12: =IF(G12="incut",IF(SUM(N12:AA12)>0,SUM(N12:AA12),0),0)*J12 -> 0 | BX12: =IF(G12="dish",IF(SUM(N12:AA12)>0,SUM(N12:AA12),0),0)*J12 -> 0 | BY12: =IF(G12="pinch",IF(SUM(N12:AA12)>0,SUM(N12:AA12),0),0)*J12 -> 0 | BZ12: =IF(G12="pocket",IF(SUM(N12:AA12)>0,SUM(N12:AA12),0),0)*J12 -> 0 | CA12: =IF(G12="insert",IF(SUM(N12:AA12)>0,SUM(N12:AA12),0),0)*J12 -> 0 | CB12: =IF(G12="feature",IF(SUM(N12:AA12)>0,SUM(N12:AA12),0),0)*J12 -> 0 | CC12: =IF(G12="scoop",IF(SUM(N12:AA12)>0,SUM(N12:AA12),0),0)*J12 -> 0 | CD12: =IF(G12="arete",IF(SUM(N12:AA12)>0,SUM(N12:AA12),0),0)*J12 -> 0 | CE12: =IF(G12="flat rectangle",IF(SUM(N12:AA12)>0,SUM(N12:AA12),0),0)*J12 -> 0 | CF12: =IF(G12="pentagon",IF(SUM(N12:AA12)>0,SUM(N12:AA12),0),0)*J12 -> 0 | CG12: =IF(G12="pyramid",IF(SUM(N12:AA12)>0,SUM(N12:AA12),0),0)*J12 -> 0 | CH12: =IF(L12="positive",IF(SUM(S12:AF12)>0,SUM(S12:AF12),0),0)*O12 -> 0 | CJ12: =IF(G12="various",IF(SUM(N12:AA12)>0,SUM(N12:AA12),0),0)*J12 -> 0
D13: KITES | BD13: =IF(I13="XS",IF(SUM(N13:AA13)>0,SUM(N13:AA13),0),0)*J13 -> 0 | BE13: =IF(I13="S",IF(SUM(N13:AA13)>0,SUM(N13:AA13),0),0)*J13 -> 0 | BF13: =IF(I13="M",IF(SUM(N13:AA13)>0,SUM(N13:AA13),0),0)*J13 -> 0 | BG13: =IF(I13="L",IF(SUM(N13:AA13)>0,SUM(N13:AA13),0),0)*J13 -> 0 | BH13: =IF(I13="XL",IF(SUM(N13:AA13)>0,SUM(N13:AA13),0),0)*J13 -> 0 | BI13: =IF(I13="2XL",IF(SUM(N13:AA13)>0,SUM(N13:AA13),0),0)*J13 -> 0 | BJ13: =IF(I13="3XL",IF(SUM(N13:AA13)>0,SUM(N13:AA13),0),0)*J13 -> 0 | BK13: =IF(I13="various",IF(SUM(N13:AA13)>0,SUM(N13:AA13),0),0)*J13 -> 0 | BM13: =IF(F13="",IF(SUM(N13:AA13)>0,SUM(N13:AA13),0),0)*J13 -> 0 | BN13: =IF(F13="Dual tex.",IF(SUM(N13:AA13)>0,SUM(N13:AA13),0),0)*J13 -> 0 | BP13: =IF(G13="sloper",IF(SUM(N13:AA13)>0,SUM(N13:AA13),0),0)*J13 -> 0 | BQ13: =IF(G13="footholds",IF(SUM(N13:AA13)>0,SUM(N13:AA13),0),0)*J13 -> 0 | BR13: =IF(G13="micros",IF(SUM(N13:AA13)>0,SUM(N13:AA13),0),0)*J13 -> 0 | BS13: =IF(G13="jug",IF(SUM(N13:AA13)>0,SUM(N13:AA13),0),0)*J13 -> 0 | BT13: =IF(G13="ledge",IF(SUM(N13:AA13)>0,SUM(N13:AA13),0),0)*J13 -> 0 | BU13: =IF(G13="edge",IF(SUM(N13:AA13)>0,SUM(N13:AA13),0),0)*J13 -> 0 | BV13: =IF(G13="crimp",IF(SUM(N13:AA13)>0,SUM(N13:AA13),0),0)*J13 -> 0 | BW13: =IF(G13="incut",IF(SUM(N13:AA13)>0,SUM(N13:AA13),0),0)*J13 -> 0 | BX13: =IF(G13="dish",IF(SUM(N13:AA13)>0,SUM(N13:AA13),0),0)*J13 -> 0 | BY13: =IF(G13="pinch",IF(SUM(N13:AA13)>0,SUM(N13:AA13),0),0)*J13 -> 0 | BZ13: =IF(G13="pocket",IF(SUM(N13:AA13)>0,SUM(N13:AA13),0),0)*J13 -> 0 | CA13: =IF(G13="insert",IF(SUM(N13:AA13)>0,SUM(N13:AA13),0),0)*J13 -> 0 | CB13: =IF(G13="feature",IF(SUM(N13:AA13)>0,SUM(N13:AA13),0),0)*J13 -> 0 | CC13: =IF(G13="scoop",IF(SUM(N13:AA13)>0,SUM(N13:AA13),0),0)*J13 -> 0 | CD13: =IF(G13="arete",IF(SUM(N13:AA13)>0,SUM(N13:AA13),0),0)*J13 -> 0 | CE13: =IF(G13="flat rectangle",IF(SUM(N13:AA13)>0,SUM(N13:AA13),0),0)*J13 -> 0 | CF13: =IF(G13="pentagon",IF(SUM(N13:AA13)>0,SUM(N13:AA13),0),0)*J13 -> 0 | CG13: =IF(G13="pyramid",IF(SUM(N13:AA13)>0,SUM(N13:AA13),0),0)*J13 -> 0 | CH13: =IF(L13="positive",IF(SUM(S13:AF13)>0,SUM(S13:AF13),0),0)*O13 -> 0 | CJ13: =IF(G13="various",IF(SUM(N13:AA13)>0,SUM(N13:AA13),0),0)*J13 -> 0
