Workbook

Sheet Summary
B1: Please fill in Customer Information
A2: Company Name ::
A3: Company Address ::
A4: VAT number ::
A5: Delivery address ::
A6: Contact person and tel No ::
A7: TOTAL AMOUNT: without VAT | B7: =IF(X1:X1=1,$C$15+$C$17+$C$25+$C$28+#REF!,$C$15+$C$17+$C$25+$C$28) -> 0 | D7: All brands | E7: XS | F7: S | G7: M | H7: L | I7: XL | J7: MEGA | K7: Volumes | L7: Selection Details | M7: Selection Details
D8: % | E8: =IF($N8,E9/$N8,0) -> 0 | F8: =IF($N8,F9/$N8,0) -> 0 | G8: =IF($N8,G9/$N8,0) -> 0 | H8: =IF($N8,H9/$N8,0) -> 0 | I8: =IF($N8,I9/$N8,0) -> 0 | J8: =IF($N8,J9/$N8,0) -> 0 | L8: Total Holds:: | M8: Total Holds:: | N8: =N13+N18+N23+N29 -> 0 | O8: pcs
D9: pcs | E9: =$E$14+$E$19+$E$24+$E$30 -> 0 | F9: =$F$14+$F$19+$F$24+$F$30 -> 0 | G9: =$G$14+$G$19+$G$24+$G$30 -> 0 | H9: =$H$14+$H$19+$H$24+$H$30 -> 0 | I9: =$I$14+$I$19+$I$24+$I$30 -> 0 | J9: =$J$14+$J$19+$J$24+$J$30 -> 0 | K9: =$K$14+$K$19+$K$24 -> 0 | L9: Total Volumes:: | N9: =N14+N19+N24 -> 0 | O9: pcs
L10: Total Weight:: | N10: =N15+N20+N25+N30 -> 0 | O10: kg
B11: HRT by Artist and HRT polyester: | C11: ='HRT polyester'!M102+'HRT by ARTIST'!N177 -> 0
B12: HRT PU: | C12: ='HRT PU'!M66 -> 0 | D12: HRT holds | E12: XS | F12: S | G12: M | H12: L | I12: XL | J12: MEGA | K12: Volumes | L12: Selection Details
B13: HRT volumes; | C13: ='HRT volumes'!F72 -> 0 | D13: % | E13: =IF($N$13,E14/$N$13,0) -> 0 | F13: =IF($N$13,F14/$N$13,0) -> 0 | G13: =IF($N$13,G14/$N$13,0) -> 0 | H13: =IF($N$13,H14/$N$13,0) -> 0 | I13: =IF($N$13,I14/$N$13,0) -> 0 | J13: =IF($N$13,J14/$N$13,0) -> 0 | L13: Total Holds:: | N13: ='HRT by ARTIST'!AB179+'HRT polyester'!AI102+'HRT PU'!AA67 -> 0 | O13: pcs
B14: Training & bolts | C14: ='Train and bolts'!F32 -> 0 | D14: pcs | E14: ='HRT by ARTIST'!AC176+'HRT polyester'!AC101+'HRT PU'!AA65 -> 0 | F14: ='HRT by ARTIST'!AD176+'HRT polyester'!AD101+'HRT PU'!AB65 -> 0 | G14: ='HRT by ARTIST'!AE176+'HRT polyester'!AE101+'HRT PU'!AC65 -> 0 | H14: ='HRT by ARTIST'!AF176+'HRT polyester'!AF101+'HRT PU'!AD65 -> 0 | I14: ='HRT by ARTIST'!AG176+'HRT polyester'!AG101+'HRT PU'!AE65 -> 0 | J14: ='HRT by ARTIST'!AH176+'HRT polyester'!AH101+'HRT PU'!AF65 -> 0 | K14: ='HRT volumes'!AD71+'HRT by ARTIST'!AH179 -> 0 | L14: Total Volumes:: | N14: =K14 -> 0 | O14: pcs
B15: HRT Total Price: | C15: =SUM(C11:C14) -> 0 | L15: Total Weight:: | N15: ='HRT by ARTIST'!AK178+'HRT polyester'!AJ101+'HRT PU'!AH65+'HRT volumes'!AB71+'Train and bolts'!T32 -> 0 | O15: kg
B17: Boulder Special Total Price: | C17: ='B SPECIAL PU'!N93 -> 0 | D17: Boulder Special | E17: XS | F17: S | G17: M | H17: L | I17: XL | J17: MEGA | K17: Volumes | L17: Selection Details | M17: Selection Details
D18: % | E18: =IF($N$18,E19/$N$18,0) -> 0 | F18: =IF($N$18,F19/$N$18,0) -> 0 | G18: =IF($N$18,G19/$N$18,0) -> 0 | H18: =IF($N$18,H19/$N$18,0) -> 0 | I18: =IF($N$18,I19/$N$18,0) -> 0 | J18: =IF($N$18,J19/$N$18,0) -> 0 | L18: Total Holds:: | N18: ='B SPECIAL PU'!AB93 -> 0 | O18: pcs
D19: pcs | E19: ='B SPECIAL PU'!AU92 -> 0 | F19: ='B SPECIAL PU'!AV92 -> 0 | G19: ='B SPECIAL PU'!AW92 -> 0 | H19: ='B SPECIAL PU'!AX92 -> 0 | I19: ='B SPECIAL PU'!AY92 -> 0 | J19: ='B SPECIAL PU'!AZ92 -> 0 | K19: ='B SPECIAL PU'!BA92 -> 0 | L19: Total Volumes:: | N19: =K19 -> 0 | O19: pcs
L20: Total Weight:: | N20: ='B SPECIAL PU'!AB94 -> 0 | O20: kg
B22: Fiction polyester: | C22: ='Fiction polyester'!M53 -> 0 | D22: Fiction holds | E22: XS | F22: S | G22: M | H22: L | I22: XL | J22: MEGA | K22: Volumes | L22: Selection Details | M22: Selection Details
B23: Fiction PU: | C23: ='Fiction PU'!M54 -> 0 | D23: % | E23: =IF($N$23,E24/$N$23,0) -> 0 | F23: =IF($N$23,F24/$N$23,0) -> 0 | G23: =IF($N$23,G24/$N$23,0) -> 0 | H23: =IF($N$23,H24/$N$23,0) -> 0 | I23: =IF($N$23,I24/$N$23,0) -> 0 | J23: =IF($N$23,J24/$N$23,0) -> 0 | L23: Total Holds:: | N23: ='Fiction polyester'!AB53+'Fiction PU'!Z54 -> 0 | O23: pcs
B24: Fiction volumes: | C24: ='Fiction volumes'!F16 -> 0 | D24: pcs | E24: ='Fiction polyester'!AS52+'Fiction PU'!AQ53 -> 0 | F24: ='Fiction polyester'!AT52+'Fiction PU'!AR53 -> 0 | G24: ='Fiction polyester'!AU52+'Fiction PU'!AS53 -> 0 | H24: ='Fiction polyester'!AV52+'Fiction PU'!AT53 -> 0 | I24: ='Fiction polyester'!AW52+'Fiction PU'!AU53 -> 0 | J24: ='Fiction polyester'!AX52+'Fiction PU'!AV53 -> 0 | K24: ='Fiction volumes'!V13 -> 0 | L24: Total Volumes:: | N24: =K24 -> 0 | O24: pcs
B25: Fiction Total price: | C25: =SUM(C22:C24) -> 0 | L25: Total Weight:: | N25: ='Fiction polyester'!AB54+'Fiction PU'!Z55+'Fiction volumes'!T18 -> 0 | O25: kg
B28: 300 Holds Total Price: | C28: ='300 holds PU'!M55 -> 0 | D28: 300 holds | E28: XS | F28: S | G28: M | H28: L | I28: XL | J28: MEGA | M28: Selection Details
D29: % | E29: =IF($N$29,E30/$N$29,0) -> 0 | F29: =IF($N$29,F30/$N$29,0) -> 0 | G29: =IF($N$29,G30/$N$29,0) -> 0 | H29: =IF($N$29,H30/$N$29,0) -> 0 | I29: =IF($N$29,I30/$N$29,0) -> 0 | J29: =IF($N$29,J30/$N$29,0) -> 0 | L29: Total Holds:: | N29: ='300 holds PU'!AA55 -> 0 | O29: pcs
D30: pcs | E30: ='300 holds PU'!AR54 -> 0 | F30: ='300 holds PU'!AS54 -> 0 | G30: ='300 holds PU'!AT54 -> 0 | H30: ='300 holds PU'!AU54 -> 0 | I30: ='300 holds PU'!AV54 -> 0 | J30: ='300 holds PU'!AW54 -> 0 | L30: Total Weight:: | N30: ='300 holds PU'!AA56 -> 0 | O30: kg
A33: =IF(AW13:AW13=1,"Thank you! We will include the required number of bolts and screws to your purchase order. You could view the price of each bolt size at the accessories section. The total cost will appear at your proforma invoice too."," ")
A35: DISCLAIMER
A36: Color nuance : Colors may vary in nuance when ordered in different materials - polyester, oplyurethane or GRP. A small variation may also be present for the same color within the same material range – when ordered during different time-periods. General UV stability : Fluorescent colors ( incl. Violet ), are signiicantly prone to fading when exposed to direct sunlight and we strongly recommend - holds colored with such pigments not to be used outdoors PU change of color When exposed to direct sunlight Polyurethane holds (incl.Compozit and GIGA holds) tend to change their color to more pastel and ivory/brown nuances .Valid for all colors. HRT has the right to make changes in this price-list without any notice
A45: Holds type | B45: foot | C45: jugs | D45: pockets | E45: edges | F45: pinches | H45: slopers
A46: % | B46: =IFERROR(B47/$N$8,0) -> 0 | C46: =IFERROR(C47/$N$8,0) -> 0 | D46: =IFERROR(D47/$N$8,0) -> 0 | E46: =IFERROR(E47/$N$8,0) -> 0 | F46: =IFERROR(F47/$N$8,0) -> 0 | H46: =IFERROR(H47/$N$8,0) -> 0
A47: pcs | B47: ='HRT by ARTIST'!BI176+'HRT polyester'!BF101+'HRT PU'!BC65+'B SPECIAL PU'!BC92+'Fiction polyester'!AZ52+'Fiction PU'!AX53+'300 holds PU'!AY54 -> 0 | C47: ='HRT by ARTIST'!BJ176+'HRT polyester'!BG101+'HRT PU'!BD65+'B SPECIAL PU'!BD92+'Fiction polyester'!BA52+'Fiction PU'!AY53+'300 holds PU'!AZ54 -> 0 | D47: ='HRT by ARTIST'!BK176+'HRT polyester'!BH101+'HRT PU'!BE65+'B SPECIAL PU'!BE92+'Fiction polyester'!BB52+'Fiction PU'!AZ53+'300 holds PU'!BA54 -> 0 | E47: ='HRT by ARTIST'!BL176+'HRT polyester'!BI101+'HRT PU'!BF65+'B SPECIAL PU'!BF92+'Fiction polyester'!BC52+'Fiction PU'!BA53+'300 holds PU'!BB54 -> 0 | F47: ='HRT by ARTIST'!BM176+'HRT polyester'!BJ101+'HRT PU'!BG65+'B SPECIAL PU'!BG92+'Fiction polyester'!BD52+'Fiction PU'!BB53+'300 holds PU'!BC54 -> 0 | H47: ='HRT by ARTIST'!BN176+'HRT polyester'!BK101+'HRT PU'!BH65+'B SPECIAL PU'!BH92+'Fiction polyester'!BE52+'Fiction PU'!BC53+'300 holds PU'!BD54 -> 0
A50: Colors - only for the holds | B50: White (1) | C50: Yellow (2) | D50: Green (4) | E50: Red (5) | F50: Orange (6) | G50: Blue (7) | H50: Grey (9) | I50: Black (10) | J50: Violet/ lilac (16) | K50: Fluoro orange (11) | L50: Fluoro green (12) | M50: Fluoro pink (13) | N50: Fluoro yellow (14)
A51: Number of holds | B51: ='HRT by ARTIST'!O4+'HRT polyester'!N4+'HRT PU'!N4+'B SPECIAL PU'!O3+'Fiction polyester'!N3+'Fiction PU'!N3+'300 holds PU'!N3 -> 0 | C51: ='HRT by ARTIST'!P4+'HRT polyester'!O4+'HRT PU'!O4+'B SPECIAL PU'!P3+'Fiction polyester'!O3+'Fiction PU'!O3+'300 holds PU'!O3 -> 0 | D51: ='HRT by ARTIST'!Q4+'HRT polyester'!P4+'HRT PU'!P4+'B SPECIAL PU'!Q3+'Fiction polyester'!P3+'Fiction PU'!P3+'300 holds PU'!P3 -> 0 | E51: ='HRT by ARTIST'!R4+'HRT polyester'!Q4+'HRT PU'!Q4+'B SPECIAL PU'!R3+'Fiction polyester'!Q3+'Fiction PU'!Q3+'300 holds PU'!Q3 -> 0 | F51: ='HRT by ARTIST'!S4+'HRT polyester'!R4+'HRT PU'!R4+'B SPECIAL PU'!S3+'Fiction polyester'!R3+'Fiction PU'!R3+'300 holds PU'!R3 -> 0 | G51: ='HRT by ARTIST'!T4+'HRT polyester'!S4+'HRT PU'!S4+'B SPECIAL PU'!T3+'Fiction polyester'!S3+'Fiction PU'!S3+'300 holds PU'!S3 -> 0 | H51: ='HRT by ARTIST'!U4+'HRT polyester'!T4+'B SPECIAL PU'!U3+'Fiction polyester'!T3+'Fiction PU'!T3+'300 holds PU'!T3 -> 0 | I51: ='HRT by ARTIST'!V4+'HRT polyester'!U4+'HRT PU'!T4+'B SPECIAL PU'!V3+'Fiction polyester'!U3+'Fiction PU'!U3+'300 holds PU'!U3 -> 0 | J51: ='HRT by ARTIST'!W4+'HRT polyester'!V4+'HRT PU'!U4+'B SPECIAL PU'!W3+'Fiction polyester'!V3+'Fiction PU'!V3+'300 holds PU'!V3 -> 0 | K51: ='HRT by ARTIST'!X4+'HRT polyester'!W4+'HRT PU'!V4+'B SPECIAL PU'!X3+'Fiction polyester'!W3+'Fiction PU'!W3+'300 holds PU'!W3 -> 0 | L51: ='HRT by ARTIST'!Y4+'HRT polyester'!X4+'HRT PU'!W4+'B SPECIAL PU'!Y3+'Fiction polyester'!X3+'Fiction PU'!X3+'300 holds PU'!X3 -> 0 | M51: ='HRT by ARTIST'!Z4+'HRT polyester'!Y4+'HRT PU'!X4+'B SPECIAL PU'!Z3+'Fiction polyester'!Y3+'Fiction PU'!#REF!+'300 holds PU'!Y3 -> #REF! | N51: ='HRT by ARTIST'!#REF!+'HRT polyester'!Z4+'B SPECIAL PU'!#REF!+'Fiction polyester'!Z3+'Fiction PU'!Y3+'300 holds PU'!#REF! -> #REF!

Sheet HRT by ARTIST
B1: HRT BY ARTIST | F1: Holds Size | N1: Please Choose Colors for the Sets | W1: Colors for Indoor Use only | AA1: view all colors | AC1: Holds' Size | AI1: Holds Size | AN1: Holds' Types- default | AT1: 40 | AU1: 50 | AV1: 70 | AW1: 90 | AX1: 100 | AY1: 120 | AZ1: 140 | BA1: SCR | BB1: CH | BI1: Holds' Type in the order
A2: Reff. No. | C2: Grip type | D2: View set picture | E2: pcs of holds in the set | F2: XS | G2: S | H2: M | I2: L | J2: XL | K2: Mega | L2: volumes | M2: Price in EUR | N2: Set # | O2: White (1) | P2: Yellow (2) | Q2: Green (4 for PE; US16-16 for PU) | R2: Red (5) | S2: Orange (6 forPE; US14-01 for PU ) | T2: Blue (7) | U2: Grey (9) | V2: Black (10) | W2: Violet/ lilac (16) | X2: Fluoro orange (11) | Y2: Fluoro green (12) | Z2: Fluoro pink (13) | AA2: Weight (kg.) | AB2: Volume | AC2: XS | AD2: S | AE2: M | AF2: L | AG2: Xl | AH2: Mega | AI2: volumes | AK2: Total weight (kg) | AL2: Total volume | AM2: Total Amount | AN2: foot | AO2: jugs | AP2: pockets | AQ2: edges | AR2: pinches | AS2: slopers | AT2: Bolts for the Sets | BD2: » | BF2: « | BG2: SAP ID | BI2: foot | BJ2: jugs | BK2: pockets | BL2: edges | BM2: pinches | BN2: slopers
O3: view | P3: view | Q3: view | R3: view | S3: view | T3: view | U3: view | V3: view | W3: view | X3: view | Y3: view | Z3: view | AT3: 40 | AU3: 50 | AV3: 70 | AW3: 90 | AX3: 100 | AY3: 120 | BA3: SCR | BB3: CH | BE3: EUR Price
O4: =SUMPRODUCT($E$5:$E$185,O5:O185) -> 0 | P4: =SUMPRODUCT($E$5:$E$185,P5:P185) -> 0 | Q4: =SUMPRODUCT($E$5:$E$185,Q5:Q185) -> 0 | R4: =SUMPRODUCT($E$5:$E$185,R5:R185) -> 0 | S4: =SUMPRODUCT($E$5:$E$185,S5:S185) -> 0 | T4: =SUMPRODUCT($E$5:$E$185,T5:T185) -> 0 | U4: =SUMPRODUCT($E$5:$E$185,U5:U185) -> 0 | V4: =SUMPRODUCT($E$5:$E$185,V5:V185) -> 0 | ... Z4: =SUMPRODUCT($E$5:$E$185,Z5:Z185) -> 0
B5: JULIUS KERSCHER - THE GLASS BEAD GAME ALL PU DANNOMOND | C5: VIDEO PRESENTATIONS
A6: 10260 | B6: Definitions XS | C6: foot | D6: view | E6: 16 | F6: 16 | M6: 64.58 | N6: =SUM(O6:Z6) -> 0 | AA6: 0.48 | AC6: =$N6*F6 -> 0 | AD6: =$N6*G6 -> 0 | AE6: =$N6*H6 -> 0 | AF6: =$N6*I6 -> 0 | AG6: =$N6*J6 -> 0 | AH6: =$N6*K6 -> 0 | AK6: =AA6*N6 -> 0 | AM6: =N6*M6 -> 0 | AN6: 16 | BA6: =$N6*32 -> 0 | BG6: 21001094 | BI6: =$N6*AN6 -> 0 | BJ6: =$N6*AO6 -> 0 | BK6: =$N6*AP6 -> 0 | BL6: =$N6*AQ6 -> 0 | BM6: =$N6*AR6 -> 0 | BN6: =$N6*AS6 -> 0
A7: 10261 | B7: Echolot - XS-bolt on | C7: foot | D7: view | E7: 13 | F7: 3 | G7: 10 | M7: 85.06 | N7: =SUM(O7:Z7) -> 0 | AA7: 1.18 | AC7: =$N7*F7 -> 0 | AD7: =$N7*G7 -> 0 | AE7: =$N7*H7 -> 0 | AF7: =$N7*I7 -> 0 | AG7: =$N7*J7 -> 0 | AH7: =$N7*K7 -> 0 | AK7: =AA7*N7 -> 0 | AM7: =N7*M7 -> 0 | AN7: 13 | AT7: =$N7*9 -> 0 | AU7: =$N7*4 -> 0 | BG7: 21001095 | BI7: =$N7*AN7 -> 0 | BJ7: =$N7*AO7 -> 0 | BK7: =$N7*AP7 -> 0 | BL7: =$N7*AQ7 -> 0 | BM7: =$N7*AR7 -> 0 | BN7: =$N7*AS7 -> 0
A8: 10262 | B8: Pompeian atoms XS- round | C8: foot | D8: view | E8: 10 | F8: 10 | M8: 64.35 | N8: =SUM(O8:Z8) -> 0 | AA8: 0.83 | AC8: =$N8*F8 -> 0 | AD8: =$N8*G8 -> 0 | AE8: =$N8*H8 -> 0 | AF8: =$N8*I8 -> 0 | AG8: =$N8*J8 -> 0 | AH8: =$N8*K8 -> 0 | AK8: =AA8*N8 -> 0 | AM8: =N8*M8 -> 0 | AN8: 10 | AT8: =$N8*5 -> 0 | AU8: =$N8*5 -> 0 | BG8: 21001096 | BI8: =$N8*AN8 -> 0 | BJ8: =$N8*AO8 -> 0 | BK8: =$N8*AP8 -> 0 | BL8: =$N8*AQ8 -> 0 | BM8: =$N8*AR8 -> 0 | BN8: =$N8*AS8 -> 0
A9: 10263 | B9: Requiems and dreams-pinches XS | C9: foot | D9: view | E9: 10 | F9: 10 | M9: 45.68 | N9: =SUM(O9:Z9) -> 0 | AA9: 0.4 | AC9: =$N9*F9 -> 0 | AD9: =$N9*G9 -> 0 | AE9: =$N9*H9 -> 0 | AF9: =$N9*I9 -> 0 | AG9: =$N9*J9 -> 0 | AH9: =$N9*K9 -> 0 | AK9: =AA9*N9 -> 0 | AM9: =N9*M9 -> 0 | AN9: 10 | BA9: =$N9*20 -> 0 | BG9: 21001097 | BI9: =$N9*AN9 -> 0 | BJ9: =$N9*AO9 -> 0 | BK9: =$N9*AP9 -> 0 | BL9: =$N9*AQ9 -> 0 | BM9: =$N9*AR9 -> 0 | BN9: =$N9*AS9 -> 0
A10: 10325 | B10: Orientals- XS | C10: foot | D10: view | E10: 12 | F10: 12 | M10: 72.48 | N10: =SUM(O10:Z10) -> 0 | AA10: 1.44 | AC10: =$N10*F10 -> 0 | AD10: =$N10*G10 -> 0 | AE10: =$N10*H10 -> 0 | AF10: =$N10*I10 -> 0 | AG10: =$N10*J10 -> 0 | AH10: =$N10*K10 -> 0 | AK10: =AA10*N10 -> 0 | AM10: =N10*M10 -> 0 | AN10: 12 | AT10: =$N10*12 -> 0 | BG10: 21001227 | BI10: =$N10*AN10 -> 0 | BJ10: =$N10*AO10 -> 0 | BK10: =$N10*AP10 -> 0 | BL10: =$N10*AQ10 -> 0 | BM10: =$N10*AR10 -> 0 | BN10: =$N10*AS10 -> 0
A11: 10335 | B11: Globes - S | C11: foot holds | D11: view | E11: 10 | G11: 10 | M11: 90.81 | N11: =SUM(O11:Z11) -> 0 | AA11: 1.89 | AC11: =$N11*F11 -> 0 | AD11: =$N11*G11 -> 0 | AE11: =$N11*H11 -> 0 | AF11: =$N11*I11 -> 0 | AG11: =$N11*J11 -> 0 | AH11: =$N11*K11 -> 0 | AK11: =AA11*N11 -> 0 | AM11: =N11*M11 -> 0 | AN11: 10 | AT11: =$N11*10 -> 0 | BG11: 21001282 | BI11: =$N11*AN11 -> 0 | BJ11: =$N11*AO11 -> 0 | BK11: =$N11*AP11 -> 0 | BL11: =$N11*AQ11 -> 0 | BM11: =$N11*AR11 -> 0 | BN11: =$N11*AS11 -> 0
A12: 10264 | B12: Permits-micro edges S | C12: edges | D12: view | E12: 8 | G12: 8 | M12: 45.77 | N12: =SUM(O12:Z12) -> 0 | AA12: 0.59 | AC12: =$N12*F12 -> 0 | AD12: =$N12*G12 -> 0 | AE12: =$N12*H12 -> 0 | AF12: =$N12*I12 -> 0 | AG12: =$N12*J12 -> 0 | AH12: =$N12*K12 -> 0 | AK12: =AA12*N12 -> 0 | AM12: =N12*M12 -> 0 | AQ12: 8 | BA12: =$N12*16 -> 0 | BG12: 21001098 | BI12: =$N12*AN12 -> 0 | BJ12: =$N12*AO12 -> 0 | BK12: =$N12*AP12 -> 0 | BL12: =$N12*AQ12 -> 0 | BM12: =$N12*AR12 -> 0 | BN12: =$N12*AS12 -> 0
A13: 10265 | B13: Hermits-crimps S | C13: crimps | D13: view | E13: 6 | G13: 6 | M13: 45.32 | N13: =SUM(O13:Z13) -> 0 | AA13: 0.65 | AC13: =$N13*F13 -> 0 | AD13: =$N13*G13 -> 0 | AE13: =$N13*H13 -> 0 | AF13: =$N13*I13 -> 0 | AG13: =$N13*J13 -> 0 | AH13: =$N13*K13 -> 0 | AK13: =AA13*N13 -> 0 | AM13: =N13*M13 -> 0 | AQ13: 6 | AT13: =$N13*5 -> 0 | AU13: =$N13*1 -> 0 | BG13: 21001099 | BI13: =$N13*AN13 -> 0 | BJ13: =$N13*AO13 -> 0 | BK13: =$N13*AP13 -> 0 | BL13: =$N13*AQ13 -> 0 | BM13: =$N13*AR13 -> 0 | BN13: =$N13*AS13 -> 0
A14: 10266 | B14: Dancers in the arc-edges S | C14: edges | D14: view | E14: 10 | G14: 10 | M14: 70.03 | N14: =SUM(O14:Z14) -> 0 | AA14: 1 | AC14: =$N14*F14 -> 0 | AD14: =$N14*G14 -> 0 | AE14: =$N14*H14 -> 0 | AF14: =$N14*I14 -> 0 | AG14: =$N14*J14 -> 0 | AH14: =$N14*K14 -> 0 | AK14: =AA14*N14 -> 0 | AM14: =N14*M14 -> 0 | AQ14: 10 | AT14: =$N14*8 -> 0 | AU14: =$N14*32 -> 0 | BG14: 21001100 | BI14: =$N14*AN14 -> 0 | BJ14: =$N14*AO14 -> 0 | BK14: =$N14*AP14 -> 0 | BL14: =$N14*AQ14 -> 0 | BM14: =$N14*AR14 -> 0 | BN14: =$N14*AS14 -> 0
A15: 10267 | B15: Princes of darkness-edges S | C15: edges | D15: view | E15: 12 | G15: 12 | M15: 94.39 | N15: =SUM(O15:Z15) -> 0 | AA15: 1.59 | AC15: =$N15*F15 -> 0 | AD15: =$N15*G15 -> 0 | AE15: =$N15*H15 -> 0 | AF15: =$N15*I15 -> 0 | AG15: =$N15*J15 -> 0 | AH15: =$N15*K15 -> 0 | AK15: =AA15*N15 -> 0 | AM15: =N15*M15 -> 0 | AQ15: 12 | AT15: =$N15*7 -> 0 | AU15: =$N15*5 -> 0 | BG15: 21001101 | BI15: =$N15*AN15 -> 0 | BJ15: =$N15*AO15 -> 0 | BK15: =$N15*AP15 -> 0 | BL15: =$N15*AQ15 -> 0 | BM15: =$N15*AR15 -> 0 | BN15: =$N15*AS15 -> 0
A16: 10326 | B16: Dragonbreed - round edges S | C16: edges | D16: VIEW | E16: 10 | G16: 10 | M16: 102.87 | N16: =SUM(O16:Z16) -> 0 | AA16: 2.1 | AC16: =$N16*F16 -> 0 | AD16: =$N16*G16 -> 0 | AE16: =$N16*H16 -> 0 | AF16: =$N16*I16 -> 0 | AG16: =$N16*J16 -> 0 | AH16: =$N16*K16 -> 0 | AK16: =AA16*N16 -> 0 | AM16: =N16*M16 -> 0 | AQ16: 10 | AU16: =$N16*9 -> 0 | AV16: =$N16*1 -> 0 | BG16: 21001240 | BL16: =$N16*AQ16 -> 0
A17: 10330 | B17: Pawns - S | C17: round edges | D17: view | E17: 10 | G17: 10 | M17: 118.45 | N17: =SUM(O17:Z17) -> 0 | AA17: 2.79 | AC17: =$N17*F17 -> 0 | AD17: =$N17*G17 -> 0 | AE17: =$N17*H17 -> 0 | AF17: =$N17*I17 -> 0 | AG17: =$N17*J17 -> 0 | AH17: =$N17*K17 -> 0 | AK17: =AA17*N17 -> 0 | AM17: =N17*M17 -> 0 | AQ17: 10 | AV17: =$N17*10 -> 0 | BG17: 21001280 | BI17: =$N17*AN17 -> 0 | BJ17: =$N17*AO17 -> 0 | BK17: =$N17*AP17 -> 0 | BL17: =$N17*AQ17 -> 0 | BM17: =$N17*AR17 -> 0 | BN17: =$N17*AS17 -> 0
A18: 10268 | B18: Shadooms-edges M | C18: edges | D18: view | E18: 7 | H18: 7 | M18: 67.06 | N18: =SUM(O18:Z18) -> 0 | AA18: 1.24 | AC18: =$N18*F18 -> 0 | AD18: =$N18*G18 -> 0 | AE18: =$N18*H18 -> 0 | AF18: =$N18*I18 -> 0 | AG18: =$N18*J18 -> 0 | AH18: =$N18*K18 -> 0 | AK18: =AA18*N18 -> 0 | AM18: =N18*M18 -> 0 | AQ18: 7 | AT18: =$N18*4 -> 0 | AU18: =$N18*3 -> 0 | BG18: 21001102 | BI18: =$N18*AN18 -> 0 | BJ18: =$N18*AO18 -> 0 | BK18: =$N18*AP18 -> 0 | BL18: =$N18*AQ18 -> 0 | BM18: =$N18*AR18 -> 0 | BN18: =$N18*AS18 -> 0
A19: 10269 | B19: Prisonms-incut edges M | C19: edges | D19: view | E19: 13 | H19: 13 | M19: 136.68 | N19: =SUM(O19:Z19) -> 0 | AA19: 2.91 | AC19: =$N19*F19 -> 0 | AD19: =$N19*G19 -> 0 | AE19: =$N19*H19 -> 0 | AF19: =$N19*I19 -> 0 | AG19: =$N19*J19 -> 0 | AH19: =$N19*K19 -> 0 | AK19: =AA19*N19 -> 0 | AM19: =N19*M19 -> 0 | AQ19: 13 | AT19: =$N19*3 -> 0 | AU19: =$N19*9 -> 0 | AV19: =$N19*1 -> 0 | BG19: 21001103 | BI19: =$N19*AN19 -> 0 | BJ19: =$N19*AO19 -> 0 | BK19: =$N19*AP19 -> 0 | BL19: =$N19*AQ19 -> 0 | BM19: =$N19*AR19 -> 0 | BN19: =$N19*AS19 -> 0
A20: 10327 | B20: Dragonfruit - round edges M | C20: edges | D20: VIEW | E20: 10 | H20: 10 | M20: 139.71 | N20: =SUM(O20:Z20) -> 0 | AA20: 3.5 | AC20: =$N20*F20 -> 0 | AD20: =$N20*G20 -> 0 | AE20: =$N20*H20 -> 0 | AF20: =$N20*I20 -> 0 | AG20: =$N20*J20 -> 0 | AH20: =$N20*K20 -> 0 | AK20: =AA20*N20 -> 0 | AM20: =N20*M20 -> 0 | AQ20: 10 | AU20: =$N20*3 -> 0 | AV20: =$N20*7 -> 0 | BG20: 21001241 | BL20: =$N20*AQ20 -> 0
A21: 10331 | B21: Pawns - M | C21: positive round edges | D21: VIEW | E21: 10 | H21: 10 | M21: 164.84 | N21: =SUM(O21:Z21) -> 0 | AA21: 4.37 | AC21: =$N21*F21 -> 0 | AD21: =$N21*G21 -> 0 | AE21: =$N21*H21 -> 0 | AF21: =$N21*I21 -> 0 | AG21: =$N21*J21 -> 0 | AH21: =$N21*K21 -> 0 | AK21: =AA21*N21 -> 0 | AM21: =N21*M21 -> 0 | AQ21: 10 | AV21: =$N21*10 -> 0 | BG21: 21001281 | BI21: =$N21*AN21 -> 0 | BJ21: =$N21*AO21 -> 0 | BK21: =$N21*AP21 -> 0 | BL21: =$N21*AQ21 -> 0 | BM21: =$N21*AR21 -> 0 | BN21: =$N21*AS21 -> 0
A22: 10270 | B22: Siddpathos-multy edges M and L | C22: edges | D22: view | E22: 7 | H22: 1 | I22: 6 | M22: 115.61 | N22: =SUM(O22:Z22) -> 0 | AA22: 3.02 | AC22: =$N22*F22 -> 0 | AD22: =$N22*G22 -> 0 | AE22: =$N22*H22 -> 0 | AF22: =$N22*I22 -> 0 | AG22: =$N22*J22 -> 0 | AH22: =$N22*K22 -> 0 | AK22: =AA22*N22 -> 0 | AM22: =N22*M22 -> 0 | AQ22: 7 | AV22: =$N22*7 -> 0 | BG22: 21001104 | BI22: =$N22*AN22 -> 0 | BJ22: =$N22*AO22 -> 0 | BK22: =$N22*AP22 -> 0 | BL22: =$N22*AQ22 -> 0 | BM22: =$N22*AR22 -> 0 | BN22: =$N22*AS22 -> 0
A23: 10271 | B23: Oddyssoy-slopy crimps-mixed | C23: crimps | D23: view | E23: 8 | H23: 2 | I23: 2 | J23: 4 | M23: 186.1 | N23: =SUM(O23:Z23) -> 0 | AA23: 5.21 | AC23: =$N23*F23 -> 0 | AD23: =$N23*G23 -> 0 | AE23: =$N23*H23 -> 0 | AF23: =$N23*I23 -> 0 | AG23: =$N23*J23 -> 0 | AH23: =$N23*K23 -> 0 | AK23: =AA23*N23 -> 0 | AM23: =N23*M23 -> 0 | AQ23: 8 | AU23: =$N23*2 -> 0 | AV23: =$N23*2 -> 0 | AW23: =$N23*4 -> 0 | BG23: 21001105 | BI23: =$N23*AN23 -> 0 | BJ23: =$N23*AO23 -> 0 | BK23: =$N23*AP23 -> 0 | BL23: =$N23*AQ23 -> 0 | BM23: =$N23*AR23 -> 0 | BN23: =$N23*AS23 -> 0
A24: 10272 | B24: Narkosiskiss-slopy edges XL | C24: edges | D24: view | E24: 4 | J24: 4 | M24: 143.35 | N24: =SUM(O24:Z24) -> 0 | AA24: 4.25 | AC24: =$N24*F24 -> 0 | AD24: =$N24*G24 -> 0 | AE24: =$N24*H24 -> 0 | AF24: =$N24*I24 -> 0 | AG24: =$N24*J24 -> 0 | AH24: =$N24*K24 -> 0 | AK24: =AA24*N24 -> 0 | AM24: =N24*M24 -> 0 | AQ24: 4 | AV24: =$N24*1 -> 0 | AW24: =$N24*3 -> 0 | BG24: 21001106 | BI24: =$N24*AN24 -> 0 | BJ24: =$N24*AO24 -> 0 | BK24: =$N24*AP24 -> 0 | BL24: =$N24*AQ24 -> 0 | BM24: =$N24*AR24 -> 0 | BN24: =$N24*AS24 -> 0
A25: 11273 | B25: Magister ludi-slopy edges Mega- PU hollowback | C25: edges | D25: view | E25: 4 | K25: 4 | M25: 130.4964 | N25: =SUM(O25:Z25) -> 0 | AA25: 2.19 | AC25: =$N25*F25 -> 0 | AD25: =$N25*G25 -> 0 | AE25: =$N25*H25 -> 0 | AF25: =$N25*I25 -> 0 | AG25: =$N25*J25 -> 0 | AH25: =$N25*K25 -> 0 | AK25: =AA25*N25 -> 0 | AM25: =N25*M25 -> 0 | AQ25: 4 | BG25: 21001122 | BI25: =$N25*AN25 -> 0 | BJ25: =$N25*AO25 -> 0 | BK25: =$N25*AP25 -> 0 | BL25: =$N25*AQ25 -> 0 | BM25: =$N25*AR25 -> 0 | BN25: =$N25*AS25 -> 0
A26: 11274 | B26: Camelions child-slopy edges Mega - PU hollowback | C26: edges | D26: view | E26: 4 | K26: 4 | M26: 121.5 | N26: =SUM(O26:Z26) -> 0 | AA26: 1.93 | AC26: =$N26*F26 -> 0 | AD26: =$N26*G26 -> 0 | AE26: =$N26*H26 -> 0 | AF26: =$N26*I26 -> 0 | AG26: =$N26*J26 -> 0 | AH26: =$N26*K26 -> 0 | AK26: =AA26*N26 -> 0 | AM26: =N26*M26 -> 0 | AQ26: 4 | BG26: 21001123 | BI26: =$N26*AN26 -> 0 | BJ26: =$N26*AO26 -> 0 | BK26: =$N26*AP26 -> 0 | BL26: =$N26*AQ26 -> 0 | BM26: =$N26*AR26 -> 0 | BN26: =$N26*AS26 -> 0
A27: 10275 | B27: Eros and ion-goody edges XL Mega | C27: edges | D27: view | E27: 4 | J27: 2 | K27: 2 | M27: 132.84 | N27: =SUM(O27:Z27) -> 0 | AA27: 3.91 | AC27: =$N27*F27 -> 0 | AD27: =$N27*G27 -> 0 | AE27: =$N27*H27 -> 0 | AF27: =$N27*I27 -> 0 | AG27: =$N27*J27 -> 0 | AH27: =$N27*K27 -> 0 | AK27: =AA27*N27 -> 0 | AM27: =N27*M27 -> 0 | AQ27: 4 | AV27: =$N27*3 -> 0 | AW27: =$N27*1 -> 0 | BG27: 21001107 | BI27: =$N27*AN27 -> 0 | BJ27: =$N27*AO27 -> 0 | BK27: =$N27*AP27 -> 0 | BL27: =$N27*AQ27 -> 0 | BM27: =$N27*AR27 -> 0 | BN27: =$N27*AS27 -> 0
A28: 10276 | B28: Pressence-pinches M | C28: pinches | D28: view | E28: 7 | H28: 7 | M28: 67.39 | N28: =SUM(O28:Z28) -> 0 | AA28: 1.26 | AC28: =$N28*F28 -> 0 | AD28: =$N28*G28 -> 0 | AE28: =$N28*H28 -> 0 | AF28: =$N28*I28 -> 0 | AG28: =$N28*J28 -> 0 | AH28: =$N28*K28 -> 0 | AK28: =AA28*N28 -> 0 | AM28: =N28*M28 -> 0 | AR28: 7 | AT28: =$N28*3 -> 0 | AU28: =$N28*4 -> 0 | BG28: 21001108 | BI28: =$N28*AN28 -> 0 | BJ28: =$N28*AO28 -> 0 | BK28: =$N28*AP28 -> 0 | BL28: =$N28*AQ28 -> 0 | BM28: =$N28*AR28 -> 0 | BN28: =$N28*AS28 -> 0
A29: 10277 | B29: Fluturs-Pinches L | C29: pinches | D29: view | E29: 7 | I29: 7 | M29: 116.29 | N29: =SUM(O29:Z29) -> 0 | AA29: 2.89 | AC29: =$N29*F29 -> 0 | AD29: =$N29*G29 -> 0 | AE29: =$N29*H29 -> 0 | AF29: =$N29*I29 -> 0 | AG29: =$N29*J29 -> 0 | AH29: =$N29*K29 -> 0 | AK29: =AA29*N29 -> 0 | AM29: =N29*M29 -> 0 | AR29: 7 | AU29: =$N29*2 -> 0 | AV29: =$N29*5 -> 0 | BG29: 21001109 | BI29: =$N29*AN29 -> 0 | BJ29: =$N29*AO29 -> 0 | BK29: =$N29*AP29 -> 0 | BL29: =$N29*AQ29 -> 0 | BM29: =$N29*AR29 -> 0 | BN29: =$N29*AS29 -> 0
A30: 10278 | B30: Organtics-Pinches XL | C30: pinches | D30: view | E30: 3 | J30: 3 | M30: 99.26 | N30: =SUM(O30:Z30) -> 0 | AA30: 2.92 | AC30: =$N30*F30 -> 0 | AD30: =$N30*G30 -> 0 | AE30: =$N30*H30 -> 0 | AF30: =$N30*I30 -> 0 | AG30: =$N30*J30 -> 0 | AH30: =$N30*K30 -> 0 | AK30: =AA30*N30 -> 0 | AM30: =N30*M30 -> 0 | AR30: 3 | AV30: =$N30*1 -> 0 | AW30: =$N30*2 -> 0 | BG30: 21001110 | BI30: =$N30*AN30 -> 0 | BJ30: =$N30*AO30 -> 0 | BK30: =$N30*AP30 -> 0 | BL30: =$N30*AQ30 -> 0 | BM30: =$N30*AR30 -> 0 | BN30: =$N30*AS30 -> 0
A31: 11279 | B31: Falcon eagle and snake Pinches Mega- PU hollowback | C31: pinches | D31: view | E31: 3 | K31: 3 | M31: 110.7 | N31: =SUM(O31:Z31) -> 0 | AA31: 1.9 | AC31: =$N31*F31 -> 0 | AD31: =$N31*G31 -> 0 | AE31: =$N31*H31 -> 0 | AF31: =$N31*I31 -> 0 | AG31: =$N31*J31 -> 0 | AH31: =$N31*K31 -> 0 | AK31: =AA31*N31 -> 0 | AM31: =N31*M31 -> 0 | AR31: 3 | BG31: 21001124 | BI31: =$N31*AN31 -> 0 | BJ31: =$N31*AO31 -> 0 | BK31: =$N31*AP31 -> 0 | BL31: =$N31*AQ31 -> 0 | BM31: =$N31*AR31 -> 0 | BN31: =$N31*AS31 -> 0
A32: 10336 | B32: Мicroscopics - M | C32: mini jugs | D32: view | E32: 10 | H32: 10 | M32: 101.1 | N32: =SUM(O32:Z32) -> 0 | AA32: 2.22 | AC32: =$N32*F32 -> 0 | AD32: =$N32*G32 -> 0 | AE32: =$N32*H32 -> 0 | AF32: =$N32*I32 -> 0 | AG32: =$N32*J32 -> 0 | AH32: =$N32*K32 -> 0 | AK32: =AA32*N32 -> 0 | AM32: =N32*M32 -> 0 | AO32: 10 | AT32: =$N32*1 -> 0 | AU32: =$N32*9 -> 0 | BG32: 21001283 | BI32: =$N32*AN32 -> 0 | BJ32: =$N32*AO32 -> 0 | BK32: =$N32*AP32 -> 0 | BL32: =$N32*AQ32 -> 0 | BM32: =$N32*AR32 -> 0 | BN32: =$N32*AS32 -> 0
A33: 10280 | B33: Qnightship-jugs M | C33: jugs | D33: view | E33: 12 | H33: 12 | M33: 178.42 | N33: =SUM(O33:Z33) -> 0 | AA33: 4.53 | AC33: =$N33*F33 -> 0 | AD33: =$N33*G33 -> 0 | AE33: =$N33*H33 -> 0 | AF33: =$N33*I33 -> 0 | AG33: =$N33*J33 -> 0 | AH33: =$N33*K33 -> 0 | AK33: =AA33*N33 -> 0 | AM33: =N33*M33 -> 0 | AO33: 12 | AV33: =$N33*5 -> 0 | AW33: =$N33*7 -> 0 | BG33: 21001111 | BI33: =$N33*AN33 -> 0 | BJ33: =$N33*AO33 -> 0 | BK33: =$N33*AP33 -> 0 | BL33: =$N33*AQ33 -> 0 | BM33: =$N33*AR33 -> 0 | BN33: =$N33*AS33 -> 0
A34: 10281 | B34: Elder brothers-Jugs L | C34: jugs | D34: view | E34: 7 | I34: 7 | M34: 153.68 | N34: =SUM(O34:Z34) -> 0 | AA34: 4.26 | AC34: =$N34*F34 -> 0 | AD34: =$N34*G34 -> 0 | AE34: =$N34*H34 -> 0 | AF34: =$N34*I34 -> 0 | AG34: =$N34*J34 -> 0 | AH34: =$N34*K34 -> 0 | AK34: =AA34*N34 -> 0 | AM34: =N34*M34 -> 0 | AO34: 7 | AU34: =$N34*1 -> 0 | AV34: =$N34*6 -> 0 | BG34: 21001112 | BI34: =$N34*AN34 -> 0 | BJ34: =$N34*AO34 -> 0 | BK34: =$N34*AP34 -> 0 | BL34: =$N34*AQ34 -> 0 | BM34: =$N34*AR34 -> 0 | BN34: =$N34*AS34 -> 0
A35: 10282 | B35: Ervulotion-Jugs XL | C35: jugs | D35: view | E35: 4 | J35: 4 | M35: 132.74 | N35: =SUM(O35:Z35) -> 0 | AA35: 3.9 | AC35: =$N35*F35 -> 0 | AD35: =$N35*G35 -> 0 | AE35: =$N35*H35 -> 0 | AF35: =$N35*I35 -> 0 | AG35: =$N35*J35 -> 0 | AH35: =$N35*K35 -> 0 | AK35: =AA35*N35 -> 0 | AM35: =N35*M35 -> 0 | AO35: 4 | AV35: =$N35*4 -> 0 | BG35: 21001113 | BI35: =$N35*AN35 -> 0 | BJ35: =$N35*AO35 -> 0 | BK35: =$N35*AP35 -> 0 | BL35: =$N35*AQ35 -> 0 | BM35: =$N35*AR35 -> 0 | BN35: =$N35*AS35 -> 0
A36: 10283 | B36: Monast-airy-Jugs Mega | C36: jugs | D36: view | E36: 5 | K36: 5 | M36: 186.26 | N36: =SUM(O36:Z36) -> 0 | AA36: 5.33 | AC36: =$N36*F36 -> 0 | AD36: =$N36*G36 -> 0 | AE36: =$N36*H36 -> 0 | AF36: =$N36*I36 -> 0 | AG36: =$N36*J36 -> 0 | AH36: =$N36*K36 -> 0 | AK36: =AA36*N36 -> 0 | AM36: =N36*M36 -> 0 | AO36: 5 | AV36: =$N36*5 -> 0 | BG36: 21001114 | BI36: =$N36*AN36 -> 0 | BJ36: =$N36*AO36 -> 0 | BK36: =$N36*AP36 -> 0 | BL36: =$N36*AQ36 -> 0 | BM36: =$N36*AR36 -> 0 | BN36: =$N36*AS36 -> 0
A37: 12284 | B37: Quarks for muster mark-pockets mixed-PU | C37: pockets | D37: view | E37: 6 | H37: 1 | I37: 3 | J37: 2 | M37: 158.52 | N37: =SUM(O37:Z37) -> 0 | AA37: 2.66 | AC37: =$N37*F37 -> 0 | AD37: =$N37*G37 -> 0 | AE37: =$N37*H37 -> 0 | AF37: =$N37*I37 -> 0 | AG37: =$N37*J37 -> 0 | AH37: =$N37*K37 -> 0 | AK37: =AA37*N37 -> 0 | AM37: =N37*M37 -> 0 | AP37: 6 | AU37: =$N37*1 -> 0 | AV37: =$N37*5 -> 0 | BG37: 21001150 | BI37: =$N37*AN37 -> 0 | BJ37: =$N37*AO37 -> 0 | BK37: =$N37*AP37 -> 0 | BL37: =$N37*AQ37 -> 0 | BM37: =$N37*AR37 -> 0 | BN37: =$N37*AS37 -> 0
A38: 11285 | B38: Stigmatata - PU - hollowback | C38: Pockets mega | D38: VIEW | E38: 2 | K38: 2 | M38: 114.2964 | N38: =SUM(O38:Z38) -> 0 | AA38: 1.84 | AC38: =$N38*F38 -> 0 | AD38: =$N38*G38 -> 0 | AE38: =$N38*H38 -> 0 | AF38: =$N38*I38 -> 0 | AG38: =$N38*J38 -> 0 | AH38: =$N38*K38 -> 0 | AI38: =$N38*L38 -> 0 | AK38: =AA38*N38 -> 0 | AM38: =N38*M38 -> 0 | AP38: 2 | AW38: =$N38*2 -> 0 | BG38: 21001218 | BK38: =$N38*AP38 -> 0
A39: 11286 | B39: Scaramour 1 - PU- hollowback | C39: Pocket volume | D39: VIEW | E39: 1 | L39: 1 | M39: 99.0036 | N39: =SUM(O39:Z39) -> 0 | AA39: 1.75 | AI39: =$N39*L39 -> 0 | AK39: =AA39*N39 -> 0 | AM39: =N39*M39 -> 0 | AP39: 1 | AZ39: =$N39*1 -> 0 | BG39: 21001219 | BK39: =$N39*AP39 -> 0
A40: 11287 | B40: Scaramour 2 - PU- hollowback | C40: Pocket volume | D40: VIEW | E40: 1 | L40: 1 | M40: 138.5964 | N40: =SUM(O40:Z40) -> 0 | AA40: 2.5 | AI40: =$N40*L40 -> 0 | AK40: =AA40*N40 -> 0 | AM40: =N40*M40 -> 0 | AP40: 1 | AY40: =$N40*1 -> 0 | BG40: 21001220 | BK40: =$N40*AP40 -> 0
...

Sheet HRT polyester
B1: Polyester | F1: Holds Size | M1: Please Choose Colors for the Sets | V1: Colors for Indoor Use only | AC1: Holds' Size | AM1: Holds' Type | AS1: 40 | AT1: 50 | AU1: 70 | AV1: 90 | AW1: 100 | AX1: 120 | AY1: SCR | AZ1: CH | BF1: Holds' Type
A2: Reff. No. | C2: Grip type | D2: View set picture | E2: pcs of holds in the set | F2: XS | G2: S | H2: M | I2: L | J2: XL | K2: Mega | L2: Price in EUR | M2: Set # | N2: White (1) | O2: Yellow (2) | P2: Green (4) | Q2: Red (5) | R2: Orange (6) | S2: Blue (7) | T2: Grey (9) | U2: Black (10) | V2: Violet/ lilac (16) | W2: Fluoro orange (11) | X2: Fluoro green (12) | Y2: Fluoro pink (13) | Z2: Fluoro yellow (14) | AA2: Weight (kg.) | AB2: Volume | AC2: XS | AD2: S | AE2: M | AF2: L | AG2: Xl | AH2: Mega | AJ2: Total weight (kg) | AK2: Total volume | AL2: Total Amount | AM2: foot | AN2: jugs | AO2: pockets | AP2: edges | AQ2: pinches | AR2: slopers | AS2: Bolts for the Sets | BB2: » | BC2: « | BD2: SAP ID | BF2: foot | BG2: jugs | BH2: pockets | BI2: edges | BJ2: pinches | BK2: slopers
N3: view | O3: view | P3: view | Q3: view | R3: view | S3: view | T3: view | U3: view | V3: view | W3: view | X3: view | Y3: view | Z3: view | AS3: 40 | AT3: 50 | AU3: 70 | AV3: 90 | AW3: 100 | AX3: 120 | AY3: SCR | AZ3: CH
B4: DESIGNER SETS | N4: =SUMPRODUCT($E$5:$E$100,N5:N100) -> 0 | O4: =SUMPRODUCT($E$5:$E$100,O5:O100) -> 0 | P4: =SUMPRODUCT($E$5:$E$100,P5:P100) -> 0 | Q4: =SUMPRODUCT($E$5:$E$100,Q5:Q100) -> 0 | R4: =SUMPRODUCT($E$5:$E$100,R5:R100) -> 0 | S4: =SUMPRODUCT($E$5:$E$100,S5:S100) -> 0 | T4: =SUMPRODUCT($E$5:$E$100,T5:T100) -> 0 | U4: =SUMPRODUCT($E$5:$E$100,U5:U100) -> 0 | ... Z4: =SUMPRODUCT($E$5:$E$100,Z5:Z100) -> 0
A5: 10001 | B5: SCREWONS – XS | C5: foot | D5: view | E5: =SUM(F5:K5) -> 40 | F5: 40 | L5: 77.4 | M5: =SUM(N5:Z5) -> 0 | AA5: 1.959 | AB5: 1.005 | AC5: =$M5*F5 -> 0 | AD5: =$M5*G5 -> 0 | AE5: =$M5*H5 -> 0 | AF5: =$M5*I5 -> 0 | AG5: =$M5*J5 -> 0 | AH5: =$M5*K5 -> 0 | AJ5: ='[1]HRT polyester'!AA5*'[1]HRT polyester'!M5 -> 0 | AK5: =AB5*M5 -> 0 | AL5: =M5*L5 -> 0 | AM5: 40 | AY5: =$M5*80 -> 0 | BD5: 21000038 | BF5: =$M5*AM5 -> 0 | BG5: =$M5*AN5 -> 0 | BH5: =$M5*AO5 -> 0 | BI5: =$M5*AP5 -> 0 | BJ5: =$M5*AQ5 -> 0 | BK5: =$M5*AR5 -> 0
A6: 10003 | B6: ELEMENTS | C6: jugs | D6: view | E6: =SUM(F6:K6) -> 12 | H6: 9 | I6: 3 | L6: 100.7964 | M6: =SUM(N6:Z6) -> 0 | AA6: 6.412 | AB6: 3.249 | AC6: =$M6*F6 -> 0 | AD6: =$M6*G6 -> 0 | AE6: =$M6*H6 -> 0 | AF6: =$M6*I6 -> 0 | AG6: =$M6*J6 -> 0 | AH6: =$M6*K6 -> 0 | AJ6: ='[1]HRT polyester'!AA7*'[1]HRT polyester'!M7 -> 0 | AK6: =AB6*M6 -> 0 | AL6: =M6*L6 -> 0 | AN6: 12 | AS6: =$M6*1 -> 0 | AT6: =$M6*10 -> 0 | AU6: =$M6*1 -> 0 | BD6: 21000040 | BF6: =$M6*AM6 -> 0 | BG6: =$M6*AN6 -> 0 | BH6: =$M6*AO6 -> 0 | BI6: =$M6*AP6 -> 0 | BJ6: =$M6*AQ6 -> 0 | BK6: =$M6*AR6 -> 0
A7: 10004 | B7: FRESCO 1 | C7: Edges | D7: view | E7: =SUM(F7:K7) -> 11 | H7: 8 | I7: 1 | J7: 1 | K7: 1 | L7: 132.3 | M7: =SUM(N7:Z7) -> 0 | AA7: 8.953 | AB7: 4.63 | AC7: =$M7*F7 -> 0 | AD7: =$M7*G7 -> 0 | AE7: =$M7*H7 -> 0 | AF7: =$M7*I7 -> 0 | AG7: =$M7*J7 -> 0 | AH7: =$M7*K7 -> 0 | AJ7: ='[1]HRT polyester'!AA8*'[1]HRT polyester'!M8 -> 0 | AK7: =AB7*M7 -> 0 | AL7: =M7*L7 -> 0 | AP7: 11 | AS7: =$M7*1 -> 0 | AT7: =$M7*10 -> 0 | BD7: 21000041 | BF7: =$M7*AM7 -> 0 | BG7: =$M7*AN7 -> 0 | BH7: =$M7*AO7 -> 0 | BI7: =$M7*AP7 -> 0 | BJ7: =$M7*AQ7 -> 0 | BK7: =$M7*AR7 -> 0
A8: 10005 | B8: FRESCO 2 | C8: edges, jugs | D8: view | E8: =SUM(F8:K8) -> 9 | H8: 3 | I8: 5 | J8: 1 | L8: 110.7 | M8: =SUM(N8:Z8) -> 0 | AA8: 7.678 | AB8: 3.937 | AC8: =$M8*F8 -> 0 | AD8: =$M8*G8 -> 0 | AE8: =$M8*H8 -> 0 | AF8: =$M8*I8 -> 0 | AG8: =$M8*J8 -> 0 | AH8: =$M8*K8 -> 0 | AJ8: ='[1]HRT polyester'!AA9*'[1]HRT polyester'!M9 -> 0 | AK8: =AB8*M8 -> 0 | AL8: =M8*L8 -> 0 | AN8: 4 | AP8: 5 | AS8: =$M8*1 -> 0 | AT8: =$M8*8 -> 0 | BD8: 21000042 | BF8: =$M8*AM8 -> 0 | BG8: =$M8*AN8 -> 0 | BH8: =$M8*AO8 -> 0 | BI8: =$M8*AP8 -> 0 | BJ8: =$M8*AQ8 -> 0 | BK8: =$M8*AR8 -> 0
A9: 10006 | B9: FRESCO 3 | C9: edges / jugs | D9: view | E9: =SUM(F9:K9) -> 8 | I9: 2 | J9: 5 | K9: 1 | L9: 126.9 | M9: =SUM(N9:Z9) -> 0 | AA9: 9.008 | AB9: 4.66 | AC9: =$M9*F9 -> 0 | AD9: =$M9*G9 -> 0 | AE9: =$M9*H9 -> 0 | AF9: =$M9*I9 -> 0 | AG9: =$M9*J9 -> 0 | AH9: =$M9*K9 -> 0 | AJ9: ='[1]HRT polyester'!AA10*'[1]HRT polyester'!M10 -> 0 | AK9: =AB9*M9 -> 0 | AL9: =M9*L9 -> 0 | AN9: 2 | AP9: 6 | AT9: =$M9*8 -> 0 | BD9: 21000043 | BF9: =$M9*AM9 -> 0 | BG9: =$M9*AN9 -> 0 | BH9: =$M9*AO9 -> 0 | BI9: =$M9*AP9 -> 0 | BJ9: =$M9*AQ9 -> 0 | BK9: =$M9*AR9 -> 0
A10: 10008 | B10: SURF UP | C10: Edges | D10: view | E10: =SUM(F10:K10) -> 10 | J10: 5 | K10: 5 | L10: 225 | M10: =SUM(N10:Z10) -> 0 | AA10: 16.264 | AB10: 8.46 | AC10: =$M10*F10 -> 0 | AD10: =$M10*G10 -> 0 | AE10: =$M10*H10 -> 0 | AF10: =$M10*I10 -> 0 | AG10: =$M10*J10 -> 0 | AH10: =$M10*K10 -> 0 | AJ10: ='[1]HRT polyester'!AA12*'[1]HRT polyester'!M12 -> 0 | AK10: =AB10*M10 -> 0 | AL10: =M10*L10 -> 0 | AP10: 10 | AT10: =$M10*7 -> 0 | AU10: =$M10*3 -> 0 | BD10: 21000045 | BF10: =$M10*AM10 -> 0 | BG10: =$M10*AN10 -> 0 | BH10: =$M10*AO10 -> 0 | BI10: =$M10*AP10 -> 0 | BJ10: =$M10*AQ10 -> 0 | BK10: =$M10*AR10 -> 0
A11: 10011 | B11: SEA WORLD | C11: mixed grips | D11: view | E11: =SUM(F11:K11) -> 12 | H11: 4 | I11: 6 | J11: 2 | L11: 150.3036 | M11: =SUM(N11:Z11) -> 0 | AA11: 10.265 | AB11: 5.343 | AC11: =$M11*F11 -> 0 | AD11: =$M11*G11 -> 0 | AE11: =$M11*H11 -> 0 | AF11: =$M11*I11 -> 0 | AG11: =$M11*J11 -> 0 | AH11: =$M11*K11 -> 0 | AJ11: ='[1]HRT polyester'!AA14*'[1]HRT polyester'!M14 -> 0 | AK11: =AB11*M11 -> 0 | AL11: =M11*L11 -> 0 | AN11: 4 | AP11: 4 | AQ11: 4 | AS11: =$M11*4 -> 0 | AT11: =$M11*5 -> 0 | AU11: =$M11*2 -> 0 | AV11: =$M11*1 -> 0 | BD11: 21000048 | BF11: =$M11*AM11 -> 0 | BG11: =$M11*AN11 -> 0 | BH11: =$M11*AO11 -> 0 | BI11: =$M11*AP11 -> 0 | BJ11: =$M11*AQ11 -> 0 | BK11: =$M11*AR11 -> 0
A12: 10012 | B12: JUNGLE | C12: mixed grips | D12: view | E12: =SUM(F12:K12) -> 13 | H12: 9 | I12: 2 | J12: 2 | L12: 169.2 | M12: =SUM(N12:Z12) -> 0 | AA12: 11.498 | AB12: 6.013 | AC12: =$M12*F12 -> 0 | AD12: =$M12*G12 -> 0 | AE12: =$M12*H12 -> 0 | AF12: =$M12*I12 -> 0 | AG12: =$M12*J12 -> 0 | AH12: =$M12*K12 -> 0 | AJ12: ='[1]HRT polyester'!AA15*'[1]HRT polyester'!M15 -> 0 | AK12: =AB12*M12 -> 0 | AL12: =M12*L12 -> 0 | AN12: 4 | AP12: 5 | AQ12: 4 | AS12: =$M12*3 -> 0 | AT12: =$M12*5 -> 0 | AU12: =$M12*3 -> 0 | AV12: =$M12*2 -> 0 | BD12: 21000049 | BF12: =$M12*AM12 -> 0 | BG12: =$M12*AN12 -> 0 | BH12: =$M12*AO12 -> 0 | BI12: =$M12*AP12 -> 0 | BJ12: =$M12*AQ12 -> 0 | BK12: =$M12*AR12 -> 0
A13: 10015 | B13: PLEASUREMAX | C13: sloper, jugs | D13: view | E13: =SUM(F13:K13) -> 12 | H13: 5 | I13: 2 | J13: 5 | L13: 238.4964 | M13: =SUM(N13:Z13) -> 0 | AA13: 17.331 | AB13: 9.066 | AC13: =$M13*F13 -> 0 | AD13: =$M13*G13 -> 0 | AE13: =$M13*H13 -> 0 | AF13: =$M13*I13 -> 0 | AG13: =$M13*J13 -> 0 | AH13: =$M13*K13 -> 0 | AJ13: ='[1]HRT polyester'!AA18*'[1]HRT polyester'!M18 -> 0 | AK13: =AB13*M13 -> 0 | AL13: =M13*L13 -> 0 | AN13: 7 | AR13: 5 | AS13: =$M13*1 -> 0 | AT13: =$M13*6 -> 0 | AV13: =$M13*5 -> 0 | BD13: 21000052 | BF13: =$M13*AM13 -> 0 | BG13: =$M13*AN13 -> 0 | BH13: =$M13*AO13 -> 0 | BI13: =$M13*AP13 -> 0 | BJ13: =$M13*AQ13 -> 0 | BK13: =$M13*AR13 -> 0
A14: 10016 | B14: URBAN | C14: pinches, edges | D14: view | E14: =SUM(F14:K14) -> 10 | H14: 2 | I14: 8 | L14: 144.9 | M14: =SUM(N14:Z14) -> 0 | AA14: 10.103 | AB14: 5.255 | AC14: =$M14*F14 -> 0 | AD14: =$M14*G14 -> 0 | AE14: =$M14*H14 -> 0 | AF14: =$M14*I14 -> 0 | AG14: =$M14*J14 -> 0 | AH14: =$M14*K14 -> 0 | AJ14: ='[1]HRT polyester'!AA19*'[1]HRT polyester'!M19 -> 0 | AK14: =AB14*M14 -> 0 | AL14: =M14*L14 -> 0 | AP14: 4 | AQ14: 5 | AR14: 1 | AS14: =$M14*1 -> 0 | AT14: =$M14*4 -> 0 | AU14: =$M14*4 -> 0 | AV14: =$M14*1 -> 0 | BD14: 21000053 | BF14: =$M14*AM14 -> 0 | BG14: =$M14*AN14 -> 0 | BH14: =$M14*AO14 -> 0 | BI14: =$M14*AP14 -> 0 | BJ14: =$M14*AQ14 -> 0 | BK14: =$M14*AR14 -> 0
A15: 10018 | B15: BRANIACS | C15: Slopers | D15: view | E15: =SUM(F15:K15) -> 3 | K15: 3 | L15: 160.2 | M15: =SUM(N15:Z15) -> 0 | AA15: 9.064 | AB15: 4.69 | AC15: =$M15*F15 -> 0 | AD15: =$M15*G15 -> 0 | AE15: =$M15*H15 -> 0 | AF15: =$M15*I15 -> 0 | AG15: =$M15*J15 -> 0 | AH15: =$M15*K15 -> 0 | AJ15: ='[1]HRT polyester'!AA21*'[1]HRT polyester'!M21 -> 0 | AK15: =AB15*M15 -> 0 | AL15: =M15*L15 -> 0 | AR15: 3 | AW15: =$M15*3 -> 0 | BD15: 21000055 | BF15: =$M15*AM15 -> 0 | BG15: =$M15*AN15 -> 0 | BH15: =$M15*AO15 -> 0 | BI15: =$M15*AP15 -> 0 | BJ15: =$M15*AQ15 -> 0 | BK15: =$M15*AR15 -> 0
A16: 10019 | B16: FONT | C16: Slopers | D16: view | E16: =SUM(F16:K16) -> 8 | H16: 3 | I16: 3 | J16: 1 | K16: 1 | L16: 182.7 | M16: =SUM(N16:Z16) -> 0 | AA16: 13.262 | AB16: 6.972 | AC16: =$M16*F16 -> 0 | AD16: =$M16*G16 -> 0 | AE16: =$M16*H16 -> 0 | AF16: =$M16*I16 -> 0 | AG16: =$M16*J16 -> 0 | AH16: =$M16*K16 -> 0 | AJ16: ='[1]HRT polyester'!AA22*'[1]HRT polyester'!M22 -> 0 | AK16: =AB16*M16 -> 0 | AL16: =M16*L16 -> 0 | AR16: 8 | AS16: =$M16*1 -> 0 | AT16: =$M16*2 -> 0 | AU16: =$M16*3 -> 0 | BD16: 21000056 | BF16: =$M16*AM16 -> 0 | BG16: =$M16*AN16 -> 0 | BH16: =$M16*AO16 -> 0 | BI16: =$M16*AP16 -> 0 | BJ16: =$M16*AQ16 -> 0 | BK16: =$M16*AR16 -> 0
A17: 10024 | B17: GROOVY | C17: pinches, jugs | D17: view | E17: =SUM(F17:K17) -> 9 | H17: 4 | I17: 1 | J17: 4 | L17: 147.6 | M17: =SUM(N17:Z17) -> 0 | AA17: 10.536 | AB17: 5.49 | AC17: =$M17*F17 -> 0 | AD17: =$M17*G17 -> 0 | AE17: =$M17*H17 -> 0 | AF17: =$M17*I17 -> 0 | AG17: =$M17*J17 -> 0 | AH17: =$M17*K17 -> 0 | AJ17: ='[1]HRT polyester'!AA26*'[1]HRT polyester'!M26 -> 0 | AK17: =AB17*M17 -> 0 | AL17: =M17*L17 -> 0 | AN17: 5 | AQ17: 4 | AS17: =$M17*2 -> 0 | AT17: =$M17*7 -> 0 | BD17: 21000060 | BF17: =$M17*AM17 -> 0 | BG17: =$M17*AN17 -> 0 | BH17: =$M17*AO17 -> 0 | BI17: =$M17*AP17 -> 0 | BJ17: =$M17*AQ17 -> 0 | BK17: =$M17*AR17 -> 0
A18: 10028 | B18: SANDSTONE | C18: mixed | D18: view | E18: =SUM(F18:K18) -> 10 | H18: 4 | I18: 1 | J18: 3 | K18: 2 | L18: 223.2036 | M18: =SUM(N18:Z18) -> 0 | AA18: 16.283 | AB18: 8.496 | AC18: =$M18*F18 -> 0 | AD18: =$M18*G18 -> 0 | AE18: =$M18*H18 -> 0 | AF18: =$M18*I18 -> 0 | AG18: =$M18*J18 -> 0 | AH18: =$M18*K18 -> 0 | AJ18: ='[1]HRT polyester'!AA30*'[1]HRT polyester'!M30 -> 0 | AK18: =AB18*M18 -> 0 | AL18: =M18*L18 -> 0 | AN18: 3 | AP18: 4 | AR18: 3 | AT18: =$M18*4 -> 0 | AU18: =$M18*1 -> 0 | AV18: =$M18*4 -> 0 | AW18: =$M18*1 -> 0 | BC18: tova e poslednoto | BD18: 21000064 | BF18: =$M18*AM18 -> 0 | BG18: =$M18*AN18 -> 0 | BH18: =$M18*AO18 -> 0 | BI18: =$M18*AP18 -> 0 | BJ18: =$M18*AQ18 -> 0 | BK18: =$M18*AR18 -> 0
A19: 10031 | B19: BULGES | C19: jugs | D19: view | E19: =SUM(F19:K19) -> 9 | H19: 1 | I19: 6 | J19: 2 | L19: 178.2 | M19: =SUM(N19:Z19) -> 0 | AA19: 13.05 | AB19: 6.739 | AC19: =$M19*F19 -> 0 | AD19: =$M19*G19 -> 0 | AE19: =$M19*H19 -> 0 | AF19: =$M19*I19 -> 0 | AG19: =$M19*J19 -> 0 | AH19: =$M19*K19 -> 0 | AJ19: ='[1]HRT polyester'!AA32*'[1]HRT polyester'!M32 -> 0 | AK19: =AB19*M19 -> 0 | AL19: =M19*L19 -> 0 | AN19: 9 | AS19: =$M19*1 -> 0 | AT19: =$M19*4 -> 0 | AU19: =$M19*1 -> 0 | AV19: =$M19*3 -> 0 | BD19: 21000066 | BF19: =$M19*AM19 -> 0 | BG19: =$M19*AN19 -> 0 | BH19: =$M19*AO19 -> 0 | BI19: =$M19*AP19 -> 0 | BJ19: =$M19*AQ19 -> 0 | BK19: =$M19*AR19 -> 0
A20: 10032 | B20: NEOPLASMA | C20: Slopers, jugs | D20: view | E20: =SUM(F20:K20) -> 7 | I20: 5 | J20: 2 | L20: 177.3036 | M20: =SUM(N20:Z20) -> 0 | AA20: 10.891 | AB20: 5.566 | AC20: =$M20*F20 -> 0 | AD20: =$M20*G20 -> 0 | AE20: =$M20*H20 -> 0 | AF20: =$M20*I20 -> 0 | AG20: =$M20*J20 -> 0 | AH20: =$M20*K20 -> 0 | AJ20: ='[1]HRT polyester'!AA33*'[1]HRT polyester'!M33 -> 0 | AK20: =AB20*M20 -> 0 | AL20: =M20*L20 -> 0 | AN20: 2 | AR20: 5 | AT20: =$M20*4 -> 0 | AU20: =$M20*1 -> 0 | AV20: =$M20*2 -> 0 | BD20: 21000067 | BF20: =$M20*AM20 -> 0 | BG20: =$M20*AN20 -> 0 | BH20: =$M20*AO20 -> 0 | BI20: =$M20*AP20 -> 0 | BJ20: =$M20*AQ20 -> 0 | BK20: =$M20*AR20 -> 0
A21: 10034 | B21: MALUMA | C21: pinches | D21: view | E21: =SUM(F21:K21) -> 9 | H21: 2 | I21: 4 | J21: 3 | L21: 179.0964 | M21: =SUM(N21:Z21) -> 0 | AA21: 13.202 | AB21: 6.822 | AC21: =$M21*F21 -> 0 | AD21: =$M21*G21 -> 0 | AE21: =$M21*H21 -> 0 | AF21: =$M21*I21 -> 0 | AG21: =$M21*J21 -> 0 | AH21: =$M21*K21 -> 0 | AJ21: ='[1]HRT polyester'!AA35*'[1]HRT polyester'!M35 -> 0 | AK21: =AB21*M21 -> 0 | AL21: =M21*L21 -> 0 | AQ21: 9 | AT21: =$M21*6 -> 0 | AU21: =$M21*3 -> 0 | BD21: 21000069 | BF21: =$M21*AM21 -> 0 | BG21: =$M21*AN21 -> 0 | BH21: =$M21*AO21 -> 0 | BI21: =$M21*AP21 -> 0 | BJ21: =$M21*AQ21 -> 0 | BK21: =$M21*AR21 -> 0
A22: 10035 | B22: JUG-A-LOT | C22: jugs | D22: view | E22: =SUM(F22:K22) -> 11 | H22: 2 | I22: 6 | J22: 3 | L22: 221.4 | M22: =SUM(N22:Z22) -> 0 | AA22: 16.209 | AB22: 8.456 | AC22: =$M22*F22 -> 0 | AD22: =$M22*G22 -> 0 | AE22: =$M22*H22 -> 0 | AF22: =$M22*I22 -> 0 | AG22: =$M22*J22 -> 0 | AH22: =$M22*K22 -> 0 | AJ22: ='[1]HRT polyester'!AA36*'[1]HRT polyester'!M36 -> 0 | AK22: =AB22*M22 -> 0 | AL22: =M22*L22 -> 0 | AN22: 11 | AS22: =$M22*2 -> 0 | AT22: =$M22*7 -> 0 | AU22: =$M22*1 -> 0 | AV22: =$M22*1 -> 0 | BD22: 21000070 | BF22: =$M22*AM22 -> 0 | BG22: =$M22*AN22 -> 0 | BH22: =$M22*AO22 -> 0 | BI22: =$M22*AP22 -> 0 | BJ22: =$M22*AQ22 -> 0 | BK22: =$M22*AR22 -> 0
A23: 10036 | B23: CRESCENT | C23: jugs | D23: view | E23: =SUM(F23:K23) -> 10 | I23: 7 | J23: 3 | L23: 206.0964 | M23: =SUM(N23:Z23) -> 0 | AA23: 15.109 | AB23: 7.858 | AC23: =$M23*F23 -> 0 | AD23: =$M23*G23 -> 0 | AE23: =$M23*H23 -> 0 | AF23: =$M23*I23 -> 0 | AG23: =$M23*J23 -> 0 | AH23: =$M23*K23 -> 0 | AJ23: ='[1]HRT polyester'!AA37*'[1]HRT polyester'!M37 -> 0 | AK23: =AB23*M23 -> 0 | AL23: =M23*L23 -> 0 | AN23: 10 | AT23: =$M23*3 -> 0 | AU23: =$M23*5 -> 0 | AV23: =$M23*2 -> 0 | BD23: 21000071 | BF23: =$M23*AM23 -> 0 | BG23: =$M23*AN23 -> 0 | BH23: =$M23*AO23 -> 0 | BI23: =$M23*AP23 -> 0 | BJ23: =$M23*AQ23 -> 0 | BK23: =$M23*AR23 -> 0
A24: 10042 | B24: PULLERS | C24: jugs | D24: view | E24: =SUM(F24:K24) -> 27 | H24: 27 | L24: 179.1 | M24: =SUM(N24:Z24) -> 0 | AA24: 10.37 | AB24: 5.4 | AC24: =$M24*F24 -> 0 | AD24: =$M24*G24 -> 0 | AE24: =$M24*H24 -> 0 | AF24: =$M24*I24 -> 0 | AG24: =$M24*J24 -> 0 | AH24: =$M24*K24 -> 0 | AJ24: ='[1]HRT polyester'!AA42*'[1]HRT polyester'!M42 -> 0 | AK24: =AB24*M24 -> 0 | AL24: =M24*L24 -> 0 | AN24: 27 | AS24: =$M24*3 -> 0 | AT24: =$M24*18 -> 0 | AU24: =$M24*6 -> 0 | BD24: 21000076 | BF24: =$M24*AM24 -> 0 | BG24: =$M24*AN24 -> 0 | BH24: =$M24*AO24 -> 0 | BI24: =$M24*AP24 -> 0 | BJ24: =$M24*AQ24 -> 0 | BK24: =$M24*AR24 -> 0
A25: 10047 | B25: DR.LEVINE | C25: mixed | D25: view | E25: =SUM(F25:K25) -> 9 | H25: 2 | I25: 2 | J25: 5 | L25: 131.4036 | M25: =SUM(N25:Z25) -> 0 | AA25: 9.26 | AB25: 4.829 | AC25: =$M25*F25 -> 0 | AD25: =$M25*G25 -> 0 | AE25: =$M25*H25 -> 0 | AF25: =$M25*I25 -> 0 | AG25: =$M25*J25 -> 0 | AH25: =$M25*K25 -> 0 | AJ25: ='[1]HRT polyester'!AA47*'[1]HRT polyester'!M47 -> 0 | AK25: =AB25*M25 -> 0 | AL25: =M25*L25 -> 0 | AN25: 5 | AP25: 4 | AS25: =$M25*2 -> 0 | AT25: =$M25*6 -> 0 | AU25: =$M25*1 -> 0 | BD25: 21000081 | BF25: =$M25*AM25 -> 0 | BG25: =$M25*AN25 -> 0 | BH25: =$M25*AO25 -> 0 | BI25: =$M25*AP25 -> 0 | BJ25: =$M25*AQ25 -> 0 | BK25: =$M25*AR25 -> 0
A26: 10050 | B26: ALIEN HEAD | C26: slopers | D26: view | E26: =SUM(F26:K26) -> 2 | K26: 2 | L26: 148.5 | M26: =SUM(N26:Z26) -> 0 | AA26: 11.519 | AB26: 5.907 | AC26: =$M26*F26 -> 0 | AD26: =$M26*G26 -> 0 | AE26: =$M26*H26 -> 0 | AF26: =$M26*I26 -> 0 | AG26: =$M26*J26 -> 0 | AH26: =$M26*K26 -> 0 | AJ26: ='[1]HRT polyester'!AA50*'[1]HRT polyester'!M50 -> 0 | AK26: =AB26*M26 -> 0 | AL26: =M26*L26 -> 0 | AR26: 2 | AV26: =$M26*2 -> 0 | BD26: 21000084 | BF26: =$M26*AM26 -> 0 | BG26: =$M26*AN26 -> 0 | BH26: =$M26*AO26 -> 0 | BI26: =$M26*AP26 -> 0 | BJ26: =$M26*AQ26 -> 0 | BK26: =$M26*AR26 -> 0
A27: 10089 | B27: ALL YOU CAN EAT 1 | C27: foot | D27: view | E27: =SUM(F27:K27) -> 26 | G27: 26 | L27: 90.9036 | M27: =SUM(N27:Z27) -> 0 | AA27: 2.871 | AB27: 1.418 | AC27: =$M27*F27 -> 0 | AD27: =$M27*G27 -> 0 | AE27: =$M27*H27 -> 0 | AF27: =$M27*I27 -> 0 | AG27: =$M27*J27 -> 0 | AH27: =$M27*K27 -> 0 | AJ27: ='[1]HRT polyester'!AA52*'[1]HRT polyester'!M52 -> 0 | AK27: =AB27*M27 -> 0 | AL27: =M27*L27 -> 0 | AM27: 26 | AS27: =$M27*23 -> 0 | AT27: =$M27*3 -> 0 | BD27: 21000086 | BF27: =$M27*AM27 -> 0 | BG27: =$M27*AN27 -> 0 | BH27: =$M27*AO27 -> 0 | BI27: =$M27*AP27 -> 0 | BJ27: =$M27*AQ27 -> 0 | BK27: =$M27*AR27 -> 0
A28: 10090 | B28: ALL YOU CAN EAT 2 | C28: edges, pinches | D28: view | E28: =SUM(F28:K28) -> 31 | G28: 31 | L28: 143.1 | M28: =SUM(N28:Z28) -> 0 | AA28: 5.801 | AB28: 2.97 | AC28: =$M28*F28 -> 0 | AD28: =$M28*G28 -> 0 | AE28: =$M28*H28 -> 0 | AF28: =$M28*I28 -> 0 | AG28: =$M28*J28 -> 0 | AH28: =$M28*K28 -> 0 | AJ28: ='[1]HRT polyester'!AA53*'[1]HRT polyester'!M53 -> 0 | AK28: =AB28*M28 -> 0 | AL28: =M28*L28 -> 0 | AM28: 5 | AO28: 1 | AP28: 13 | AQ28: 11 | AR28: 1 | AS28: =$M28*18 -> 0 | AT28: =$M28*13 -> 0 | BD28: 21000087 | BF28: =$M28*AM28 -> 0 | BG28: =$M28*AN28 -> 0 | BH28: =$M28*AO28 -> 0 | BI28: =$M28*AP28 -> 0 | BJ28: =$M28*AQ28 -> 0 | BK28: =$M28*AR28 -> 0
A29: 10091 | B29: ALL YOU CAN EAT 3 | C29: mixed | D29: view | E29: =SUM(F29:K29) -> 29 | G29: 29 | L29: 143.1 | M29: =SUM(N29:Z29) -> 0 | AA29: 6.231 | AB29: 3.244 | AC29: =$M29*F29 -> 0 | AD29: =$M29*G29 -> 0 | AE29: =$M29*H29 -> 0 | AF29: =$M29*I29 -> 0 | AG29: =$M29*J29 -> 0 | AH29: =$M29*K29 -> 0 | AJ29: ='[1]HRT polyester'!AA54*'[1]HRT polyester'!M54 -> 0 | AK29: =AB29*M29 -> 0 | AL29: =M29*L29 -> 0 | AM29: 2 | AN29: 9 | AP29: 6 | AQ29: 12 | AS29: =$M29*14 -> 0 | AT29: =$M29*14 -> 0 | AU29: =$M29*1 -> 0 | BD29: 21000088 | BF29: =$M29*AM29 -> 0 | BG29: =$M29*AN29 -> 0 | BH29: =$M29*AO29 -> 0 | BI29: =$M29*AP29 -> 0 | BJ29: =$M29*AQ29 -> 0 | BK29: =$M29*AR29 -> 0
A30: 10092 | B30: ALL YOU CAN EAT 4 | C30: mixed | D30: view | E30: =SUM(F30:K30) -> 18 | G30: 18 | L30: 80.1036 | M30: =SUM(N30:Z30) -> 0 | AA30: 3.289 | AB30: 1.645 | AC30: =$M30*F30 -> 0 | AD30: =$M30*G30 -> 0 | AE30: =$M30*H30 -> 0 | AF30: =$M30*I30 -> 0 | AG30: =$M30*J30 -> 0 | AH30: =$M30*K30 -> 0 | AJ30: ='[1]HRT polyester'!AA55*'[1]HRT polyester'!M55 -> 0 | AK30: =AB30*M30 -> 0 | AL30: =M30*L30 -> 0 | AM30: 2 | AN30: 5 | AP30: 9 | AQ30: 2 | AS30: =$M30*16 -> 0 | AT30: =$M30*2 -> 0 | BD30: 21000089 | BF30: =$M30*AM30 -> 0 | BG30: =$M30*AN30 -> 0 | BH30: =$M30*AO30 -> 0 | BI30: =$M30*AP30 -> 0 | BJ30: =$M30*AQ30 -> 0 | BK30: =$M30*AR30 -> 0
A31: 10093 | B31: ALL YOU CAN EAT – CONE HEAD | C31: mixed | D31: view | E31: =SUM(F31:K31) -> 32 | G31: 32 | L31: 110.7 | M31: =SUM(N31:Z31) -> 0 | AA31: 3.327 | AB31: 1.666 | AC31: =$M31*F31 -> 0 | AD31: =$M31*G31 -> 0 | AE31: =$M31*H31 -> 0 | AF31: =$M31*I31 -> 0 | AG31: =$M31*J31 -> 0 | AH31: =$M31*K31 -> 0 | AJ31: ='[1]HRT polyester'!AA56*'[1]HRT polyester'!M56 -> 0 | AK31: =AB31*M31 -> 0 | AL31: =M31*L31 -> 0 | AM31: 7 | AN31: 13 | AP31: 10 | AQ31: 2 | AZ31: =M31*32 -> 0 | BD31: 21000090 | BF31: =$M31*AM31 -> 0 | BG31: =$M31*AN31 -> 0 | BH31: =$M31*AO31 -> 0 | BI31: =$M31*AP31 -> 0 | BJ31: =$M31*AQ31 -> 0 | BK31: =$M31*AR31 -> 0
A32: 10210 | B32: DESERT STALKER | C32: pinches | D32: view | E32: =SUM(F32:K32) -> 19 | H32: 19 | L32: 146.6964 | M32: =SUM(N32:Z32) -> 0 | AA32: 8.918 | AB32: 4.611 | AC32: =$M32*F32 -> 0 | AD32: =$M32*G32 -> 0 | AE32: =$M32*H32 -> 0 | AF32: =$M32*I32 -> 0 | AG32: =$M32*J32 -> 0 | AH32: =$M32*K32 -> 0 | AJ32: ='[1]HRT polyester'!AA60*'[1]HRT polyester'!M60 -> 0 | AK32: =AB32*M32 -> 0 | AL32: =M32*L32 -> 0 | AQ32: 19 | AT32: =$M32*14 -> 0 | AU32: =$M32*5 -> 0 | BD32: 21000094 | BF32: =$M32*AM32 -> 0 | BG32: =$M32*AN32 -> 0 | BH32: =$M32*AO32 -> 0 | BI32: =$M32*AP32 -> 0 | BJ32: =$M32*AQ32 -> 0 | BK32: =$M32*AR32 -> 0
A33: 10212 | B33: WRINKLED | C33: jugs | D33: view | E33: =SUM(F33:K33) -> 5 | H33: 1 | I33: 2 | J33: 2 | L33: 66.6036 | M33: =SUM(N33:Z33) -> 0 | AA33: 4.767 | AB33: 2.408 | AC33: =$M33*F33 -> 0 | AD33: =$M33*G33 -> 0 | AE33: =$M33*H33 -> 0 | AF33: =$M33*I33 -> 0 | AG33: =$M33*J33 -> 0 | AH33: =$M33*K33 -> 0 | AJ33: ='[1]HRT polyester'!AA62*'[1]HRT polyester'!M62 -> 0 | AK33: =AB33*M33 -> 0 | AL33: =M33*L33 -> 0 | AN33: 5 | AT33: =$M33*5 -> 0 | BD33: 21000096 | BF33: =$M33*AM33 -> 0 | BG33: =$M33*AN33 -> 0 | BH33: =$M33*AO33 -> 0 | BI33: =$M33*AP33 -> 0 | BJ33: =$M33*AQ33 -> 0 | BK33: =$M33*AR33 -> 0
A34: 10213 | B34: TOXIC | C34: edges | D34: view | E34: =SUM(F34:K34) -> 10 | H34: 4 | I34: 3 | J34: 2 | K34: 1 | L34: 150.3036 | M34: =SUM(N34:Z34) -> 0 | AA34: 10.355 | AB34: 5.445 | AC34: =$M34*F34 -> 0 | AD34: =$M34*G34 -> 0 | AE34: =$M34*H34 -> 0 | AF34: =$M34*I34 -> 0 | AG34: =$M34*J34 -> 0 | AH34: =$M34*K34 -> 0 | AJ34: ='[1]HRT polyester'!AA63*'[1]HRT polyester'!M63 -> 0 | AK34: =AB34*M34 -> 0 | AL34: =M34*L34 -> 0 | AP34: 10 | AS34: =$M34*1 -> 0 | AT34: =$M34*9 -> 0 | BD34: 21000097 | BF34: =$M34*AM34 -> 0 | BG34: =$M34*AN34 -> 0 | BH34: =$M34*AO34 -> 0 | BI34: =$M34*AP34 -> 0 | BJ34: =$M34*AQ34 -> 0 | BK34: =$M34*AR34 -> 0
A35: 10216 | B35: TARZAN | C35: jugs | D35: view | E35: =SUM(F35:K35) -> 18 | G35: 6 | H35: 6 | I35: 4 | J35: 2 | L35: 156.6 | M35: =SUM(N35:Z35) -> 0 | AA35: 9.715 | AB35: 5.438 | AC35: =$M35*F35 -> 0 | AD35: =$M35*G35 -> 0 | AE35: =$M35*H35 -> 0 | AF35: =$M35*I35 -> 0 | AG35: =$M35*J35 -> 0 | AH35: =$M35*K35 -> 0 | AJ35: ='[1]HRT polyester'!AA65*'[1]HRT polyester'!M65 -> 0 | AK35: =AB35*M35 -> 0 | AL35: =M35*L35 -> 0 | AN35: 18 | AS35: =$M35*9 -> 0 | AT35: =$M35*9 -> 0 | BD35: 21000099 | BF35: =$M35*AM35 -> 0 | BG35: =$M35*AN35 -> 0 | BH35: =$M35*AO35 -> 0 | BI35: =$M35*AP35 -> 0 | BJ35: =$M35*AQ35 -> 0 | BK35: =$M35*AR35 -> 0
A36: 10217 | B36: SWISS GNEISS 1 | C36: Slopers, edges | D36: view | E36: =SUM(F36:K36) -> 16 | H36: 4 | I36: 6 | J36: 6 | L36: 229.5 | M36: =SUM(N36:Z36) -> 0 | AA36: 16.005 | AB36: 8.345 | AC36: =$M36*F36 -> 0 | AD36: =$M36*G36 -> 0 | AE36: =$M36*H36 -> 0 | AF36: =$M36*I36 -> 0 | AG36: =$M36*J36 -> 0 | AH36: =$M36*K36 -> 0 | AJ36: ='[1]HRT polyester'!AA66*'[1]HRT polyester'!M66 -> 0 | AK36: =AB36*M36 -> 0 | AL36: =M36*L36 -> 0 | AP36: 7 | AQ36: 2 | AR36: 7 | AT36: =$M36*11 -> 0 | AU36: =$M36*1 -> 0 | AV36: =$M36*4 -> 0 | BD36: 21000100 | BF36: =$M36*AM36 -> 0 | BG36: =$M36*AN36 -> 0 | BH36: =$M36*AO36 -> 0 | BI36: =$M36*AP36 -> 0 | BJ36: =$M36*AQ36 -> 0 | BK36: =$M36*AR36 -> 0
A37: 10219 | B37: EBOLA | C37: jugs | D37: view | E37: =SUM(F37:K37) -> 15 | I37: 15 | L37: 150.3036 | M37: =SUM(N37:Z37) -> 0 | AA37: 9.794 | AB37: 5.087 | AC37: =$M37*F37 -> 0 | AD37: =$M37*G37 -> 0 | AE37: =$M37*H37 -> 0 | AF37: =$M37*I37 -> 0 | AG37: =$M37*J37 -> 0 | AH37: =$M37*K37 -> 0 | AJ37: ='[1]HRT polyester'!AA68*'[1]HRT polyester'!M68 -> 0 | AK37: =AB37*M37 -> 0 | AL37: =M37*L37 -> 0 | AN37: 15 | AT37: =$M37*15 -> 0 | BD37: 21000102 | BF37: =$M37*AM37 -> 0 | BG37: =$M37*AN37 -> 0 | BH37: =$M37*AO37 -> 0 | BI37: =$M37*AP37 -> 0 | BJ37: =$M37*AQ37 -> 0 | BK37: =$M37*AR37 -> 0
A38: 10221 | B38: SWISS GNEISS 2 | C38: edges, slopers | D38: view | E38: =SUM(F38:K38) -> 20 | H38: 13 | I38: 5 | J38: 2 | L38: 207.9 | M38: =SUM(N38:Z38) -> 0 | AA38: 13.751 | AB38: 7.188 | AC38: =$M38*F38 -> 0 | AD38: =$M38*G38 -> 0 | AE38: =$M38*H38 -> 0 | AF38: =$M38*I38 -> 0 | AG38: =$M38*J38 -> 0 | AH38: =$M38*K38 -> 0 | AJ38: ='[1]HRT polyester'!AA70*'[1]HRT polyester'!M70 -> 0 | AK38: =AB38*M38 -> 0 | AL38: =M38*L38 -> 0 | AN38: 1 | AP38: 14 | AR38: 5 | AT38: =$M38*18 -> 0 | AU38: =$M38*2 -> 0 | BD38: 21000104 | BF38: =$M38*AM38 -> 0 | BG38: =$M38*AN38 -> 0 | BH38: =$M38*AO38 -> 0 | BI38: =$M38*AP38 -> 0 | BJ38: =$M38*AQ38 -> 0 | BK38: =$M38*AR38 -> 0
A39: 10222 | B39: BOOTIE CALL 1 | C39: slopers | D39: view | E39: =SUM(F39:K39) -> 5 | I39: 2 | K39: 3 | L39: 181.7964 | M39: =SUM(N39:Z39) -> 0 | AA39: 13.653 | AB39: 7.067 | AC39: =$M39*F39 -> 0 | AD39: =$M39*G39 -> 0 | AE39: =$M39*H39 -> 0 | AF39: =$M39*I39 -> 0 | AG39: =$M39*J39 -> 0 | AH39: =$M39*K39 -> 0 | AJ39: ='[1]HRT polyester'!AA71*'[1]HRT polyester'!M71 -> 0 | AK39: =AB39*M39 -> 0 | AL39: =M39*L39 -> 0 | AR39: 5 | AV39: =$M39*2 -> 0 | AW39: =M39*3 -> 0 | BD39: 21000105 | BF39: =$M39*AM39 -> 0 | BG39: =$M39*AN39 -> 0 | BH39: =$M39*AO39 -> 0 | BI39: =$M39*AP39 -> 0 | BJ39: =$M39*AQ39 -> 0 | BK39: =$M39*AR39 -> 0
A40: 10223 | B40: BOOTIE CALL 2 | C40: slopers | D40: view | E40: =SUM(F40:K40) -> 6 | I40: 2 | J40: 2 | K40: 2 | L40: 172.8 | M40: =SUM(N40:Z40) -> 0 | AA40: 12.78 | AB40: 6.71 | AC40: =$M40*F40 -> 0 | AD40: =$M40*G40 -> 0 | AE40: =$M40*H40 -> 0 | AF40: =$M40*I40 -> 0 | AG40: =$M40*J40 -> 0 | AH40: =$M40*K40 -> 0 | AJ40: ='[1]HRT polyester'!AA72*'[1]HRT polyester'!M72 -> 0 | AK40: =AB40*M40 -> 0 | AL40: =M40*L40 -> 0 | AR40: 6 | AU40: =$M40*1 -> 0 | AV40: =$M40*4 -> 0 | AW40: =$M40*1 -> 0 | BD40: 21000106 | BF40: =$M40*AM40 -> 0 | BG40: =$M40*AN40 -> 0 | BH40: =$M40*AO40 -> 0 | BI40: =$M40*AP40 -> 0 | BJ40: =$M40*AQ40 -> 0 | BK40: =$M40*AR40 -> 0
...

Sheet HRT PU
B1: POLYURETHANE | F1: Holds Size | N1: Please Choose Colors for the Sets | U1: Colors for Indoor Use only | AA1: Holds' Size | AK1: Holds' Type | AR1: 40 | AS1: 50 | AT1: 70 | AU1: 90 | AV1: 100 | AW1: 120 | AX1: SCR | AY1: CH | BC1: Holds' Type
A2: Reff. No. | C2: Grip type | D2: View set picture | E2: pcs of holds in the set | F2: XS | G2: S | H2: M | I2: L | J2: XL | K2: Mega | L2: Price in EUR | M2: Set # | N2: White (1) | O2: Yellow (2) | P2: Green US-16-16 | Q2: Red (5) | R2: Orange US 14-01 | S2: Blue (7) | T2: Black (10) | U2: Violet/ lilac (16) | V2: Fluoro orange (11) | W2: Fluoro green (12) | X2: Fluoro pink (13) | Y2: Weight (kg.) | Z2: Volume | AA2: XS | AB2: S | AC2: M | AD2: L | AE2: Xl | AF2: Mega | AH2: Total weight (kg) | AI2: Total volume | AJ2: Total Amount | AK2: foot | AL2: jugs | AM2: pockets | AN2: edges | AO2: pinches | AP2: slopers | AR2: Bolts for the Sets | BC2: foot | BD2: jugs | BE2: pockets | BF2: edges | BG2: pinches | BH2: slopers
N3: view | O3: view | P3: view | Q3: view | R3: view | S3: view | T3: view | U3: view | V3: view | W3: view | X3: view
B4: PU- SOLID AND HOLLOW-BACK | N4: =SUMPRODUCT($E$5:$E$64,N5:N64) -> 0 | O4: =SUMPRODUCT($E$5:$E$64,O5:O64) -> 0 | P4: =SUMPRODUCT($E$5:$E$64,P5:P64) -> 0 | Q4: =SUMPRODUCT($E$5:$E$64,Q5:Q64) -> 0 | R4: =SUMPRODUCT($E$5:$E$64,R5:R64) -> 0 | S4: =SUMPRODUCT($E$5:$E$64,S5:S64) -> 0 | T4: =SUMPRODUCT($E$5:$E$64,T5:T64) -> 0 | U4: =SUMPRODUCT($E$5:$E$64,U5:U64) -> 0 | ... X4: =SUMPRODUCT($E$5:$E$64,X5:X64) -> 0 | BA4: SAP ID
A5: 12001 | B5: SCREWONS – XS PU | D5: view | E5: =SUM(F5:K5) -> 40 | F5: 40 | L5: 163.5 | M5: =SUM(N5:X5) -> 0 | Y5: 1.328 | Z5: 1.015 | AA5: =$M5*F5 -> 0 | AB5: =$M5*G5 -> 0 | AC5: =$M5*H5 -> 0 | AD5: =$M5*I5 -> 0 | AE5: =$M5*J5 -> 0 | AF5: =$M5*K5 -> 0 | AH5: =M5*Y5 -> 0 | AI5: =M5*Z5 -> 0 | AJ5: =M5*L5 -> 0 | AK5: 40 | AX5: =$M5*80 -> 0 | BA5: 21000163 | BC5: =$M5*AK5 -> 0 | BD5: =$M5*AL5 -> 0 | BE5: =$M5*AM5 -> 0 | BF5: =$M5*AN5 -> 0 | BG5: =$M5*AO5 -> 0 | BH5: =$M5*AP5 -> 0
A6: 12003 | B6: ELEMENTS PU | D6: view | E6: =SUM(F6:K6) -> 12 | H6: 9 | I6: 3 | L6: 220.59 | M6: =SUM(N6:X6) -> 0 | Y6: 4.17 | Z6: 3.249 | AA6: =$M6*F6 -> 0 | AB6: =$M6*G6 -> 0 | AC6: =$M6*H6 -> 0 | AD6: =$M6*I6 -> 0 | AE6: =$M6*J6 -> 0 | AF6: =$M6*K6 -> 0 | AH6: =M6*Y6 -> 0 | AI6: =M6*Z6 -> 0 | AJ6: =M6*L6 -> 0 | AL6: 12 | AR6: =$M6*1 -> 0 | AS6: =$M6*10 -> 0 | AT6: =$M6*1 -> 0 | BA6: 21000165 | BC6: =$M6*AK6 -> 0 | BD6: =$M6*AL6 -> 0 | BE6: =$M6*AM6 -> 0 | BF6: =$M6*AN6 -> 0 | BG6: =$M6*AO6 -> 0 | BH6: =$M6*AP6 -> 0
A7: 12004 | B7: FRESCO 1 PU | D7: view | E7: =SUM(F7:K7) -> 11 | H7: 8 | I7: 1 | J7: 1 | K7: 1 | L7: 284.67 | M7: =SUM(N7:X7) -> 0 | Y7: 5.759 | Z7: 4.63 | AA7: =$M7*F7 -> 0 | AB7: =$M7*G7 -> 0 | AC7: =$M7*H7 -> 0 | AD7: =$M7*I7 -> 0 | AE7: =$M7*J7 -> 0 | AF7: =$M7*K7 -> 0 | AH7: =M7*Y7 -> 0 | AI7: =M7*Z7 -> 0 | AJ7: =M7*L7 -> 0 | AN7: 11 | AR7: =$M7*1 -> 0 | AS7: =$M7*10 -> 0 | BA7: 21000166 | BC7: =$M7*AK7 -> 0 | BD7: =$M7*AL7 -> 0 | BE7: =$M7*AM7 -> 0 | BF7: =$M7*AN7 -> 0 | BG7: =$M7*AO7 -> 0 | BH7: =$M7*AP7 -> 0
A8: 12005 | B8: FRESCO 2 PU | D8: view | E8: =SUM(F8:K8) -> 9 | H8: 3 | I8: 5 | J8: 1 | L8: 246.81 | M8: =SUM(N8:X8) -> 0 | Y8: 4.962 | Z8: 3.937 | AA8: =$M8*F8 -> 0 | AB8: =$M8*G8 -> 0 | AC8: =$M8*H8 -> 0 | AD8: =$M8*I8 -> 0 | AE8: =$M8*J8 -> 0 | AF8: =$M8*K8 -> 0 | AH8: =M8*Y8 -> 0 | AI8: =M8*Z8 -> 0 | AJ8: =M8*L8 -> 0 | AL8: 4 | AN8: 5 | AR8: =$M8*1 -> 0 | AS8: =$M8*8 -> 0 | BA8: 21000167 | BC8: =$M8*AK8 -> 0 | BD8: =$M8*AL8 -> 0 | BE8: =$M8*AM8 -> 0 | BF8: =$M8*AN8 -> 0 | BG8: =$M8*AO8 -> 0 | BH8: =$M8*AP8 -> 0
A9: 11008 | B9: SURF UP - PU-HOLLOW BACK | D9: view | E9: =SUM(F9:K9) -> 10 | J9: 5 | K9: 5 | L9: 358.32 | M9: =SUM(N9:X9) -> 0 | Y9: 4.958 | AA9: =$M9*F9 -> 0 | AB9: =$M9*G9 -> 0 | AC9: =$M9*H9 -> 0 | AD9: =$M9*I9 -> 0 | AE9: =$M9*J9 -> 0 | AF9: =$M9*K9 -> 0 | AH9: =M9*Y9 -> 0 | AI9: =M9*Z9 -> 0 | AJ9: =M9*L9 -> 0 | AN9: 10 | AS9: =$M9*7 -> 0 | AT9: =$M9*3 -> 0 | BA9: 21000147 | BC9: =$M9*AK9 -> 0 | BD9: =$M9*AL9 -> 0 | BE9: =$M9*AM9 -> 0 | BF9: =$M9*AN9 -> 0 | BG9: =$M9*AO9 -> 0 | BH9: =$M9*AP9 -> 0
A10: 12011 | B10: SEA WORLD PU | D10: view | E10: =SUM(F10:K10) -> 12 | H10: 4 | I10: 6 | J10: 2 | L10: 325.2 | M10: =SUM(N10:X10) -> 0 | Y10: 6.578 | Z10: 5.343 | AA10: =$M10*F10 -> 0 | AB10: =$M10*G10 -> 0 | AC10: =$M10*H10 -> 0 | AD10: =$M10*I10 -> 0 | AE10: =$M10*J10 -> 0 | AF10: =$M10*K10 -> 0 | AH10: =M10*Y10 -> 0 | AI10: =M10*Z10 -> 0 | AJ10: =M10*L10 -> 0 | AL10: 4 | AN10: 4 | AO10: 4 | AR10: =$M10*4 -> 0 | AS10: =$M10*5 -> 0 | AT10: =$M10*2 -> 0 | AU10: =$M10*1 -> 0 | BA10: 21000168 | BC10: =$M10*AK10 -> 0 | BD10: =$M10*AL10 -> 0 | BE10: =$M10*AM10 -> 0 | BF10: =$M10*AN10 -> 0 | BG10: =$M10*AO10 -> 0 | BH10: =$M10*AP10 -> 0
A11: 12012 | B11: JUNGLE PU | D11: view | E11: =SUM(F11:K11) -> 13 | H11: 9 | I11: 2 | J11: 2 | L11: 363.48 | M11: =SUM(N11:X11) -> 0 | Y11: 7.349 | Z11: 6.013 | AA11: =$M11*F11 -> 0 | AB11: =$M11*G11 -> 0 | AC11: =$M11*H11 -> 0 | AD11: =$M11*I11 -> 0 | AE11: =$M11*J11 -> 0 | AF11: =$M11*K11 -> 0 | AH11: =M11*Y11 -> 0 | AI11: =M11*Z11 -> 0 | AJ11: =M11*L11 -> 0 | AL11: 4 | AN11: 5 | AO11: 4 | AR11: =$M11*3 -> 0 | AS11: =$M11*5 -> 0 | AT11: =$M11*3 -> 0 | AU11: =$M11*2 -> 0 | BA11: 21000169 | BC11: =$M11*AK11 -> 0 | BD11: =$M11*AL11 -> 0 | BE11: =$M11*AM11 -> 0 | BF11: =$M11*AN11 -> 0 | BG11: =$M11*AO11 -> 0 | BH11: =$M11*AP11 -> 0
A12: 11015 | B12: PLEASUREMAX PU HOLLOW-BACK | D12: view | E12: =SUM(F12:K12) -> 12 | H12: 5 | I12: 2 | J12: 5 | L12: 406.77 | M12: =SUM(N12:X12) -> 0 | Y12: 6.379 | AA12: =$M12*F12 -> 0 | AB12: =$M12*G12 -> 0 | AC12: =$M12*H12 -> 0 | AD12: =$M12*I12 -> 0 | AE12: =$M12*J12 -> 0 | AF12: =$M12*K12 -> 0 | AH12: =M12*Y12 -> 0 | AI12: =M12*Z12 -> 0 | AJ12: =M12*L12 -> 0 | AL12: 7 | AP12: 5 | AR12: =$M12*1 -> 0 | AS12: =$M12*6 -> 0 | AU12: =$M12*5 -> 0 | BA12: 21000148 | BC12: =$M12*AK12 -> 0 | BD12: =$M12*AL12 -> 0 | BE12: =$M12*AM12 -> 0 | BF12: =$M12*AN12 -> 0 | BG12: =$M12*AO12 -> 0 | BH12: =$M12*AP12 -> 0
