Workbook

Sheet Summary
B1: Please fill in Customer Information
A2: Company Name ::
A3: Company Address ::
A4: VAT number ::
A5: Delivery address ::
A6: Contact person and tel No ::
A7: TOTAL AMOUNT: without VAT | B7: =IF(X1:X1=1,$C$15+$C$17+$C$25+$C$28+#REF!,$C$15+$C$17+$C$25+$C$28) -> 0 | D7: All brands | E7: XS | F7: S | G7: M | H7: L | I7: XL | J7: MEGA | K7: Volumes | L7: Selection Details | M7: Selection Details
D8: % | E8: =IF($N8,E9/$N8,0) -> 0 | F8: =IF($N8,F9/$N8,0) -> 0 | G8: =IF($N8,G9/$N8,0) -> 0 | H8: =IF($N8,H9/$N8,0) -> 0 | I8: =IF($N8,I9/$N8,0) -> 0 | J8: =IF($N8,J9/$N8,0) -> 0 | L8: Total Holds:: | M8: Total Holds:: | N8: =N13+N18+N23+N29 -> 0 | O8: pcs
D9: pcs | E9: =$E$14+$E$19+$E$24+$E$30 -> 0 | F9: =$F$14+$F$19+$F$24+$F$30 -> 0 | G9: =$G$14+$G$19+$G$24+$G$30 -> 0 | H9: =$H$14+$H$19+$H$24+$H$30 -> 0 | I9: =$I$14+$I$19+$I$24+$I$30 -> 0 | J9: =$J$14+$J$19+$J$24+$J$30 -> 0 | K9: =$K$14+$K$19+$K$24 -> 0 | L9: Total Volumes:: | N9: =N14+N19+N24 -> 0 | O9: pcs
L10: Total Weight:: | N10: =N15+N20+N25+N30 -> 0 | O10: kg
B11: HRT by Artist and HRT polyester: | C11: ='HRT polyester'!M102+'HRT by ARTIST'!N177 -> 0
B12: HRT PU: | C12: ='HRT PU'!M66 -> 0 | D12: HRT holds | E12: XS | F12: S | G12: M | H12: L | I12: XL | J12: MEGA | K12: Volumes | L12: Selection Details
B13: HRT volumes; | C13: ='HRT volumes'!F72 -> 0 | D13: % | E13: =IF($N$13,E14/$N$13,0) -> 0 | F13: =IF($N$13,F14/$N$13,0) -> 0 | G13: =IF($N$13,G14/$N$13,0) -> 0 | H13: =IF($N$13,H14/$N$13,0) -> 0 | I13: =IF($N$13,I14/$N$13,0) -> 0 | J13: =IF($N$13,J14/$N$13,0) -> 0 | L13: Total Holds:: | N13: ='HRT by ARTIST'!AB179+'HRT polyester'!AI102+'HRT PU'!AA67 -> 0 | O13: pcs
B14: Training & bolts | C14: ='Train and bolts'!F32 -> 0 | D14: pcs | E14: ='HRT by ARTIST'!AC176+'HRT polyester'!AC101+'HRT PU'!AA65 -> 0 | F14: ='HRT by ARTIST'!AD176+'HRT polyester'!AD101+'HRT PU'!AB65 -> 0 | G14: ='HRT by ARTIST'!AE176+'HRT polyester'!AE101+'HRT PU'!AC65 -> 0 | H14: ='HRT by ARTIST'!AF176+'HRT polyester'!AF101+'HRT PU'!AD65 -> 0 | I14: ='HRT by ARTIST'!AG176+'HRT polyester'!AG101+'HRT PU'!AE65 -> 0 | J14: ='HRT by ARTIST'!AH176+'HRT polyester'!AH101+'HRT PU'!AF65 -> 0 | K14: ='HRT volumes'!AD71+'HRT by ARTIST'!AH179 -> 0 | L14: Total Volumes:: | N14: =K14 -> 0 | O14: pcs
B15: HRT Total Price: | C15: =SUM(C11:C14) -> 0 | L15: Total Weight:: | N15: ='HRT by ARTIST'!AK178+'HRT polyester'!AJ101+'HRT PU'!AH65+'HRT volumes'!AB71+'Train and bolts'!T32 -> 0 | O15: kg
B17: Boulder Special Total Price: | C17: ='B SPECIAL PU'!N93 -> 0 | D17: Boulder Special | E17: XS | F17: S | G17: M | H17: L | I17: XL | J17: MEGA | K17: Volumes | L17: Selection Details | M17: Selection Details
D18: % | E18: =IF($N$18,E19/$N$18,0) -> 0 | F18: =IF($N$18,F19/$N$18,0) -> 0 | G18: =IF($N$18,G19/$N$18,0) -> 0 | H18: =IF($N$18,H19/$N$18,0) -> 0 | I18: =IF($N$18,I19/$N$18,0) -> 0 | J18: =IF($N$18,J19/$N$18,0) -> 0 | L18: Total Holds:: | N18: ='B SPECIAL PU'!AB93 -> 0 | O18: pcs
D19: pcs | E19: ='B SPECIAL PU'!AU92 -> 0 | F19: ='B SPECIAL PU'!AV92 -> 0 | G19: ='B SPECIAL PU'!AW92 -> 0 | H19: ='B SPECIAL PU'!AX92 -> 0 | I19: ='B SPECIAL PU'!AY92 -> 0 | J19: ='B SPECIAL PU'!AZ92 -> 0 | K19: ='B SPECIAL PU'!BA92 -> 0 | L19: Total Volumes:: | N19: =K19 -> 0 | O19: pcs
L20: Total Weight:: | N20: ='B SPECIAL PU'!AB94 -> 0 | O20: kg
B22: Fiction polyester: | C22: ='Fiction polyester'!M53 -> 0 | D22: Fiction holds | E22: XS | F22: S | G22: M | H22: L | I22: XL | J22: MEGA | K22: Volumes | L22: Selection Details | M22: Selection Details
B23: Fiction PU: | C23: ='Fiction PU'!M54 -> 0 | D23: % | E23: =IF($N$23,E24/$N$23,0) -> 0 | F23: =IF($N$23,F24/$N$23,0) -> 0 | G23: =IF($N$23,G24/$N$23,0) -> 0 | H23: =IF($N$23,H24/$N$23,0) -> 0 | I23: =IF($N$23,I24/$N$23,0) -> 0 | J23: =IF($N$23,J24/$N$23,0) -> 0 | L23: Total Holds:: | N23: ='Fiction polyester'!AB53+'Fiction PU'!Z54 -> 0 | O23: pcs
B24: Fiction volumes: | C24: ='Fiction volumes'!F16 -> 0 | D24: pcs | E24: ='Fiction polyester'!AS52+'Fiction PU'!AQ53 -> 0 | F24: ='Fiction polyester'!AT52+'Fiction PU'!AR53 -> 0 | G24: ='Fiction polyester'!AU52+'Fiction PU'!AS53 -> 0 | H24: ='Fiction polyester'!AV52+'Fiction PU'!AT53 -> 0 | I24: ='Fiction polyester'!AW52+'Fiction PU'!AU53 -> 0 | J24: ='Fiction polyester'!AX52+'Fiction PU'!AV53 -> 0 | K24: ='Fiction volumes'!V13 -> 0 | L24: Total Volumes:: | N24: =K24 -> 0 | O24: pcs
B25: Fiction Total price: | C25: =SUM(C22:C24) -> 0 | L25: Total Weight:: | N25: ='Fiction polyester'!AB54+'Fiction PU'!Z55+'Fiction volumes'!T18 -> 0 | O25: kg
B28: 300 Holds Total Price: | C28: ='300 holds PU'!M55 -> 0 | D28: 300 holds | E28: XS | F28: S | G28: M | H28: L | I28: XL | J28: MEGA | M28: Selection Details
D29: % | E29: =IF($N$29,E30/$N$29,0) -> 0 | F29: =IF($N$29,F30/$N$29,0) -> 0 | G29: =IF($N$29,G30/$N$29,0) -> 0 | H29: =IF($N$29,H30/$N$29,0) -> 0 | I29: =IF($N$29,I30/$N$29,0) -> 0 | J29: =IF($N$29,J30/$N$29,0) -> 0 | L29: Total Holds:: | N29: ='300 holds PU'!AA55 -> 0 | O29: pcs
D30: pcs | E30: ='300 holds PU'!AR54 -> 0 | F30: ='300 holds PU'!AS54 -> 0 | G30: ='300 holds PU'!AT54 -> 0 | H30: ='300 holds PU'!AU54 -> 0 | I30: ='300 holds PU'!AV54 -> 0 | J30: ='300 holds PU'!AW54 -> 0 | L30: Total Weight:: | N30: ='300 holds PU'!AA56 -> 0 | O30: kg
A33: =IF(AW13:AW13=1,"Thank you! We will include the required number of bolts and screws to your purchase order. You could view the price of each bolt size at the accessories section. The total cost will appear at your proforma invoice too."," ")
A35: DISCLAIMER
A36: Color nuance : Colors may vary in nuance when ordered in different materials - polyester, oplyurethane or GRP. A small variation may also be present for the same color within the same material range – when ordered during different time-periods. General UV stability : Fluorescent colors ( incl. Violet ), are signiicantly prone to fading when exposed to direct sunlight and we strongly recommend - holds colored with such pigments not to be used outdoors PU change of color When exposed to direct sunlight Polyurethane holds (incl.Compozit and GIGA holds) tend to change their color to more pastel and ivory/brown nuances .Valid for all colors. HRT has the right to make changes in this price-list without any notice
A45: Holds type | B45: foot | C45: jugs | D45: pockets | E45: edges | F45: pinches | H45: slopers
A46: % | B46: =IFERROR(B47/$N$8,0) -> 0 | C46: =IFERROR(C47/$N$8,0) -> 0 | D46: =IFERROR(D47/$N$8,0) -> 0 | E46: =IFERROR(E47/$N$8,0) -> 0 | F46: =IFERROR(F47/$N$8,0) -> 0 | H46: =IFERROR(H47/$N$8,0) -> 0
A47: pcs | B47: ='HRT by ARTIST'!BI176+'HRT polyester'!BF101+'HRT PU'!BC65+'B SPECIAL PU'!BC92+'Fiction polyester'!AZ52+'Fiction PU'!AX53+'300 holds PU'!AY54 -> 0 | C47: ='HRT by ARTIST'!BJ176+'HRT polyester'!BG101+'HRT PU'!BD65+'B SPECIAL PU'!BD92+'Fiction polyester'!BA52+'Fiction PU'!AY53+'300 holds PU'!AZ54 -> 0 | D47: ='HRT by ARTIST'!BK176+'HRT polyester'!BH101+'HRT PU'!BE65+'B SPECIAL PU'!BE92+'Fiction polyester'!BB52+'Fiction PU'!AZ53+'300 holds PU'!BA54 -> 0 | E47: ='HRT by ARTIST'!BL176+'HRT polyester'!BI101+'HRT PU'!BF65+'B SPECIAL PU'!BF92+'Fiction polyester'!BC52+'Fiction PU'!BA53+'300 holds PU'!BB54 -> 0 | F47: ='HRT by ARTIST'!BM176+'HRT polyester'!BJ101+'HRT PU'!BG65+'B SPECIAL PU'!BG92+'Fiction polyester'!BD52+'Fiction PU'!BB53+'300 holds PU'!BC54 -> 0 | H47: ='HRT by ARTIST'!BN176+'HRT polyester'!BK101+'HRT PU'!BH65+'B SPECIAL PU'!BH92+'Fiction polyester'!BE52+'Fiction PU'!BC53+'300 holds PU'!BD54 -> 0
A50: Colors - only for the holds | B50: White (1) | C50: Yellow (2) | D50: Green (4) | E50: Red (5) | F50: Orange (6) | G50: Blue (7) | H50: Grey (9) | I50: Black (10) | J50: Violet/ lilac (16) | K50: Fluoro orange (11) | L50: Fluoro green (12) | M50: Fluoro pink (13) | N50: Fluoro yellow (14)
A51: Number of holds | B51: ='HRT by ARTIST'!O4+'HRT polyester'!N4+'HRT PU'!N4+'B SPECIAL PU'!O3+'Fiction polyester'!N3+'Fiction PU'!N3+'300 holds PU'!N3 -> 0 | C51: ='HRT by ARTIST'!P4+'HRT polyester'!O4+'HRT PU'!O4+'B SPECIAL PU'!P3+'Fiction polyester'!O3+'Fiction PU'!O3+'300 holds PU'!O3 -> 0 | D51: ='HRT by ARTIST'!Q4+'HRT polyester'!P4+'HRT PU'!P4+'B SPECIAL PU'!Q3+'Fiction polyester'!P3+'Fiction PU'!P3+'300 holds PU'!P3 -> 0 | E51: ='HRT by ARTIST'!R4+'HRT polyester'!Q4+'HRT PU'!Q4+'B SPECIAL PU'!R3+'Fiction polyester'!Q3+'Fiction PU'!Q3+'300 holds PU'!Q3 -> 0 | F51: ='HRT by ARTIST'!S4+'HRT polyester'!R4+'HRT PU'!R4+'B SPECIAL PU'!S3+'Fiction polyester'!R3+'Fiction PU'!R3+'300 holds PU'!R3 -> 0 | G51: ='HRT by ARTIST'!T4+'HRT polyester'!S4+'HRT PU'!S4+'B SPECIAL PU'!T3+'Fiction polyester'!S3+'Fiction PU'!S3+'300 holds PU'!S3 -> 0 | H51: ='HRT by ARTIST'!U4+'HRT polyester'!T4+'B SPECIAL PU'!U3+'Fiction polyester'!T3+'Fiction PU'!T3+'300 holds PU'!T3 -> 0 | I51: ='HRT by ARTIST'!V4+'HRT polyester'!U4+'HRT PU'!T4+'B SPECIAL PU'!V3+'Fiction polyester'!U3+'Fiction PU'!U3+'300 holds PU'!U3 -> 0 | J51: ='HRT by ARTIST'!W4+'HRT polyester'!V4+'HRT PU'!U4+'B SPECIAL PU'!W3+'Fiction polyester'!V3+'Fiction PU'!V3+'300 holds PU'!V3 -> 0 | K51: ='HRT by ARTIST'!X4+'HRT polyester'!W4+'HRT PU'!V4+'B SPECIAL PU'!X3+'Fiction polyester'!W3+'Fiction PU'!W3+'300 holds PU'!W3 -> 0 | L51: ='HRT by ARTIST'!Y4+'HRT polyester'!X4+'HRT PU'!W4+'B SPECIAL PU'!Y3+'Fiction polyester'!X3+'Fiction PU'!X3+'300 holds PU'!X3 -> 0 | M51: ='HRT by ARTIST'!Z4+'HRT polyester'!Y4+'HRT PU'!X4+'B SPECIAL PU'!Z3+'Fiction polyester'!Y3+'Fiction PU'!#REF!+'300 holds PU'!Y3 -> #REF! | N51: ='HRT by ARTIST'!#REF!+'HRT polyester'!Z4+'B SPECIAL PU'!#REF!+'Fiction polyester'!Z3+'Fiction PU'!Y3+'300 holds PU'!#REF! -> #REF!

Sheet HRT by ARTIST
B1: HRT BY ARTIST | F1: Holds Size | N1: Please Choose Colors for the Sets | W1: Colors for Indoor Use only | AA1: view all colors | AC1: Holds' Size | AI1: Holds Size | AN1: Holds' Types- default | AT1: 40 | AU1: 50 | AV1: 70 | AW1: 90 | AX1: 100 | AY1: 120 | AZ1: 140 | BA1: SCR | BB1: CH | BI1: Holds' Type in the order
A2: Reff. No. | C2: Grip type | D2: View set picture | E2: pcs of holds in the set | F2: XS | G2: S | H2: M | I2: L | J2: XL | K2: Mega | L2: volumes | M2: Price in EUR | N2: Set # | O2: White (1) | P2: Yellow (2) | Q2: Green (4 for PE; US16-16 for PU) | R2: Red (5) | S2: Orange (6 forPE; US14-01 for PU ) | T2: Blue (7) | U2: Grey (9) | V2: Black (10) | W2: Violet/ lilac (16) | X2: Fluoro orange (11) | Y2: Fluoro green (12) | Z2: Fluoro pink (13) | AA2: Weight (kg.) | AB2: Volume | AC2: XS | AD2: S | AE2: M | AF2: L | AG2: Xl | AH2: Mega | AI2: volumes | AK2: Total weight (kg) | AL2: Total volume | AM2: Total Amount | AN2: foot | AO2: jugs | AP2: pockets | AQ2: edges | AR2: pinches | AS2: slopers | AT2: Bolts for the Sets | BD2: » | BF2: « | BG2: SAP ID | BI2: foot | BJ2: jugs | BK2: pockets | BL2: edges | BM2: pinches | BN2: slopers
O3: view | P3: view | Q3: view | R3: view | S3: view | T3: view | U3: view | V3: view | W3: view | X3: view | Y3: view | Z3: view | AT3: 40 | AU3: 50 | AV3: 70 | AW3: 90 | AX3: 100 | AY3: 120 | BA3: SCR | BB3: CH | BE3: EUR Price
O4: =SUMPRODUCT($E$5:$E$185,O5:O185) -> 0 | P4: =SUMPRODUCT($E$5:$E$185,P5:P185) -> 0 | Q4: =SUMPRODUCT($E$5:$E$185,Q5:Q185) -> 0 | R4: =SUMPRODUCT($E$5:$E$185,R5:R185) -> 0 | S4: =SUMPRODUCT($E$5:$E$185,S5:S185) -> 0 | T4: =SUMPRODUCT($E$5:$E$185,T5:T185) -> 0 | U4: =SUMPRODUCT($E$5:$E$185,U5:U185) -> 0 | V4: =SUMPRODUCT($E$5:$E$185,V5:V185) -> 0 | ... Z4: =SUMPRODUCT($E$5:$E$185,Z5:Z185) -> 0
B5: JULIUS KERSCHER - THE GLASS BEAD GAME ALL PU DANNOMOND | C5: VIDEO PRESENTATIONS
A6: 10260 | B6: Definitions XS | C6: foot | D6: view | E6: 16 | F6: 16 | M6: 64.58 | N6: =SUM(O6:Z6) -> 0 | AA6: 0.48 | AC6: =$N6*F6 -> 0 | AD6: =$N6*G6 -> 0 | AE6: =$N6*H6 -> 0 | AF6: =$N6*I6 -> 0 | AG6: =$N6*J6 -> 0 | AH6: =$N6*K6 -> 0 | AK6: =AA6*N6 -> 0 | AM6: =N6*M6 -> 0 | AN6: 16 | BA6: =$N6*32 -> 0 | BG6: 21001094 | BI6: =$N6*AN6 -> 0 | BJ6: =$N6*AO6 -> 0 | BK6: =$N6*AP6 -> 0 | BL6: =$N6*AQ6 -> 0 | BM6: =$N6*AR6 -> 0 | BN6: =$N6*AS6 -> 0
A7: 10261 | B7: Echolot - XS-bolt on | C7: foot | D7: view | E7: 13 | F7: 3 | G7: 10 | M7: 85.06 | N7: =SUM(O7:Z7) -> 0 | AA7: 1.18 | AC7: =$N7*F7 -> 0 | AD7: =$N7*G7 -> 0 | AE7: =$N7*H7 -> 0 | AF7: =$N7*I7 -> 0 | AG7: =$N7*J7 -> 0 | AH7: =$N7*K7 -> 0 | AK7: =AA7*N7 -> 0 | AM7: =N7*M7 -> 0 | AN7: 13 | AT7: =$N7*9 -> 0 | AU7: =$N7*4 -> 0 | BG7: 21001095 | BI7: =$N7*AN7 -> 0 | BJ7: =$N7*AO7 -> 0 | BK7: =$N7*AP7 -> 0 | BL7: =$N7*AQ7 -> 0 | BM7: =$N7*AR7 -> 0 | BN7: =$N7*AS7 -> 0
A8: 10262 | B8: Pompeian atoms XS- round | C8: foot | D8: view | E8: 10 | F8: 10 | M8: 64.35 | N8: =SUM(O8:Z8) -> 0 | AA8: 0.83 | AC8: =$N8*F8 -> 0 | AD8: =$N8*G8 -> 0 | AE8: =$N8*H8 -> 0 | AF8: =$N8*I8 -> 0 | AG8: =$N8*J8 -> 0 | AH8: =$N8*K8 -> 0 | AK8: =AA8*N8 -> 0 | AM8: =N8*M8 -> 0 | AN8: 10 | AT8: =$N8*5 -> 0 | AU8: =$N8*5 -> 0 | BG8: 21001096 | BI8: =$N8*AN8 -> 0 | BJ8: =$N8*AO8 -> 0 | BK8: =$N8*AP8 -> 0 | BL8: =$N8*AQ8 -> 0 | BM8: =$N8*AR8 -> 0 | BN8: =$N8*AS8 -> 0
A9: 10263 | B9: Requiems and dreams-pinches XS | C9: foot | D9: view | E9: 10 | F9: 10 | M9: 45.68 | N9: =SUM(O9:Z9) -> 0 | AA9: 0.4 | AC9: =$N9*F9 -> 0 | AD9: =$N9*G9 -> 0 | AE9: =$N9*H9 -> 0 | AF9: =$N9*I9 -> 0 | AG9: =$N9*J9 -> 0 | AH9: =$N9*K9 -> 0 | AK9: =AA9*N9 -> 0 | AM9: =N9*M9 -> 0 | AN9: 10 | BA9: =$N9*20 -> 0 | BG9: 21001097 | BI9: =$N9*AN9 -> 0 | BJ9: =$N9*AO9 -> 0 | BK9: =$N9*AP9 -> 0 | BL9: =$N9*AQ9 -> 0 | BM9: =$N9*AR9 -> 0 | BN9: =$N9*AS9 -> 0
A10: 10325 | B10: Orientals- XS | C10: foot | D10: view | E10: 12 | F10: 12 | M10: 72.48 | N10: =SUM(O10:Z10) -> 0 | AA10: 1.44 | AC10: =$N10*F10 -> 0 | AD10: =$N10*G10 -> 0 | AE10: =$N10*H10 -> 0 | AF10: =$N10*I10 -> 0 | AG10: =$N10*J10 -> 0 | AH10: =$N10*K10 -> 0 | AK10: =AA10*N10 -> 0 | AM10: =N10*M10 -> 0 | AN10: 12 | AT10: =$N10*12 -> 0 | BG10: 21001227 | BI10: =$N10*AN10 -> 0 | BJ10: =$N10*AO10 -> 0 | BK10: =$N10*AP10 -> 0 | BL10: =$N10*AQ10 -> 0 | BM10: =$N10*AR10 -> 0 | BN10: =$N10*AS10 -> 0
A11: 10335 | B11: Globes - S | C11: foot holds | D11: view | E11: 10 | G11: 10 | M11: 90.81 | N11: =SUM(O11:Z11) -> 0 | AA11: 1.89 | AC11: =$N11*F11 -> 0 | AD11: =$N11*G11 -> 0 | AE11: =$N11*H11 -> 0 | AF11: =$N11*I11 -> 0 | AG11: =$N11*J11 -> 0 | AH11: =$N11*K11 -> 0 | AK11: =AA11*N11 -> 0 | AM11: =N11*M11 -> 0 | AN11: 10 | AT11: =$N11*10 -> 0 | BG11: 21001282 | BI11: =$N11*AN11 -> 0 | BJ11: =$N11*AO11 -> 0 | BK11: =$N11*AP11 -> 0 | BL11: =$N11*AQ11 -> 0 | BM11: =$N11*AR11 -> 0 | BN11: =$N11*AS11 -> 0
A12: 10264 | B12: Permits-micro edges S | C12: edges | D12: view | E12: 8 | G12: 8 | M12: 45.77 | N12: =SUM(O12:Z12) -> 0 | AA12: 0.59 | AC12: =$N12*F12 -> 0 | AD12: =$N12*G12 -> 0 | AE12: =$N12*H12 -> 0 | AF12: =$N12*I12 -> 0 | AG12: =$N12*J12 -> 0 | AH12: =$N12*K12 -> 0 | AK12: =AA12*N12 -> 0 | AM12: =N12*M12 -> 0 | AQ12: 8 | BA12: =$N12*16 -> 0 | BG12: 21001098 | BI12: =$N12*AN12 -> 0 | BJ12: =$N12*AO12 -> 0 | BK12: =$N12*AP12 -> 0 | BL12: =$N12*AQ12 -> 0 | BM12: =$N12*AR12 -> 0 | BN12: =$N12*AS12 -> 0
A13: 10265 | B13: Hermits-crimps S | C13: crimps | D13: view | E13: 6 | G13: 6 | M13: 45.32 | N13: =SUM(O13:Z13) -> 0 | AA13: 0.65 | AC13: =$N13*F13 -> 0 | AD13: =$N13*G13 -> 0 | AE13: =$N13*H13 -> 0 | AF13: =$N13*I13 -> 0 | AG13: =$N13*J13 -> 0 | AH13: =$N13*K13 -> 0 | AK13: =AA13*N13 -> 0 | AM13: =N13*M13 -> 0 | AQ13: 6 | AT13: =$N13*5 -> 0 | AU13: =$N13*1 -> 0 | BG13: 21001099 | BI13: =$N13*AN13 -> 0 | BJ13: =$N13*AO13 -> 0 | BK13: =$N13*AP13 -> 0 | BL13: =$N13*AQ13 -> 0 | BM13: =$N13*AR13 -> 0 | BN13: =$N13*AS13 -> 0
A14: 10266 | B14: Dancers in the arc-edges S | C14: edges | D14: view | E14: 10 | G14: 10 | M14: 70.03 | N14: =SUM(O14:Z14) -> 0 | AA14: 1 | AC14: =$N14*F14 -> 0 | AD14: =$N14*G14 -> 0 | AE14: =$N14*H14 -> 0 | AF14: =$N14*I14 -> 0 | AG14: =$N14*J14 -> 0 | AH14: =$N14*K14 -> 0 | AK14: =AA14*N14 -> 0 | AM14: =N14*M14 -> 0 | AQ14: 10 | AT14: =$N14*8 -> 0 | AU14: =$N14*32 -> 0 | BG14: 21001100 | BI14: =$N14*AN14 -> 0 | BJ14: =$N14*AO14 -> 0 | BK14: =$N14*AP14 -> 0 | BL14: =$N14*AQ14 -> 0 | BM14: =$N14*AR14 -> 0 | BN14: =$N14*AS14 -> 0
A15: 10267 | B15: Princes of darkness-edges S | C15: edges | D15: view | E15: 12 | G15: 12 | M15: 94.39 | N15: =SUM(O15:Z15) -> 0 | AA15: 1.59 | AC15: =$N15*F15 -> 0 | AD15: =$N15*G15 -> 0 | AE15: =$N15*H15 -> 0 | AF15: =$N15*I15 -> 0 | AG15: =$N15*J15 -> 0 | AH15: =$N15*K15 -> 0 | AK15: =AA15*N15 -> 0 | AM15: =N15*M15 -> 0 | AQ15: 12 | AT15: =$N15*7 -> 0 | AU15: =$N15*5 -> 0 | BG15: 21001101 | BI15: =$N15*AN15 -> 0 | BJ15: =$N15*AO15 -> 0 | BK15: =$N15*AP15 -> 0 | BL15: =$N15*AQ15 -> 0 | BM15: =$N15*AR15 -> 0 | BN15: =$N15*AS15 -> 0
A16: 10326 | B16: Dragonbreed - round edges S | C16: edges | D16: VIEW | E16: 10 | G16: 10 | M16: 102.87 | N16: =SUM(O16:Z16) -> 0 | AA16: 2.1 | AC16: =$N16*F16 -> 0 | AD16: =$N16*G16 -> 0 | AE16: =$N16*H16 -> 0 | AF16: =$N16*I16 -> 0 | AG16: =$N16*J16 -> 0 | AH16: =$N16*K16 -> 0 | AK16: =AA16*N16 -> 0 | AM16: =N16*M16 -> 0 | AQ16: 10 | AU16: =$N16*9 -> 0 | AV16: =$N16*1 -> 0 | BG16: 21001240 | BL16: =$N16*AQ16 -> 0
A17: 10330 | B17: Pawns - S | C17: round edges | D17: view | E17: 10 | G17: 10 | M17: 118.45 | N17: =SUM(O17:Z17) -> 0 | AA17: 2.79 | AC17: =$N17*F17 -> 0 | AD17: =$N17*G17 -> 0 | AE17: =$N17*H17 -> 0 | AF17: =$N17*I17 -> 0 | AG17: =$N17*J17 -> 0 | AH17: =$N17*K17 -> 0 | AK17: =AA17*N17 -> 0 | AM17: =N17*M17 -> 0 | AQ17: 10 | AV17: =$N17*10 -> 0 | BG17: 21001280 | BI17: =$N17*AN17 -> 0 | BJ17: =$N17*AO17 -> 0 | BK17: =$N17*AP17 -> 0 | BL17: =$N17*AQ17 -> 0 | BM17: =$N17*AR17 -> 0 | BN17: =$N17*AS17 -> 0
A18: 10268 | B18: Shadooms-edges M | C18: edges | D18: view | E18: 7 | H18: 7 | M18: 67.06 | N18: =SUM(O18:Z18) -> 0 | AA18: 1.24 | AC18: =$N18*F18 -> 0 | AD18: =$N18*G18 -> 0 | AE18: =$N18*H18 -> 0 | AF18: =$N18*I18 -> 0 | AG18: =$N18*J18 -> 0 | AH18: =$N18*K18 -> 0 | AK18: =AA18*N18 -> 0 | AM18: =N18*M18 -> 0 | AQ18: 7 | AT18: =$N18*4 -> 0 | AU18: =$N18*3 -> 0 | BG18: 21001102 | BI18: =$N18*AN18 -> 0 | BJ18: =$N18*AO18 -> 0 | BK18: =$N18*AP18 -> 0 | BL18: =$N18*AQ18 -> 0 | BM18: =$N18*AR18 -> 0 | BN18: =$N18*AS18 -> 0
A19: 10269 | B19: Prisonms-incut edges M | C19: edges | D19: view | E19: 13 | H19: 13 | M19: 136.68 | N19: =SUM(O19:Z19) -> 0 | AA19: 2.91 | AC19: =$N19*F19 -> 0 | AD19: =$N19*G19 -> 0 | AE19: =$N19*H19 -> 0 | AF19: =$N19*I19 -> 0 | AG19: =$N19*J19 -> 0 | AH19: =$N19*K19 -> 0 | AK19: =AA19*N19 -> 0 | AM19: =N19*M19 -> 0 | AQ19: 13 | AT19: =$N19*3 -> 0 | AU19: =$N19*9 -> 0 | AV19: =$N19*1 -> 0 | BG19: 21001103 | BI19: =$N19*AN19 -> 0 | BJ19: =$N19*AO19 -> 0 | BK19: =$N19*AP19 -> 0 | BL19: =$N19*AQ19 -> 0 | BM19: =$N19*AR19 -> 0 | BN19: =$N19*AS19 -> 0
A20: 10327 | B20: Dragonfruit - round edges M | C20: edges | D20: VIEW | E20: 10 | H20: 10 | M20: 139.71 | N20: =SUM(O20:Z20) -> 0 | AA20: 3.5 | AC20: =$N20*F20 -> 0 | AD20: =$N20*G20 -> 0 | AE20: =$N20*H20 -> 0 | AF20: =$N20*I20 -> 0 | AG20: =$N20*J20 -> 0 | AH20: =$N20*K20 -> 0 | AK20: =AA20*N20 -> 0 | AM20: =N20*M20 -> 0 | AQ20: 10 | AU20: =$N20*3 -> 0 | AV20: =$N20*7 -> 0 | BG20: 21001241 | BL20: =$N20*AQ20 -> 0
A21: 10331 | B21: Pawns - M | C21: positive round edges | D21: VIEW | E21: 10 | H21: 10 | M21: 164.84 | N21: =SUM(O21:Z21) -> 0 | AA21: 4.37 | AC21: =$N21*F21 -> 0 | AD21: =$N21*G21 -> 0 | AE21: =$N21*H21 -> 0 | AF21: =$N21*I21 -> 0 | AG21: =$N21*J21 -> 0 | AH21: =$N21*K21 -> 0 | AK21: =AA21*N21 -> 0 | AM21: =N21*M21 -> 0 | AQ21: 10 | AV21: =$N21*10 -> 0 | BG21: 21001281 | BI21: =$N21*AN21 -> 0 | BJ21: =$N21*AO21 -> 0 | BK21: =$N21*AP21 -> 0 | BL21: =$N21*AQ21 -> 0 | BM21: =$N21*AR21 -> 0 | BN21: =$N21*AS21 -> 0
A22: 10270 | B22: Siddpathos-multy edges M and L | C22: edges | D22: view | E22: 7 | H22: 1 | I22: 6 | M22: 115.61 | N22: =SUM(O22:Z22) -> 0 | AA22: 3.02 | AC22: =$N22*F22 -> 0 | AD22: =$N22*G22 -> 0 | AE22: =$N22*H22 -> 0 | AF22: =$N22*I22 -> 0 | AG22: =$N22*J22 -> 0 | AH22: =$N22*K22 -> 0 | AK22: =AA22*N22 -> 0 | AM22: =N22*M22 -> 0 | AQ22: 7 | AV22: =$N22*7 -> 0 | BG22: 21001104 | BI22: =$N22*AN22 -> 0 | BJ22: =$N22*AO22 -> 0 | BK22: =$N22*AP22 -> 0 | BL22: =$N22*AQ22 -> 0 | BM22: =$N22*AR22 -> 0 | BN22: =$N22*AS22 -> 0
A23: 10271 | B23: Oddyssoy-slopy crimps-mixed | C23: crimps | D23: view | E23: 8 | H23: 2 | I23: 2 | J23: 4 | M23: 186.1 | N23: =SUM(O23:Z23) -> 0 | AA23: 5.21 | AC23: =$N23*F23 -> 0 | AD23: =$N23*G23 -> 0 | AE23: =$N23*H23 -> 0 | AF23: =$N23*I23 -> 0 | AG23: =$N23*J23 -> 0 | AH23: =$N23*K23 -> 0 | AK23: =AA23*N23 -> 0 | AM23: =N23*M23 -> 0 | AQ23: 8 | AU23: =$N23*2 -> 0 | AV23: =$N23*2 -> 0 | AW23: =$N23*4 -> 0 | BG23: 21001105 | BI23: =$N23*AN23 -> 0 | BJ23: =$N23*AO23 -> 0 | BK23: =$N23*AP23 -> 0 | BL23: =$N23*AQ23 -> 0 | BM23: =$N23*AR23 -> 0 | BN23: =$N23*AS23 -> 0
A24: 10272 | B24: Narkosiskiss-slopy edges XL | C24: edges | D24: view | E24: 4 | J24: 4 | M24: 143.35 | N24: =SUM(O24:Z24) -> 0 | AA24: 4.25 | AC24: =$N24*F24 -> 0 | AD24: =$N24*G24 -> 0 | AE24: =$N24*H24 -> 0 | AF24: =$N24*I24 -> 0 | AG24: =$N24*J24 -> 0 | AH24: =$N24*K24 -> 0 | AK24: =AA24*N24 -> 0 | AM24: =N24*M24 -> 0 | AQ24: 4 | AV24: =$N24*1 -> 0 | AW24: =$N24*3 -> 0 | BG24: 21001106 | BI24: =$N24*AN24 -> 0 | BJ24: =$N24*AO24 -> 0 | BK24: =$N24*AP24 -> 0 | BL24: =$N24*AQ24 -> 0 | BM24: =$N24*AR24 -> 0 | BN24: =$N24*AS24 -> 0
A25: 11273 | B25: Magister ludi-slopy edges Mega- PU hollowback | C25: edges | D25: view | E25: 4 | K25: 4 | M25: 130.4964 | N25: =SUM(O25:Z25) -> 0 | AA25: 2.19 | AC25: =$N25*F25 -> 0 | AD25: =$N25*G25 -> 0 | AE25: =$N25*H25 -> 0 | AF25: =$N25*I25 -> 0 | AG25: =$N25*J25 -> 0 | AH25: =$N25*K25 -> 0 | AK25: =AA25*N25 -> 0 | AM25: =N25*M25 -> 0 | AQ25: 4 | BG25: 21001122 | BI25: =$N25*AN25 -> 0 | BJ25: =$N25*AO25 -> 0 | BK25: =$N25*AP25 -> 0 | BL25: =$N25*AQ25 -> 0 | BM25: =$N25*AR25 -> 0 | BN25: =$N25*AS25 -> 0
A26: 11274 | B26: Camelions child-slopy edges Mega - PU hollowback | C26: edges | D26: view | E26: 4 | K26: 4 | M26: 121.5 | N26: =SUM(O26:Z26) -> 0 | AA26: 1.93 | AC26: =$N26*F26 -> 0 | AD26: =$N26*G26 -> 0 | AE26: =$N26*H26 -> 0 | AF26: =$N26*I26 -> 0 | AG26: =$N26*J26 -> 0 | AH26: =$N26*K26 -> 0 | AK26: =AA26*N26 -> 0 | AM26: =N26*M26 -> 0 | AQ26: 4 | BG26: 21001123 | BI26: =$N26*AN26 -> 0 | BJ26: =$N26*AO26 -> 0 | BK26: =$N26*AP26 -> 0 | BL26: =$N26*AQ26 -> 0 | BM26: =$N26*AR26 -> 0 | BN26: =$N26*AS26 -> 0
A27: 10275 | B27: Eros and ion-goody edges XL Mega | C27: edges | D27: view | E27: 4 | J27: 2 | K27: 2 | M27: 132.84 | N27: =SUM(O27:Z27) -> 0 | AA27: 3.91 | AC27: =$N27*F27 -> 0 | AD27: =$N27*G27 -> 0 | AE27: =$N27*H27 -> 0 | AF27: =$N27*I27 -> 0 | AG27: =$N27*J27 -> 0 | AH27: =$N27*K27 -> 0 | AK27: =AA27*N27 -> 0 | AM27: =N27*M27 -> 0 | AQ27: 4 | AV27: =$N27*3 -> 0 | AW27: =$N27*1 -> 0 | BG27: 21001107 | BI27: =$N27*AN27 -> 0 | BJ27: =$N27*AO27 -> 0 | BK27: =$N27*AP27 -> 0 | BL27: =$N27*AQ27 -> 0 | BM27: =$N27*AR27 -> 0 | BN27: =$N27*AS27 -> 0
A28: 10276 | B28: Pressence-pinches M | C28: pinches | D28: view | E28: 7 | H28: 7 | M28: 67.39 | N28: =SUM(O28:Z28) -> 0 | AA28: 1.26 | AC28: =$N28*F28 -> 0 | AD28: =$N28*G28 -> 0 | AE28: =$N28*H28 -> 0 | AF28: =$N28*I28 -> 0 | AG28: =$N28*J28 -> 0 | AH28: =$N28*K28 -> 0 | AK28: =AA28*N28 -> 0 | AM28: =N28*M28 -> 0 | AR28: 7 | AT28: =$N28*3 -> 0 | AU28: =$N28*4 -> 0 | BG28: 21001108 | BI28: =$N28*AN28 -> 0 | BJ28: =$N28*AO28 -> 0 | BK28: =$N28*AP28 -> 0 | BL28: =$N28*AQ28 -> 0 | BM28: =$N28*AR28 -> 0 | BN28: =$N28*AS28 -> 0
A29: 10277 | B29: Fluturs-Pinches L | C29: pinches | D29: view | E29: 7 | I29: 7 | M29: 116.29 | N29: =SUM(O29:Z29) -> 0 | AA29: 2.89 | AC29: =$N29*F29 -> 0 | AD29: =$N29*G29 -> 0 | AE29: =$N29*H29 -> 0 | AF29: =$N29*I29 -> 0 | AG29: =$N29*J29 -> 0 | AH29: =$N29*K29 -> 0 | AK29: =AA29*N29 -> 0 | AM29: =N29*M29 -> 0 | AR29: 7 | AU29: =$N29*2 -> 0 | AV29: =$N29*5 -> 0 | BG29: 21001109 | BI29: =$N29*AN29 -> 0 | BJ29: =$N29*AO29 -> 0 | BK29: =$N29*AP29 -> 0 | BL29: =$N29*AQ29 -> 0 | BM29: =$N29*AR29 -> 0 | BN29: =$N29*AS29 -> 0
A30: 10278 | B30: Organtics-Pinches XL | C30: pinches | D30: view | E30: 3 | J30: 3 | M30: 99.26 | N30: =SUM(O30:Z30) -> 0 | AA30: 2.92 | AC30: =$N30*F30 -> 0 | AD30: =$N30*G30 -> 0 | AE30: =$N30*H30 -> 0 | AF30: =$N30*I30 -> 0 | AG30: =$N30*J30 -> 0 | AH30: =$N30*K30 -> 0 | AK30: =AA30*N30 -> 0 | AM30: =N30*M30 -> 0 | AR30: 3 | AV30: =$N30*1 -> 0 | AW30: =$N30*2 -> 0 | BG30: 21001110 | BI30: =$N30*AN30 -> 0 | BJ30: =$N30*AO30 -> 0 | BK30: =$N30*AP30 -> 0 | BL30: =$N30*AQ30 -> 0 | BM30: =$N30*AR30 -> 0 | BN30: =$N30*AS30 -> 0
A31: 11279 | B31: Falcon eagle and snake Pinches Mega- PU hollowback | C31: pinches | D31: view | E31: 3 | K31: 3 | M31: 110.7 | N31: =SUM(O31:Z31) -> 0 | AA31: 1.9 | AC31: =$N31*F31 -> 0 | AD31: =$N31*G31 -> 0 | AE31: =$N31*H31 -> 0 | AF31: =$N31*I31 -> 0 | AG31: =$N31*J31 -> 0 | AH31: =$N31*K31 -> 0 | AK31: =AA31*N31 -> 0 | AM31: =N31*M31 -> 0 | AR31: 3 | BG31: 21001124 | BI31: =$N31*AN31 -> 0 | BJ31: =$N31*AO31 -> 0 | BK31: =$N31*AP31 -> 0 | BL31: =$N31*AQ31 -> 0 | BM31: =$N31*AR31 -> 0 | BN31: =$N31*AS31 -> 0
A32: 10336 | B32: Мicroscopics - M | C32: mini jugs | D32: view | E32: 10 | H32: 10 | M32: 101.1 | N32: =SUM(O32:Z32) -> 0 | AA32: 2.22 | AC32: =$N32*F32 -> 0 | AD32: =$N32*G32 -> 0 | AE32: =$N32*H32 -> 0 | AF32: =$N32*I32 -> 0 | AG32: =$N32*J32 -> 0 | AH32: =$N32*K32 -> 0 | AK32: =AA32*N32 -> 0 | AM32: =N32*M32 -> 0 | AO32: 10 | AT32: =$N32*1 -> 0 | AU32: =$N32*9 -> 0 | BG32: 21001283 | BI32: =$N32*AN32 -> 0 | BJ32: =$N32*AO32 -> 0 | BK32: =$N32*AP32 -> 0 | BL32: =$N32*AQ32 -> 0 | BM32: =$N32*AR32 -> 0 | BN32: =$N32*AS32 -> 0
A33: 10280 | B33: Qnightship-jugs M | C33: jugs | D33: view | E33: 12 | H33: 12 | M33: 178.42 | N33: =SUM(O33:Z33) -> 0 | AA33: 4.53 | AC33: =$N33*F33 -> 0 | AD33: =$N33*G33 -> 0 | AE33: =$N33*H33 -> 0 | AF33: =$N33*I33 -> 0 | AG33: =$N33*J33 -> 0 | AH33: =$N33*K33 -> 0 | AK33: =AA33*N33 -> 0 | AM33: =N33*M33 -> 0 | AO33: 12 | AV33: =$N33*5 -> 0 | AW33: =$N33*7 -> 0 | BG33: 21001111 | BI33: =$N33*AN33 -> 0 | BJ33: =$N33*AO33 -> 0 | BK33: =$N33*AP33 -> 0 | BL33: =$N33*AQ33 -> 0 | BM33: =$N33*AR33 -> 0 | BN33: =$N33*AS33 -> 0
A34: 10281 | B34: Elder brothers-Jugs L | C34: jugs | D34: view | E34: 7 | I34: 7 | M34: 153.68 | N34: =SUM(O34:Z34) -> 0 | AA34: 4.26 | AC34: =$N34*F34 -> 0 | AD34: =$N34*G34 -> 0 | AE34: =$N34*H34 -> 0 | AF34: =$N34*I34 -> 0 | AG34: =$N34*J34 -> 0 | AH34: =$N34*K34 -> 0 | AK34: =AA34*N34 -> 0 | AM34: =N34*M34 -> 0 | AO34: 7 | AU34: =$N34*1 -> 0 | AV34: =$N34*6 -> 0 | BG34: 21001112 | BI34: =$N34*AN34 -> 0 | BJ34: =$N34*AO34 -> 0 | BK34: =$N34*AP34 -> 0 | BL34: =$N34*AQ34 -> 0 | BM34: =$N34*AR34 -> 0 | BN34: =$N34*AS34 -> 0
A35: 10282 | B35: Ervulotion-Jugs XL | C35: jugs | D35: view | E35: 4 | J35: 4 | M35: 132.74 | N35: =SUM(O35:Z35) -> 0 | AA35: 3.9 | AC35: =$N35*F35 -> 0 | AD35: =$N35*G35 -> 0 | AE35: =$N35*H35 -> 0 | AF35: =$N35*I35 -> 0 | AG35: =$N35*J35 -> 0 | AH35: =$N35*K35 -> 0 | AK35: =AA35*N35 -> 0 | AM35: =N35*M35 -> 0 | AO35: 4 | AV35: =$N35*4 -> 0 | BG35: 21001113 | BI35: =$N35*AN35 -> 0 | BJ35: =$N35*AO35 -> 0 | BK35: =$N35*AP35 -> 0 | BL35: =$N35*AQ35 -> 0 | BM35: =$N35*AR35 -> 0 | BN35: =$N35*AS35 -> 0
A36: 10283 | B36: Monast-airy-Jugs Mega | C36: jugs | D36: view | E36: 5 | K36: 5 | M36: 186.26 | N36: =SUM(O36:Z36) -> 0 | AA36: 5.33 | AC36: =$N36*F36 -> 0 | AD36: =$N36*G36 -> 0 | AE36: =$N36*H36 -> 0 | AF36: =$N36*I36 -> 0 | AG36: =$N36*J36 -> 0 | AH36: =$N36*K36 -> 0 | AK36: =AA36*N36 -> 0 | AM36: =N36*M36 -> 0 | AO36: 5 | AV36: =$N36*5 -> 0 | BG36: 21001114 | BI36: =$N36*AN36 -> 0 | BJ36: =$N36*AO36 -> 0 | BK36: =$N36*AP36 -> 0 | BL36: =$N36*AQ36 -> 0 | BM36: =$N36*AR36 -> 0 | BN36: =$N36*AS36 -> 0
A37: 12284 | B37: Quarks for muster mark-pockets mixed-PU | C37: pockets | D37: view | E37: 6 | H37: 1 | I37: 3 | J37: 2 | M37: 158.52 | N37: =SUM(O37:Z37) -> 0 | AA37: 2.66 | AC37: =$N37*F37 -> 0 | AD37: =$N37*G37 -> 0 | AE37: =$N37*H37 -> 0 | AF37: =$N37*I37 -> 0 | AG37: =$N37*J37 -> 0 | AH37: =$N37*K37 -> 0 | AK37: =AA37*N37 -> 0 | AM37: =N37*M37 -> 0 | AP37: 6 | AU37: =$N37*1 -> 0 | AV37: =$N37*5 -> 0 | BG37: 21001150 | BI37: =$N37*AN37 -> 0 | BJ37: =$N37*AO37 -> 0 | BK37: =$N37*AP37 -> 0 | BL37: =$N37*AQ37 -> 0 | BM37: =$N37*AR37 -> 0 | BN37: =$N37*AS37 -> 0
A38: 11285 | B38: Stigmatata - PU - hollowback | C38: Pockets mega | D38: VIEW | E38: 2 | K38: 2 | M38: 114.2964 | N38: =SUM(O38:Z38) -> 0 | AA38: 1.84 | AC38: =$N38*F38 -> 0 | AD38: =$N38*G38 -> 0 | AE38: =$N38*H38 -> 0 | AF38: =$N38*I38 -> 0 | AG38: =$N38*J38 -> 0 | AH38: =$N38*K38 -> 0 | AI38: =$N38*L38 -> 0 | AK38: =AA38*N38 -> 0 | AM38: =N38*M38 -> 0 | AP38: 2 | AW38: =$N38*2 -> 0 | BG38: 21001218 | BK38: =$N38*AP38 -> 0
A39: 11286 | B39: Scaramour 1 - PU- hollowback | C39: Pocket volume | D39: VIEW | E39: 1 | L39: 1 | M39: 99.0036 | N39: =SUM(O39:Z39) -> 0 | AA39: 1.75 | AI39: =$N39*L39 -> 0 | AK39: =AA39*N39 -> 0 | AM39: =N39*M39 -> 0 | AP39: 1 | AZ39: =$N39*1 -> 0 | BG39: 21001219 | BK39: =$N39*AP39 -> 0
A40: 11287 | B40: Scaramour 2 - PU- hollowback | C40: Pocket volume | D40: VIEW | E40: 1 | L40: 1 | M40: 138.5964 | N40: =SUM(O40:Z40) -> 0 | AA40: 2.5 | AI40: =$N40*L40 -> 0 | AK40: =AA40*N40 -> 0 | AM40: =N40*M40 -> 0 | AP40: 1 | AY40: =$N40*1 -> 0 | BG40: 21001220 | BK40: =$N40*AP40 -> 0
A41: 11288 | B41: Scaramour 3 - PU- hollowback | C41: Pocket volume | D41: VIEW | E41: 1 | L41: 1 | M41: 126.0036 | N41: =SUM(O41:Z41) -> 0 | AA41: 2.3 | AI41: =$N41*L41 -> 0 | AK41: =AA41*N41 -> 0 | AM41: =N41*M41 -> 0 | AP41: 1 | AZ41: =$N41*1 -> 0 | BG41: 21001221 | BK41: =$N41*AP41 -> 0
A42: 11289 | B42: Scaramour 4 - PU- hollowback | C42: Pocket volume | D42: VIEW | E42: 1 | L42: 1 | M42: 179.0964 | N42: =SUM(O42:Z42) -> 0 | AA42: 3.35 | AI42: =$N42*L42 -> 0 | AK42: =AA42*N42 -> 0 | AM42: =N42*M42 -> 0 | AP42: 1 | BG42: 21001222 | BK42: =$N42*AP42 -> 0
A43: 10320 | B43: Exxams - Double crimps | C43: crimps | D43: view | E43: 5 | I43: 5 | M43: 111.58 | N43: =SUM(O43:Z43) -> 0 | AA43: 3.1 | AC43: =$N43*F43 -> 0 | AD43: =$N43*G43 -> 0 | AE43: =$N43*H43 -> 0 | AF43: =$N43*I43 -> 0 | AG43: =$N43*J43 -> 0 | AH43: =$N43*K43 -> 0 | AK43: =AA43*N43 -> 0 | AM43: =N43*M43 -> 0 | AQ43: 5 | AU43: =$N43*3 -> 0 | AV43: =$N43*2 -> 0 | BG43: 21001160 | BI43: =$N43*AN43 -> 0 | BJ43: =$N43*AO43 -> 0 | BK43: =$N43*AP43 -> 0 | BL43: =$N43*AQ43 -> 0 | BM43: =$N43*AR43 -> 0 | BN43: =$N43*AS43 -> 0
A44: 10322 | B44: Digmatism - M L XL | C44: pockets | D44: view | E44: 8 | H44: 2 | I44: 4 | J44: 2 | M44: 181.03 | N44: =SUM(O44:Z44) -> 0 | AA44: 5.05 | AC44: =$N44*F44 -> 0 | AD44: =$N44*G44 -> 0 | AE44: =$N44*H44 -> 0 | AF44: =$N44*I44 -> 0 | AG44: =$N44*J44 -> 0 | AH44: =$N44*K44 -> 0 | AK44: =AA44*N44 -> 0 | AM44: =N44*M44 -> 0 | AP44: 8 | AU44: =$N44*5 -> 0 | AV44: =$N44*3 -> 0 | BG44: 21001226 | BI44: =$N44*AN44 -> 0 | BJ44: =$N44*AO44 -> 0 | BK44: =$N44*AP44 -> 0 | BL44: =$N44*AQ44 -> 0 | BM44: =$N44*AR44 -> 0 | BN44: =$N44*AS44 -> 0
A45: 11323 | B45: Promoticons - big slopy edges Mega | C45: edges | D45: VIEW | E45: 5 | K45: 5 | M45: 231.3036 | N45: =SUM(O45:Z45) -> 0 | AA45: 3.45 | AC45: =$N45*F45 -> 0 | AD45: =$N45*G45 -> 0 | AE45: =$N45*H45 -> 0 | AF45: =$N45*I45 -> 0 | AG45: =$N45*J45 -> 0 | AH45: =$N45*K45 -> 0 | AK45: =AA45*N45 -> 0 | AM45: =N45*M45 -> 0 | AQ45: 5 | AV45: =$N45*1 -> 0 | AW45: =$N45*4 -> 0 | BG45: 21001231 | BI45: =$N45*AN45 -> 0 | BJ45: =$N45*AO45 -> 0 | BK45: =$N45*AP45 -> 0 | BL45: =$N45*AQ45 -> 0 | BM45: =$N45*AR45 -> 0 | BN45: =$N45*AS45 -> 0
A46: 11324 | B46: Soulace - big flat edges Mega | C46: edges | D46: view | E46: 4 | K46: 4 | M46: 172.8 | N46: =SUM(O46:Z46) -> 0 | AA46: 2.52 | AC46: =$N46*F46 -> 0 | AD46: =$N46*G46 -> 0 | AE46: =$N46*H46 -> 0 | AF46: =$N46*I46 -> 0 | AG46: =$N46*J46 -> 0 | AH46: =$N46*K46 -> 0 | AK46: =AA46*N46 -> 0 | AM46: =N46*M46 -> 0 | AQ46: 4 | AV46: =$N46*4 -> 0 | BG46: 21001232 | BI46: =$N46*AN46 -> 0 | BJ46: =$N46*AO46 -> 0 | BK46: =$N46*AP46 -> 0 | BL46: =$N46*AQ46 -> 0 | BM46: =$N46*AR46 -> 0 | BN46: =$N46*AS46 -> 0
A47: 11328 | B47: Dragonbread - round edges Mega | C47: edges | D47: VIEW | E47: 4 | K47: 4 | M47: 169.2036 | N47: =SUM(O47:Z47) -> 0 | AA47: 2.5 | AC47: =$N47*F47 -> 0 | AD47: =$N47*G47 -> 0 | AE47: =$N47*H47 -> 0 | AF47: =$N47*I47 -> 0 | AG47: =$N47*J47 -> 0 | AH47: =$N47*K47 -> 0 | AK47: =AA47*N47 -> 0 | AM47: =N47*M47 -> 0 | AQ47: 4 | AW47: =$N47*1 -> 0 | AX47: =$N47*2 -> 0 | AY47: =$N47*1 -> 0 | BG47: 21001242 | BI47: =$N47*AN47 -> 0 | BJ47: =$N47*AO47 -> 0 | BK47: =$N47*AP47 -> 0 | BL47: =$N47*AQ47 -> 0 | BM47: =$N47*AR47 -> 0 | BN47: =$N47*AS47 -> 0
A48: 10337 | B48: Beams 1- L | C48: round edges | D48: VIEW | E48: 5 | I48: 5 | M48: 111.58 | N48: =SUM(O48:Z48) -> 0 | AA48: 3.11 | AC48: =$N48*F48 -> 0 | AD48: =$N48*G48 -> 0 | AE48: =$N48*H48 -> 0 | AF48: =$N48*I48 -> 0 | AG48: =$N48*J48 -> 0 | AH48: =$N48*K48 -> 0 | AK48: =AA48*N48 -> 0 | AM48: =N48*M48 -> 0 | AQ48: 5 | AV48: =$N48*5 -> 0 | BG48: 21001284 | BI48: =$N48*AN48 -> 0 | BJ48: =$N48*AO48 -> 0 | BK48: =$N48*AP48 -> 0 | BL48: =$N48*AQ48 -> 0 | BM48: =$N48*AR48 -> 0 | BN48: =$N48*AS48 -> 0
A49: 10338 | B49: Beams 2- L | C49: round edges | D49: VIEW | E49: 5 | I49: 5 | M49: 118.23 | N49: =SUM(O49:Z49) -> 0 | AA49: 3.33 | AC49: =$N49*F49 -> 0 | AD49: =$N49*G49 -> 0 | AE49: =$N49*H49 -> 0 | AF49: =$N49*I49 -> 0 | AG49: =$N49*J49 -> 0 | AH49: =$N49*K49 -> 0 | AK49: =AA49*N49 -> 0 | AM49: =N49*M49 -> 0 | AQ49: 5 | AV49: =$N49*5 -> 0 | BG49: 21001285 | BI49: =$N49*AN49 -> 0 | BJ49: =$N49*AO49 -> 0 | BK49: =$N49*AP49 -> 0 | BL49: =$N49*AQ49 -> 0 | BM49: =$N49*AR49 -> 0 | BN49: =$N49*AS49 -> 0
A50: 11332 | B50: Bishops - Mega | C50: long positive round edges | D50: VIEW | E50: 6 | K50: 6 | M50: 218.7 | N50: =SUM(O50:Z50) -> 0 | AA50: 3.04 | AC50: =$N50*F50 -> 0 | AD50: =$N50*G50 -> 0 | AE50: =$N50*H50 -> 0 | AF50: =$N50*I50 -> 0 | AG50: =$N50*J50 -> 0 | AH50: =$N50*K50 -> 0 | AK50: =AA50*N50 -> 0 | AM50: =N50*M50 -> 0 | AQ50: 6 | AV50: =$N50*3 -> 0 | AW50: =$N50*3 -> 0 | BG50: 21001286 | BI50: =$N50*AN50 -> 0 | BJ50: =$N50*AO50 -> 0 | BK50: =$N50*AP50 -> 0 | BL50: =$N50*AQ50 -> 0 | BM50: =$N50*AR50 -> 0 | BN50: =$N50*AS50 -> 0
A51: 11333 | B51: Jolly jumpers - Mega | C51: big positive round edges | D51: VIEW | E51: 4 | K51: 4 | M51: 131.4036 | N51: =SUM(O51:Z51) -> 0 | AA51: 1.78 | AC51: =$N51*F51 -> 0 | AD51: =$N51*G51 -> 0 | AE51: =$N51*H51 -> 0 | AF51: =$N51*I51 -> 0 | AG51: =$N51*J51 -> 0 | AH51: =$N51*K51 -> 0 | AK51: =AA51*N51 -> 0 | AM51: =N51*M51 -> 0 | AQ51: 4 | AW51: =$N51*4 -> 0 | BG51: 21001287 | BI51: =$N51*AN51 -> 0 | BJ51: =$N51*AO51 -> 0 | BK51: =$N51*AP51 -> 0 | BL51: =$N51*AQ51 -> 0 | BM51: =$N51*AR51 -> 0 | BN51: =$N51*AS51 -> 0
A52: 12339 | B52: Skylophons - Mega | C52: long edges | D52: VIEW | E52: 3 | K52: 3 | M52: 186.16 | N52: =SUM(O52:Z52) -> 0 | AA52: 3.57 | AC52: =$N52*F52 -> 0 | AD52: =$N52*G52 -> 0 | AE52: =$N52*H52 -> 0 | AF52: =$N52*I52 -> 0 | AG52: =$N52*J52 -> 0 | AH52: =$N52*K52 -> 0 | AK52: =AA52*N52 -> 0 | AM52: =N52*M52 -> 0 | AQ52: 3 | AU52: =$N52*1 -> 0 | AV52: =$N52*2 -> 0 | BG52: 21001288 | BI52: =$N52*AN52 -> 0 | BJ52: =$N52*AO52 -> 0 | BK52: =$N52*AP52 -> 0 | BL52: =$N52*AQ52 -> 0 | BM52: =$N52*AR52 -> 0 | BN52: =$N52*AS52 -> 0
A53: 10329 | B53: Supernova - roof jugs Mega | C53: roof jugs | D53: VIEW | E53: 3 | K53: 3 | M53: 162.06 | N53: =SUM(O53:Z53) -> 0 | AA53: 4.9 | AC53: =$N53*F53 -> 0 | AD53: =$N53*G53 -> 0 | AE53: =$N53*H53 -> 0 | AF53: =$N53*I53 -> 0 | AG53: =$N53*J53 -> 0 | AH53: =$N53*K53 -> 0 | AK53: =AA53*N53 -> 0 | AM53: =N53*M53 -> 0 | AO53: 3 | AV53: =$N53*1 -> 0 | AW53: =$N53*2 -> 0 | BG53: 21001243 | BI53: =$N53*AN53 -> 0 | BJ53: =$N53*AO53 -> 0 | BK53: =$N53*AP53 -> 0 | BL53: =$N53*AQ53 -> 0 | BM53: =$N53*AR53 -> 0 | BN53: =$N53*AS53 -> 0
A54: 11340 | B54: Horizons - Mega - 11340 | C54: edges | D54: NEW | E54: 3 | K54: 3 | M54: 160.35 | N54: =SUM(O54:Z54) -> 0 | AA54: 2.6 | AC54: =$N54*F54 -> 0 | AD54: =$N54*G54 -> 0 | AE54: =$N54*H54 -> 0 | AF54: =$N54*I54 -> 0 | AG54: =$N54*J54 -> 0 | AH54: =$N54*K54 -> 0 | AK54: =AA54*N54 -> 0 | AM54: =N54*M54 -> 0
A55: 10342 | B55: Banks - Small - 10342 | C55: Foot | D55: NEW | E55: 10 | G55: 10 | M55: 139.38 | N55: =SUM(O55:Z55) -> 0 | AA55: 3.8 | AC55: =$N55*F55 -> 0 | AD55: =$N55*G55 -> 0 | AE55: =$N55*H55 -> 0 | AF55: =$N55*I55 -> 0 | AG55: =$N55*J55 -> 0 | AH55: =$N55*K55 -> 0 | AK55: =AA55*N55 -> 0 | AM55: =N55*M55 -> 0
A56: 11343 | B56: Thumberstorm - Medium - 11343 | C56: edges | D56: NEW | E56: 10 | H56: 10 | M56: 153.72 | N56: =SUM(O56:Z56) -> 0 | AA56: 4.4 | AC56: =$N56*F56 -> 0 | AD56: =$N56*G56 -> 0 | AE56: =$N56*H56 -> 0 | AF56: =$N56*I56 -> 0 | AG56: =$N56*J56 -> 0 | AH56: =$N56*K56 -> 0 | AK56: =AA56*N56 -> 0 | AM56: =N56*M56 -> 0
A57: 10344 | B57: Sliders - Large - 10344 | C57: edges | D57: NEW | E57: 6 | I57: 6 | M57: 162.96 | N57: =SUM(O57:Z57) -> 0 | AA57: 5.2 | AC57: =$N57*F57 -> 0 | AD57: =$N57*G57 -> 0 | AE57: =$N57*H57 -> 0 | AF57: =$N57*I57 -> 0 | AG57: =$N57*J57 -> 0 | AH57: =$N57*K57 -> 0 | AK57: =AA57*N57 -> 0 | AM57: =N57*M57 -> 0
B58: DARIO STEFANOU - OMICRON
A59: 12290 | B59: Omicron - xs - PU - screw | C59: foot | D59: view | E59: 5 | F59: 5 | M59: 26.88 | N59: =SUM(O59:Z59) -> 0 | AA59: 0.156 | AC59: =$N59*F59 -> 0 | AD59: =$N59*G59 -> 0 | AE59: =$N59*H59 -> 0 | AF59: =$N59*I59 -> 0 | AG59: =$N59*J59 -> 0 | AH59: =$N59*K59 -> 0 | AK59: =AA59*N59 -> 0 | AM59: =N59*M59 -> 0 | AN59: 5 | BA59: =$N59*11 -> 0 | BG59: 21001192 | BI59: =$N59*AN59 -> 0 | BJ59: =$N59*AO59 -> 0 | BK59: =$N59*AP59 -> 0 | BL59: =$N59*AQ59 -> 0 | BM59: =$N59*AR59 -> 0 | BN59: =$N59*AS59 -> 0
A60: 12291 | B60: Omicron - M - PU | C60: pinches/edges | D60: view | E60: 10 | H60: 10 | M60: 102.93 | N60: =SUM(O60:Z60) -> 0 | AA60: 1.375 | AC60: =$N60*F60 -> 0 | AD60: =$N60*G60 -> 0 | AE60: =$N60*H60 -> 0 | AF60: =$N60*I60 -> 0 | AG60: =$N60*J60 -> 0 | AH60: =$N60*K60 -> 0 | AK60: =AA60*N60 -> 0 | AM60: =N60*M60 -> 0 | AQ60: 8 | AR60: 2 | AT60: =$N60*1 -> 0 | AU60: =$N60*1 -> 0 | BG60: 21001193 | BI60: =$N60*AN60 -> 0 | BJ60: =$N60*AO60 -> 0 | BK60: =$N60*AP60 -> 0 | BL60: =$N60*AQ60 -> 0 | BM60: =$N60*AR60 -> 0 | BN60: =$N60*AS60 -> 0
A61: 12292 | B61: Omicron - L - PU | C61: edges | D61: view | E61: 7 | I61: 7 | M61: 248.01 | N61: =SUM(O61:Z61) -> 0 | AA61: 4.766 | AC61: =$N61*F61 -> 0 | AD61: =$N61*G61 -> 0 | AE61: =$N61*H61 -> 0 | AF61: =$N61*I61 -> 0 | AG61: =$N61*J61 -> 0 | AH61: =$N61*K61 -> 0 | AK61: =AA61*N61 -> 0 | AM61: =N61*M61 -> 0 | AQ61: 7 | AT61: =$N61*1 -> 0 | AU61: =$N61*5 -> 0 | BG61: 21001194 | BI61: =$N61*AN61 -> 0 | BJ61: =$N61*AO61 -> 0 | BK61: =$N61*AP61 -> 0 | BL61: =$N61*AQ61 -> 0 | BM61: =$N61*AR61 -> 0 | BN61: =$N61*AS61 -> 0
A62: 11293 | B62: Omicron - XL 1 - PU- hollowback | C62: pinches/edges | D62: view | E62: 7 | I62: 1 | J62: 6 | M62: 242.1036 | N62: =SUM(O62:Z62) -> 0 | AA62: 3.191 | AC62: =$N62*F62 -> 0 | AD62: =$N62*G62 -> 0 | AE62: =$N62*H62 -> 0 | AF62: =$N62*I62 -> 0 | AG62: =$N62*J62 -> 0 | AH62: =$N62*K62 -> 0 | AK62: =AA62*N62 -> 0 | AM62: =N62*M62 -> 0 | AQ62: 4 | AR62: 3 | AT62: =$N62*1 -> 0 | AV62: =$N62*4 -> 0 | AW62: =$N62*2 -> 0 | BG62: 21001210 | BI62: =$N62*AN62 -> 0 | BJ62: =$N62*AO62 -> 0 | BK62: =$N62*AP62 -> 0 | BL62: =$N62*AQ62 -> 0 | BM62: =$N62*AR62 -> 0 | BN62: =$N62*AS62 -> 0
A63: 11294 | B63: Omicron - XL 2 - PU- hollowback | C63: edges | D63: view | E63: 4 | J63: 4 | M63: 154.65 | N63: =SUM(O63:Z63) -> 0 | AA63: 1.718 | AC63: =$N63*F63 -> 0 | AD63: =$N63*G63 -> 0 | AE63: =$N63*H63 -> 0 | AF63: =$N63*I63 -> 0 | AG63: =$N63*J63 -> 0 | AH63: =$N63*K63 -> 0 | AK63: =AA63*N63 -> 0 | AM63: =N63*M63 -> 0 | AQ63: 4 | AV63: =$N63*3 -> 0 | AW63: =$N63*1 -> 0 | BG63: 21001211 | BI63: =$N63*AN63 -> 0 | BJ63: =$N63*AO63 -> 0 | BK63: =$N63*AP63 -> 0 | BL63: =$N63*AQ63 -> 0 | BM63: =$N63*AR63 -> 0 | BN63: =$N63*AS63 -> 0
A64: 11295 | B64: Omicron - Mega 1 - PU- hollowback | C64: edges | D64: view | E64: 2 | K64: 2 | M64: 106.1964 | N64: =SUM(O64:Z64) -> 0 | AA64: 1.8 | AC64: =$N64*F64 -> 0 | AD64: =$N64*G64 -> 0 | AE64: =$N64*H64 -> 0 | AF64: =$N64*I64 -> 0 | AG64: =$N64*J64 -> 0 | AH64: =$N64*K64 -> 0 | AK64: =AA64*N64 -> 0 | AM64: =N64*M64 -> 0 | AQ64: 2 | AW64: =$N64*2 -> 0 | BG64: 21001195 | BI64: =$N64*AN64 -> 0 | BJ64: =$N64*AO64 -> 0 | BK64: =$N64*AP64 -> 0 | BL64: =$N64*AQ64 -> 0 | BM64: =$N64*AR64 -> 0 | BN64: =$N64*AS64 -> 0
A65: 11296 | B65: Omicron - Mega 2 - PU- hollowback | C65: edges | D65: view | E65: 2 | K65: 2 | M65: 105.3 | N65: =SUM(O65:Z65) -> 0 | AA65: 2.045 | AC65: =$N65*F65 -> 0 | AD65: =$N65*G65 -> 0 | AE65: =$N65*H65 -> 0 | AF65: =$N65*I65 -> 0 | AG65: =$N65*J65 -> 0 | AH65: =$N65*K65 -> 0 | AK65: =AA65*N65 -> 0 | AM65: =N65*M65 -> 0 | AQ65: 2 | AV65: =$N65*1 -> 0 | AW65: =$N65*1 -> 0 | BG65: 21001196 | BI65: =$N65*AN65 -> 0 | BJ65: =$N65*AO65 -> 0 | BK65: =$N65*AP65 -> 0 | BL65: =$N65*AQ65 -> 0 | BM65: =$N65*AR65 -> 0 | BN65: =$N65*AS65 -> 0
A66: 11297 | B66: Omicron - Mega 3 - PU- hollowback | C66: edges | D66: view | E66: 2 | K66: 2 | M66: 100.7964 | N66: =SUM(O66:Z66) -> 0 | AA66: 1.957 | AC66: =$N66*F66 -> 0 | AD66: =$N66*G66 -> 0 | AE66: =$N66*H66 -> 0 | AF66: =$N66*I66 -> 0 | AG66: =$N66*J66 -> 0 | AH66: =$N66*K66 -> 0 | AK66: =AA66*N66 -> 0 | AM66: =N66*M66 -> 0 | AQ66: 2 | AV66: =$N66*2 -> 0 | BG66: 21001197 | BI66: =$N66*AN66 -> 0 | BJ66: =$N66*AO66 -> 0 | BK66: =$N66*AP66 -> 0 | BL66: =$N66*AQ66 -> 0 | BM66: =$N66*AR66 -> 0 | BN66: =$N66*AS66 -> 0
A67: 11298 | B67: Omicron - Mega 4 - PU- hollowback | C67: edges/slopers | D67: view | E67: 2 | K67: 2 | M67: 110.7 | N67: =SUM(O67:Z67) -> 0 | AA67: 2.239 | AC67: =$N67*F67 -> 0 | AD67: =$N67*G67 -> 0 | AE67: =$N67*H67 -> 0 | AF67: =$N67*I67 -> 0 | AG67: =$N67*J67 -> 0 | AH67: =$N67*K67 -> 0 | AK67: =AA67*N67 -> 0 | AM67: =N67*M67 -> 0 | AQ67: 1 | AS67: 1 | AV67: =$N67*1 -> 0 | AW67: =$N67*1 -> 0 | BG67: 21001199 | BI67: =$N67*AN67 -> 0 | BJ67: =$N67*AO67 -> 0 | BK67: =$N67*AP67 -> 0 | BL67: =$N67*AQ67 -> 0 | BM67: =$N67*AR67 -> 0 | BN67: =$N67*AS67 -> 0
A68: 11299 | B68: Omicron - Volume 1 - PU- hollowback | C68: pinches/edges | D68: view | E68: 1 | L68: 1 | M68: 84.5964 | N68: =SUM(O68:Z68) -> 0 | AA68: 1.896 | AC68: =$N68*F68 -> 0 | AD68: =$N68*G68 -> 0 | AE68: =$N68*H68 -> 0 | AF68: =$N68*I68 -> 0 | AG68: =$N68*J68 -> 0 | AH68: =$N68*K68 -> 0 | AI68: =$N68*L68 -> 0 | AK68: =AA68*N68 -> 0 | AM68: =N68*M68 -> 0 | AR68: 1 | AV68: =$N68*1 -> 0 | BG68: 21001201 | BI68: =$N68*AN68 -> 0 | BJ68: =$N68*AO68 -> 0 | BK68: =$N68*AP68 -> 0 | BL68: =$N68*AQ68 -> 0 | BM68: =$N68*AR68 -> 0 | BN68: =$N68*AS68 -> 0
A69: 11300 | B69: Omicron - Volume 2 - PU- hollowback | C69: pinches/edges | D69: view | E69: 1 | L69: 1 | M69: 76.4964 | N69: =SUM(O69:Z69) -> 0 | AA69: 1.178 | AC69: =$N69*F69 -> 0 | AD69: =$N69*G69 -> 0 | AE69: =$N69*H69 -> 0 | AF69: =$N69*I69 -> 0 | AG69: =$N69*J69 -> 0 | AH69: =$N69*K69 -> 0 | AI69: =$N69*L69 -> 0 | AK69: =AA69*N69 -> 0 | AM69: =N69*M69 -> 0 | AR69: 1 | AW69: =$N69*1 -> 0 | BG69: 21001202 | BI69: =$N69*AN69 -> 0 | BJ69: =$N69*AO69 -> 0 | BK69: =$N69*AP69 -> 0 | BL69: =$N69*AQ69 -> 0 | BM69: =$N69*AR69 -> 0 | BN69: =$N69*AS69 -> 0
A70: 11301 | B70: Omicron - Volume 3 - PU- hollowback | C70: edges/slopers | D70: view | E70: 1 | L70: 1 | M70: 101.7036 | N70: =SUM(O70:Z70) -> 0 | AA70: 1.639 | AC70: =$N70*F70 -> 0 | AD70: =$N70*G70 -> 0 | AE70: =$N70*H70 -> 0 | AF70: =$N70*I70 -> 0 | AG70: =$N70*J70 -> 0 | AH70: =$N70*K70 -> 0 | AI70: =$N70*L70 -> 0 | AK70: =AA70*N70 -> 0 | AM70: =N70*M70 -> 0 | AQ70: 1 | AW70: =$N70*1 -> 0 | BG70: 21001203 | BI70: =$N70*AN70 -> 0 | BJ70: =$N70*AO70 -> 0 | BK70: =$N70*AP70 -> 0 | BL70: =$N70*AQ70 -> 0 | BM70: =$N70*AR70 -> 0 | BN70: =$N70*AS70 -> 0
A71: 11302 | B71: Omicron - Volume 4 - PU- hollowback | C71: edges/slopers | D71: view | E71: 1 | L71: 1 | M71: 89.9964 | N71: =SUM(O71:Z71) -> 0 | AA71: 1.422 | AC71: =$N71*F71 -> 0 | AD71: =$N71*G71 -> 0 | AE71: =$N71*H71 -> 0 | AF71: =$N71*I71 -> 0 | AG71: =$N71*J71 -> 0 | AH71: =$N71*K71 -> 0 | AI71: =$N71*L71 -> 0 | AK71: =AA71*N71 -> 0 | AM71: =N71*M71 -> 0 | AQ71: 1 | AW71: =$N71*1 -> 0 | BG71: 21001204 | BI71: =$N71*AN71 -> 0 | BJ71: =$N71*AO71 -> 0 | BK71: =$N71*AP71 -> 0 | BL71: =$N71*AQ71 -> 0 | BM71: =$N71*AR71 -> 0 | BN71: =$N71*AS71 -> 0
A72: 11303 | B72: Omicron - Volume 5 - PU- hollowback | C72: edges/slopers | D72: view | E72: 1 | L72: 1 | M72: 130.4964 | N72: =SUM(O72:Z72) -> 0 | AA72: 2.161 | AC72: =$N72*F72 -> 0 | AD72: =$N72*G72 -> 0 | AE72: =$N72*H72 -> 0 | AF72: =$N72*I72 -> 0 | AG72: =$N72*J72 -> 0 | AH72: =$N72*K72 -> 0 | AI72: =$N72*L72 -> 0 | AK72: =AA72*N72 -> 0 | AM72: =N72*M72 -> 0 | AQ72: 1 | AW72: =$N72*1 -> 0 | BG72: 21001205 | BI72: =$N72*AN72 -> 0 | BJ72: =$N72*AO72 -> 0 | BK72: =$N72*AP72 -> 0 | BL72: =$N72*AQ72 -> 0 | BM72: =$N72*AR72 -> 0 | BN72: =$N72*AS72 -> 0
A73: 11304 | B73: Omicron - Volumes 4 and 5 set | C73: edges/slopers | D73: view | E73: 2 | L73: 2 | M73: 216 | N73: =SUM(O73:Z73) -> 0 | AA73: 3.583 | AC73: =$N73*F73 -> 0 | AD73: =$N73*G73 -> 0 | AE73: =$N73*H73 -> 0 | AF73: =$N73*I73 -> 0 | AG73: =$N73*J73 -> 0 | AH73: =$N73*K73 -> 0 | AI73: =$N73*L73 -> 0 | AK73: =AA73*N73 -> 0 | AM73: =N73*M73 -> 0 | AQ73: 2 | AW73: =$N73*2 -> 0 | BG73: 21001206 | BI73: =$N73*AN73 -> 0 | BJ73: =$N73*AO73 -> 0 | BK73: =$N73*AP73 -> 0 | BL73: =$N73*AQ73 -> 0 | BM73: =$N73*AR73 -> 0 | BN73: =$N73*AS73 -> 0
B74: NIKOLA PETROV - SPARTAN
A75: 12360 | B75: Spartan- XS 1 - screw on | D75: view | E75: 18 | F75: 18 | M75: 85.35 | N75: =SUM(O75:Z75) -> 0 | AA75: 0.847 | AC75: =$N75*F75 -> 0 | AD75: =$N75*G75 -> 0 | AE75: =$N75*H75 -> 0 | AF75: =$N75*I75 -> 0 | AG75: =$N75*J75 -> 0 | AH75: =$N75*K75 -> 0 | AK75: =AA75*N75 -> 0 | AM75: =N75*M75 -> 0 | AN75: 18 | BA75: =$N75*36 -> 0 | BG75: 21001183 | BI75: =$N75*AN75 -> 0 | BJ75: =$N75*AO75 -> 0 | BK75: =$N75*AP75 -> 0 | BL75: =$N75*AQ75 -> 0 | BM75: =$N75*AR75 -> 0 | BN75: =$N75*AS75 -> 0
A76: 12361 | B76: Spartan - XS 2 - screw on | D76: view | E76: 6 | F76: 6 | M76: 36.16 | N76: =SUM(O76:Z76) -> 0 | AA76: 0.313 | AC76: =$N76*F76 -> 0 | AD76: =$N76*G76 -> 0 | AE76: =$N76*H76 -> 0 | AF76: =$N76*I76 -> 0 | AG76: =$N76*J76 -> 0 | AH76: =$N76*K76 -> 0 | AK76: =AA76*N76 -> 0 | AM76: =N76*M76 -> 0 | AN76: 6 | BA76: =$N76*12 -> 0 | BG76: 21001152 | BI76: =$N76*AN76 -> 0 | BJ76: =$N76*AO76 -> 0 | BK76: =$N76*AP76 -> 0 | BL76: =$N76*AQ76 -> 0 | BM76: =$N76*AR76 -> 0 | BN76: =$N76*AS76 -> 0
A77: 12362 | B77: Spartan crimps M - screw on | D77: view | E77: 9 | H77: 9 | M77: 87.48 | N77: =SUM(O77:Z77) -> 0 | AA77: 1.259 | AC77: =$N77*F77 -> 0 | AD77: =$N77*G77 -> 0 | AE77: =$N77*H77 -> 0 | AF77: =$N77*I77 -> 0 | AG77: =$N77*J77 -> 0 | AH77: =$N77*K77 -> 0 | AK77: =AA77*N77 -> 0 | AM77: =N77*M77 -> 0 | AQ77: 9 | BA77: =$N77*18 -> 0 | BG77: 21001154 | BI77: =$N77*AN77 -> 0 | BJ77: =$N77*AO77 -> 0 | BK77: =$N77*AP77 -> 0 | BL77: =$N77*AQ77 -> 0 | BM77: =$N77*AR77 -> 0 | BN77: =$N77*AS77 -> 0
A78: 12363 | B78: Spartan edges Mscrew on/ bolt on | D78: view | E78: 7 | H78: 7 | M78: 86.16 | N78: =SUM(O78:Z78) -> 0 | AA78: 1.416 | AC78: =$N78*F78 -> 0 | AD78: =$N78*G78 -> 0 | AE78: =$N78*H78 -> 0 | AF78: =$N78*I78 -> 0 | AG78: =$N78*J78 -> 0 | AH78: =$N78*K78 -> 0 | AK78: =AA78*N78 -> 0 | AM78: =N78*M78 -> 0 | AQ78: 7 | AT78: =$N78*4 -> 0 | BA78: =$N78*12 -> 0 | BG78: 21001184 | BI78: =$N78*AN78 -> 0 | BJ78: =$N78*AO78 -> 0 | BK78: =$N78*AP78 -> 0 | BL78: =$N78*AQ78 -> 0 | BM78: =$N78*AR78 -> 0 | BN78: =$N78*AS78 -> 0
A79: 12364 | B79: Spartan incuts M and L | D79: view | E79: 8 | H79: 4 | I79: 3 | K79: 1 | M79: 210.48 | N79: =SUM(O79:Z79) -> 0 | AA79: 3.744 | AC79: =$N79*F79 -> 0 | AD79: =$N79*G79 -> 0 | AE79: =$N79*H79 -> 0 | AF79: =$N79*I79 -> 0 | AG79: =$N79*J79 -> 0 | AH79: =$N79*K79 -> 0 | AK79: =AA79*N79 -> 0 | AM79: =N79*M79 -> 0 | AQ79: 8 | AT79: =$N79*4 -> 0 | AU79: =$N79*3 -> 0 | AV79: =$N79*1 -> 0 | BG79: 21001155 | BI79: =$N79*AN79 -> 0 | BJ79: =$N79*AO79 -> 0 | BK79: =$N79*AP79 -> 0 | BL79: =$N79*AQ79 -> 0 | BM79: =$N79*AR79 -> 0 | BN79: =$N79*AS79 -> 0
A80: 12365 | B80: Spartan incuts XL | D80: view | E80: 5 | J80: 5 | M80: 185.39 | N80: =SUM(O80:Z80) -> 0 | AA80: 3.686 | AC80: =$N80*F80 -> 0 | AD80: =$N80*G80 -> 0 | AE80: =$N80*H80 -> 0 | AF80: =$N80*I80 -> 0 | AG80: =$N80*J80 -> 0 | AH80: =$N80*K80 -> 0 | AK80: =AA80*N80 -> 0 | AM80: =N80*M80 -> 0 | AQ80: 5 | BA80: =$N80*20 -> 0 | BG80: 21001156 | BI80: =$N80*AN80 -> 0 | BJ80: =$N80*AO80 -> 0 | BK80: =$N80*AP80 -> 0 | BL80: =$N80*AQ80 -> 0 | BM80: =$N80*AR80 -> 0 | BN80: =$N80*AS80 -> 0
A81: 12366 | B81: Spartan incuts Mega | D81: view | E81: 2 | K81: 2 | M81: 149.68 | N81: =SUM(O81:Z81) -> 0 | AA81: 3.159 | AC81: =$N81*F81 -> 0 | AD81: =$N81*G81 -> 0 | AE81: =$N81*H81 -> 0 | AF81: =$N81*I81 -> 0 | AG81: =$N81*J81 -> 0 | AH81: =$N81*K81 -> 0 | AK81: =AA81*N81 -> 0 | AM81: =N81*M81 -> 0 | AQ81: 2 | BA81: =$N81*8 -> 0 | BG81: 21001157 | BI81: =$N81*AN81 -> 0 | BJ81: =$N81*AO81 -> 0 | BK81: =$N81*AP81 -> 0 | BL81: =$N81*AQ81 -> 0 | BM81: =$N81*AR81 -> 0 | BN81: =$N81*AS81 -> 0
A82: 11367 | B82: Spartan - Edges Mega | D82: view | E82: 3 | K82: 3 | M82: 152.0964 | N82: =SUM(O82:Z82) -> 0 | AA82: 2.336 | AC82: =$N82*F82 -> 0 | AD82: =$N82*G82 -> 0 | AE82: =$N82*H82 -> 0 | AF82: =$N82*I82 -> 0 | AG82: =$N82*J82 -> 0 | AH82: =$N82*K82 -> 0 | AK82: =AA82*N82 -> 0 | AM82: =N82*M82 -> 0 | AQ82: 3 | AV82: =$N82*3 -> 0 | BA82: =$N82*12 -> 0 | BG82: 21001225 | BI82: =$N82*AN82 -> 0 | BJ82: =$N82*AO82 -> 0 | BK82: =$N82*AP82 -> 0 | BL82: =$N82*AQ82 -> 0 | BM82: =$N82*AR82 -> 0 | BN82: =$N82*AS82 -> 0
A83: 12368 | B83: Spartan - Jugs L | D83: view | E83: 6 | I83: 6 | M83: 170.32 | N83: =SUM(O83:Z83) -> 0 | AA83: 3.245 | AC83: =$N83*F83 -> 0 | AD83: =$N83*G83 -> 0 | AE83: =$N83*H83 -> 0 | AF83: =$N83*I83 -> 0 | AG83: =$N83*J83 -> 0 | AH83: =$N83*K83 -> 0 | AK83: =AA83*N83 -> 0 | AM83: =N83*M83 -> 0 | AO83: 6 | AU83: =$N83*1 -> 0 | AV83: =$N83*5 -> 0 | BG83: 21001158 | BI83: =$N83*AN83 -> 0 | BJ83: =$N83*AO83 -> 0 | BK83: =$N83*AP83 -> 0 | BL83: =$N83*AQ83 -> 0 | BM83: =$N83*AR83 -> 0 | BN83: =$N83*AS83 -> 0
A84: 12369 | B84: Spartan - Jugs mega | D84: view | E84: 2 | K84: 2 | M84: 203.97 | N84: =SUM(O84:Z84) -> 0 | AA84: 4.304 | AC84: =$N84*F84 -> 0 | AD84: =$N84*G84 -> 0 | AE84: =$N84*H84 -> 0 | AF84: =$N84*I84 -> 0 | AG84: =$N84*J84 -> 0 | AH84: =$N84*K84 -> 0 | AK84: =AA84*N84 -> 0 | AM84: =N84*M84 -> 0 | AO84: 2 | AV84: =$N84*2 -> 0 | BG84: 21001159 | BI84: =$N84*AN84 -> 0 | BJ84: =$N84*AO84 -> 0 | BK84: =$N84*AP84 -> 0 | BL84: =$N84*AQ84 -> 0 | BM84: =$N84*AR84 -> 0 | BN84: =$N84*AS84 -> 0
A85: 12370 | B85: Spartan-pinches M | D85: view | E85: 4 | H85: 4 | M85: 75 | N85: =SUM(O85:Z85) -> 0 | AA85: 1.46 | AC85: =$N85*F85 -> 0 | AD85: =$N85*G85 -> 0 | AE85: =$N85*H85 -> 0 | AF85: =$N85*I85 -> 0 | AG85: =$N85*J85 -> 0 | AH85: =$N85*K85 -> 0 | AK85: =AA85*N85 -> 0 | AM85: =N85*M85 -> 0 | AR85: 4 | AV85: =$N85*4 -> 0 | BG85: 21001186 | BI85: =$N85*AN85 -> 0 | BJ85: =$N85*AO85 -> 0 | BK85: =$N85*AP85 -> 0 | BL85: =$N85*AQ85 -> 0 | BM85: =$N85*AR85 -> 0 | BN85: =$N85*AS85 -> 0
A86: 11371 | B86: Spartan - Pinches Mega 1 | D86: view | E86: 5 | K86: 5 | M86: 156.6 | N86: =SUM(O86:Z86) -> 0 | AA86: 1.98 | AC86: =$N86*F86 -> 0 | AD86: =$N86*G86 -> 0 | AE86: =$N86*H86 -> 0 | AF86: =$N86*I86 -> 0 | AG86: =$N86*J86 -> 0 | AH86: =$N86*K86 -> 0 | AK86: =AA86*N86 -> 0 | AM86: =N86*M86 -> 0 | AR86: 5 | AV86: =$N86*2 -> 0 | AW86: =$N86*3 -> 0 | BG86: 21001234 | BI86: =$N86*AN86 -> 0 | BJ86: =$N86*AO86 -> 0 | BK86: =$N86*AP86 -> 0 | BL86: =$N86*AQ86 -> 0 | BM86: =$N86*AR86 -> 0 | BN86: =$N86*AS86 -> 0
A87: 11372 | B87: Spartan - Pinches Mega 2 | D87: view | E87: 3 | K87: 3 | M87: 123.3036 | N87: =SUM(O87:Z87) -> 0 | AA87: 1.78 | AC87: =$N87*F87 -> 0 | AD87: =$N87*G87 -> 0 | AE87: =$N87*H87 -> 0 | AF87: =$N87*I87 -> 0 | AG87: =$N87*J87 -> 0 | AH87: =$N87*K87 -> 0 | AK87: =AA87*N87 -> 0 | AM87: =N87*M87 -> 0 | AR87: 3 | AX87: =$N87*2 -> 0 | AY87: =$N87*1 -> 0 | BG87: 21001235 | BI87: =$N87*AN87 -> 0 | BJ87: =$N87*AO87 -> 0 | BK87: =$N87*AP87 -> 0 | BL87: =$N87*AQ87 -> 0 | BM87: =$N87*AR87 -> 0 | BN87: =$N87*AS87 -> 0
A88: 11373 | B88: Spartan - Pinches Minivolume 1 | D88: view | E88: 2 | L88: 2 | M88: 87.102 | N88: =SUM(O88:Z88) -> 0 | AA88: 1.28 | AC88: =$N88*F88 -> 0 | AD88: =$N88*G88 -> 0 | AE88: =$N88*H88 -> 0 | AF88: =$N88*I88 -> 0 | AG88: =$N88*J88 -> 0 | AH88: =$N88*K88 -> 0 | AI88: =$N88*L88 -> 0 | AK88: =AA88*N88 -> 0 | AM88: =N88*M88 -> 0 | AR88: 2 | AV88: =$N88*1 -> 0 | AW88: =$N88*1 -> 0 | BG88: 21001237 | BI88: =$N88*AN88 -> 0 | BJ88: =$N88*AO88 -> 0 | BK88: =$N88*AP88 -> 0 | BL88: =$N88*AQ88 -> 0 | BM88: =$N88*AR88 -> 0 | BN88: =$N88*AS88 -> 0
A89: 11374 | B89: Spartan - Pinches Minivolume 2 | D89: view | E89: 2 | L89: 2 | M89: 124.2 | N89: =SUM(O89:Z89) -> 0 | AA89: 2.02 | AC89: =$N89*F89 -> 0 | AD89: =$N89*G89 -> 0 | AE89: =$N89*H89 -> 0 | AF89: =$N89*I89 -> 0 | AG89: =$N89*J89 -> 0 | AH89: =$N89*K89 -> 0 | AI89: =$N89*L89 -> 0 | AK89: =AA89*N89 -> 0 | AM89: =N89*M89 -> 0 | AR89: 2 | BG89: 21001238 | BI89: =$N89*AN89 -> 0 | BJ89: =$N89*AO89 -> 0 | BK89: =$N89*AP89 -> 0 | BL89: =$N89*AQ89 -> 0 | BM89: =$N89*AR89 -> 0 | BN89: =$N89*AS89 -> 0
A90: 12375 | B90: Spartan Slopers M | D90: view | E90: 5 | H90: 5 | M90: 64.58 | N90: =SUM(O90:Z90) -> 0 | AA90: 1.12 | AC90: =$N90*F90 -> 0 | AD90: =$N90*G90 -> 0 | AE90: =$N90*H90 -> 0 | AF90: =$N90*I90 -> 0 | AG90: =$N90*J90 -> 0 | AH90: =$N90*K90 -> 0 | AK90: =AA90*N90 -> 0 | AM90: =N90*M90 -> 0 | AS90: 5 | AU90: =$N90*5 -> 0 | BG90: 21001187 | BI90: =$N90*AN90 -> 0 | BJ90: =$N90*AO90 -> 0 | BK90: =$N90*AP90 -> 0 | BL90: =$N90*AQ90 -> 0 | BM90: =$N90*AR90 -> 0 | BN90: =$N90*AS90 -> 0
A91: 12376 | B91: Spartan Slopers L | D91: view | E91: 8 | I91: 8 | M91: 159.29 | N91: =SUM(O91:Z91) -> 0 | AA91: 2.98 | AC91: =$N91*F91 -> 0 | AD91: =$N91*G91 -> 0 | AE91: =$N91*H91 -> 0 | AF91: =$N91*I91 -> 0 | AG91: =$N91*J91 -> 0 | AH91: =$N91*K91 -> 0 | AK91: =AA91*N91 -> 0 | AM91: =N91*M91 -> 0 | AS91: 8 | AU91: =$N91*8 -> 0 | BG91: 21001188 | BI91: =$N91*AN91 -> 0 | BJ91: =$N91*AO91 -> 0 | BK91: =$N91*AP91 -> 0 | BL91: =$N91*AQ91 -> 0 | BM91: =$N91*AR91 -> 0 | BN91: =$N91*AS91 -> 0
A92: 11377 | B92: Spartan Slopers Mega | D92: view | E92: 2 | K92: 2 | M92: 67.5 | N92: =SUM(O92:Z92) -> 0 | AA92: 0.9 | AC92: =$N92*F92 -> 0 | AD92: =$N92*G92 -> 0 | AE92: =$N92*H92 -> 0 | AF92: =$N92*I92 -> 0 | AG92: =$N92*J92 -> 0 | AH92: =$N92*K92 -> 0 | AK92: =AA92*N92 -> 0 | AM92: =N92*M92 -> 0 | AS92: 2 | AV92: =$N92*2 -> 0 | BG92: 21001239 | BI92: =$N92*AN92 -> 0 | BJ92: =$N92*AO92 -> 0 | BK92: =$N92*AP92 -> 0 | BL92: =$N92*AQ92 -> 0 | BM92: =$N92*AR92 -> 0 | BN92: =$N92*AS92 -> 0
B93: NIKOLA PETROV - SPARTAN
B94: GRP ( FIBERGLASS) VOLUMES
A95: 13651 | B95: Spartan GRP 1 - jug | C95: jug | D95: view | E95: 1 | L95: 1 | M95: 120 | N95: =SUM(O95:Z95) -> 0 | AA95: 2.2 | AI95: =$N95*L95 -> 0 | AK95: =AA95*N95 -> 0 | AM95: =N95*M95 -> 0 | BA95: =$N95*5 -> 0 | BG95: 17002558
A96: 13652 | B96: Spartan GRP 2 - jug | C96: jug | D96: view | E96: 1 | L96: 1 | M96: 120 | N96: =SUM(O96:Z96) -> 0 | AA96: 1.7 | AI96: =$N96*L96 -> 0 | AK96: =AA96*N96 -> 0 | AM96: =N96*M96 -> 0 | BA96: =$N96*5 -> 0 | BG96: 17002559
A97: 13653 | B97: Spartan GRP 3 - jug | C97: jug | D97: view | E97: 1 | L97: 1 | M97: 133.33333 | N97: =SUM(O97:Z97) -> 0 | AA97: 2.4 | AI97: =$N97*L97 -> 0 | AK97: =AA97*N97 -> 0 | AM97: =N97*M97 -> 0 | BA97: =$N97*5 -> 0 | BG97: 17002560
A98: 13654 | B98: Spartan GRP 4 - jug | C98: jug | D98: view | E98: 1 | L98: 1 | M98: 110.83333 | N98: =SUM(O98:Z98) -> 0 | AA98: 1.4 | AI98: =$N98*L98 -> 0 | AK98: =AA98*N98 -> 0 | AM98: =N98*M98 -> 0 | BA98: =$N98*5 -> 0 | BG98: 17002561
A99: 13655 | B99: Spartan GRP 5 - jug | C99: jug | D99: view | E99: 1 | L99: 1 | M99: 132.5 | N99: =SUM(O99:Z99) -> 0 | AA99: 2.8 | AI99: =$N99*L99 -> 0 | AK99: =AA99*N99 -> 0 | AM99: =N99*M99 -> 0 | BA99: =$N99*5 -> 0 | BG99: 17002562
A100: 13656 | B100: Spartan GRP 6 - jug | C100: jug | D100: view | E100: 1 | L100: 1 | M100: 122.5 | N100: =SUM(O100:Z100) -> 0 | AA100: 2.2 | AI100: =$N100*L100 -> 0 | AK100: =AA100*N100 -> 0 | AM100: =N100*M100 -> 0 | BA100: =$N100*5 -> 0 | BG100: 17002563
...

Sheet HRT polyester
B1: Polyester | F1: Holds Size | M1: Please Choose Colors for the Sets | V1: Colors for Indoor Use only | AC1: Holds' Size | AM1: Holds' Type | AS1: 40 | AT1: 50 | AU1: 70 | AV1: 90 | AW1: 100 | AX1: 120 | AY1: SCR | AZ1: CH | BF1: Holds' Type
A2: Reff. No. | C2: Grip type | D2: View set picture | E2: pcs of holds in the set | F2: XS | G2: S | H2: M | I2: L | J2: XL | K2: Mega | L2: Price in EUR | M2: Set # | N2: White (1) | O2: Yellow (2) | P2: Green (4) | Q2: Red (5) | R2: Orange (6) | S2: Blue (7) | T2: Grey (9) | U2: Black (10) | V2: Violet/ lilac (16) | W2: Fluoro orange (11) | X2: Fluoro green (12) | Y2: Fluoro pink (13) | Z2: Fluoro yellow (14) | AA2: Weight (kg.) | AB2: Volume | AC2: XS | AD2: S | AE2: M | AF2: L | AG2: Xl | AH2: Mega | AJ2: Total weight (kg) | AK2: Total volume | AL2: Total Amount | AM2: foot | AN2: jugs | AO2: pockets | AP2: edges | AQ2: pinches | AR2: slopers | AS2: Bolts for the Sets | BB2: » | BC2: « | BD2: SAP ID | BF2: foot | BG2: jugs | BH2: pockets | BI2: edges | BJ2: pinches | BK2: slopers
N3: view | O3: view | P3: view | Q3: view | R3: view | S3: view | T3: view | U3: view | V3: view | W3: view | X3: view | Y3: view | Z3: view | AS3: 40 | AT3: 50 | AU3: 70 | AV3: 90 | AW3: 100 | AX3: 120 | AY3: SCR | AZ3: CH
B4: DESIGNER SETS | N4: =SUMPRODUCT($E$5:$E$100,N5:N100) -> 0 | O4: =SUMPRODUCT($E$5:$E$100,O5:O100) -> 0 | P4: =SUMPRODUCT($E$5:$E$100,P5:P100) -> 0 | Q4: =SUMPRODUCT($E$5:$E$100,Q5:Q100) -> 0 | R4: =SUMPRODUCT($E$5:$E$100,R5:R100) -> 0 | S4: =SUMPRODUCT($E$5:$E$100,S5:S100) -> 0 | T4: =SUMPRODUCT($E$5:$E$100,T5:T100) -> 0 | U4: =SUMPRODUCT($E$5:$E$100,U5:U100) -> 0 | ... Z4: =SUMPRODUCT($E$5:$E$100,Z5:Z100) -> 0
A5: 10001 | B5: SCREWONS – XS | C5: foot | D5: view | E5: =SUM(F5:K5) -> 40 | F5: 40 | L5: 77.4 | M5: =SUM(N5:Z5) -> 0 | AA5: 1.959 | AB5: 1.005 | AC5: =$M5*F5 -> 0 | AD5: =$M5*G5 -> 0 | AE5: =$M5*H5 -> 0 | AF5: =$M5*I5 -> 0 | AG5: =$M5*J5 -> 0 | AH5: =$M5*K5 -> 0 | AJ5: ='[1]HRT polyester'!AA5*'[1]HRT polyester'!M5 -> 0 | AK5: =AB5*M5 -> 0 | AL5: =M5*L5 -> 0 | AM5: 40 | AY5: =$M5*80 -> 0 | BD5: 21000038 | BF5: =$M5*AM5 -> 0 | BG5: =$M5*AN5 -> 0 | BH5: =$M5*AO5 -> 0 | BI5: =$M5*AP5 -> 0 | BJ5: =$M5*AQ5 -> 0 | BK5: =$M5*AR5 -> 0
A6: 10003 | B6: ELEMENTS | C6: jugs | D6: view | E6: =SUM(F6:K6) -> 12 | H6: 9 | I6: 3 | L6: 100.7964 | M6: =SUM(N6:Z6) -> 0 | AA6: 6.412 | AB6: 3.249 | AC6: =$M6*F6 -> 0 | AD6: =$M6*G6 -> 0 | AE6: =$M6*H6 -> 0 | AF6: =$M6*I6 -> 0 | AG6: =$M6*J6 -> 0 | AH6: =$M6*K6 -> 0 | AJ6: ='[1]HRT polyester'!AA7*'[1]HRT polyester'!M7 -> 0 | AK6: =AB6*M6 -> 0 | AL6: =M6*L6 -> 0 | AN6: 12 | AS6: =$M6*1 -> 0 | AT6: =$M6*10 -> 0 | AU6: =$M6*1 -> 0 | BD6: 21000040 | BF6: =$M6*AM6 -> 0 | BG6: =$M6*AN6 -> 0 | BH6: =$M6*AO6 -> 0 | BI6: =$M6*AP6 -> 0 | BJ6: =$M6*AQ6 -> 0 | BK6: =$M6*AR6 -> 0
A7: 10004 | B7: FRESCO 1 | C7: Edges | D7: view | E7: =SUM(F7:K7) -> 11 | H7: 8 | I7: 1 | J7: 1 | K7: 1 | L7: 132.3 | M7: =SUM(N7:Z7) -> 0 | AA7: 8.953 | AB7: 4.63 | AC7: =$M7*F7 -> 0 | AD7: =$M7*G7 -> 0 | AE7: =$M7*H7 -> 0 | AF7: =$M7*I7 -> 0 | AG7: =$M7*J7 -> 0 | AH7: =$M7*K7 -> 0 | AJ7: ='[1]HRT polyester'!AA8*'[1]HRT polyester'!M8 -> 0 | AK7: =AB7*M7 -> 0 | AL7: =M7*L7 -> 0 | AP7: 11 | AS7: =$M7*1 -> 0 | AT7: =$M7*10 -> 0 | BD7: 21000041 | BF7: =$M7*AM7 -> 0 | BG7: =$M7*AN7 -> 0 | BH7: =$M7*AO7 -> 0 | BI7: =$M7*AP7 -> 0 | BJ7: =$M7*AQ7 -> 0 | BK7: =$M7*AR7 -> 0
A8: 10005 | B8: FRESCO 2 | C8: edges, jugs | D8: view | E8: =SUM(F8:K8) -> 9 | H8: 3 | I8: 5 | J8: 1 | L8: 110.7 | M8: =SUM(N8:Z8) -> 0 | AA8: 7.678 | AB8: 3.937 | AC8: =$M8*F8 -> 0 | AD8: =$M8*G8 -> 0 | AE8: =$M8*H8 -> 0 | AF8: =$M8*I8 -> 0 | AG8: =$M8*J8 -> 0 | AH8: =$M8*K8 -> 0 | AJ8: ='[1]HRT polyester'!AA9*'[1]HRT polyester'!M9 -> 0 | AK8: =AB8*M8 -> 0 | AL8: =M8*L8 -> 0 | AN8: 4 | AP8: 5 | AS8: =$M8*1 -> 0 | AT8: =$M8*8 -> 0 | BD8: 21000042 | BF8: =$M8*AM8 -> 0 | BG8: =$M8*AN8 -> 0 | BH8: =$M8*AO8 -> 0 | BI8: =$M8*AP8 -> 0 | BJ8: =$M8*AQ8 -> 0 | BK8: =$M8*AR8 -> 0
A9: 10006 | B9: FRESCO 3 | C9: edges / jugs | D9: view | E9: =SUM(F9:K9) -> 8 | I9: 2 | J9: 5 | K9: 1 | L9: 126.9 | M9: =SUM(N9:Z9) -> 0 | AA9: 9.008 | AB9: 4.66 | AC9: =$M9*F9 -> 0 | AD9: =$M9*G9 -> 0 | AE9: =$M9*H9 -> 0 | AF9: =$M9*I9 -> 0 | AG9: =$M9*J9 -> 0 | AH9: =$M9*K9 -> 0 | AJ9: ='[1]HRT polyester'!AA10*'[1]HRT polyester'!M10 -> 0 | AK9: =AB9*M9 -> 0 | AL9: =M9*L9 -> 0 | AN9: 2 | AP9: 6 | AT9: =$M9*8 -> 0 | BD9: 21000043 | BF9: =$M9*AM9 -> 0 | BG9: =$M9*AN9 -> 0 | BH9: =$M9*AO9 -> 0 | BI9: =$M9*AP9 -> 0 | BJ9: =$M9*AQ9 -> 0 | BK9: =$M9*AR9 -> 0
A10: 10008 | B10: SURF UP | C10: Edges | D10: view | E10: =SUM(F10:K10) -> 10 | J10: 5 | K10: 5 | L10: 225 | M10: =SUM(N10:Z10) -> 0 | AA10: 16.264 | AB10: 8.46 | AC10: =$M10*F10 -> 0 | AD10: =$M10*G10 -> 0 | AE10: =$M10*H10 -> 0 | AF10: =$M10*I10 -> 0 | AG10: =$M10*J10 -> 0 | AH10: =$M10*K10 -> 0 | AJ10: ='[1]HRT polyester'!AA12*'[1]HRT polyester'!M12 -> 0 | AK10: =AB10*M10 -> 0 | AL10: =M10*L10 -> 0 | AP10: 10 | AT10: =$M10*7 -> 0 | AU10: =$M10*3 -> 0 | BD10: 21000045 | BF10: =$M10*AM10 -> 0 | BG10: =$M10*AN10 -> 0 | BH10: =$M10*AO10 -> 0 | BI10: =$M10*AP10 -> 0 | BJ10: =$M10*AQ10 -> 0 | BK10: =$M10*AR10 -> 0
A11: 10011 | B11: SEA WORLD | C11: mixed grips | D11: view | E11: =SUM(F11:K11) -> 12 | H11: 4 | I11: 6 | J11: 2 | L11: 150.3036 | M11: =SUM(N11:Z11) -> 0 | AA11: 10.265 | AB11: 5.343 | AC11: =$M11*F11 -> 0 | AD11: =$M11*G11 -> 0 | AE11: =$M11*H11 -> 0 | AF11: =$M11*I11 -> 0 | AG11: =$M11*J11 -> 0 | AH11: =$M11*K11 -> 0 | AJ11: ='[1]HRT polyester'!AA14*'[1]HRT polyester'!M14 -> 0 | AK11: =AB11*M11 -> 0 | AL11: =M11*L11 -> 0 | AN11: 4 | AP11: 4 | AQ11: 4 | AS11: =$M11*4 -> 0 | AT11: =$M11*5 -> 0 | AU11: =$M11*2 -> 0 | AV11: =$M11*1 -> 0 | BD11: 21000048 | BF11: =$M11*AM11 -> 0 | BG11: =$M11*AN11 -> 0 | BH11: =$M11*AO11 -> 0 | BI11: =$M11*AP11 -> 0 | BJ11: =$M11*AQ11 -> 0 | BK11: =$M11*AR11 -> 0
A12: 10012 | B12: JUNGLE | C12: mixed grips | D12: view | E12: =SUM(F12:K12) -> 13 | H12: 9 | I12: 2 | J12: 2 | L12: 169.2 | M12: =SUM(N12:Z12) -> 0 | AA12: 11.498 | AB12: 6.013 | AC12: =$M12*F12 -> 0 | AD12: =$M12*G12 -> 0 | AE12: =$M12*H12 -> 0 | AF12: =$M12*I12 -> 0 | AG12: =$M12*J12 -> 0 | AH12: =$M12*K12 -> 0 | AJ12: ='[1]HRT polyester'!AA15*'[1]HRT polyester'!M15 -> 0 | AK12: =AB12*M12 -> 0 | AL12: =M12*L12 -> 0 | AN12: 4 | AP12: 5 | AQ12: 4 | AS12: =$M12*3 -> 0 | AT12: =$M12*5 -> 0 | AU12: =$M12*3 -> 0 | AV12: =$M12*2 -> 0 | BD12: 21000049 | BF12: =$M12*AM12 -> 0 | BG12: =$M12*AN12 -> 0 | BH12: =$M12*AO12 -> 0 | BI12: =$M12*AP12 -> 0 | BJ12: =$M12*AQ12 -> 0 | BK12: =$M12*AR12 -> 0
A13: 10015 | B13: PLEASUREMAX | C13: sloper, jugs | D13: view | E13: =SUM(F13:K13) -> 12 | H13: 5 | I13: 2 | J13: 5 | L13: 238.4964 | M13: =SUM(N13:Z13) -> 0 | AA13: 17.331 | AB13: 9.066 | AC13: =$M13*F13 -> 0 | AD13: =$M13*G13 -> 0 | AE13: =$M13*H13 -> 0 | AF13: =$M13*I13 -> 0 | AG13: =$M13*J13 -> 0 | AH13: =$M13*K13 -> 0 | AJ13: ='[1]HRT polyester'!AA18*'[1]HRT polyester'!M18 -> 0 | AK13: =AB13*M13 -> 0 | AL13: =M13*L13 -> 0 | AN13: 7 | AR13: 5 | AS13: =$M13*1 -> 0 | AT13: =$M13*6 -> 0 | AV13: =$M13*5 -> 0 | BD13: 21000052 | BF13: =$M13*AM13 -> 0 | BG13: =$M13*AN13 -> 0 | BH13: =$M13*AO13 -> 0 | BI13: =$M13*AP13 -> 0 | BJ13: =$M13*AQ13 -> 0 | BK13: =$M13*AR13 -> 0
A14: 10016 | B14: URBAN | C14: pinches, edges | D14: view | E14: =SUM(F14:K14) -> 10 | H14: 2 | I14: 8 | L14: 144.9 | M14: =SUM(N14:Z14) -> 0 | AA14: 10.103 | AB14: 5.255 | AC14: =$M14*F14 -> 0 | AD14: =$M14*G14 -> 0 | AE14: =$M14*H14 -> 0 | AF14: =$M14*I14 -> 0 | AG14: =$M14*J14 -> 0 | AH14: =$M14*K14 -> 0 | AJ14: ='[1]HRT polyester'!AA19*'[1]HRT polyester'!M19 -> 0 | AK14: =AB14*M14 -> 0 | AL14: =M14*L14 -> 0 | AP14: 4 | AQ14: 5 | AR14: 1 | AS14: =$M14*1 -> 0 | AT14: =$M14*4 -> 0 | AU14: =$M14*4 -> 0 | AV14: =$M14*1 -> 0 | BD14: 21000053 | BF14: =$M14*AM14 -> 0 | BG14: =$M14*AN14 -> 0 | BH14: =$M14*AO14 -> 0 | BI14: =$M14*AP14 -> 0 | BJ14: =$M14*AQ14 -> 0 | BK14: =$M14*AR14 -> 0
A15: 10018 | B15: BRANIACS | C15: Slopers | D15: view | E15: =SUM(F15:K15) -> 3 | K15: 3 | L15: 160.2 | M15: =SUM(N15:Z15) -> 0 | AA15: 9.064 | AB15: 4.69 | AC15: =$M15*F15 -> 0 | AD15: =$M15*G15 -> 0 | AE15: =$M15*H15 -> 0 | AF15: =$M15*I15 -> 0 | AG15: =$M15*J15 -> 0 | AH15: =$M15*K15 -> 0 | AJ15: ='[1]HRT polyester'!AA21*'[1]HRT polyester'!M21 -> 0 | AK15: =AB15*M15 -> 0 | AL15: =M15*L15 -> 0 | AR15: 3 | AW15: =$M15*3 -> 0 | BD15: 21000055 | BF15: =$M15*AM15 -> 0 | BG15: =$M15*AN15 -> 0 | BH15: =$M15*AO15 -> 0 | BI15: =$M15*AP15 -> 0 | BJ15: =$M15*AQ15 -> 0 | BK15: =$M15*AR15 -> 0
A16: 10019 | B16: FONT | C16: Slopers | D16: view | E16: =SUM(F16:K16) -> 8 | H16: 3 | I16: 3 | J16: 1 | K16: 1 | L16: 182.7 | M16: =SUM(N16:Z16) -> 0 | AA16: 13.262 | AB16: 6.972 | AC16: =$M16*F16 -> 0 | AD16: =$M16*G16 -> 0 | AE16: =$M16*H16 -> 0 | AF16: =$M16*I16 -> 0 | AG16: =$M16*J16 -> 0 | AH16: =$M16*K16 -> 0 | AJ16: ='[1]HRT polyester'!AA22*'[1]HRT polyester'!M22 -> 0 | AK16: =AB16*M16 -> 0 | AL16: =M16*L16 -> 0 | AR16: 8 | AS16: =$M16*1 -> 0 | AT16: =$M16*2 -> 0 | AU16: =$M16*3 -> 0 | BD16: 21000056 | BF16: =$M16*AM16 -> 0 | BG16: =$M16*AN16 -> 0 | BH16: =$M16*AO16 -> 0 | BI16: =$M16*AP16 -> 0 | BJ16: =$M16*AQ16 -> 0 | BK16: =$M16*AR16 -> 0
A17: 10024 | B17: GROOVY | C17: pinches, jugs | D17: view | E17: =SUM(F17:K17) -> 9 | H17: 4 | I17: 1 | J17: 4 | L17: 147.6 | M17: =SUM(N17:Z17) -> 0 | AA17: 10.536 | AB17: 5.49 | AC17: =$M17*F17 -> 0 | AD17: =$M17*G17 -> 0 | AE17: =$M17*H17 -> 0 | AF17: =$M17*I17 -> 0 | AG17: =$M17*J17 -> 0 | AH17: =$M17*K17 -> 0 | AJ17: ='[1]HRT polyester'!AA26*'[1]HRT polyester'!M26 -> 0 | AK17: =AB17*M17 -> 0 | AL17: =M17*L17 -> 0 | AN17: 5 | AQ17: 4 | AS17: =$M17*2 -> 0 | AT17: =$M17*7 -> 0 | BD17: 21000060 | BF17: =$M17*AM17 -> 0 | BG17: =$M17*AN17 -> 0 | BH17: =$M17*AO17 -> 0 | BI17: =$M17*AP17 -> 0 | BJ17: =$M17*AQ17 -> 0 | BK17: =$M17*AR17 -> 0
A18: 10028 | B18: SANDSTONE | C18: mixed | D18: view | E18: =SUM(F18:K18) -> 10 | H18: 4 | I18: 1 | J18: 3 | K18: 2 | L18: 223.2036 | M18: =SUM(N18:Z18) -> 0 | AA18: 16.283 | AB18: 8.496 | AC18: =$M18*F18 -> 0 | AD18: =$M18*G18 -> 0 | AE18: =$M18*H18 -> 0 | AF18: =$M18*I18 -> 0 | AG18: =$M18*J18 -> 0 | AH18: =$M18*K18 -> 0 | AJ18: ='[1]HRT polyester'!AA30*'[1]HRT polyester'!M30 -> 0 | AK18: =AB18*M18 -> 0 | AL18: =M18*L18 -> 0 | AN18: 3 | AP18: 4 | AR18: 3 | AT18: =$M18*4 -> 0 | AU18: =$M18*1 -> 0 | AV18: =$M18*4 -> 0 | AW18: =$M18*1 -> 0 | BC18: tova e poslednoto | BD18: 21000064 | BF18: =$M18*AM18 -> 0 | BG18: =$M18*AN18 -> 0 | BH18: =$M18*AO18 -> 0 | BI18: =$M18*AP18 -> 0 | BJ18: =$M18*AQ18 -> 0 | BK18: =$M18*AR18 -> 0
A19: 10031 | B19: BULGES | C19: jugs | D19: view | E19: =SUM(F19:K19) -> 9 | H19: 1 | I19: 6 | J19: 2 | L19: 178.2 | M19: =SUM(N19:Z19) -> 0 | AA19: 13.05 | AB19: 6.739 | AC19: =$M19*F19 -> 0 | AD19: =$M19*G19 -> 0 | AE19: =$M19*H19 -> 0 | AF19: =$M19*I19 -> 0 | AG19: =$M19*J19 -> 0 | AH19: =$M19*K19 -> 0 | AJ19: ='[1]HRT polyester'!AA32*'[1]HRT polyester'!M32 -> 0 | AK19: =AB19*M19 -> 0 | AL19: =M19*L19 -> 0 | AN19: 9 | AS19: =$M19*1 -> 0 | AT19: =$M19*4 -> 0 | AU19: =$M19*1 -> 0 | AV19: =$M19*3 -> 0 | BD19: 21000066 | BF19: =$M19*AM19 -> 0 | BG19: =$M19*AN19 -> 0 | BH19: =$M19*AO19 -> 0 | BI19: =$M19*AP19 -> 0 | BJ19: =$M19*AQ19 -> 0 | BK19: =$M19*AR19 -> 0
A20: 10032 | B20: NEOPLASMA | C20: Slopers, jugs | D20: view | E20: =SUM(F20:K20) -> 7 | I20: 5 | J20: 2 | L20: 177.3036 | M20: =SUM(N20:Z20) -> 0 | AA20: 10.891 | AB20: 5.566 | AC20: =$M20*F20 -> 0 | AD20: =$M20*G20 -> 0 | AE20: =$M20*H20 -> 0 | AF20: =$M20*I20 -> 0 | AG20: =$M20*J20 -> 0 | AH20: =$M20*K20 -> 0 | AJ20: ='[1]HRT polyester'!AA33*'[1]HRT polyester'!M33 -> 0 | AK20: =AB20*M20 -> 0 | AL20: =M20*L20 -> 0 | AN20: 2 | AR20: 5 | AT20: =$M20*4 -> 0 | AU20: =$M20*1 -> 0 | AV20: =$M20*2 -> 0 | BD20: 21000067 | BF20: =$M20*AM20 -> 0 | BG20: =$M20*AN20 -> 0 | BH20: =$M20*AO20 -> 0 | BI20: =$M20*AP20 -> 0 | BJ20: =$M20*AQ20 -> 0 | BK20: =$M20*AR20 -> 0
A21: 10034 | B21: MALUMA | C21: pinches | D21: view | E21: =SUM(F21:K21) -> 9 | H21: 2 | I21: 4 | J21: 3 | L21: 179.0964 | M21: =SUM(N21:Z21) -> 0 | AA21: 13.202 | AB21: 6.822 | AC21: =$M21*F21 -> 0 | AD21: =$M21*G21 -> 0 | AE21: =$M21*H21 -> 0 | AF21: =$M21*I21 -> 0 | AG21: =$M21*J21 -> 0 | AH21: =$M21*K21 -> 0 | AJ21: ='[1]HRT polyester'!AA35*'[1]HRT polyester'!M35 -> 0 | AK21: =AB21*M21 -> 0 | AL21: =M21*L21 -> 0 | AQ21: 9 | AT21: =$M21*6 -> 0 | AU21: =$M21*3 -> 0 | BD21: 21000069 | BF21: =$M21*AM21 -> 0 | BG21: =$M21*AN21 -> 0 | BH21: =$M21*AO21 -> 0 | BI21: =$M21*AP21 -> 0 | BJ21: =$M21*AQ21 -> 0 | BK21: =$M21*AR21 -> 0
A22: 10035 | B22: JUG-A-LOT | C22: jugs | D22: view | E22: =SUM(F22:K22) -> 11 | H22: 2 | I22: 6 | J22: 3 | L22: 221.4 | M22: =SUM(N22:Z22) -> 0 | AA22: 16.209 | AB22: 8.456 | AC22: =$M22*F22 -> 0 | AD22: =$M22*G22 -> 0 | AE22: =$M22*H22 -> 0 | AF22: =$M22*I22 -> 0 | AG22: =$M22*J22 -> 0 | AH22: =$M22*K22 -> 0 | AJ22: ='[1]HRT polyester'!AA36*'[1]HRT polyester'!M36 -> 0 | AK22: =AB22*M22 -> 0 | AL22: =M22*L22 -> 0 | AN22: 11 | AS22: =$M22*2 -> 0 | AT22: =$M22*7 -> 0 | AU22: =$M22*1 -> 0 | AV22: =$M22*1 -> 0 | BD22: 21000070 | BF22: =$M22*AM22 -> 0 | BG22: =$M22*AN22 -> 0 | BH22: =$M22*AO22 -> 0 | BI22: =$M22*AP22 -> 0 | BJ22: =$M22*AQ22 -> 0 | BK22: =$M22*AR22 -> 0
A23: 10036 | B23: CRESCENT | C23: jugs | D23: view | E23: =SUM(F23:K23) -> 10 | I23: 7 | J23: 3 | L23: 206.0964 | M23: =SUM(N23:Z23) -> 0 | AA23: 15.109 | AB23: 7.858 | AC23: =$M23*F23 -> 0 | AD23: =$M23*G23 -> 0 | AE23: =$M23*H23 -> 0 | AF23: =$M23*I23 -> 0 | AG23: =$M23*J23 -> 0 | AH23: =$M23*K23 -> 0 | AJ23: ='[1]HRT polyester'!AA37*'[1]HRT polyester'!M37 -> 0 | AK23: =AB23*M23 -> 0 | AL23: =M23*L23 -> 0 | AN23: 10 | AT23: =$M23*3 -> 0 | AU23: =$M23*5 -> 0 | AV23: =$M23*2 -> 0 | BD23: 21000071 | BF23: =$M23*AM23 -> 0 | BG23: =$M23*AN23 -> 0 | BH23: =$M23*AO23 -> 0 | BI23: =$M23*AP23 -> 0 | BJ23: =$M23*AQ23 -> 0 | BK23: =$M23*AR23 -> 0
A24: 10042 | B24: PULLERS | C24: jugs | D24: view | E24: =SUM(F24:K24) -> 27 | H24: 27 | L24: 179.1 | M24: =SUM(N24:Z24) -> 0 | AA24: 10.37 | AB24: 5.4 | AC24: =$M24*F24 -> 0 | AD24: =$M24*G24 -> 0 | AE24: =$M24*H24 -> 0 | AF24: =$M24*I24 -> 0 | AG24: =$M24*J24 -> 0 | AH24: =$M24*K24 -> 0 | AJ24: ='[1]HRT polyester'!AA42*'[1]HRT polyester'!M42 -> 0 | AK24: =AB24*M24 -> 0 | AL24: =M24*L24 -> 0 | AN24: 27 | AS24: =$M24*3 -> 0 | AT24: =$M24*18 -> 0 | AU24: =$M24*6 -> 0 | BD24: 21000076 | BF24: =$M24*AM24 -> 0 | BG24: =$M24*AN24 -> 0 | BH24: =$M24*AO24 -> 0 | BI24: =$M24*AP24 -> 0 | BJ24: =$M24*AQ24 -> 0 | BK24: =$M24*AR24 -> 0
A25: 10047 | B25: DR.LEVINE | C25: mixed | D25: view | E25: =SUM(F25:K25) -> 9 | H25: 2 | I25: 2 | J25: 5 | L25: 131.4036 | M25: =SUM(N25:Z25) -> 0 | AA25: 9.26 | AB25: 4.829 | AC25: =$M25*F25 -> 0 | AD25: =$M25*G25 -> 0 | AE25: =$M25*H25 -> 0 | AF25: =$M25*I25 -> 0 | AG25: =$M25*J25 -> 0 | AH25: =$M25*K25 -> 0 | AJ25: ='[1]HRT polyester'!AA47*'[1]HRT polyester'!M47 -> 0 | AK25: =AB25*M25 -> 0 | AL25: =M25*L25 -> 0 | AN25: 5 | AP25: 4 | AS25: =$M25*2 -> 0 | AT25: =$M25*6 -> 0 | AU25: =$M25*1 -> 0 | BD25: 21000081 | BF25: =$M25*AM25 -> 0 | BG25: =$M25*AN25 -> 0 | BH25: =$M25*AO25 -> 0 | BI25: =$M25*AP25 -> 0 | BJ25: =$M25*AQ25 -> 0 | BK25: =$M25*AR25 -> 0
A26: 10050 | B26: ALIEN HEAD | C26: slopers | D26: view | E26: =SUM(F26:K26) -> 2 | K26: 2 | L26: 148.5 | M26: =SUM(N26:Z26) -> 0 | AA26: 11.519 | AB26: 5.907 | AC26: =$M26*F26 -> 0 | AD26: =$M26*G26 -> 0 | AE26: =$M26*H26 -> 0 | AF26: =$M26*I26 -> 0 | AG26: =$M26*J26 -> 0 | AH26: =$M26*K26 -> 0 | AJ26: ='[1]HRT polyester'!AA50*'[1]HRT polyester'!M50 -> 0 | AK26: =AB26*M26 -> 0 | AL26: =M26*L26 -> 0 | AR26: 2 | AV26: =$M26*2 -> 0 | BD26: 21000084 | BF26: =$M26*AM26 -> 0 | BG26: =$M26*AN26 -> 0 | BH26: =$M26*AO26 -> 0 | BI26: =$M26*AP26 -> 0 | BJ26: =$M26*AQ26 -> 0 | BK26: =$M26*AR26 -> 0
A27: 10089 | B27: ALL YOU CAN EAT 1 | C27: foot | D27: view | E27: =SUM(F27:K27) -> 26 | G27: 26 | L27: 90.9036 | M27: =SUM(N27:Z27) -> 0 | AA27: 2.871 | AB27: 1.418 | AC27: =$M27*F27 -> 0 | AD27: =$M27*G27 -> 0 | AE27: =$M27*H27 -> 0 | AF27: =$M27*I27 -> 0 | AG27: =$M27*J27 -> 0 | AH27: =$M27*K27 -> 0 | AJ27: ='[1]HRT polyester'!AA52*'[1]HRT polyester'!M52 -> 0 | AK27: =AB27*M27 -> 0 | AL27: =M27*L27 -> 0 | AM27: 26 | AS27: =$M27*23 -> 0 | AT27: =$M27*3 -> 0 | BD27: 21000086 | BF27: =$M27*AM27 -> 0 | BG27: =$M27*AN27 -> 0 | BH27: =$M27*AO27 -> 0 | BI27: =$M27*AP27 -> 0 | BJ27: =$M27*AQ27 -> 0 | BK27: =$M27*AR27 -> 0
A28: 10090 | B28: ALL YOU CAN EAT 2 | C28: edges, pinches | D28: view | E28: =SUM(F28:K28) -> 31 | G28: 31 | L28: 143.1 | M28: =SUM(N28:Z28) -> 0 | AA28: 5.801 | AB28: 2.97 | AC28: =$M28*F28 -> 0 | AD28: =$M28*G28 -> 0 | AE28: =$M28*H28 -> 0 | AF28: =$M28*I28 -> 0 | AG28: =$M28*J28 -> 0 | AH28: =$M28*K28 -> 0 | AJ28: ='[1]HRT polyester'!AA53*'[1]HRT polyester'!M53 -> 0 | AK28: =AB28*M28 -> 0 | AL28: =M28*L28 -> 0 | AM28: 5 | AO28: 1 | AP28: 13 | AQ28: 11 | AR28: 1 | AS28: =$M28*18 -> 0 | AT28: =$M28*13 -> 0 | BD28: 21000087 | BF28: =$M28*AM28 -> 0 | BG28: =$M28*AN28 -> 0 | BH28: =$M28*AO28 -> 0 | BI28: =$M28*AP28 -> 0 | BJ28: =$M28*AQ28 -> 0 | BK28: =$M28*AR28 -> 0
A29: 10091 | B29: ALL YOU CAN EAT 3 | C29: mixed | D29: view | E29: =SUM(F29:K29) -> 29 | G29: 29 | L29: 143.1 | M29: =SUM(N29:Z29) -> 0 | AA29: 6.231 | AB29: 3.244 | AC29: =$M29*F29 -> 0 | AD29: =$M29*G29 -> 0 | AE29: =$M29*H29 -> 0 | AF29: =$M29*I29 -> 0 | AG29: =$M29*J29 -> 0 | AH29: =$M29*K29 -> 0 | AJ29: ='[1]HRT polyester'!AA54*'[1]HRT polyester'!M54 -> 0 | AK29: =AB29*M29 -> 0 | AL29: =M29*L29 -> 0 | AM29: 2 | AN29: 9 | AP29: 6 | AQ29: 12 | AS29: =$M29*14 -> 0 | AT29: =$M29*14 -> 0 | AU29: =$M29*1 -> 0 | BD29: 21000088 | BF29: =$M29*AM29 -> 0 | BG29: =$M29*AN29 -> 0 | BH29: =$M29*AO29 -> 0 | BI29: =$M29*AP29 -> 0 | BJ29: =$M29*AQ29 -> 0 | BK29: =$M29*AR29 -> 0
A30: 10092 | B30: ALL YOU CAN EAT 4 | C30: mixed | D30: view | E30: =SUM(F30:K30) -> 18 | G30: 18 | L30: 80.1036 | M30: =SUM(N30:Z30) -> 0 | AA30: 3.289 | AB30: 1.645 | AC30: =$M30*F30 -> 0 | AD30: =$M30*G30 -> 0 | AE30: =$M30*H30 -> 0 | AF30: =$M30*I30 -> 0 | AG30: =$M30*J30 -> 0 | AH30: =$M30*K30 -> 0 | AJ30: ='[1]HRT polyester'!AA55*'[1]HRT polyester'!M55 -> 0 | AK30: =AB30*M30 -> 0 | AL30: =M30*L30 -> 0 | AM30: 2 | AN30: 5 | AP30: 9 | AQ30: 2 | AS30: =$M30*16 -> 0 | AT30: =$M30*2 -> 0 | BD30: 21000089 | BF30: =$M30*AM30 -> 0 | BG30: =$M30*AN30 -> 0 | BH30: =$M30*AO30 -> 0 | BI30: =$M30*AP30 -> 0 | BJ30: =$M30*AQ30 -> 0 | BK30: =$M30*AR30 -> 0
A31: 10093 | B31: ALL YOU CAN EAT – CONE HEAD | C31: mixed | D31: view | E31: =SUM(F31:K31) -> 32 | G31: 32 | L31: 110.7 | M31: =SUM(N31:Z31) -> 0 | AA31: 3.327 | AB31: 1.666 | AC31: =$M31*F31 -> 0 | AD31: =$M31*G31 -> 0 | AE31: =$M31*H31 -> 0 | AF31: =$M31*I31 -> 0 | AG31: =$M31*J31 -> 0 | AH31: =$M31*K31 -> 0 | AJ31: ='[1]HRT polyester'!AA56*'[1]HRT polyester'!M56 -> 0 | AK31: =AB31*M31 -> 0 | AL31: =M31*L31 -> 0 | AM31: 7 | AN31: 13 | AP31: 10 | AQ31: 2 | AZ31: =M31*32 -> 0 | BD31: 21000090 | BF31: =$M31*AM31 -> 0 | BG31: =$M31*AN31 -> 0 | BH31: =$M31*AO31 -> 0 | BI31: =$M31*AP31 -> 0 | BJ31: =$M31*AQ31 -> 0 | BK31: =$M31*AR31 -> 0
A32: 10210 | B32: DESERT STALKER | C32: pinches | D32: view | E32: =SUM(F32:K32) -> 19 | H32: 19 | L32: 146.6964 | M32: =SUM(N32:Z32) -> 0 | AA32: 8.918 | AB32: 4.611 | AC32: =$M32*F32 -> 0 | AD32: =$M32*G32 -> 0 | AE32: =$M32*H32 -> 0 | AF32: =$M32*I32 -> 0 | AG32: =$M32*J32 -> 0 | AH32: =$M32*K32 -> 0 | AJ32: ='[1]HRT polyester'!AA60*'[1]HRT polyester'!M60 -> 0 | AK32: =AB32*M32 -> 0 | AL32: =M32*L32 -> 0 | AQ32: 19 | AT32: =$M32*14 -> 0 | AU32: =$M32*5 -> 0 | BD32: 21000094 | BF32: =$M32*AM32 -> 0 | BG32: =$M32*AN32 -> 0 | BH32: =$M32*AO32 -> 0 | BI32: =$M32*AP32 -> 0 | BJ32: =$M32*AQ32 -> 0 | BK32: =$M32*AR32 -> 0
A33: 10212 | B33: WRINKLED | C33: jugs | D33: view | E33: =SUM(F33:K33) -> 5 | H33: 1 | I33: 2 | J33: 2 | L33: 66.6036 | M33: =SUM(N33:Z33) -> 0 | AA33: 4.767 | AB33: 2.408 | AC33: =$M33*F33 -> 0 | AD33: =$M33*G33 -> 0 | AE33: =$M33*H33 -> 0 | AF33: =$M33*I33 -> 0 | AG33: =$M33*J33 -> 0 | AH33: =$M33*K33 -> 0 | AJ33: ='[1]HRT polyester'!AA62*'[1]HRT polyester'!M62 -> 0 | AK33: =AB33*M33 -> 0 | AL33: =M33*L33 -> 0 | AN33: 5 | AT33: =$M33*5 -> 0 | BD33: 21000096 | BF33: =$M33*AM33 -> 0 | BG33: =$M33*AN33 -> 0 | BH33: =$M33*AO33 -> 0 | BI33: =$M33*AP33 -> 0 | BJ33: =$M33*AQ33 -> 0 | BK33: =$M33*AR33 -> 0
A34: 10213 | B34: TOXIC | C34: edges | D34: view | E34: =SUM(F34:K34) -> 10 | H34: 4 | I34: 3 | J34: 2 | K34: 1 | L34: 150.3036 | M34: =SUM(N34:Z34) -> 0 | AA34: 10.355 | AB34: 5.445 | AC34: =$M34*F34 -> 0 | AD34: =$M34*G34 -> 0 | AE34: =$M34*H34 -> 0 | AF34: =$M34*I34 -> 0 | AG34: =$M34*J34 -> 0 | AH34: =$M34*K34 -> 0 | AJ34: ='[1]HRT polyester'!AA63*'[1]HRT polyester'!M63 -> 0 | AK34: =AB34*M34 -> 0 | AL34: =M34*L34 -> 0 | AP34: 10 | AS34: =$M34*1 -> 0 | AT34: =$M34*9 -> 0 | BD34: 21000097 | BF34: =$M34*AM34 -> 0 | BG34: =$M34*AN34 -> 0 | BH34: =$M34*AO34 -> 0 | BI34: =$M34*AP34 -> 0 | BJ34: =$M34*AQ34 -> 0 | BK34: =$M34*AR34 -> 0
A35: 10216 | B35: TARZAN | C35: jugs | D35: view | E35: =SUM(F35:K35) -> 18 | G35: 6 | H35: 6 | I35: 4 | J35: 2 | L35: 156.6 | M35: =SUM(N35:Z35) -> 0 | AA35: 9.715 | AB35: 5.438 | AC35: =$M35*F35 -> 0 | AD35: =$M35*G35 -> 0 | AE35: =$M35*H35 -> 0 | AF35: =$M35*I35 -> 0 | AG35: =$M35*J35 -> 0 | AH35: =$M35*K35 -> 0 | AJ35: ='[1]HRT polyester'!AA65*'[1]HRT polyester'!M65 -> 0 | AK35: =AB35*M35 -> 0 | AL35: =M35*L35 -> 0 | AN35: 18 | AS35: =$M35*9 -> 0 | AT35: =$M35*9 -> 0 | BD35: 21000099 | BF35: =$M35*AM35 -> 0 | BG35: =$M35*AN35 -> 0 | BH35: =$M35*AO35 -> 0 | BI35: =$M35*AP35 -> 0 | BJ35: =$M35*AQ35 -> 0 | BK35: =$M35*AR35 -> 0
A36: 10217 | B36: SWISS GNEISS 1 | C36: Slopers, edges | D36: view | E36: =SUM(F36:K36) -> 16 | H36: 4 | I36: 6 | J36: 6 | L36: 229.5 | M36: =SUM(N36:Z36) -> 0 | AA36: 16.005 | AB36: 8.345 | AC36: =$M36*F36 -> 0 | AD36: =$M36*G36 -> 0 | AE36: =$M36*H36 -> 0 | AF36: =$M36*I36 -> 0 | AG36: =$M36*J36 -> 0 | AH36: =$M36*K36 -> 0 | AJ36: ='[1]HRT polyester'!AA66*'[1]HRT polyester'!M66 -> 0 | AK36: =AB36*M36 -> 0 | AL36: =M36*L36 -> 0 | AP36: 7 | AQ36: 2 | AR36: 7 | AT36: =$M36*11 -> 0 | AU36: =$M36*1 -> 0 | AV36: =$M36*4 -> 0 | BD36: 21000100 | BF36: =$M36*AM36 -> 0 | BG36: =$M36*AN36 -> 0 | BH36: =$M36*AO36 -> 0 | BI36: =$M36*AP36 -> 0 | BJ36: =$M36*AQ36 -> 0 | BK36: =$M36*AR36 -> 0
A37: 10219 | B37: EBOLA | C37: jugs | D37: view | E37: =SUM(F37:K37) -> 15 | I37: 15 | L37: 150.3036 | M37: =SUM(N37:Z37) -> 0 | AA37: 9.794 | AB37: 5.087 | AC37: =$M37*F37 -> 0 | AD37: =$M37*G37 -> 0 | AE37: =$M37*H37 -> 0 | AF37: =$M37*I37 -> 0 | AG37: =$M37*J37 -> 0 | AH37: =$M37*K37 -> 0 | AJ37: ='[1]HRT polyester'!AA68*'[1]HRT polyester'!M68 -> 0 | AK37: =AB37*M37 -> 0 | AL37: =M37*L37 -> 0 | AN37: 15 | AT37: =$M37*15 -> 0 | BD37: 21000102 | BF37: =$M37*AM37 -> 0 | BG37: =$M37*AN37 -> 0 | BH37: =$M37*AO37 -> 0 | BI37: =$M37*AP37 -> 0 | BJ37: =$M37*AQ37 -> 0 | BK37: =$M37*AR37 -> 0
A38: 10221 | B38: SWISS GNEISS 2 | C38: edges, slopers | D38: view | E38: =SUM(F38:K38) -> 20 | H38: 13 | I38: 5 | J38: 2 | L38: 207.9 | M38: =SUM(N38:Z38) -> 0 | AA38: 13.751 | AB38: 7.188 | AC38: =$M38*F38 -> 0 | AD38: =$M38*G38 -> 0 | AE38: =$M38*H38 -> 0 | AF38: =$M38*I38 -> 0 | AG38: =$M38*J38 -> 0 | AH38: =$M38*K38 -> 0 | AJ38: ='[1]HRT polyester'!AA70*'[1]HRT polyester'!M70 -> 0 | AK38: =AB38*M38 -> 0 | AL38: =M38*L38 -> 0 | AN38: 1 | AP38: 14 | AR38: 5 | AT38: =$M38*18 -> 0 | AU38: =$M38*2 -> 0 | BD38: 21000104 | BF38: =$M38*AM38 -> 0 | BG38: =$M38*AN38 -> 0 | BH38: =$M38*AO38 -> 0 | BI38: =$M38*AP38 -> 0 | BJ38: =$M38*AQ38 -> 0 | BK38: =$M38*AR38 -> 0
A39: 10222 | B39: BOOTIE CALL 1 | C39: slopers | D39: view | E39: =SUM(F39:K39) -> 5 | I39: 2 | K39: 3 | L39: 181.7964 | M39: =SUM(N39:Z39) -> 0 | AA39: 13.653 | AB39: 7.067 | AC39: =$M39*F39 -> 0 | AD39: =$M39*G39 -> 0 | AE39: =$M39*H39 -> 0 | AF39: =$M39*I39 -> 0 | AG39: =$M39*J39 -> 0 | AH39: =$M39*K39 -> 0 | AJ39: ='[1]HRT polyester'!AA71*'[1]HRT polyester'!M71 -> 0 | AK39: =AB39*M39 -> 0 | AL39: =M39*L39 -> 0 | AR39: 5 | AV39: =$M39*2 -> 0 | AW39: =M39*3 -> 0 | BD39: 21000105 | BF39: =$M39*AM39 -> 0 | BG39: =$M39*AN39 -> 0 | BH39: =$M39*AO39 -> 0 | BI39: =$M39*AP39 -> 0 | BJ39: =$M39*AQ39 -> 0 | BK39: =$M39*AR39 -> 0
A40: 10223 | B40: BOOTIE CALL 2 | C40: slopers | D40: view | E40: =SUM(F40:K40) -> 6 | I40: 2 | J40: 2 | K40: 2 | L40: 172.8 | M40: =SUM(N40:Z40) -> 0 | AA40: 12.78 | AB40: 6.71 | AC40: =$M40*F40 -> 0 | AD40: =$M40*G40 -> 0 | AE40: =$M40*H40 -> 0 | AF40: =$M40*I40 -> 0 | AG40: =$M40*J40 -> 0 | AH40: =$M40*K40 -> 0 | AJ40: ='[1]HRT polyester'!AA72*'[1]HRT polyester'!M72 -> 0 | AK40: =AB40*M40 -> 0 | AL40: =M40*L40 -> 0 | AR40: 6 | AU40: =$M40*1 -> 0 | AV40: =$M40*4 -> 0 | AW40: =$M40*1 -> 0 | BD40: 21000106 | BF40: =$M40*AM40 -> 0 | BG40: =$M40*AN40 -> 0 | BH40: =$M40*AO40 -> 0 | BI40: =$M40*AP40 -> 0 | BJ40: =$M40*AQ40 -> 0 | BK40: =$M40*AR40 -> 0
A41: 10224 | B41: WIND AND WATER 1 | C41: Slopers, edges | D41: view | E41: =SUM(F41:K41) -> 7 | G41: 2 | I41: 1 | J41: 2 | K41: 2 | L41: 160.1964 | M41: =SUM(N41:Z41) -> 0 | AA41: 11.619 | AB41: 6.079 | AC41: =$M41*F41 -> 0 | AD41: =$M41*G41 -> 0 | AE41: =$M41*H41 -> 0 | AF41: =$M41*I41 -> 0 | AG41: =$M41*J41 -> 0 | AH41: =$M41*K41 -> 0 | AJ41: ='[1]HRT polyester'!AA73*'[1]HRT polyester'!M73 -> 0 | AK41: =AB41*M41 -> 0 | AL41: =M41*L41 -> 0 | AP41: 3 | AQ41: 1 | AR41: 3 | AS41: =$M41*2 -> 0 | AV41: =$M41*1 -> 0 | AW41: =$M41*3 -> 0 | AX41: =$M41*1 -> 0 | BD41: 21000107 | BF41: =$M41*AM41 -> 0 | BG41: =$M41*AN41 -> 0 | BH41: =$M41*AO41 -> 0 | BI41: =$M41*AP41 -> 0 | BJ41: =$M41*AQ41 -> 0 | BK41: =$M41*AR41 -> 0
A42: 10225 | B42: ATLANTIS 1 | C42: Slopers | D42: view | E42: =SUM(F42:K42) -> 5 | J42: 3 | K42: 2 | L42: 149.3964 | M42: =SUM(N42:Z42) -> 0 | AA42: 11.084 | AB42: 5.788 | AC42: =$M42*F42 -> 0 | AD42: =$M42*G42 -> 0 | AE42: =$M42*H42 -> 0 | AF42: =$M42*I42 -> 0 | AG42: =$M42*J42 -> 0 | AH42: =$M42*K42 -> 0 | AJ42: ='[1]HRT polyester'!AA74*'[1]HRT polyester'!M74 -> 0 | AK42: =AB42*M42 -> 0 | AL42: =M42*L42 -> 0 | AR42: 5 | AV42: =$M42*4 -> 0 | AW42: =$M42*1 -> 0 | BD42: 21000108 | BF42: =$M42*AM42 -> 0 | BG42: =$M42*AN42 -> 0 | BH42: =$M42*AO42 -> 0 | BI42: =$M42*AP42 -> 0 | BJ42: =$M42*AQ42 -> 0 | BK42: =$M42*AR42 -> 0
A43: 10226 | B43: ATLANTIS 2 | C43: Slopers | D43: view | E43: =SUM(F43:K43) -> 6 | I43: 2 | J43: 2 | K43: 2 | L43: 166.5036 | M43: =SUM(N43:Z43) -> 0 | AA43: 12.285 | AB43: 6.441 | AC43: =$M43*F43 -> 0 | AD43: =$M43*G43 -> 0 | AE43: =$M43*H43 -> 0 | AF43: =$M43*I43 -> 0 | AG43: =$M43*J43 -> 0 | AH43: =$M43*K43 -> 0 | AJ43: ='[1]HRT polyester'!AA75*'[1]HRT polyester'!M75 -> 0 | AK43: =AB43*M43 -> 0 | AL43: =M43*L43 -> 0 | AR43: 6 | AT43: =$M43*2 -> 0 | AW43: =$M43*4 -> 0 | BD43: 21000109 | BF43: =$M43*AM43 -> 0 | BG43: =$M43*AN43 -> 0 | BH43: =$M43*AO43 -> 0 | BI43: =$M43*AP43 -> 0 | BJ43: =$M43*AQ43 -> 0 | BK43: =$M43*AR43 -> 0
A44: 10227 | B44: WIND AND WATER 2 | C44: Slopers, edges | D44: view | E44: =SUM(F44:K44) -> 11 | G44: 1 | H44: 2 | I44: 4 | J44: 2 | K44: 2 | L44: 212.4036 | M44: =SUM(N44:Z44) -> 0 | AA44: 15.261 | AB44: 7.941 | AC44: =$M44*F44 -> 0 | AD44: =$M44*G44 -> 0 | AE44: =$M44*H44 -> 0 | AF44: =$M44*I44 -> 0 | AG44: =$M44*J44 -> 0 | AH44: =$M44*K44 -> 0 | AJ44: ='[1]HRT polyester'!AA76*'[1]HRT polyester'!M76 -> 0 | AK44: =AB44*M44 -> 0 | AL44: =M44*L44 -> 0 | AN44: 1 | AP44: 5 | AR44: 5 | AS44: =$M44*2 -> 0 | AV44: =$M44*5 -> 0 | BD44: 21000110 | BF44: =$M44*AM44 -> 0 | BG44: =$M44*AN44 -> 0 | BH44: =$M44*AO44 -> 0 | BI44: =$M44*AP44 -> 0 | BJ44: =$M44*AQ44 -> 0 | BK44: =$M44*AR44 -> 0
A45: 10228 | B45: PRETTY UGLY | C45: edges | D45: view | E45: =SUM(F45:K45) -> 7 | H45: 2 | I45: 2 | J45: 2 | K45: 1 | L45: 116.9964 | M45: =SUM(N45:Z45) -> 0 | AA45: 8.386 | AB45: 4.322 | AC45: =$M45*F45 -> 0 | AD45: =$M45*G45 -> 0 | AE45: =$M45*H45 -> 0 | AF45: =$M45*I45 -> 0 | AG45: =$M45*J45 -> 0 | AH45: =$M45*K45 -> 0 | AJ45: ='[1]HRT polyester'!AA77*'[1]HRT polyester'!M77 -> 0 | AK45: =AB45*M45 -> 0 | AL45: =M45*L45 -> 0 | AP45: 7 | AS45: ='[1]HRT polyester'!$M77*1 -> 0 | AT45: =$M45*6 -> 0 | BD45: 21000111 | BF45: =$M45*AM45 -> 0 | BG45: =$M45*AN45 -> 0 | BH45: =$M45*AO45 -> 0 | BI45: =$M45*AP45 -> 0 | BJ45: =$M45*AQ45 -> 0 | BK45: =$M45*AR45 -> 0
A46: 10232 | B46: JAR JAR JUGS | C46: jugs | D46: view | E46: =SUM(F46:K46) -> 30 | H46: 30 | L46: 190.8 | M46: =SUM(N46:Z46) -> 0 | AA46: 10.6 | AB46: 5.544 | AC46: =$M46*F46 -> 0 | AD46: =$M46*G46 -> 0 | AE46: =$M46*H46 -> 0 | AF46: =$M46*I46 -> 0 | AG46: =$M46*J46 -> 0 | AH46: =$M46*K46 -> 0 | AJ46: ='[1]HRT polyester'!AA81*'[1]HRT polyester'!M81 -> 0 | AK46: =AB46*M46 -> 0 | AL46: =M46*L46 -> 0 | AN46: 30 | AS46: =$M46*5 -> 0 | AT46: =$M46*17 -> 0 | AU46: =$M46*8 -> 0 | BD46: 21000115 | BF46: =$M46*AM46 -> 0 | BG46: =$M46*AN46 -> 0 | BH46: =$M46*AO46 -> 0 | BI46: =$M46*AP46 -> 0 | BJ46: =$M46*AQ46 -> 0 | BK46: =$M46*AR46 -> 0
A47: 10233 | B47: JABBA JUGS | C47: jugs | D47: view | E47: =SUM(F47:K47) -> 15 | I47: 15 | L47: 159.3 | M47: =SUM(N47:Z47) -> 0 | AA47: 10.429 | AB47: 5.432 | AC47: =$M47*F47 -> 0 | AD47: =$M47*G47 -> 0 | AE47: =$M47*H47 -> 0 | AF47: =$M47*I47 -> 0 | AG47: =$M47*J47 -> 0 | AH47: =$M47*K47 -> 0 | AJ47: =AA47*M47 -> 0 | AK47: =AB47*M47 -> 0 | AL47: =M47*L47 -> 0 | AN47: 15 | AS47: =$M47*1 -> 0 | AT47: =$M47*3 -> 0 | AU47: =$M47*9 -> 0 | AV47: =$M47*2 -> 0 | BD47: 21000116 | BF47: =$M47*AM47 -> 0 | BG47: =$M47*AN47 -> 0 | BH47: =$M47*AO47 -> 0 | BI47: =$M47*AP47 -> 0 | BJ47: =$M47*AQ47 -> 0 | BK47: =$M47*AR47 -> 0
A48: 10234 | B48: DUNE JUGS | C48: jugs | D48: view | E48: =SUM(F48:K48) -> 30 | H48: 30 | L48: 161.1036 | M48: =SUM(N48:Z48) -> 0 | AA48: 8.267 | AB48: 4.257 | AC48: =$M48*F48 -> 0 | AD48: =$M48*G48 -> 0 | AE48: =$M48*H48 -> 0 | AF48: =$M48*I48 -> 0 | AG48: =$M48*J48 -> 0 | AH48: =$M48*K48 -> 0 | AJ48: =AA48*M48 -> 0 | AK48: =AB48*M48 -> 0 | AL48: =M48*L48 -> 0 | AN48: 30 | AS48: =$M48*3 -> 0 | AT48: =$M48*20 -> 0 | AU48: =$M48*7 -> 0 | BD48: 21000117 | BF48: =$M48*AM48 -> 0 | BG48: =$M48*AN48 -> 0 | BH48: =$M48*AO48 -> 0 | BI48: =$M48*AP48 -> 0 | BJ48: =$M48*AQ48 -> 0 | BK48: =$M48*AR48 -> 0
A49: 10235 | B49: LUNAR WALK | C49: jugs | D49: view | E49: =SUM(F49:K49) -> 30 | H49: 30 | L49: 187.1964 | M49: =SUM(N49:Z49) -> 0 | AA49: 10.322 | AB49: 5.409 | AC49: =$M49*F49 -> 0 | AD49: =$M49*G49 -> 0 | AE49: =$M49*H49 -> 0 | AF49: =$M49*I49 -> 0 | AG49: =$M49*J49 -> 0 | AH49: =$M49*K49 -> 0 | AJ49: =AA49*M49 -> 0 | AK49: =AB49*M49 -> 0 | AL49: =M49*L49 -> 0 | AN49: 30 | AS49: =$M49*5 -> 0 | AT49: =$M49*15 -> 0 | AU49: =$M49*10 -> 0 | BD49: 21000118 | BF49: =$M49*AM49 -> 0 | BG49: =$M49*AN49 -> 0 | BH49: =$M49*AO49 -> 0 | BI49: =$M49*AP49 -> 0 | BJ49: =$M49*AQ49 -> 0 | BK49: =$M49*AR49 -> 0
A50: 10512 | B50: Stone Mushrooms | C50: jugs | D50: view | E50: =SUM(F50:K50) -> 20 | H50: 20 | L50: 117.9036 | M50: =SUM(N50:Z50) -> 0 | AA50: 6.51 | AB50: 3.302 | AC50: =$M50*F50 -> 0 | AD50: =$M50*G50 -> 0 | AE50: =$M50*H50 -> 0 | AF50: =$M50*I50 -> 0 | AG50: =$M50*J50 -> 0 | AH50: =$M50*K50 -> 0 | AJ50: =AA50*M50 -> 0 | AK50: =AB50*M50 -> 0 | AL50: =M50*L50 -> 0 | AN50: 20 | AT50: =$M50*20 -> 0 | BD50: 21000122 | BF50: =$M50*AM50 -> 0 | BG50: =$M50*AN50 -> 0 | BH50: =$M50*AO50 -> 0 | BI50: =$M50*AP50 -> 0 | BJ50: =$M50*AQ50 -> 0 | BK50: =$M50*AR50 -> 0
A51: 10237 | B51: ROOF RINGS | C51: jugs | D51: view | E51: =SUM(F51:K51) -> 8 | I51: 3 | J51: 2 | K51: 3 | L51: 179.16 | M51: =SUM(N51:Z51) -> 0 | AA51: 10.198 | AB51: 5.189 | AC51: =$M51*F51 -> 0 | AD51: =$M51*G51 -> 0 | AE51: =$M51*H51 -> 0 | AF51: =$M51*I51 -> 0 | AG51: =$M51*J51 -> 0 | AH51: =$M51*K51 -> 0 | AJ51: =AA51*M51 -> 0 | AK51: =AB51*M51 -> 0 | AL51: =M51*L51 -> 0 | AN51: 8 | AS51: =$M51*1 -> 0 | AT51: =$M51*1 -> 0 | AU51: =$M51*3 -> 0 | AV51: =$M51*2 -> 0 | AW51: =$M51*1 -> 0 | BD51: 21000123 | BF51: =$M51*AM51 -> 0 | BG51: =$M51*AN51 -> 0 | BH51: =$M51*AO51 -> 0 | BI51: =$M51*AP51 -> 0 | BJ51: =$M51*AQ51 -> 0 | BK51: =$M51*AR51 -> 0
A52: 10238 | B52: ROOF JUGS L | C52: jugs | D52: view | E52: =SUM(F52:K52) -> 12 | I52: 12 | L52: 126.9 | M52: =SUM(N52:Z52) -> 0 | AA52: 7.175 | AB52: 4.356 | AC52: =$M52*F52 -> 0 | AD52: =$M52*G52 -> 0 | AE52: =$M52*H52 -> 0 | AF52: =$M52*I52 -> 0 | AG52: =$M52*J52 -> 0 | AH52: =$M52*K52 -> 0 | AJ52: =AA52*M52 -> 0 | AK52: =AB52*M52 -> 0 | AL52: =M52*L52 -> 0 | AN52: 12 | AS52: =$M52*2 -> 0 | AT52: =$M52*4 -> 0 | AU52: =$M52*6 -> 0 | BD52: 21000124 | BF52: =$M52*AM52 -> 0 | BG52: =$M52*AN52 -> 0 | BH52: =$M52*AO52 -> 0 | BI52: =$M52*AP52 -> 0 | BJ52: =$M52*AQ52 -> 0 | BK52: =$M52*AR52 -> 0
A53: 10239 | B53: ROOF JUGS XL | C53: jugs | D53: view | E53: =SUM(F53:K53) -> 6 | J53: 6 | L53: 95.3964 | M53: =SUM(N53:Z53) -> 0 | AA53: 8.534 | AB53: 3.53 | AC53: =$M53*F53 -> 0 | AD53: =$M53*G53 -> 0 | AE53: =$M53*H53 -> 0 | AF53: =$M53*I53 -> 0 | AG53: =$M53*J53 -> 0 | AH53: =$M53*K53 -> 0 | AJ53: =AA53*M53 -> 0 | AK53: =AB53*M53 -> 0 | AL53: =M53*L53 -> 0 | AN53: 6 | AT53: =$M53*1 -> 0 | AU53: =$M53*5 -> 0 | BD53: 21000125 | BF53: =$M53*AM53 -> 0 | BG53: =$M53*AN53 -> 0 | BH53: =$M53*AO53 -> 0 | BI53: =$M53*AP53 -> 0 | BJ53: =$M53*AQ53 -> 0 | BK53: =$M53*AR53 -> 0
A54: 10243 | B54: SAND BOOGIE | C54: mixed | D54: view | E54: =SUM(F54:K54) -> 9 | H54: 8 | J54: 1 | L54: 85.5036 | M54: =SUM(N54:Z54) -> 0 | AA54: 5.574 | AB54: 2.847 | AC54: =$M54*F54 -> 0 | AD54: =$M54*G54 -> 0 | AE54: =$M54*H54 -> 0 | AF54: =$M54*I54 -> 0 | AG54: =$M54*J54 -> 0 | AH54: =$M54*K54 -> 0 | AJ54: =AA54*M54 -> 0 | AK54: =AB54*M54 -> 0 | AL54: =M54*L54 -> 0 | AN54: 3 | AP54: 2 | AQ54: 1 | AR54: 3 | AT54: =$M54*4 -> 0 | AU54: =$M54*5 -> 0 | BD54: 21000129 | BF54: =$M54*AM54 -> 0 | BG54: =$M54*AN54 -> 0 | BH54: =$M54*AO54 -> 0 | BI54: =$M54*AP54 -> 0 | BJ54: =$M54*AQ54 -> 0 | BK54: =$M54*AR54 -> 0
A55: 10250 | B55: LAVA S | C55: mixed | D55: view | E55: =SUM(F55:K55) -> 30 | G55: 30 | L55: 110.7 | M55: =SUM(N55:Z55) -> 0 | AA55: 3.654 | AB55: 1.803 | AC55: =$M55*F55 -> 0 | AD55: =$M55*G55 -> 0 | AE55: =$M55*H55 -> 0 | AF55: =$M55*I55 -> 0 | AG55: =$M55*J55 -> 0 | AH55: =$M55*K55 -> 0 | AJ55: =AA55*M55 -> 0 | AK55: =AB55*M55 -> 0 | AL55: =M55*L55 -> 0 | AN55: 3 | AO55: 4 | AP55: 0 | AQ55: 15 | AR55: 8 | AS55: =$M55*26 -> 0 | AT55: =$M55*4 -> 0 | BD55: 21000136 | BF55: =$M55*AM55 -> 0 | BG55: =$M55*AN55 -> 0 | BH55: =$M55*AO55 -> 0 | BI55: =$M55*AP55 -> 0 | BJ55: =$M55*AQ55 -> 0 | BK55: =$M55*AR55 -> 0
A56: 10251 | B56: AMMONITES | C56: mixed | D56: view | E56: =SUM(F56:K56) -> 31 | G56: 31 | L56: 125.0964 | M56: =SUM(N56:Z56) -> 0 | AA56: 4.586 | AB56: 2.31 | AC56: =$M56*F56 -> 0 | AD56: =$M56*G56 -> 0 | AE56: =$M56*H56 -> 0 | AF56: =$M56*I56 -> 0 | AG56: =$M56*J56 -> 0 | AH56: =$M56*K56 -> 0 | AJ56: =AA56*M56 -> 0 | AK56: =AB56*M56 -> 0 | AL56: =M56*L56 -> 0 | AM56: 5 | AN56: 4 | AO56: 0 | AP56: 11 | AQ56: 11 | AS56: =$M56*31 -> 0 | BD56: 21000137 | BF56: =$M56*AM56 -> 0 | BG56: =$M56*AN56 -> 0 | BH56: =$M56*AO56 -> 0 | BI56: =$M56*AP56 -> 0 | BJ56: =$M56*AQ56 -> 0 | BK56: =$M56*AR56 -> 0
A57: 10254 | B57: GLAIR | C57: foot | D57: view | E57: =SUM(F57:K57) -> 26 | F57: 26 | L57: 57.5964 | M57: =SUM(N57:Z57) -> 0 | AA57: 1.792 | AB57: 0.914 | AC57: =$M57*F57 -> 0 | AD57: =$M57*G57 -> 0 | AE57: =$M57*H57 -> 0 | AF57: =$M57*I57 -> 0 | AG57: =$M57*J57 -> 0 | AH57: =$M57*K57 -> 0 | AJ57: =AA57*M57 -> 0 | AK57: =AB57*M57 -> 0 | AL57: =M57*L57 -> 0 | AM57: 26 | AY57: =$M57*52 -> 0 | BD57: 21000140 | BF57: =$M57*AM57 -> 0 | BG57: =$M57*AN57 -> 0 | BH57: =$M57*AO57 -> 0 | BI57: =$M57*AP57 -> 0 | BJ57: =$M57*AQ57 -> 0 | BK57: =$M57*AR57 -> 0
B58: SETS BY GRIP | AC58: =$M58*F58 -> 0 | AD58: =$M58*G58 -> 0 | AE58: =$M58*H58 -> 0 | AF58: =$M58*I58 -> 0 | AG58: =$M58*J58 -> 0 | AH58: =$M58*K58 -> 0 | AJ58: =AA58*M58 -> 0 | AK58: =AB58*M58 -> 0 | AL58: =M58*L58 -> 0
A59: 10052 | B59: Slopers L size | C59: Slopers | D59: view | E59: =SUM(F59:K59) -> 11 | I59: 11 | L59: 150.3036 | M59: =SUM(N59:Z59) -> 0 | AA59: 10.444 | AB59: 5.44 | AC59: =$M59*F59 -> 0 | AD59: =$M59*G59 -> 0 | AE59: =$M59*H59 -> 0 | AF59: =$M59*I59 -> 0 | AG59: =$M59*J59 -> 0 | AH59: =$M59*K59 -> 0 | AJ59: =AA59*M59 -> 0 | AK59: =AB59*M59 -> 0 | AL59: =M59*L59 -> 0 | AR59: 11 | AT59: =$M59*2 -> 0 | AU59: =$M59*5 -> 0 | AV59: =$M59*3 -> 0 | AX59: =$M59*1 -> 0 | BD59: 21000000 | BF59: =$M59*AM59 -> 0 | BG59: =$M59*AN59 -> 0 | BH59: =$M59*AO59 -> 0 | BI59: =$M59*AP59 -> 0 | BJ59: =$M59*AQ59 -> 0 | BK59: =$M59*AR59 -> 0
A60: 10053 | B60: Slopers M size | C60: Slopers | D60: view | E60: =SUM(F60:K60) -> 17 | H60: 17 | L60: 135.9 | M60: =SUM(N60:Z60) -> 0 | AA60: 8.296 | AB60: 4.273 | AC60: =$M60*F60 -> 0 | AD60: =$M60*G60 -> 0 | AE60: =$M60*H60 -> 0 | AF60: =$M60*I60 -> 0 | AG60: =$M60*J60 -> 0 | AH60: =$M60*K60 -> 0 | AJ60: =AA60*M60 -> 0 | AK60: =AB60*M60 -> 0 | AL60: =M60*L60 -> 0 | AR60: 17 | AS60: =$M60*4 -> 0 | AT60: =$M60*10 -> 0 | AU60: =$M60*1 -> 0 | AV60: =$M60*2 -> 0 | BD60: 21000001 | BF60: =$M60*AM60 -> 0 | BG60: =$M60*AN60 -> 0 | BH60: =$M60*AO60 -> 0 | BI60: =$M60*AP60 -> 0 | BJ60: =$M60*AQ60 -> 0 | BK60: =$M60*AR60 -> 0
A61: 10054 | B61: Pockets Mega size | C61: pockets | D61: view | E61: =SUM(F61:K61) -> 3 | K61: 3 | L61: 99.0036 | M61: =SUM(N61:Z61) -> 0 | AA61: 7.424 | AB61: 3.799 | AC61: =$M61*F61 -> 0 | AD61: =$M61*G61 -> 0 | AE61: =$M61*H61 -> 0 | AF61: =$M61*I61 -> 0 | AG61: =$M61*J61 -> 0 | AH61: =$M61*K61 -> 0 | AJ61: =AA61*M61 -> 0 | AK61: =AB61*M61 -> 0 | AL61: =M61*L61 -> 0 | AO61: 3 | AU61: =$M61*1 -> 0 | AV61: =$M61*2 -> 0 | BD61: 21000002 | BF61: =$M61*AM61 -> 0 | BG61: =$M61*AN61 -> 0 | BH61: =$M61*AO61 -> 0 | BI61: =$M61*AP61 -> 0 | BJ61: =$M61*AQ61 -> 0 | BK61: =$M61*AR61 -> 0
A62: 10055 | B62: Pockets XL size 1 | C62: pockets | D62: view | E62: =SUM(F62:K62) -> 6 | J62: 6 | L62: 105.3 | M62: =SUM(N62:Z62) -> 0 | AA62: 7.671 | AB62: 3.933 | AC62: =$M62*F62 -> 0 | AD62: =$M62*G62 -> 0 | AE62: =$M62*H62 -> 0 | AF62: =$M62*I62 -> 0 | AG62: =$M62*J62 -> 0 | AH62: =$M62*K62 -> 0 | AJ62: =AA62*M62 -> 0 | AK62: =AB62*M62 -> 0 | AL62: =M62*L62 -> 0 | AO62: 6 | AS62: =$M62*1 -> 0 | AT62: =$M62*3 -> 0 | AU62: =$M62*1 -> 0 | AV62: =$M62*1 -> 0 | BD62: 21000003 | BF62: =$M62*AM62 -> 0 | BG62: =$M62*AN62 -> 0 | BH62: =$M62*AO62 -> 0 | BI62: =$M62*AP62 -> 0 | BJ62: =$M62*AQ62 -> 0 | BK62: =$M62*AR62 -> 0
A63: 10056 | B63: Pockets XL size 2 | C63: pockets | D63: view | E63: =SUM(F63:K63) -> 7 | J63: 7 | L63: 124.2 | M63: =SUM(N63:Z63) -> 0 | AA63: 9.03 | AB63: 4.672 | AC63: =$M63*F63 -> 0 | AD63: =$M63*G63 -> 0 | AE63: =$M63*H63 -> 0 | AF63: =$M63*I63 -> 0 | AG63: =$M63*J63 -> 0 | AH63: =$M63*K63 -> 0 | AJ63: =AA63*M63 -> 0 | AK63: =AB63*M63 -> 0 | AL63: =M63*L63 -> 0 | AO63: 7 | AT63: =$M63*5 -> 0 | AU63: =$M63*2 -> 0 | BD63: 21000004 | BF63: =$M63*AM63 -> 0 | BG63: =$M63*AN63 -> 0 | BH63: =$M63*AO63 -> 0 | BI63: =$M63*AP63 -> 0 | BJ63: =$M63*AQ63 -> 0 | BK63: =$M63*AR63 -> 0
A64: 10057 | B64: Pockets M size 1 | C64: pockets | D64: view | E64: =SUM(F64:K64) -> 10 | H64: 10 | L64: 71.0964 | M64: =SUM(N64:Z64) -> 0 | AA64: 4.233 | AB64: 2.158 | AC64: =$M64*F64 -> 0 | AD64: =$M64*G64 -> 0 | AE64: =$M64*H64 -> 0 | AF64: =$M64*I64 -> 0 | AG64: =$M64*J64 -> 0 | AH64: =$M64*K64 -> 0 | AJ64: =AA64*M64 -> 0 | AK64: =AB64*M64 -> 0 | AL64: =M64*L64 -> 0 | AO64: 10 | AS64: =$M64*5 -> 0 | AT64: =$M64*4 -> 0 | AU64: =$M64*1 -> 0 | BD64: 21000005 | BF64: =$M64*AM64 -> 0 | BG64: =$M64*AN64 -> 0 | BH64: =$M64*AO64 -> 0 | BI64: =$M64*AP64 -> 0 | BJ64: =$M64*AQ64 -> 0 | BK64: =$M64*AR64 -> 0
A65: 10058 | B65: Pockets M size 2 | C65: pockets | D65: view | E65: =SUM(F65:K65) -> 18 | H65: 18 | L65: 135 | M65: =SUM(N65:Z65) -> 0 | AA65: 8.125 | AB65: 4.18 | AC65: =$M65*F65 -> 0 | AD65: =$M65*G65 -> 0 | AE65: =$M65*H65 -> 0 | AF65: =$M65*I65 -> 0 | AG65: =$M65*J65 -> 0 | AH65: =$M65*K65 -> 0 | AJ65: =AA65*M65 -> 0 | AK65: =AB65*M65 -> 0 | AL65: =M65*L65 -> 0 | AO65: 18 | AS65: =$M65*3 -> 0 | AT65: =$M65*12 -> 0 | AU65: =$M65*3 -> 0 | BD65: 21000006 | BF65: =$M65*AM65 -> 0 | BG65: =$M65*AN65 -> 0 | BH65: =$M65*AO65 -> 0 | BI65: =$M65*AP65 -> 0 | BJ65: =$M65*AQ65 -> 0 | BK65: =$M65*AR65 -> 0
A66: 10094 | B66: Pockets L size | C66: pockets | D66: view | E66: =SUM(F66:K66) -> 8 | I66: 8 | L66: 96.3036 | M66: =SUM(N66:Z66) -> 0 | AA66: 6.62 | AB66: 3.362 | AC66: =$M66*F66 -> 0 | AD66: =$M66*G66 -> 0 | AE66: =$M66*H66 -> 0 | AF66: =$M66*I66 -> 0 | AG66: =$M66*J66 -> 0 | AH66: =$M66*K66 -> 0 | AJ66: =AA66*M66 -> 0 | AK66: =AB66*M66 -> 0 | AL66: =M66*L66 -> 0 | AO66: 8 | AS66: =$M66*1 -> 0 | AT66: =$M66*6 -> 0 | AU66: =$M66*1 -> 0 | BD66: 21000007 | BF66: =$M66*AM66 -> 0 | BG66: =$M66*AN66 -> 0 | BH66: =$M66*AO66 -> 0 | BI66: =$M66*AP66 -> 0 | BJ66: =$M66*AQ66 -> 0 | BK66: =$M66*AR66 -> 0
A67: 10067 | B67: Pinches M size 1 | C67: pinches | D67: view | E67: =SUM(F67:K67) -> 30 | H67: 30 | L67: 213.3 | M67: =SUM(N67:Z67) -> 0 | AA67: 12.649 | AB67: 6.521 | AC67: =$M67*F67 -> 0 | AD67: =$M67*G67 -> 0 | AE67: =$M67*H67 -> 0 | AF67: =$M67*I67 -> 0 | AG67: =$M67*J67 -> 0 | AH67: =$M67*K67 -> 0 | AJ67: =AA67*M67 -> 0 | AK67: =AB67*M67 -> 0 | AL67: =M67*L67 -> 0 | AQ67: 30 | AS67: =$M67*5 -> 0 | AT67: =$M67*19 -> 0 | AU67: =$M67*5 -> 0 | AV67: =$M67*1 -> 0 | BD67: 21000008 | BF67: =$M67*AM67 -> 0 | BG67: =$M67*AN67 -> 0 | BH67: =$M67*AO67 -> 0 | BI67: =$M67*AP67 -> 0 | BJ67: =$M67*AQ67 -> 0 | BK67: =$M67*AR67 -> 0
A68: 10068 | B68: Pinches M size 2 | C68: pinches | D68: view | E68: =SUM(F68:K68) -> 25 | H68: 25 | L68: 181.8 | M68: =SUM(N68:Z68) -> 0 | AA68: 12.788 | AB68: 6.597 | AC68: =$M68*F68 -> 0 | AD68: =$M68*G68 -> 0 | AE68: =$M68*H68 -> 0 | AF68: =$M68*I68 -> 0 | AG68: =$M68*J68 -> 0 | AH68: =$M68*K68 -> 0 | AJ68: =AA68*M68 -> 0 | AK68: =AB68*M68 -> 0 | AL68: =M68*L68 -> 0 | AQ68: 25 | AT68: =$M68*14 -> 0 | AU68: =$M68*8 -> 0 | AV68: =$M68*3 -> 0 | BD68: 21000009 | BF68: =$M68*AM68 -> 0 | BG68: =$M68*AN68 -> 0 | BH68: =$M68*AO68 -> 0 | BI68: =$M68*AP68 -> 0 | BJ68: =$M68*AQ68 -> 0 | BK68: =$M68*AR68 -> 0
A69: 10065 | B69: Pinches L size 1 | C69: pinches | D69: view | E69: =SUM(F69:K69) -> 14 | I69: 14 | L69: 171.9036 | M69: =SUM(N69:Z69) -> 0 | AA69: 11.634 | AB69: 6.087 | AC69: =$M69*F69 -> 0 | AD69: =$M69*G69 -> 0 | AE69: =$M69*H69 -> 0 | AF69: =$M69*I69 -> 0 | AG69: =$M69*J69 -> 0 | AH69: =$M69*K69 -> 0 | AJ69: =AA69*M69 -> 0 | AK69: =AB69*M69 -> 0 | AL69: =M69*L69 -> 0 | AQ69: 14 | AT69: =$M69*4 -> 0 | AU69: =$M69*8 -> 0 | AV69: =$M69*2 -> 0 | BD69: 21000010 | BF69: =$M69*AM69 -> 0 | BG69: =$M69*AN69 -> 0 | BH69: =$M69*AO69 -> 0 | BI69: =$M69*AP69 -> 0 | BJ69: =$M69*AQ69 -> 0 | BK69: =$M69*AR69 -> 0
A70: 10066 | B70: Pinches L size 2 | C70: pinches | D70: view | E70: =SUM(F70:K70) -> 15 | I70: 15 | L70: 173.6964 | M70: =SUM(N70:Z70) -> 0 | AA70: 11.583 | AB70: 6.059 | AC70: =$M70*F70 -> 0 | AD70: =$M70*G70 -> 0 | AE70: =$M70*H70 -> 0 | AF70: =$M70*I70 -> 0 | AG70: =$M70*J70 -> 0 | AH70: =$M70*K70 -> 0 | AJ70: =AA70*M70 -> 0 | AK70: =AB70*M70 -> 0 | AL70: =M70*L70 -> 0 | AQ70: 15 | AT70: =$M70*5 -> 0 | AU70: =$M70*5 -> 0 | AV70: =$M70*5 -> 0 | BD70: 21000011 | BF70: =$M70*AM70 -> 0 | BG70: =$M70*AN70 -> 0 | BH70: =$M70*AO70 -> 0 | BI70: =$M70*AP70 -> 0 | BJ70: =$M70*AQ70 -> 0 | BK70: =$M70*AR70 -> 0
A71: 10063 | B71: Pinches XL size 1 | C71: pinches | D71: view | E71: =SUM(F71:K71) -> 9 | J71: 9 | L71: 146.6964 | M71: =SUM(N71:Z71) -> 0 | AA71: 10.438 | AB71: 5.437 | AC71: =$M71*F71 -> 0 | AD71: =$M71*G71 -> 0 | AE71: =$M71*H71 -> 0 | AF71: =$M71*I71 -> 0 | AG71: =$M71*J71 -> 0 | AH71: =$M71*K71 -> 0 | AJ71: =AA71*M71 -> 0 | AK71: =AB71*M71 -> 0 | AL71: =M71*L71 -> 0 | AQ71: 9 | AT71: =$M71*3 -> 0 | AU71: =$M71*1 -> 0 | AV71: =$M71*4 -> 0 | AW71: =$M71*1 -> 0 | BD71: 21000012 | BF71: =$M71*AM71 -> 0 | BG71: =$M71*AN71 -> 0 | BH71: =$M71*AO71 -> 0 | BI71: =$M71*AP71 -> 0 | BJ71: =$M71*AQ71 -> 0 | BK71: =$M71*AR71 -> 0
A72: 10064 | B72: Pinches XL size 2 | C72: pinches | D72: view | E72: =SUM(F72:K72) -> 10 | J72: 10 | L72: 191.7 | M72: =SUM(N72:Z72) -> 0 | AA72: 14.036 | AB72: 7.275 | AC72: =$M72*F72 -> 0 | AD72: =$M72*G72 -> 0 | AE72: =$M72*H72 -> 0 | AF72: =$M72*I72 -> 0 | AG72: =$M72*J72 -> 0 | AH72: =$M72*K72 -> 0 | AJ72: =AA72*M72 -> 0 | AK72: =AB72*M72 -> 0 | AL72: =M72*L72 -> 0 | AQ72: 10 | AT72: =$M72*3 -> 0 | AU72: =$M72*2 -> 0 | AV72: =$M72*5 -> 0 | BD72: 21000013 | BF72: =$M72*AM72 -> 0 | BG72: =$M72*AN72 -> 0 | BH72: =$M72*AO72 -> 0 | BI72: =$M72*AP72 -> 0 | BJ72: =$M72*AQ72 -> 0 | BK72: =$M72*AR72 -> 0
A73: 10059 | B73: Pinches Mega size 1 | C73: pinches | D73: view | E73: =SUM(F73:K73) -> 4 | K73: 4 | L73: 100.7964 | M73: =SUM(N73:Z73) -> 0 | AA73: 7.443 | AB73: 3.809 | AC73: =$M73*F73 -> 0 | AD73: =$M73*G73 -> 0 | AE73: =$M73*H73 -> 0 | AF73: =$M73*I73 -> 0 | AG73: =$M73*J73 -> 0 | AH73: =$M73*K73 -> 0 | AJ73: =AA73*M73 -> 0 | AK73: =AB73*M73 -> 0 | AL73: =M73*L73 -> 0 | AQ73: 4 | AT73: =$M73*1 -> 0 | AU73: =$M73*1 -> 0 | AV73: =$M73*1 -> 0 | AW73: =$M73*1 -> 0 | BD73: 21000014 | BF73: =$M73*AM73 -> 0 | BG73: =$M73*AN73 -> 0 | BH73: =$M73*AO73 -> 0 | BI73: =$M73*AP73 -> 0 | BJ73: =$M73*AQ73 -> 0 | BK73: =$M73*AR73 -> 0
A74: 10060 | B74: Pinches Mega size 2 | C74: pinches | D74: view | E74: =SUM(F74:K74) -> 4 | K74: 4 | L74: 119.6964 | M74: =SUM(N74:Z74) -> 0 | AA74: 8.863 | AB74: 4.581 | AC74: =$M74*F74 -> 0 | AD74: =$M74*G74 -> 0 | AE74: =$M74*H74 -> 0 | AF74: =$M74*I74 -> 0 | AG74: =$M74*J74 -> 0 | AH74: =$M74*K74 -> 0 | AJ74: =AA74*M74 -> 0 | AK74: =AB74*M74 -> 0 | AL74: =M74*L74 -> 0 | AQ74: 4 | AT74: =$M74*1 -> 0 | AV74: =$M74*2 -> 0 | AW74: =$M74*1 -> 0 | BD74: 21000015 | BF74: =$M74*AM74 -> 0 | BG74: =$M74*AN74 -> 0 | BH74: =$M74*AO74 -> 0 | BI74: =$M74*AP74 -> 0 | BJ74: =$M74*AQ74 -> 0 | BK74: =$M74*AR74 -> 0
A75: 10061 | B75: Pinches Mega size 3 | C75: pinches | D75: view | E75: =SUM(F75:K75) -> 4 | K75: 4 | L75: 114.2964 | M75: =SUM(N75:Z75) -> 0 | AA75: 8.445 | AB75: 4.354 | AC75: =$M75*F75 -> 0 | AD75: =$M75*G75 -> 0 | AE75: =$M75*H75 -> 0 | AF75: =$M75*I75 -> 0 | AG75: =$M75*J75 -> 0 | AH75: =$M75*K75 -> 0 | AJ75: =AA75*M75 -> 0 | AK75: =AB75*M75 -> 0 | AL75: =M75*L75 -> 0 | AQ75: 4 | AV75: =$M75*3 -> 0 | AX75: =$M75*1 -> 0 | BD75: 21000016 | BF75: =$M75*AM75 -> 0 | BG75: =$M75*AN75 -> 0 | BH75: =$M75*AO75 -> 0 | BI75: =$M75*AP75 -> 0 | BJ75: =$M75*AQ75 -> 0 | BK75: =$M75*AR75 -> 0
A76: 10062 | B76: Pinches Mega size 4 | C76: pinches | D76: view | E76: =SUM(F76:K76) -> 4 | K76: 4 | L76: 126.0036 | M76: =SUM(N76:Z76) -> 0 | AA76: 9.314 | AB76: 4.826 | AC76: =$M76*F76 -> 0 | AD76: =$M76*G76 -> 0 | AE76: =$M76*H76 -> 0 | AF76: =$M76*I76 -> 0 | AG76: =$M76*J76 -> 0 | AH76: =$M76*K76 -> 0 | AJ76: =AA76*M76 -> 0 | AK76: =AB76*M76 -> 0 | AL76: =M76*L76 -> 0 | AQ76: 4 | AT76: =$M76*2 -> 0 | AV76: =$M76*1 -> 0 | AX76: =$M76*1 -> 0 | BD76: 21000017 | BF76: =$M76*AM76 -> 0 | BG76: =$M76*AN76 -> 0 | BH76: =$M76*AO76 -> 0 | BI76: =$M76*AP76 -> 0 | BJ76: =$M76*AQ76 -> 0 | BK76: =$M76*AR76 -> 0
A77: 10069 | B77: Edges L size | C77: Edges | D77: view | E77: =SUM(F77:K77) -> 9 | I77: 9 | L77: 113.4 | M77: =SUM(N77:Z77) -> 0 | AA77: 7.838 | AB77: 4.024 | AC77: =$M77*F77 -> 0 | AD77: =$M77*G77 -> 0 | AE77: =$M77*H77 -> 0 | AF77: =$M77*I77 -> 0 | AG77: =$M77*J77 -> 0 | AH77: =$M77*K77 -> 0 | AJ77: =AA77*M77 -> 0 | AK77: =AB77*M77 -> 0 | AL77: =M77*L77 -> 0 | AP77: 9 | AS77: =$M77*1 -> 0 | AT77: =$M77*4 -> 0 | AU77: =$M77*4 -> 0 | BD77: 21000018 | BF77: =$M77*AM77 -> 0 | BG77: =$M77*AN77 -> 0 | BH77: =$M77*AO77 -> 0 | BI77: =$M77*AP77 -> 0 | BJ77: =$M77*AQ77 -> 0 | BK77: =$M77*AR77 -> 0
A78: 10070 | B78: Edges M size 1 | C78: Edges | D78: view | E78: =SUM(F78:K78) -> 21 | H78: 21 | L78: 141.2964 | M78: =SUM(N78:Z78) -> 0 | AA78: 8.708 | AB78: 4.497 | AC78: =$M78*F78 -> 0 | AD78: =$M78*G78 -> 0 | AE78: =$M78*H78 -> 0 | AF78: =$M78*I78 -> 0 | AG78: =$M78*J78 -> 0 | AH78: =$M78*K78 -> 0 | AJ78: =AA78*M78 -> 0 | AK78: =AB78*M78 -> 0 | AL78: =M78*L78 -> 0 | AP78: 21 | AS78: =$M78*5 -> 0 | AT78: =$M78*11 -> 0 | AU78: =$M78*5 -> 0 | BD78: 21000019 | BF78: =$M78*AM78 -> 0 | BG78: =$M78*AN78 -> 0 | BH78: =$M78*AO78 -> 0 | BI78: =$M78*AP78 -> 0 | BJ78: =$M78*AQ78 -> 0 | BK78: =$M78*AR78 -> 0
A79: 10071 | B79: Edges M size 2 | C79: Edges | D79: view | E79: =SUM(F79:K79) -> 22 | H79: 22 | L79: 161.1036 | M79: =SUM(N79:Z79) -> 0 | AA79: 9.822 | AB79: 5.102 | AC79: =$M79*F79 -> 0 | AD79: =$M79*G79 -> 0 | AE79: =$M79*H79 -> 0 | AF79: =$M79*I79 -> 0 | AG79: =$M79*J79 -> 0 | AH79: =$M79*K79 -> 0 | AJ79: =AA79*M79 -> 0 | AK79: =AB79*M79 -> 0 | AL79: =M79*L79 -> 0 | AP79: 22 | AS79: =$M79*8 -> 0 | AT79: =$M79*12 -> 0 | AU79: =$M79*2 -> 0 | BD79: 21000020 | BF79: =$M79*AM79 -> 0 | BG79: =$M79*AN79 -> 0 | BH79: =$M79*AO79 -> 0 | BI79: =$M79*AP79 -> 0 | BJ79: =$M79*AQ79 -> 0 | BK79: =$M79*AR79 -> 0
A80: 10072 | B80: Edges M size 3 | C80: Edges | D80: view | E80: =SUM(F80:K80) -> 20 | H80: 20 | L80: 127.7964 | M80: =SUM(N80:Z80) -> 0 | AA80: 7.255 | AB80: 3.707 | AC80: =$M80*F80 -> 0 | AD80: =$M80*G80 -> 0 | AE80: =$M80*H80 -> 0 | AF80: =$M80*I80 -> 0 | AG80: =$M80*J80 -> 0 | AH80: =$M80*K80 -> 0 | AJ80: =AA80*M80 -> 0 | AK80: =AB80*M80 -> 0 | AL80: =M80*L80 -> 0 | AP80: 20 | AS80: =$M80*9 -> 0 | AT80: =$M80*10 -> 0 | AU80: =$M80*1 -> 0 | BD80: 21000021 | BF80: =$M80*AM80 -> 0 | BG80: =$M80*AN80 -> 0 | BH80: =$M80*AO80 -> 0 | BI80: =$M80*AP80 -> 0 | BJ80: =$M80*AQ80 -> 0 | BK80: =$M80*AR80 -> 0
A81: 10073 | B81: Edges M size 4 | C81: Edges | D81: view | E81: =SUM(F81:K81) -> 21 | H81: 21 | L81: 150.3036 | M81: =SUM(N81:Z81) -> 0 | AA81: 8.889 | AB81: 4.595 | AC81: =$M81*F81 -> 0 | AD81: =$M81*G81 -> 0 | AE81: =$M81*H81 -> 0 | AF81: =$M81*I81 -> 0 | AG81: =$M81*J81 -> 0 | AH81: =$M81*K81 -> 0 | AJ81: =AA81*M81 -> 0 | AK81: =AB81*M81 -> 0 | AL81: =M81*L81 -> 0 | AP81: 21 | AS81: =$M81*9 -> 0 | AT81: =$M81*11 -> 0 | AU81: =$M81*1 -> 0 | BD81: 21000022 | BF81: =$M81*AM81 -> 0 | BG81: =$M81*AN81 -> 0 | BH81: =$M81*AO81 -> 0 | BI81: =$M81*AP81 -> 0 | BJ81: =$M81*AQ81 -> 0 | BK81: =$M81*AR81 -> 0
A82: 10074 | B82: Jugs Mega size 1 | C82: jugs | D82: view | E82: =SUM(F82:K82) -> 7 | K82: 7 | L82: 211.4964 | M82: =SUM(N82:Z82) -> 0 | AA82: 15.486 | AB82: 8.063 | AC82: =$M82*F82 -> 0 | AD82: =$M82*G82 -> 0 | AE82: =$M82*H82 -> 0 | AF82: =$M82*I82 -> 0 | AG82: =$M82*J82 -> 0 | AH82: =$M82*K82 -> 0 | AJ82: =AA82*M82 -> 0 | AK82: =AB82*M82 -> 0 | AL82: =M82*L82 -> 0 | AN82: 7 | AT82: =$M82*1 -> 0 | AV82: =$M82*5 -> 0 | AX82: =$M82*1 -> 0 | BD82: 21000023 | BF82: =$M82*AM82 -> 0 | BG82: =$M82*AN82 -> 0 | BH82: =$M82*AO82 -> 0 | BI82: =$M82*AP82 -> 0 | BJ82: =$M82*AQ82 -> 0 | BK82: =$M82*AR82 -> 0
A83: 10075 | B83: Jugs Mega size 2 | C83: jugs | D83: view | E83: =SUM(F83:K83) -> 7 | K83: 7 | L83: 192.5964 | M83: =SUM(N83:Z83) -> 0 | AA83: 14.032 | AB83: 7.237 | AC83: =$M83*F83 -> 0 | AD83: =$M83*G83 -> 0 | AE83: =$M83*H83 -> 0 | AF83: =$M83*I83 -> 0 | AG83: =$M83*J83 -> 0 | AH83: =$M83*K83 -> 0 | AJ83: =AA83*M83 -> 0 | AK83: =AB83*M83 -> 0 | AL83: =M83*L83 -> 0 | AN83: 7 | AT83: =$M83*4 -> 0 | AU83: =$M83*1 -> 0 | AV83: =$M83*2 -> 0 | BD83: 21000024 | BF83: =$M83*AM83 -> 0 | BG83: =$M83*AN83 -> 0 | BH83: =$M83*AO83 -> 0 | BI83: =$M83*AP83 -> 0 | BJ83: =$M83*AQ83 -> 0 | BK83: =$M83*AR83 -> 0
A84: 10076 | B84: Jugs Mega size 3 | C84: jugs | D84: view | E84: =SUM(F84:K84) -> 7 | K84: 7 | L84: 229.5 | M84: =SUM(N84:Z84) -> 0 | AA84: 16.831 | AB84: 8.794 | AC84: =$M84*F84 -> 0 | AD84: =$M84*G84 -> 0 | AE84: =$M84*H84 -> 0 | AF84: =$M84*I84 -> 0 | AG84: =$M84*J84 -> 0 | AH84: =$M84*K84 -> 0 | AJ84: =AA84*M84 -> 0 | AK84: =AB84*M84 -> 0 | AL84: =M84*L84 -> 0 | AN84: 7 | AT84: =$M84*1 -> 0 | AU84: =$M84*1 -> 0 | AV84: =$M84*5 -> 0 | BD84: 21000025 | BF84: =$M84*AM84 -> 0 | BG84: =$M84*AN84 -> 0 | BH84: =$M84*AO84 -> 0 | BI84: =$M84*AP84 -> 0 | BJ84: =$M84*AQ84 -> 0 | BK84: =$M84*AR84 -> 0
A85: 10077 | B85: Jugs Mega size 4 | C85: jugs | D85: view | E85: =SUM(F85:K85) -> 6 | K85: 6 | L85: 191.7 | M85: =SUM(N85:Z85) -> 0 | AA85: 14.191 | AB85: 7.359 | AC85: =$M85*F85 -> 0 | AD85: =$M85*G85 -> 0 | AE85: =$M85*H85 -> 0 | AF85: =$M85*I85 -> 0 | AG85: =$M85*J85 -> 0 | AH85: =$M85*K85 -> 0 | AJ85: =AA85*M85 -> 0 | AK85: =AB85*M85 -> 0 | AL85: =M85*L85 -> 0 | AN85: 6 | AS85: =$M85*1 -> 0 | AT85: =$M85*1 -> 0 | AV85: =$M85*1 -> 0 | AW85: =$M85*3 -> 0 | BD85: 21000026 | BF85: =$M85*AM85 -> 0 | BG85: =$M85*AN85 -> 0 | BH85: =$M85*AO85 -> 0 | BI85: =$M85*AP85 -> 0 | BJ85: =$M85*AQ85 -> 0 | BK85: =$M85*AR85 -> 0
A86: 10078 | B86: Jugs Mega size 5 | C86: jugs | D86: view | E86: =SUM(F86:K86) -> 6 | K86: 6 | L86: 192.5964 | M86: =SUM(N86:Z86) -> 0 | AA86: 14.211 | AB86: 7.37 | AC86: =$M86*F86 -> 0 | AD86: =$M86*G86 -> 0 | AE86: =$M86*H86 -> 0 | AF86: =$M86*I86 -> 0 | AG86: =$M86*J86 -> 0 | AH86: =$M86*K86 -> 0 | AJ86: =AA86*M86 -> 0 | AK86: =AB86*M86 -> 0 | AL86: =M86*L86 -> 0 | AN86: 6 | AT86: =$M86*5 -> 0 | AU86: =$M86*1 -> 0 | BD86: 21000027 | BF86: =$M86*AM86 -> 0 | BG86: =$M86*AN86 -> 0 | BH86: =$M86*AO86 -> 0 | BI86: =$M86*AP86 -> 0 | BJ86: =$M86*AQ86 -> 0 | BK86: =$M86*AR86 -> 0
A87: 10079 | B87: Jugs XL size 1 | C87: jugs | D87: view | E87: =SUM(F87:K87) -> 9 | J87: 9 | L87: 157.4964 | M87: =SUM(N87:Z87) -> 0 | AA87: 11.188 | AB87: 5.727 | AC87: =$M87*F87 -> 0 | AD87: =$M87*G87 -> 0 | AE87: =$M87*H87 -> 0 | AF87: =$M87*I87 -> 0 | AG87: =$M87*J87 -> 0 | AH87: =$M87*K87 -> 0 | AJ87: =AA87*M87 -> 0 | AK87: =AB87*M87 -> 0 | AL87: =M87*L87 -> 0 | AN87: 9 | AT87: =$M87*7 -> 0 | AU87: =$M87*1 -> 0 | AV87: =$M87*1 -> 0 | BD87: 21000028 | BF87: =$M87*AM87 -> 0 | BG87: =$M87*AN87 -> 0 | BH87: =$M87*AO87 -> 0 | BI87: =$M87*AP87 -> 0 | BJ87: =$M87*AQ87 -> 0 | BK87: =$M87*AR87 -> 0
A88: 10080 | B88: Jugs XL size 2 | C88: jugs | D88: view | E88: =SUM(F88:K88) -> 9 | J88: 9 | L88: 168.2964 | M88: =SUM(N88:Z88) -> 0 | AA88: 10.888 | AB88: 5.677 | AC88: =$M88*F88 -> 0 | AD88: =$M88*G88 -> 0 | AE88: =$M88*H88 -> 0 | AF88: =$M88*I88 -> 0 | AG88: =$M88*J88 -> 0 | AH88: =$M88*K88 -> 0 | AJ88: =AA88*M88 -> 0 | AK88: =AB88*M88 -> 0 | AL88: =M88*L88 -> 0 | AN88: 9 | AS88: =$M88*2 -> 0 | AT88: =$M88*5 -> 0 | AV88: =$M88*2 -> 0 | BD88: 21000029 | BF88: =$M88*AM88 -> 0 | BG88: =$M88*AN88 -> 0 | BH88: =$M88*AO88 -> 0 | BI88: =$M88*AP88 -> 0 | BJ88: =$M88*AQ88 -> 0 | BK88: =$M88*AR88 -> 0
A89: 10081 | B89: Jugs L size 1 | C89: jugs | D89: view | E89: =SUM(F89:K89) -> 8 | I89: 8 | L89: 96.3036 | M89: =SUM(N89:Z89) -> 0 | AA89: 6.694 | AB89: 3.402 | AC89: =$M89*F89 -> 0 | AD89: =$M89*G89 -> 0 | AE89: =$M89*H89 -> 0 | AF89: =$M89*I89 -> 0 | AG89: =$M89*J89 -> 0 | AH89: =$M89*K89 -> 0 | AJ89: =AA89*M89 -> 0 | AK89: =AB89*M89 -> 0 | AL89: =M89*L89 -> 0 | AN89: 8 | AS89: =$M89*3 -> 0 | AT89: =$M89*3 -> 0 | AU89: =$M89*2 -> 0 | BD89: 21000030 | BF89: =$M89*AM89 -> 0 | BG89: =$M89*AN89 -> 0 | BH89: =$M89*AO89 -> 0 | BI89: =$M89*AP89 -> 0 | BJ89: =$M89*AQ89 -> 0 | BK89: =$M89*AR89 -> 0
A90: 10082 | B90: Jugs L size 2 | C90: jugs | D90: view | E90: =SUM(F90:K90) -> 8 | I90: 8 | L90: 98.0964 | M90: =SUM(N90:Z90) -> 0 | AA90: 6.703 | AB90: 3.645 | AC90: =$M90*F90 -> 0 | AD90: =$M90*G90 -> 0 | AE90: =$M90*H90 -> 0 | AF90: =$M90*I90 -> 0 | AG90: =$M90*J90 -> 0 | AH90: =$M90*K90 -> 0 | AJ90: =AA90*M90 -> 0 | AK90: =AB90*M90 -> 0 | AL90: =M90*L90 -> 0 | AN90: 8 | AS90: =$M90*3 -> 0 | AT90: =$M90*2 -> 0 | AU90: =$M90*3 -> 0 | BD90: 21000031 | BF90: =$M90*AM90 -> 0 | BG90: =$M90*AN90 -> 0 | BH90: =$M90*AO90 -> 0 | BI90: =$M90*AP90 -> 0 | BJ90: =$M90*AQ90 -> 0 | BK90: =$M90*AR90 -> 0
A91: 10083 | B91: Jugs L size 3 | C91: jugs | D91: view | E91: =SUM(F91:K91) -> 9 | I91: 9 | L91: 106.1964 | M91: =SUM(N91:Z91) -> 0 | AA91: 7.229 | AB91: 3.693 | AC91: =$M91*F91 -> 0 | AD91: =$M91*G91 -> 0 | AE91: =$M91*H91 -> 0 | AF91: =$M91*I91 -> 0 | AG91: =$M91*J91 -> 0 | AH91: =$M91*K91 -> 0 | AJ91: =AA91*M91 -> 0 | AK91: =AB91*M91 -> 0 | AL91: =M91*L91 -> 0 | AN91: 9 | AS91: =$M91*5 -> 0 | AT91: =$M91*4 -> 0 | BD91: 21000032 | BF91: =$M91*AM91 -> 0 | BG91: =$M91*AN91 -> 0 | BH91: =$M91*AO91 -> 0 | BI91: =$M91*AP91 -> 0 | BJ91: =$M91*AQ91 -> 0 | BK91: =$M91*AR91 -> 0
A92: 10084 | B92: Jugs L size 4 | C92: jugs | D92: view | E92: =SUM(F92:K92) -> 8 | I92: 8 | L92: 105.3 | M92: =SUM(N92:Z92) -> 0 | AA92: 7.397 | AB92: 3.784 | AC92: =$M92*F92 -> 0 | AD92: =$M92*G92 -> 0 | AE92: =$M92*H92 -> 0 | AF92: =$M92*I92 -> 0 | AG92: =$M92*J92 -> 0 | AH92: =$M92*K92 -> 0 | AJ92: =AA92*M92 -> 0 | AK92: =AB92*M92 -> 0 | AL92: =M92*L92 -> 0 | AN92: 8 | AS92: =$M92*1 -> 0 | AT92: =$M92*6 -> 0 | AU92: =$M92*1 -> 0 | BD92: 21000033 | BF92: =$M92*AM92 -> 0 | BG92: =$M92*AN92 -> 0 | BH92: =$M92*AO92 -> 0 | BI92: =$M92*AP92 -> 0 | BJ92: =$M92*AQ92 -> 0 | BK92: =$M92*AR92 -> 0
A93: 10085 | B93: Jugs L size 5 | C93: jugs | D93: view | E93: =SUM(F93:K93) -> 9 | I93: 9 | L93: 102.6 | M93: =SUM(N93:Z93) -> 0 | AA93: 7.04 | AB93: 3.59 | AC93: =$M93*F93 -> 0 | AD93: =$M93*G93 -> 0 | AE93: =$M93*H93 -> 0 | AF93: =$M93*I93 -> 0 | AG93: =$M93*J93 -> 0 | AH93: =$M93*K93 -> 0 | AJ93: =AA93*M93 -> 0 | AK93: =AB93*M93 -> 0 | AL93: =M93*L93 -> 0 | AN93: 9 | AS93: =$M93*2 -> 0 | AT93: =$M93*3 -> 0 | AU93: =$M93*1 -> 0 | AV93: =$M93*2 -> 0 | AW93: =$M93*1 -> 0 | BD93: 21000034 | BF93: =$M93*AM93 -> 0 | BG93: =$M93*AN93 -> 0 | BH93: =$M93*AO93 -> 0 | BI93: =$M93*AP93 -> 0 | BJ93: =$M93*AQ93 -> 0 | BK93: =$M93*AR93 -> 0
A94: 10086 | B94: Jugs M size 1 | C94: jugs | D94: view | E94: =SUM(F94:K94) -> 14 | H94: 14 | L94: 104.4036 | M94: =SUM(N94:Z94) -> 0 | AA94: 6.268 | AB94: 3.241 | AC94: =$M94*F94 -> 0 | AD94: =$M94*G94 -> 0 | AE94: =$M94*H94 -> 0 | AF94: =$M94*I94 -> 0 | AG94: =$M94*J94 -> 0 | AH94: =$M94*K94 -> 0 | AJ94: =AA94*M94 -> 0 | AK94: =AB94*M94 -> 0 | AL94: =M94*L94 -> 0 | AN94: 14 | AS94: =$M94*6 -> 0 | AT94: =$M94*7 -> 0 | AU94: =$M94*1 -> 0 | BD94: 21000035 | BF94: =$M94*AM94 -> 0 | BG94: =$M94*AN94 -> 0 | BH94: =$M94*AO94 -> 0 | BI94: =$M94*AP94 -> 0 | BJ94: =$M94*AQ94 -> 0 | BK94: =$M94*AR94 -> 0
A95: 10087 | B95: Jugs M size 2 | C95: jugs | D95: view | E95: =SUM(F95:K95) -> 19 | H95: 19 | L95: 135 | M95: =SUM(N95:Z95) -> 0 | AA95: 8.214 | AB95: 4.228 | AC95: =$M95*F95 -> 0 | AD95: =$M95*G95 -> 0 | AE95: =$M95*H95 -> 0 | AF95: =$M95*I95 -> 0 | AG95: =$M95*J95 -> 0 | AH95: =$M95*K95 -> 0 | AJ95: =AA95*M95 -> 0 | AK95: =AB95*M95 -> 0 | AL95: =M95*L95 -> 0 | AN95: 19 | AS95: =$M95*8 -> 0 | AT95: =$M95*9 -> 0 | AU95: =$M95*2 -> 0 | BD95: 21000036 | BF95: =$M95*AM95 -> 0 | BG95: =$M95*AN95 -> 0 | BH95: =$M95*AO95 -> 0 | BI95: =$M95*AP95 -> 0 | BJ95: =$M95*AQ95 -> 0 | BK95: =$M95*AR95 -> 0
A96: 10088 | B96: Jugs M size 3 | C96: jugs | D96: view | E96: =SUM(F96:K96) -> 18 | H96: 18 | L96: 129.6 | M96: =SUM(N96:Z96) -> 0 | AA96: 7.638 | AB96: 3.915 | AC96: =$M96*F96 -> 0 | AD96: =$M96*G96 -> 0 | AE96: =$M96*H96 -> 0 | AF96: =$M96*I96 -> 0 | AG96: =$M96*J96 -> 0 | AH96: =$M96*K96 -> 0 | AJ96: =AA96*M96 -> 0 | AK96: =AB96*M96 -> 0 | AL96: =M96*L96 -> 0 | AN96: 18 | AS96: =$M96*5 -> 0 | AT96: =$M96*10 -> 0 | AU96: =$M96*3 -> 0 | BD96: 21000037 | BF96: =$M96*AM96 -> 0 | BG96: =$M96*AN96 -> 0 | BH96: =$M96*AO96 -> 0 | BI96: =$M96*AP96 -> 0 | BJ96: =$M96*AQ96 -> 0 | BK96: =$M96*AR96 -> 0
B97: HRT SPEED HOLDS | AK97: =AB97*M97 -> 0 | AL97: =M97*L97 -> 0 | BF97: =$M97*AM97 -> 0 | BG97: =$M97*AN97 -> 0 | BH97: =$M97*AO97 -> 0 | BI97: =$M97*AP97 -> 0 | BJ97: =$M97*AQ97 -> 0 | BK97: =$M97*AR97 -> 0
A98: 11509/12508 | B98: HRT Speed route-10 m- Polyurethane | D98: view | E98: =SUM(F98:K98) -> 20 | G98: 8 | K98: 12 | L98: 953.1 | M98: =SUM(N98:Z98) -> 0 | AA98: 22 | AC98: =$M98*F98 -> 0 | AD98: =$M98*G98 -> 0 | AE98: =$M98*H98 -> 0 | AF98: =$M98*I98 -> 0 | AG98: =$M98*J98 -> 0 | AH98: =$M98*K98 -> 0 | AJ98: =AA98*M98 -> 0 | AK98: =AB98*M98 -> 0 | AL98: =M98*L98 -> 0 | AT98: =$M98*8 -> 0 | AV98: =$M98*12 -> 0 | BD98: 21000735 и 21000736 | BF98: =$M98*AM98 -> 0 | BG98: =$M98*AN98 -> 0 | BH98: =$M98*AO98 -> 0 | BI98: =$M98*AP98 -> 0 | BJ98: =$M98*AQ98 -> 0 | BK98: =$M98*AR98 -> 0
A99: 11511/12510 | B99: HRT Speed route-15 m- Polyurethane | D99: view | E99: =SUM(F99:K99) -> 31 | G99: 11 | K99: 20 | L99: 1574.9964 | M99: =SUM(N99:Z99) -> 0 | AA99: 38 | AC99: =$M99*F99 -> 0 | AD99: =$M99*G99 -> 0 | AE99: =$M99*H99 -> 0 | AF99: =$M99*I99 -> 0 | AG99: =$M99*J99 -> 0 | AH99: =$M99*K99 -> 0 | AJ99: =AA99*M99 -> 0 | AK99: =AB99*M99 -> 0 | AL99: =M99*L99 -> 0 | AT99: =$M99*11 -> 0 | AV99: =$M99*20 -> 0 | BD99: 21000737 и 21000738 | BF99: =$M99*AM99 -> 0 | BG99: =$M99*AN99 -> 0 | BH99: =$M99*AO99 -> 0 | BI99: =$M99*AP99 -> 0 | BJ99: =$M99*AQ99 -> 0 | BK99: =$M99*AR99 -> 0
B100: Information hold | AK100: =AB100*M100 -> 0 | AL100: =M100*L100 -> 0 | BF100: =$M100*AM100 -> 0 | BG100: =$M100*AN100 -> 0 | BH100: =$M100*AO100 -> 0 | BI100: =$M100*AP100 -> 0 | BJ100: =$M100*AQ100 -> 0 | BK100: =$M100*AR100 -> 0
...

Sheet HRT PU
B1: POLYURETHANE | F1: Holds Size | N1: Please Choose Colors for the Sets | U1: Colors for Indoor Use only | AA1: Holds' Size | AK1: Holds' Type | AR1: 40 | AS1: 50 | AT1: 70 | AU1: 90 | AV1: 100 | AW1: 120 | AX1: SCR | AY1: CH | BC1: Holds' Type
A2: Reff. No. | C2: Grip type | D2: View set picture | E2: pcs of holds in the set | F2: XS | G2: S | H2: M | I2: L | J2: XL | K2: Mega | L2: Price in EUR | M2: Set # | N2: White (1) | O2: Yellow (2) | P2: Green US-16-16 | Q2: Red (5) | R2: Orange US 14-01 | S2: Blue (7) | T2: Black (10) | U2: Violet/ lilac (16) | V2: Fluoro orange (11) | W2: Fluoro green (12) | X2: Fluoro pink (13) | Y2: Weight (kg.) | Z2: Volume | AA2: XS | AB2: S | AC2: M | AD2: L | AE2: Xl | AF2: Mega | AH2: Total weight (kg) | AI2: Total volume | AJ2: Total Amount | AK2: foot | AL2: jugs | AM2: pockets | AN2: edges | AO2: pinches | AP2: slopers | AR2: Bolts for the Sets | BC2: foot | BD2: jugs | BE2: pockets | BF2: edges | BG2: pinches | BH2: slopers
N3: view | O3: view | P3: view | Q3: view | R3: view | S3: view | T3: view | U3: view | V3: view | W3: view | X3: view
B4: PU- SOLID AND HOLLOW-BACK | N4: =SUMPRODUCT($E$5:$E$64,N5:N64) -> 0 | O4: =SUMPRODUCT($E$5:$E$64,O5:O64) -> 0 | P4: =SUMPRODUCT($E$5:$E$64,P5:P64) -> 0 | Q4: =SUMPRODUCT($E$5:$E$64,Q5:Q64) -> 0 | R4: =SUMPRODUCT($E$5:$E$64,R5:R64) -> 0 | S4: =SUMPRODUCT($E$5:$E$64,S5:S64) -> 0 | T4: =SUMPRODUCT($E$5:$E$64,T5:T64) -> 0 | U4: =SUMPRODUCT($E$5:$E$64,U5:U64) -> 0 | ... X4: =SUMPRODUCT($E$5:$E$64,X5:X64) -> 0 | BA4: SAP ID
A5: 12001 | B5: SCREWONS – XS PU | D5: view | E5: =SUM(F5:K5) -> 40 | F5: 40 | L5: 163.5 | M5: =SUM(N5:X5) -> 0 | Y5: 1.328 | Z5: 1.015 | AA5: =$M5*F5 -> 0 | AB5: =$M5*G5 -> 0 | AC5: =$M5*H5 -> 0 | AD5: =$M5*I5 -> 0 | AE5: =$M5*J5 -> 0 | AF5: =$M5*K5 -> 0 | AH5: =M5*Y5 -> 0 | AI5: =M5*Z5 -> 0 | AJ5: =M5*L5 -> 0 | AK5: 40 | AX5: =$M5*80 -> 0 | BA5: 21000163 | BC5: =$M5*AK5 -> 0 | BD5: =$M5*AL5 -> 0 | BE5: =$M5*AM5 -> 0 | BF5: =$M5*AN5 -> 0 | BG5: =$M5*AO5 -> 0 | BH5: =$M5*AP5 -> 0
A6: 12003 | B6: ELEMENTS PU | D6: view | E6: =SUM(F6:K6) -> 12 | H6: 9 | I6: 3 | L6: 220.59 | M6: =SUM(N6:X6) -> 0 | Y6: 4.17 | Z6: 3.249 | AA6: =$M6*F6 -> 0 | AB6: =$M6*G6 -> 0 | AC6: =$M6*H6 -> 0 | AD6: =$M6*I6 -> 0 | AE6: =$M6*J6 -> 0 | AF6: =$M6*K6 -> 0 | AH6: =M6*Y6 -> 0 | AI6: =M6*Z6 -> 0 | AJ6: =M6*L6 -> 0 | AL6: 12 | AR6: =$M6*1 -> 0 | AS6: =$M6*10 -> 0 | AT6: =$M6*1 -> 0 | BA6: 21000165 | BC6: =$M6*AK6 -> 0 | BD6: =$M6*AL6 -> 0 | BE6: =$M6*AM6 -> 0 | BF6: =$M6*AN6 -> 0 | BG6: =$M6*AO6 -> 0 | BH6: =$M6*AP6 -> 0
A7: 12004 | B7: FRESCO 1 PU | D7: view | E7: =SUM(F7:K7) -> 11 | H7: 8 | I7: 1 | J7: 1 | K7: 1 | L7: 284.67 | M7: =SUM(N7:X7) -> 0 | Y7: 5.759 | Z7: 4.63 | AA7: =$M7*F7 -> 0 | AB7: =$M7*G7 -> 0 | AC7: =$M7*H7 -> 0 | AD7: =$M7*I7 -> 0 | AE7: =$M7*J7 -> 0 | AF7: =$M7*K7 -> 0 | AH7: =M7*Y7 -> 0 | AI7: =M7*Z7 -> 0 | AJ7: =M7*L7 -> 0 | AN7: 11 | AR7: =$M7*1 -> 0 | AS7: =$M7*10 -> 0 | BA7: 21000166 | BC7: =$M7*AK7 -> 0 | BD7: =$M7*AL7 -> 0 | BE7: =$M7*AM7 -> 0 | BF7: =$M7*AN7 -> 0 | BG7: =$M7*AO7 -> 0 | BH7: =$M7*AP7 -> 0
A8: 12005 | B8: FRESCO 2 PU | D8: view | E8: =SUM(F8:K8) -> 9 | H8: 3 | I8: 5 | J8: 1 | L8: 246.81 | M8: =SUM(N8:X8) -> 0 | Y8: 4.962 | Z8: 3.937 | AA8: =$M8*F8 -> 0 | AB8: =$M8*G8 -> 0 | AC8: =$M8*H8 -> 0 | AD8: =$M8*I8 -> 0 | AE8: =$M8*J8 -> 0 | AF8: =$M8*K8 -> 0 | AH8: =M8*Y8 -> 0 | AI8: =M8*Z8 -> 0 | AJ8: =M8*L8 -> 0 | AL8: 4 | AN8: 5 | AR8: =$M8*1 -> 0 | AS8: =$M8*8 -> 0 | BA8: 21000167 | BC8: =$M8*AK8 -> 0 | BD8: =$M8*AL8 -> 0 | BE8: =$M8*AM8 -> 0 | BF8: =$M8*AN8 -> 0 | BG8: =$M8*AO8 -> 0 | BH8: =$M8*AP8 -> 0
A9: 11008 | B9: SURF UP - PU-HOLLOW BACK | D9: view | E9: =SUM(F9:K9) -> 10 | J9: 5 | K9: 5 | L9: 358.32 | M9: =SUM(N9:X9) -> 0 | Y9: 4.958 | AA9: =$M9*F9 -> 0 | AB9: =$M9*G9 -> 0 | AC9: =$M9*H9 -> 0 | AD9: =$M9*I9 -> 0 | AE9: =$M9*J9 -> 0 | AF9: =$M9*K9 -> 0 | AH9: =M9*Y9 -> 0 | AI9: =M9*Z9 -> 0 | AJ9: =M9*L9 -> 0 | AN9: 10 | AS9: =$M9*7 -> 0 | AT9: =$M9*3 -> 0 | BA9: 21000147 | BC9: =$M9*AK9 -> 0 | BD9: =$M9*AL9 -> 0 | BE9: =$M9*AM9 -> 0 | BF9: =$M9*AN9 -> 0 | BG9: =$M9*AO9 -> 0 | BH9: =$M9*AP9 -> 0
A10: 12011 | B10: SEA WORLD PU | D10: view | E10: =SUM(F10:K10) -> 12 | H10: 4 | I10: 6 | J10: 2 | L10: 325.2 | M10: =SUM(N10:X10) -> 0 | Y10: 6.578 | Z10: 5.343 | AA10: =$M10*F10 -> 0 | AB10: =$M10*G10 -> 0 | AC10: =$M10*H10 -> 0 | AD10: =$M10*I10 -> 0 | AE10: =$M10*J10 -> 0 | AF10: =$M10*K10 -> 0 | AH10: =M10*Y10 -> 0 | AI10: =M10*Z10 -> 0 | AJ10: =M10*L10 -> 0 | AL10: 4 | AN10: 4 | AO10: 4 | AR10: =$M10*4 -> 0 | AS10: =$M10*5 -> 0 | AT10: =$M10*2 -> 0 | AU10: =$M10*1 -> 0 | BA10: 21000168 | BC10: =$M10*AK10 -> 0 | BD10: =$M10*AL10 -> 0 | BE10: =$M10*AM10 -> 0 | BF10: =$M10*AN10 -> 0 | BG10: =$M10*AO10 -> 0 | BH10: =$M10*AP10 -> 0
A11: 12012 | B11: JUNGLE PU | D11: view | E11: =SUM(F11:K11) -> 13 | H11: 9 | I11: 2 | J11: 2 | L11: 363.48 | M11: =SUM(N11:X11) -> 0 | Y11: 7.349 | Z11: 6.013 | AA11: =$M11*F11 -> 0 | AB11: =$M11*G11 -> 0 | AC11: =$M11*H11 -> 0 | AD11: =$M11*I11 -> 0 | AE11: =$M11*J11 -> 0 | AF11: =$M11*K11 -> 0 | AH11: =M11*Y11 -> 0 | AI11: =M11*Z11 -> 0 | AJ11: =M11*L11 -> 0 | AL11: 4 | AN11: 5 | AO11: 4 | AR11: =$M11*3 -> 0 | AS11: =$M11*5 -> 0 | AT11: =$M11*3 -> 0 | AU11: =$M11*2 -> 0 | BA11: 21000169 | BC11: =$M11*AK11 -> 0 | BD11: =$M11*AL11 -> 0 | BE11: =$M11*AM11 -> 0 | BF11: =$M11*AN11 -> 0 | BG11: =$M11*AO11 -> 0 | BH11: =$M11*AP11 -> 0
A12: 11015 | B12: PLEASUREMAX PU HOLLOW-BACK | D12: view | E12: =SUM(F12:K12) -> 12 | H12: 5 | I12: 2 | J12: 5 | L12: 406.77 | M12: =SUM(N12:X12) -> 0 | Y12: 6.379 | AA12: =$M12*F12 -> 0 | AB12: =$M12*G12 -> 0 | AC12: =$M12*H12 -> 0 | AD12: =$M12*I12 -> 0 | AE12: =$M12*J12 -> 0 | AF12: =$M12*K12 -> 0 | AH12: =M12*Y12 -> 0 | AI12: =M12*Z12 -> 0 | AJ12: =M12*L12 -> 0 | AL12: 7 | AP12: 5 | AR12: =$M12*1 -> 0 | AS12: =$M12*6 -> 0 | AU12: =$M12*5 -> 0 | BA12: 21000148 | BC12: =$M12*AK12 -> 0 | BD12: =$M12*AL12 -> 0 | BE12: =$M12*AM12 -> 0 | BF12: =$M12*AN12 -> 0 | BG12: =$M12*AO12 -> 0 | BH12: =$M12*AP12 -> 0
A13: 12016 | B13: URBAN PU | D13: view | E13: =SUM(F13:K13) -> 10 | H13: 2 | I13: 8 | L13: 314.4 | M13: =SUM(N13:X13) -> 0 | Y13: 6.477 | Z13: 5.255 | AA13: =$M13*F13 -> 0 | AB13: =$M13*G13 -> 0 | AC13: =$M13*H13 -> 0 | AD13: =$M13*I13 -> 0 | AE13: =$M13*J13 -> 0 | AF13: =$M13*K13 -> 0 | AH13: =M13*Y13 -> 0 | AI13: =M13*Z13 -> 0 | AJ13: =M13*L13 -> 0 | AN13: 4 | AO13: 5 | AP13: 1 | AR13: =$M13*1 -> 0 | AS13: =$M13*4 -> 0 | AT13: =$M13*4 -> 0 | AU13: =$M13*1 -> 0 | BA13: 21000171 | BC13: =$M13*AK13 -> 0 | BD13: =$M13*AL13 -> 0 | BE13: =$M13*AM13 -> 0 | BF13: =$M13*AN13 -> 0 | BG13: =$M13*AO13 -> 0 | BH13: =$M13*AP13 -> 0
A14: 11018 | B14: BRANIACS PU HOLLOW-BACK | D14: view | E14: =SUM(F14:K14) -> 3 | K14: 3 | L14: 180.99 | M14: =SUM(N14:X14) -> 0 | Y14: 2.988 | AA14: =$M14*F14 -> 0 | AB14: =$M14*G14 -> 0 | AC14: =$M14*H14 -> 0 | AD14: =$M14*I14 -> 0 | AE14: =$M14*J14 -> 0 | AF14: =$M14*K14 -> 0 | AH14: =M14*Y14 -> 0 | AI14: =M14*Z14 -> 0 | AJ14: =M14*L14 -> 0 | AP14: 3 | AV14: =$M14*3 -> 0 | BA14: 21000149 | BC14: =$M14*AK14 -> 0 | BD14: =$M14*AL14 -> 0 | BE14: =$M14*AM14 -> 0 | BF14: =$M14*AN14 -> 0 | BG14: =$M14*AO14 -> 0 | BH14: =$M14*AP14 -> 0
A15: 12024 | B15: GROOVY PU | D15: view | E15: =SUM(F15:K15) -> 9 | H15: 4 | I15: 1 | J15: 4 | L15: 323.67 | M15: =SUM(N15:X15) -> 0 | Y15: 6.748 | Z15: 5.49 | AA15: =$M15*F15 -> 0 | AB15: =$M15*G15 -> 0 | AC15: =$M15*H15 -> 0 | AD15: =$M15*I15 -> 0 | AE15: =$M15*J15 -> 0 | AF15: =$M15*K15 -> 0 | AH15: =M15*Y15 -> 0 | AI15: =M15*Z15 -> 0 | AJ15: =M15*L15 -> 0 | AL15: 5 | AO15: 4 | AR15: =$M15*2 -> 0 | AS15: =$M15*7 -> 0 | BA15: 21000173 | BC15: =$M15*AK15 -> 0 | BD15: =$M15*AL15 -> 0 | BE15: =$M15*AM15 -> 0 | BF15: =$M15*AN15 -> 0 | BG15: =$M15*AO15 -> 0 | BH15: =$M15*AP15 -> 0
A16: 11028 | B16: SANDSTONE PU HOLLOW-BACK | D16: view | E16: =SUM(F16:K16) -> 10 | H16: 4 | I16: 1 | J16: 3 | K16: 2 | L16: 379.38 | M16: =SUM(N16:X16) -> 0 | Y16: 5.348 | AA16: =$M16*F16 -> 0 | AB16: =$M16*G16 -> 0 | AC16: =$M16*H16 -> 0 | AD16: =$M16*I16 -> 0 | AE16: =$M16*J16 -> 0 | AF16: =$M16*K16 -> 0 | AH16: =M16*Y16 -> 0 | AI16: =M16*Z16 -> 0 | AJ16: =M16*L16 -> 0 | AL16: 3 | AN16: 4 | AP16: 3 | AS16: =$M16*4 -> 0 | AT16: =$M16*1 -> 0 | AU16: =$M16*4 -> 0 | AV16: =$M16*1 -> 0 | BA16: 21000152 | BC16: =$M16*AK16 -> 0 | BD16: =$M16*AL16 -> 0 | BE16: =$M16*AM16 -> 0 | BF16: =$M16*AN16 -> 0 | BG16: =$M16*AO16 -> 0 | BH16: =$M16*AP16 -> 0
A17: 12031 | B17: BULGES PU | D17: view | E17: =SUM(F17:K17) -> 9 | H17: 1 | I17: 6 | J17: 2 | L17: 395.58 | M17: =SUM(N17:X17) -> 0 | Y17: 8.4 | Z17: 6.739 | AA17: =$M17*F17 -> 0 | AB17: =$M17*G17 -> 0 | AC17: =$M17*H17 -> 0 | AD17: =$M17*I17 -> 0 | AE17: =$M17*J17 -> 0 | AF17: =$M17*K17 -> 0 | AH17: =M17*Y17 -> 0 | AI17: =M17*Z17 -> 0 | AJ17: =M17*L17 -> 0 | AL17: 9 | AR17: =$M17*1 -> 0 | AS17: =$M17*4 -> 0 | AT17: =$M17*1 -> 0 | AU17: =$M17*3 -> 0 | BA17: 21000176 | BC17: =$M17*AK17 -> 0 | BD17: =$M17*AL17 -> 0 | BE17: =$M17*AM17 -> 0 | BF17: =$M17*AN17 -> 0 | BG17: =$M17*AO17 -> 0 | BH17: =$M17*AP17 -> 0
A18: 12034 | B18: MALUMA PU | D18: view | E18: =SUM(F18:K18) -> 9 | H18: 2 | I18: 4 | J18: 3 | L18: 393.6 | M18: =SUM(N18:X18) -> 0 | Y18: 8.495 | Z18: 6.822 | AA18: =$M18*F18 -> 0 | AB18: =$M18*G18 -> 0 | AC18: =$M18*H18 -> 0 | AD18: =$M18*I18 -> 0 | AE18: =$M18*J18 -> 0 | AF18: =$M18*K18 -> 0 | AH18: =M18*Y18 -> 0 | AI18: =M18*Z18 -> 0 | AJ18: =M18*L18 -> 0 | AO18: 9 | AS18: =$M18*6 -> 0 | AT18: =$M18*3 -> 0 | BA18: 21000177 | BC18: =$M18*AK18 -> 0 | BD18: =$M18*AL18 -> 0 | BE18: =$M18*AM18 -> 0 | BF18: =$M18*AN18 -> 0 | BG18: =$M18*AO18 -> 0 | BH18: =$M18*AP18 -> 0
A19: 12035 | B19: JUG-A-LOT PU | D19: view | E19: =SUM(F19:K19) -> 11 | H19: 2 | I19: 6 | J19: 3 | L19: 485.91 | M19: =SUM(N19:X19) -> 0 | Y19: 10.374 | Z19: 8.456 | AA19: =$M19*F19 -> 0 | AB19: =$M19*G19 -> 0 | AC19: =$M19*H19 -> 0 | AD19: =$M19*I19 -> 0 | AE19: =$M19*J19 -> 0 | AF19: =$M19*K19 -> 0 | AH19: =M19*Y19 -> 0 | AI19: =M19*Z19 -> 0 | AJ19: =M19*L19 -> 0 | AL19: 11 | AR19: =$M19*2 -> 0 | AS19: =$M19*7 -> 0 | AT19: =$M19*1 -> 0 | AU19: =$M19*1 -> 0 | BA19: 21000178 | BC19: =$M19*AK19 -> 0 | BD19: =$M19*AL19 -> 0 | BE19: =$M19*AM19 -> 0 | BF19: =$M19*AN19 -> 0 | BG19: =$M19*AO19 -> 0 | BH19: =$M19*AP19 -> 0
A20: 12036 | B20: CRESCENT PU | D20: view | E20: =SUM(F20:K20) -> 10 | I20: 7 | J20: 3 | L20: 451.41 | M20: =SUM(N20:X20) -> 0 | Y20: 9.687 | Z20: 7.858 | AA20: =$M20*F20 -> 0 | AB20: =$M20*G20 -> 0 | AC20: =$M20*H20 -> 0 | AD20: =$M20*I20 -> 0 | AE20: =$M20*J20 -> 0 | AF20: =$M20*K20 -> 0 | AH20: =M20*Y20 -> 0 | AI20: =M20*Z20 -> 0 | AJ20: =M20*L20 -> 0 | AL20: 10 | AS20: =$M20*3 -> 0 | AT20: =$M20*5 -> 0 | AU20: =$M20*2 -> 0 | BA20: 21000179 | BC20: =$M20*AK20 -> 0 | BD20: =$M20*AL20 -> 0 | BE20: =$M20*AM20 -> 0 | BF20: =$M20*AN20 -> 0 | BG20: =$M20*AO20 -> 0 | BH20: =$M20*AP20 -> 0
A21: 12042 | B21: PULLERS PU | D21: view | E21: =SUM(F21:K21) -> 27 | H21: 27 | L21: 374.55 | M21: =SUM(N21:X21) -> 0 | Y21: 6.644 | Z21: 5.4 | AA21: =$M21*F21 -> 0 | AB21: =$M21*G21 -> 0 | AC21: =$M21*H21 -> 0 | AD21: =$M21*I21 -> 0 | AE21: =$M21*J21 -> 0 | AF21: =$M21*K21 -> 0 | AH21: =M21*Y21 -> 0 | AI21: =M21*Z21 -> 0 | AJ21: =M21*L21 -> 0 | AL21: 27 | AR21: =$M21*3 -> 0 | AS21: =$M21*18 -> 0 | AT21: =$M21*6 -> 0 | BA21: 21000184 | BC21: =$M21*AK21 -> 0 | BD21: =$M21*AL21 -> 0 | BE21: =$M21*AM21 -> 0 | BF21: =$M21*AN21 -> 0 | BG21: =$M21*AO21 -> 0 | BH21: =$M21*AP21 -> 0
A22: 12047 | B22: DR.LEVINE PU | D22: view | E22: =SUM(F22:K22) -> 9 | H22: 2 | I22: 2 | J22: 5 | L22: 288.96 | M22: =SUM(N22:X22) -> 0 | Y22: 5.951 | Z22: 4.829 | AA22: =$M22*F22 -> 0 | AB22: =$M22*G22 -> 0 | AC22: =$M22*H22 -> 0 | AD22: =$M22*I22 -> 0 | AE22: =$M22*J22 -> 0 | AF22: =$M22*K22 -> 0 | AH22: =M22*Y22 -> 0 | AI22: =M22*Z22 -> 0 | AJ22: =M22*L22 -> 0 | AL22: 5 | AN22: 4 | AR22: =$M22*2 -> 0 | AS22: =$M22*6 -> 0 | AT22: =$M22*1 -> 0 | BA22: 21000185 | BC22: =$M22*AK22 -> 0 | BD22: =$M22*AL22 -> 0 | BE22: =$M22*AM22 -> 0 | BF22: =$M22*AN22 -> 0 | BG22: =$M22*AO22 -> 0 | BH22: =$M22*AP22 -> 0
A23: 11050 | B23: ALIEN HEAD PU HOLLOW-BACK | D23: view | E23: =SUM(F23:K23) -> 2 | K23: 2 | L23: 161.4 | M23: =SUM(N23:X23) -> 0 | Y23: 2.843 | AA23: =$M23*F23 -> 0 | AB23: =$M23*G23 -> 0 | AC23: =$M23*H23 -> 0 | AD23: =$M23*I23 -> 0 | AE23: =$M23*J23 -> 0 | AF23: =$M23*K23 -> 0 | AH23: =M23*Y23 -> 0 | AI23: =M23*Z23 -> 0 | AJ23: =M23*L23 -> 0 | AP23: 2 | AU23: =$M23*2 -> 0 | BA23: 21000156 | BC23: =$M23*AK23 -> 0 | BD23: =$M23*AL23 -> 0 | BE23: =$M23*AM23 -> 0 | BF23: =$M23*AN23 -> 0 | BG23: =$M23*AO23 -> 0 | BH23: =$M23*AP23 -> 0
A24: 12053 | B24: Slopers M size PU | D24: view | E24: =SUM(F24:K24) -> 17 | H24: 17 | L24: 291.87 | M24: =SUM(N24:X24) -> 0 | Y24: 5.348 | Z24: 4.273 | AA24: =$M24*F24 -> 0 | AB24: =$M24*G24 -> 0 | AC24: =$M24*H24 -> 0 | AD24: =$M24*I24 -> 0 | AE24: =$M24*J24 -> 0 | AF24: =$M24*K24 -> 0 | AH24: =M24*Y24 -> 0 | AI24: =M24*Z24 -> 0 | AJ24: =M24*L24 -> 0 | AP24: 17 | AR24: =$M24*4 -> 0 | AS24: =$M24*10 -> 0 | AT24: =$M24*1 -> 0 | AU24: =$M24*2 -> 0 | BA24: 21000186 | BC24: =$M24*AK24 -> 0 | BD24: =$M24*AL24 -> 0 | BE24: =$M24*AM24 -> 0 | BF24: =$M24*AN24 -> 0 | BG24: =$M24*AO24 -> 0 | BH24: =$M24*AP24 -> 0
A25: 12058 | B25: Pockets M size PU | D25: view | E25: =SUM(F25:K25) -> 18 | H25: 18 | L25: 290.34 | M25: =SUM(N25:X25) -> 0 | Y25: 5.241 | Z25: 4.18 | AA25: =$M25*F25 -> 0 | AB25: =$M25*G25 -> 0 | AC25: =$M25*H25 -> 0 | AD25: =$M25*I25 -> 0 | AE25: =$M25*J25 -> 0 | AF25: =$M25*K25 -> 0 | AH25: =M25*Y25 -> 0 | AI25: =M25*Z25 -> 0 | AJ25: =M25*L25 -> 0 | AM25: 18 | AR25: =$M25*3 -> 0 | AS25: =$M25*12 -> 0 | AT25: =$M25*3 -> 0 | BA25: 21000187 | BC25: =$M25*AK25 -> 0 | BD25: =$M25*AL25 -> 0 | BE25: =$M25*AM25 -> 0 | BF25: =$M25*AN25 -> 0 | BG25: =$M25*AO25 -> 0 | BH25: =$M25*AP25 -> 0
A26: 12066 | B26: Pinches L size 2 PU | D26: view | E26: =SUM(F26:K26) -> 15 | I26: 15 | L26: 372.06 | M26: =SUM(N26:X26) -> 0 | Y26: 7.402 | Z26: 6.059 | AA26: =$M26*F26 -> 0 | AB26: =$M26*G26 -> 0 | AC26: =$M26*H26 -> 0 | AD26: =$M26*I26 -> 0 | AE26: =$M26*J26 -> 0 | AF26: =$M26*K26 -> 0 | AH26: =M26*Y26 -> 0 | AI26: =M26*Z26 -> 0 | AJ26: =M26*L26 -> 0 | AO26: 14 | AS26: =$M26*5 -> 0 | BA26: 21000188 | BC26: =$M26*AK26 -> 0 | BD26: =$M26*AL26 -> 0 | BE26: =$M26*AM26 -> 0 | BF26: =$M26*AN26 -> 0 | BG26: =$M26*AO26 -> 0 | BH26: =$M26*AP26 -> 0
A27: 12067 | B27: Pinches M size 1 PU | D27: view | E27: =SUM(F27:K27) -> 30 | H27: 30 | L27: 439.74 | M27: =SUM(N27:X27) -> 0 | Y27: 8.149 | Z27: 6.465 | AA27: =$M27*F27 -> 0 | AB27: =$M27*G27 -> 0 | AC27: =$M27*H27 -> 0 | AD27: =$M27*I27 -> 0 | AE27: =$M27*J27 -> 0 | AF27: =$M27*K27 -> 0 | AH27: =M27*Y27 -> 0 | AI27: =M27*Z27 -> 0 | AJ27: =M27*L27 -> 0 | AO27: 30 | AR27: =$M27*5 -> 0 | AS27: =$M27*19 -> 0 | AT27: =$M27*5 -> 0 | AU27: =$M27*1 -> 0 | BA27: 21000189 | BC27: =$M27*AK27 -> 0 | BD27: =$M27*AL27 -> 0 | BE27: =$M27*AM27 -> 0 | BF27: =$M27*AN27 -> 0 | BG27: =$M27*AO27 -> 0 | BH27: =$M27*AP27 -> 0
A28: 12069 | B28: Edges L size PU | D28: view | E28: =SUM(F28:K28) -> 9 | I28: 9 | L28: 239.28 | M28: =SUM(N28:X28) -> 0 | Y28: 5.062 | Z28: 3.883 | AA28: =$M28*F28 -> 0 | AB28: =$M28*G28 -> 0 | AC28: =$M28*H28 -> 0 | AD28: =$M28*I28 -> 0 | AE28: =$M28*J28 -> 0 | AF28: =$M28*K28 -> 0 | AH28: =M28*Y28 -> 0 | AI28: =M28*Z28 -> 0 | AJ28: =M28*L28 -> 0 | AN28: 9 | AR28: =$M28*1 -> 0 | AS28: =$M28*4 -> 0 | AT28: =$M28*4 -> 0 | BA28: 21000190 | BC28: =$M28*AK28 -> 0 | BD28: =$M28*AL28 -> 0 | BE28: =$M28*AM28 -> 0 | BF28: =$M28*AN28 -> 0 | BG28: =$M28*AO28 -> 0 | BH28: =$M28*AP28 -> 0
A29: 12070 | B29: Edges M size 1 PU | D29: view | E29: =SUM(F29:K29) -> 21 | H29: 21 | L29: 308.61 | M29: =SUM(N29:X29) -> 0 | Y29: 5.606 | Z29: 4.497 | AA29: =$M29*F29 -> 0 | AB29: =$M29*G29 -> 0 | AC29: =$M29*H29 -> 0 | AD29: =$M29*I29 -> 0 | AE29: =$M29*J29 -> 0 | AF29: =$M29*K29 -> 0 | AH29: =M29*Y29 -> 0 | AI29: =M29*Z29 -> 0 | AJ29: =M29*L29 -> 0 | AN29: 21 | AR29: =$M29*5 -> 0 | AS29: =$M29*11 -> 0 | AT29: =$M29*5 -> 0 | BA29: 21000191 | BC29: =$M29*AK29 -> 0 | BD29: =$M29*AL29 -> 0 | BE29: =$M29*AM29 -> 0 | BF29: =$M29*AN29 -> 0 | BG29: =$M29*AO29 -> 0 | BH29: =$M29*AP29 -> 0
A30: 12072 | B30: Edges M size 3 PU | D30: view | E30: =SUM(F30:K30) -> 20 | H30: 20 | L30: 263.82 | M30: =SUM(N30:X30) -> 0 | Y30: 4.697 | Z30: 3.707 | AA30: =$M30*F30 -> 0 | AB30: =$M30*G30 -> 0 | AC30: =$M30*H30 -> 0 | AD30: =$M30*I30 -> 0 | AE30: =$M30*J30 -> 0 | AF30: =$M30*K30 -> 0 | AH30: =M30*Y30 -> 0 | AI30: =M30*Z30 -> 0 | AJ30: =M30*L30 -> 0 | AN30: 20 | AR30: =$M30*9 -> 0 | AS30: =$M30*10 -> 0 | AT30: =$M30*1 -> 0 | BA30: 21000192 | BC30: =$M30*AK30 -> 0 | BD30: =$M30*AL30 -> 0 | BE30: =$M30*AM30 -> 0 | BF30: =$M30*AN30 -> 0 | BG30: =$M30*AO30 -> 0 | BH30: =$M30*AP30 -> 0
A31: 12082 | B31: Jugs L size 2 PU | D31: view | E31: =SUM(F31:K31) -> 8 | I31: 8 | L31: 223.5 | M31: =SUM(N31:X31) -> 0 | Y31: 4.254 | Z31: 3.645 | AA31: =$M31*F31 -> 0 | AB31: =$M31*G31 -> 0 | AC31: =$M31*H31 -> 0 | AD31: =$M31*I31 -> 0 | AE31: =$M31*J31 -> 0 | AF31: =$M31*K31 -> 0 | AH31: =M31*Y31 -> 0 | AI31: =M31*Z31 -> 0 | AJ31: =M31*L31 -> 0 | AL31: 8 | AR31: =$M31*3 -> 0 | AS31: =$M31*2 -> 0 | AT31: =$M31*3 -> 0 | BA31: 21000193 | BC31: =$M31*AK31 -> 0 | BD31: =$M31*AL31 -> 0 | BE31: =$M31*AM31 -> 0 | BF31: =$M31*AN31 -> 0 | BG31: =$M31*AO31 -> 0 | BH31: =$M31*AP31 -> 0
A32: 12085 | B32: Jugs L size PU | D32: view | E32: =SUM(F32:K32) -> 9 | I32: 9 | L32: 223.95 | M32: =SUM(N32:X32) -> 0 | Y32: 4.563 | Z32: 3.595 | AA32: =$M32*F32 -> 0 | AB32: =$M32*G32 -> 0 | AC32: =$M32*H32 -> 0 | AD32: =$M32*I32 -> 0 | AE32: =$M32*J32 -> 0 | AF32: =$M32*K32 -> 0 | AH32: =M32*Y32 -> 0 | AI32: =M32*Z32 -> 0 | AJ32: =M32*L32 -> 0 | AL32: 9 | AR32: =$M32*2 -> 0 | AS32: =$M32*3 -> 0 | AT32: =$M32*1 -> 0 | AU32: =$M32*2 -> 0 | AV32: =$M32*1 -> 0 | BA32: 21000194 | BC32: =$M32*AK32 -> 0 | BD32: =$M32*AL32 -> 0 | BE32: =$M32*AM32 -> 0 | BF32: =$M32*AN32 -> 0 | BG32: =$M32*AO32 -> 0 | BH32: =$M32*AP32 -> 0
A33: 12086 | B33: Jugs M size 1 PU | D33: view | E33: =SUM(F33:K33) -> 14 | H33: 14 | L33: 226.92 | M33: =SUM(N33:X33) -> 0 | Y33: 4.142 | Z33: 3.241 | AA33: =$M33*F33 -> 0 | AB33: =$M33*G33 -> 0 | AC33: =$M33*H33 -> 0 | AD33: =$M33*I33 -> 0 | AE33: =$M33*J33 -> 0 | AF33: =$M33*K33 -> 0 | AH33: =M33*Y33 -> 0 | AI33: =M33*Z33 -> 0 | AJ33: =M33*L33 -> 0 | AL33: 14 | AR33: =$M33*6 -> 0 | AS33: =$M33*7 -> 0 | AT33: =$M33*1 -> 0 | BA33: 21000195 | BC33: =$M33*AK33 -> 0 | BD33: =$M33*AL33 -> 0 | BE33: =$M33*AM33 -> 0 | BF33: =$M33*AN33 -> 0 | BG33: =$M33*AO33 -> 0 | BH33: =$M33*AP33 -> 0
A34: 12087 | B34: Jugs M size 2 PU | D34: view | E34: =SUM(F34:K34) -> 19 | H34: 19 | L34: 288.09 | M34: =SUM(N34:X34) -> 0 | Y34: 5.296 | Z34: 4.228 | AA34: =$M34*F34 -> 0 | AB34: =$M34*G34 -> 0 | AC34: =$M34*H34 -> 0 | AD34: =$M34*I34 -> 0 | AE34: =$M34*J34 -> 0 | AF34: =$M34*K34 -> 0 | AH34: =M34*Y34 -> 0 | AI34: =M34*Z34 -> 0 | AJ34: =M34*L34 -> 0 | AL34: 19 | AR34: =$M34*8 -> 0 | AS34: =$M34*9 -> 0 | AT34: =$M34*2 -> 0 | BA34: 21000196 | BC34: =$M34*AK34 -> 0 | BD34: =$M34*AL34 -> 0 | BE34: =$M34*AM34 -> 0 | BF34: =$M34*AN34 -> 0 | BG34: =$M34*AO34 -> 0 | BH34: =$M34*AP34 -> 0
A35: 12089 | B35: ALL YOU CAN EAT 1 PU | D35: view | E35: =SUM(F35:K35) -> 26 | G35: 26 | L35: 162.12 | M35: =SUM(N35:X35) -> 0 | Y35: 1.741 | Z35: 1.424 | AA35: =$M35*F35 -> 0 | AB35: =$M35*G35 -> 0 | AC35: =$M35*H35 -> 0 | AD35: =$M35*I35 -> 0 | AE35: =$M35*J35 -> 0 | AF35: =$M35*K35 -> 0 | AH35: =M35*Y35 -> 0 | AI35: =M35*Z35 -> 0 | AJ35: =M35*L35 -> 0 | AK35: 26 | AR35: =$M35*23 -> 0 | AS35: =$M35*3 -> 0 | BA35: 21000197 | BC35: =$M35*AK35 -> 0 | BD35: =$M35*AL35 -> 0 | BE35: =$M35*AM35 -> 0 | BF35: =$M35*AN35 -> 0 | BG35: =$M35*AO35 -> 0 | BH35: =$M35*AP35 -> 0
A36: 12090 | B36: ALL YOU CAN EAT 2 PU | D36: view | E36: =SUM(F36:K36) -> 31 | G36: 31 | L36: 258.87 | M36: =SUM(N36:X36) -> 0 | Y36: 3.678 | Z36: 2.97 | AA36: =$M36*F36 -> 0 | AB36: =$M36*G36 -> 0 | AC36: =$M36*H36 -> 0 | AD36: =$M36*I36 -> 0 | AE36: =$M36*J36 -> 0 | AF36: =$M36*K36 -> 0 | AH36: =M36*Y36 -> 0 | AI36: =M36*Z36 -> 0 | AJ36: =M36*L36 -> 0 | AK36: 5 | AM36: 1 | AN36: 13 | AO36: 11 | AP36: 1 | AR36: =$M36*18 -> 0 | AS36: =$M36*13 -> 0 | BA36: 21000198 | BC36: =$M36*AK36 -> 0 | BD36: =$M36*AL36 -> 0 | BE36: =$M36*AM36 -> 0 | BF36: =$M36*AN36 -> 0 | BG36: =$M36*AO36 -> 0 | BH36: =$M36*AP36 -> 0
A37: 12092 | B37: ALL YOU CAN EAT 4 PU | D37: view | E37: =SUM(F37:K37) -> 18 | G37: 18 | L37: 151.02 | M37: =SUM(N37:X37) -> 0 | Y37: 2.154 | Z37: 1.681 | AA37: =$M37*F37 -> 0 | AB37: =$M37*G37 -> 0 | AC37: =$M37*H37 -> 0 | AD37: =$M37*I37 -> 0 | AE37: =$M37*J37 -> 0 | AF37: =$M37*K37 -> 0 | AH37: =M37*Y37 -> 0 | AI37: =M37*Z37 -> 0 | AJ37: =M37*L37 -> 0 | AK37: 2 | AL37: 5 | AN37: 9 | AO37: 2 | AR37: =$M37*16 -> 0 | AS37: =$M37*2 -> 0 | BA37: 21000199 | BC37: =$M37*AK37 -> 0 | BD37: =$M37*AL37 -> 0 | BE37: =$M37*AM37 -> 0 | BF37: =$M37*AN37 -> 0 | BG37: =$M37*AO37 -> 0 | BH37: =$M37*AP37 -> 0
A38: 12210 | B38: DESERT STALKER PU | D38: view | E38: =SUM(F38:K38) -> 19 | H38: 19 | L38: 308.4 | M38: =SUM(N38:X38) -> 0 | Y38: 5.737 | Z38: 4.611 | AA38: =$M38*F38 -> 0 | AB38: =$M38*G38 -> 0 | AC38: =$M38*H38 -> 0 | AD38: =$M38*I38 -> 0 | AE38: =$M38*J38 -> 0 | AF38: =$M38*K38 -> 0 | AH38: =M38*Y38 -> 0 | AI38: =M38*Z38 -> 0 | AJ38: =M38*L38 -> 0 | AO38: 19 | AS38: =$M38*14 -> 0 | AT38: =$M38*5 -> 0 | BA38: 21000203 | BC38: =$M38*AK38 -> 0 | BD38: =$M38*AL38 -> 0 | BE38: =$M38*AM38 -> 0 | BF38: =$M38*AN38 -> 0 | BG38: =$M38*AO38 -> 0 | BH38: =$M38*AP38 -> 0
A39: 12212 | B39: WRINKLED PU | D39: view | E39: =SUM(F39:K39) -> 5 | H39: 1 | I39: 2 | J39: 2 | L39: 149.01 | M39: =SUM(N39:X39) -> 0 | Y39: 3.105 | Z39: 2.408 | AA39: =$M39*F39 -> 0 | AB39: =$M39*G39 -> 0 | AC39: =$M39*H39 -> 0 | AD39: =$M39*I39 -> 0 | AE39: =$M39*J39 -> 0 | AF39: =$M39*K39 -> 0 | AH39: =M39*Y39 -> 0 | AI39: =M39*Z39 -> 0 | AJ39: =M39*L39 -> 0 | AL39: 5 | AS39: =$M39*5 -> 0 | BA39: 21000205 | BC39: =$M39*AK39 -> 0 | BD39: =$M39*AL39 -> 0 | BE39: =$M39*AM39 -> 0 | BF39: =$M39*AN39 -> 0 | BG39: =$M39*AO39 -> 0 | BH39: =$M39*AP39 -> 0
A40: 12213 | B40: TOXIC PU | D40: view | E40: =SUM(F40:K40) -> 10 | H40: 4 | I40: 3 | J40: 2 | K40: 1 | L40: 324.93 | M40: =SUM(N40:X40) -> 0 | Y40: 6.696 | Z40: 5.445 | AA40: =$M40*F40 -> 0 | AB40: =$M40*G40 -> 0 | AC40: =$M40*H40 -> 0 | AD40: =$M40*I40 -> 0 | AE40: =$M40*J40 -> 0 | AF40: =$M40*K40 -> 0 | AH40: =M40*Y40 -> 0 | AI40: =M40*Z40 -> 0 | AJ40: =M40*L40 -> 0 | AN40: 10 | AR40: =$M40*1 -> 0 | AS40: =$M40*9 -> 0 | BA40: 21000206 | BC40: =$M40*AK40 -> 0 | BD40: =$M40*AL40 -> 0 | BE40: =$M40*AM40 -> 0 | BF40: =$M40*AN40 -> 0 | BG40: =$M40*AO40 -> 0 | BH40: =$M40*AP40 -> 0
A41: 12216 | B41: TARZAN PU | D41: view | E41: =SUM(F41:K41) -> 18 | G41: 6 | H41: 6 | I41: 4 | J41: 2 | L41: 348.75 | M41: =SUM(N41:X41) -> 0 | Y41: 6.235 | Z41: 5.438 | AA41: =$M41*F41 -> 0 | AB41: =$M41*G41 -> 0 | AC41: =$M41*H41 -> 0 | AD41: =$M41*I41 -> 0 | AE41: =$M41*J41 -> 0 | AF41: =$M41*K41 -> 0 | AH41: =M41*Y41 -> 0 | AI41: =M41*Z41 -> 0 | AJ41: =M41*L41 -> 0 | AL41: 18 | AR41: =$M41*9 -> 0 | AS41: =$M41*9 -> 0 | BA41: 21000208 | BC41: =$M41*AK41 -> 0 | BD41: =$M41*AL41 -> 0 | BE41: =$M41*AM41 -> 0 | BF41: =$M41*AN41 -> 0 | BG41: =$M41*AO41 -> 0 | BH41: =$M41*AP41 -> 0
A42: 12217 | B42: SWISS GNEISS 1 - PU ** | D42: view | E42: =SUM(F42:K42) -> 16 | H42: 4 | I42: 6 | J42: 6 | L42: 495.54 | M42: =SUM(N42:X42) -> 0 | Y42: 10.247 | Z42: 8.345 | AA42: =$M42*F42 -> 0 | AB42: =$M42*G42 -> 0 | AC42: =$M42*H42 -> 0 | AD42: =$M42*I42 -> 0 | AE42: =$M42*J42 -> 0 | AF42: =$M42*K42 -> 0 | AH42: =M42*Y42 -> 0 | AI42: =M42*Z42 -> 0 | AJ42: =M42*L42 -> 0 | AN42: 7 | AO42: 2 | AP42: 7 | AR42: =$M42*11 -> 0 | AS42: =$M42*1 -> 0 | AT42: =$M42*4 -> 0 | BA42: 21000209 | BC42: =$M42*AK42 -> 0 | BD42: =$M42*AL42 -> 0 | BE42: =$M42*AM42 -> 0 | BF42: =$M42*AN42 -> 0 | BG42: =$M42*AO42 -> 0 | BH42: =$M42*AP42 -> 0
A43: 12219 | B43: EBOLA PU ** | D43: view | E43: =SUM(F43:K43) -> 15 | I43: 15 | L43: 321.03 | M43: =SUM(N43:X43) -> 0 | Y43: 6.284 | Z43: 5.087 | AA43: =$M43*F43 -> 0 | AB43: =$M43*G43 -> 0 | AC43: =$M43*H43 -> 0 | AD43: =$M43*I43 -> 0 | AE43: =$M43*J43 -> 0 | AF43: =$M43*K43 -> 0 | AH43: =M43*Y43 -> 0 | AI43: =M43*Z43 -> 0 | AJ43: =M43*L43 -> 0 | AL43: 15 | AS43: =$M43*15 -> 0 | BA43: 21000211 | BC43: =$M43*AK43 -> 0 | BD43: =$M43*AL43 -> 0 | BE43: =$M43*AM43 -> 0 | BF43: =$M43*AN43 -> 0 | BG43: =$M43*AO43 -> 0 | BH43: =$M43*AP43 -> 0
A44: 12220 | B44: SCREWONS - S, M PU ** | D44: view | E44: =SUM(F44:K44) -> 28 | G44: 19 | H44: 9 | L44: 231.99 | M44: =SUM(N44:X44) -> 0 | Y44: 3.292 | Z44: 2.635 | AA44: =$M44*F44 -> 0 | AB44: =$M44*G44 -> 0 | AC44: =$M44*H44 -> 0 | AD44: =$M44*I44 -> 0 | AE44: =$M44*J44 -> 0 | AF44: =$M44*K44 -> 0 | AH44: =M44*Y44 -> 0 | AI44: =M44*Z44 -> 0 | AJ44: =M44*L44 -> 0 | AK44: 5 | AN44: 23 | AR44: =$M44*9 -> 0 | AX44: =$M44*38 -> 0 | BA44: 21000212 | BC44: =$M44*AK44 -> 0 | BD44: =$M44*AL44 -> 0 | BE44: =$M44*AM44 -> 0 | BF44: =$M44*AN44 -> 0 | BG44: =$M44*AO44 -> 0 | BH44: =$M44*AP44 -> 0
A45: 12221 | B45: SWISS GNEISS - 2 PU ** | D45: view | E45: =SUM(F45:K45) -> 20 | H45: 13 | I45: 5 | J45: 2 | L45: 447.15 | M45: =SUM(N45:X45) -> 0 | Y45: 8.838 | Z45: 7.188 | AA45: =$M45*F45 -> 0 | AB45: =$M45*G45 -> 0 | AC45: =$M45*H45 -> 0 | AD45: =$M45*I45 -> 0 | AE45: =$M45*J45 -> 0 | AF45: =$M45*K45 -> 0 | AH45: =M45*Y45 -> 0 | AI45: =M45*Z45 -> 0 | AJ45: =M45*L45 -> 0 | AL45: 1 | AN45: 14 | AP45: 5 | AS45: =$M45*18 -> 0 | AT45: =$M45*2 -> 0 | BA45: 21000213 | BC45: =$M45*AK45 -> 0 | BD45: =$M45*AL45 -> 0 | BE45: =$M45*AM45 -> 0 | BF45: =$M45*AN45 -> 0 | BG45: =$M45*AO45 -> 0 | BH45: =$M45*AP45 -> 0
A46: 11222 | B46: BOOTIE CALL 1 PU HOLLOW-BACK | D46: view | E46: =SUM(F46:K46) -> 5 | I46: 2 | K46: 3 | L46: 225.27 | M46: =SUM(N46:X46) -> 0 | Y46: 3.373 | AA46: =$M46*F46 -> 0 | AB46: =$M46*G46 -> 0 | AC46: =$M46*H46 -> 0 | AD46: =$M46*I46 -> 0 | AE46: =$M46*J46 -> 0 | AF46: =$M46*K46 -> 0 | AH46: =M46*Y46 -> 0 | AI46: =M46*Z46 -> 0 | AJ46: =M46*L46 -> 0 | AP46: 5 | AU46: =$M46*2 -> 0 | AV46: =$M46*3 -> 0 | BA46: 21000157 | BC46: =$M46*AK46 -> 0 | BD46: =$M46*AL46 -> 0 | BE46: =$M46*AM46 -> 0 | BF46: =$M46*AN46 -> 0 | BG46: =$M46*AO46 -> 0 | BH46: =$M46*AP46 -> 0
A47: 11223 | B47: BOOTIE CALL 2 PU HOLLOW-BACK | D47: view | E47: =SUM(F47:K47) -> 6 | I47: 2 | J47: 2 | K47: 2 | L47: 255.63 | M47: =SUM(N47:X47) -> 0 | Y47: 3.717 | AA47: =$M47*F47 -> 0 | AB47: =$M47*G47 -> 0 | AC47: =$M47*H47 -> 0 | AD47: =$M47*I47 -> 0 | AE47: =$M47*J47 -> 0 | AF47: =$M47*K47 -> 0 | AH47: =M47*Y47 -> 0 | AI47: =M47*Z47 -> 0 | AJ47: =M47*L47 -> 0 | AP47: 6 | AT47: =$M47*1 -> 0 | AU47: =$M47*4 -> 0 | AV47: =$M47*1 -> 0 | BA47: 21000158 | BC47: =$M47*AK47 -> 0 | BD47: =$M47*AL47 -> 0 | BE47: =$M47*AM47 -> 0 | BF47: =$M47*AN47 -> 0 | BG47: =$M47*AO47 -> 0 | BH47: =$M47*AP47 -> 0
A48: 11224 | B48: WIND AND WATER 1 PU HOLLOW-BACK | D48: view | E48: =SUM(F48:K48) -> 7 | G48: 2 | I48: 1 | J48: 2 | K48: 2 | L48: 235.7964 | M48: =SUM(N48:X48) -> 0 | Y48: 3.569 | AA48: =$M48*F48 -> 0 | AB48: =$M48*G48 -> 0 | AC48: =$M48*H48 -> 0 | AD48: =$M48*I48 -> 0 | AE48: =$M48*J48 -> 0 | AF48: =$M48*K48 -> 0 | AH48: =M48*Y48 -> 0 | AI48: =M48*Z48 -> 0 | AJ48: =M48*L48 -> 0 | AN48: 3 | AO48: 1 | AP48: 3 | AR48: =$M48*2 -> 0 | AU48: =$M48*1 -> 0 | AV48: =$M48*3 -> 0 | AW48: =$M48*1 -> 0 | BA48: 21000159 | BC48: =$M48*AK48 -> 0 | BD48: =$M48*AL48 -> 0 | BE48: =$M48*AM48 -> 0 | BF48: =$M48*AN48 -> 0 | BG48: =$M48*AO48 -> 0 | BH48: =$M48*AP48 -> 0
A49: 11225 | B49: ATLANTIS 1 PU HOLLOW-BACK | D49: view | E49: =SUM(F49:K49) -> 5 | J49: 3 | K49: 2 | L49: 215.67 | M49: =SUM(N49:X49) -> 0 | Y49: 3.195 | AA49: =$M49*F49 -> 0 | AB49: =$M49*G49 -> 0 | AC49: =$M49*H49 -> 0 | AD49: =$M49*I49 -> 0 | AE49: =$M49*J49 -> 0 | AF49: =$M49*K49 -> 0 | AH49: =M49*Y49 -> 0 | AI49: =M49*Z49 -> 0 | AJ49: =M49*L49 -> 0 | AP49: 5 | AU49: =$M49*4 -> 0 | AV49: =$M49*1 -> 0 | BA49: 21000160 | BC49: =$M49*AK49 -> 0 | BD49: =$M49*AL49 -> 0 | BE49: =$M49*AM49 -> 0 | BF49: =$M49*AN49 -> 0 | BG49: =$M49*AO49 -> 0 | BH49: =$M49*AP49 -> 0
A50: 11226 | B50: ATLANTIS 2 PU HOLLOW-BACK | D50: view | E50: =SUM(F50:K50) -> 6 | I50: 2 | J50: 2 | K50: 2 | L50: 234.96 | M50: =SUM(N50:X50) -> 0 | Y50: 3.335 | AA50: =$M50*F50 -> 0 | AB50: =$M50*G50 -> 0 | AC50: =$M50*H50 -> 0 | AD50: =$M50*I50 -> 0 | AE50: =$M50*J50 -> 0 | AF50: =$M50*K50 -> 0 | AH50: =M50*Y50 -> 0 | AI50: =M50*Z50 -> 0 | AJ50: =M50*L50 -> 0 | AP50: 6 | AS50: =$M50*2 -> 0 | AV50: =$M50*4 -> 0 | BA50: 21000161 | BC50: =$M50*AK50 -> 0 | BD50: =$M50*AL50 -> 0 | BE50: =$M50*AM50 -> 0 | BF50: =$M50*AN50 -> 0 | BG50: =$M50*AO50 -> 0 | BH50: =$M50*AP50 -> 0
A51: 11227 | B51: WIND AND WATER 2 PU HOLLOW-BACK | D51: view | E51: =SUM(F51:K51) -> 11 | G51: 1 | H51: 2 | I51: 4 | J51: 2 | K51: 2 | L51: 358.83 | M51: =SUM(N51:X51) -> 0 | Y51: 4.753 | AA51: =$M51*F51 -> 0 | AB51: =$M51*G51 -> 0 | AC51: =$M51*H51 -> 0 | AD51: =$M51*I51 -> 0 | AE51: =$M51*J51 -> 0 | AF51: =$M51*K51 -> 0 | AH51: =M51*Y51 -> 0 | AI51: =M51*Z51 -> 0 | AJ51: =M51*L51 -> 0 | AL51: 1 | AN51: 5 | AP51: 5 | AR51: =$M51*2 -> 0 | AU51: =$M51*5 -> 0 | BA51: 21000162 | BC51: =$M51*AK51 -> 0 | BD51: =$M51*AL51 -> 0 | BE51: =$M51*AM51 -> 0 | BF51: =$M51*AN51 -> 0 | BG51: =$M51*AO51 -> 0 | BH51: =$M51*AP51 -> 0
A52: 12228 | B52: PRETTY UGLY PU ** | D52: view | E52: =SUM(F52:K52) -> 7 | H52: 2 | I52: 2 | J52: 2 | K52: 1 | L52: 256.17 | M52: =SUM(N52:X52) -> 0 | Y52: 5.404 | Z52: 4.322 | AA52: =$M52*F52 -> 0 | AB52: =$M52*G52 -> 0 | AC52: =$M52*H52 -> 0 | AD52: =$M52*I52 -> 0 | AE52: =$M52*J52 -> 0 | AF52: =$M52*K52 -> 0 | AH52: =M52*Y52 -> 0 | AI52: =M52*Z52 -> 0 | AJ52: =M52*L52 -> 0 | AN52: 7 | AR52: =$M52*1 -> 0 | AS52: =$M52*6 -> 0 | BA52: 21000216 | BC52: =$M52*AK52 -> 0 | BD52: =$M52*AL52 -> 0 | BE52: =$M52*AM52 -> 0 | BF52: =$M52*AN52 -> 0 | BG52: =$M52*AO52 -> 0 | BH52: =$M52*AP52 -> 0
A53: 12232 | B53: JAR JAR JUGS PU ** | D53: view | E53: =SUM(F53:K53) -> 30 | H53: 30 | L53: 390.54 | M53: =SUM(N53:X53) -> 0 | Y53: 6.788 | Z53: 5.544 | AA53: =$M53*F53 -> 0 | AB53: =$M53*G53 -> 0 | AC53: =$M53*H53 -> 0 | AD53: =$M53*I53 -> 0 | AE53: =$M53*J53 -> 0 | AF53: =$M53*K53 -> 0 | AH53: =M53*Y53 -> 0 | AI53: =M53*Z53 -> 0 | AJ53: =M53*L53 -> 0 | AL53: 30 | AR53: =$M53*5 -> 0 | AS53: =$M53*17 -> 0 | AT53: =$M53*8 -> 0 | BA53: 21000219 | BC53: =$M53*AK53 -> 0 | BD53: =$M53*AL53 -> 0 | BE53: =$M53*AM53 -> 0 | BF53: =$M53*AN53 -> 0 | BG53: =$M53*AO53 -> 0 | BH53: =$M53*AP53 -> 0
A54: 12233 | B54: JABBA JUGS PU ** | D54: view | E54: =SUM(F54:K54) -> 15 | I54: 15 | L54: 339.15 | M54: =SUM(N54:X54) -> 0 | Y54: 6.681 | Z54: 5.432 | AA54: =$M54*F54 -> 0 | AB54: =$M54*G54 -> 0 | AC54: =$M54*H54 -> 0 | AD54: =$M54*I54 -> 0 | AE54: =$M54*J54 -> 0 | AF54: =$M54*K54 -> 0 | AH54: =M54*Y54 -> 0 | AI54: =M54*Z54 -> 0 | AJ54: =M54*L54 -> 0 | AL54: 15 | AR54: =$M54*1 -> 0 | AS54: =$M54*3 -> 0 | AT54: =$M54*9 -> 0 | AU54: =$M54*2 -> 0 | BA54: 21000220 | BC54: =$M54*AK54 -> 0 | BD54: =$M54*AL54 -> 0 | BE54: =$M54*AM54 -> 0 | BF54: =$M54*AN54 -> 0 | BG54: =$M54*AO54 -> 0 | BH54: =$M54*AP54 -> 0
A55: 12234 | B55: DUNE JUGS PU ** | D55: view | E55: =SUM(F55:K55) -> 30 | H55: 30 | L55: 323.76 | M55: =SUM(N55:X55) -> 0 | Y55: 5.33 | Z55: 4.26 | AA55: =$M55*F55 -> 0 | AB55: =$M55*G55 -> 0 | AC55: =$M55*H55 -> 0 | AD55: =$M55*I55 -> 0 | AE55: =$M55*J55 -> 0 | AF55: =$M55*K55 -> 0 | AH55: =M55*Y55 -> 0 | AI55: =M55*Z55 -> 0 | AJ55: =M55*L55 -> 0 | AL55: 30 | AR55: =$M55*3 -> 0 | AS55: =$M55*20 -> 0 | AT55: =$M55*7 -> 0 | BA55: 21000221 | BC55: =$M55*AK55 -> 0 | BD55: =$M55*AL55 -> 0 | BE55: =$M55*AM55 -> 0 | BF55: =$M55*AN55 -> 0 | BG55: =$M55*AO55 -> 0 | BH55: =$M55*AP55 -> 0
A56: 12237 | B56: ROOF RINGS PU ** | D56: view | E56: =SUM(F56:K56) -> 8 | I56: 3 | J56: 2 | K56: 3 | L56: 364.2 | M56: =SUM(N56:X56) -> 0 | Y56: 6.777 | Z56: 5.189 | AA56: =$M56*F56 -> 0 | AB56: =$M56*G56 -> 0 | AC56: =$M56*H56 -> 0 | AD56: =$M56*I56 -> 0 | AE56: =$M56*J56 -> 0 | AF56: =$M56*K56 -> 0 | AH56: =M56*Y56 -> 0 | AI56: =M56*Z56 -> 0 | AJ56: =M56*L56 -> 0 | AL56: 8 | AR56: =$M56*1 -> 0 | AS56: =$M56*1 -> 0 | AT56: =$M56*3 -> 0 | AU56: =$M56*2 -> 0 | AV56: =$M56*1 -> 0 | BA56: 21000223 | BC56: =$M56*AK56 -> 0 | BD56: =$M56*AL56 -> 0 | BE56: =$M56*AM56 -> 0 | BF56: =$M56*AN56 -> 0 | BG56: =$M56*AO56 -> 0 | BH56: =$M56*AP56 -> 0
A57: 12238 | B57: ROOF JUGS L PU ** | D57: view | E57: =SUM(F57:K57) -> 12 | I57: 12 | L57: 273.39 | M57: =SUM(N57:X57) -> 0 | Y57: 6.777 | Z57: 4.356 | AA57: =$M57*F57 -> 0 | AB57: =$M57*G57 -> 0 | AC57: =$M57*H57 -> 0 | AD57: =$M57*I57 -> 0 | AE57: =$M57*J57 -> 0 | AF57: =$M57*K57 -> 0 | AH57: =M57*Y57 -> 0 | AI57: =M57*Z57 -> 0 | AJ57: =M57*L57 -> 0 | AL57: 12 | AR57: =$M57*5 -> 0 | AS57: =$M57*7 -> 0 | AT57: =$M57*11 -> 0 | AU57: =$M57*1 -> 0 | AX57: =$M57*4 -> 0 | BA57: 21000224 | BC57: =$M57*AK57 -> 0 | BD57: =$M57*AL57 -> 0 | BE57: =$M57*AM57 -> 0 | BF57: =$M57*AN57 -> 0 | BG57: =$M57*AO57 -> 0 | BH57: =$M57*AP57 -> 0
A58: 12242 | B58: CARPE DIEM PU ** | D58: view | E58: =SUM(F58:K58) -> 18 | H58: 11 | I58: 6 | J58: 1 | L58: 346.59 | M58: =SUM(N58:X58) -> 0 | Y58: 6.777 | Z58: 5.397 | AA58: =$M58*F58 -> 0 | AB58: =$M58*G58 -> 0 | AC58: =$M58*H58 -> 0 | AD58: =$M58*I58 -> 0 | AE58: =$M58*J58 -> 0 | AF58: =$M58*K58 -> 0 | AH58: =M58*Y58 -> 0 | AI58: =M58*Z58 -> 0 | AJ58: =M58*L58 -> 0 | AL58: 2 | AM58: 2 | AN58: 7 | AO58: 4 | AP58: 3 | AR58: =$M58*5 -> 0 | AS58: =$M58*7 -> 0 | AT58: =$M58*11 -> 0 | AU58: =$M58*1 -> 0 | AX58: =$M58*4 -> 0 | BA58: 21000225 | BC58: =$M58*AK58 -> 0 | BD58: =$M58*AL58 -> 0 | BE58: =$M58*AM58 -> 0 | BF58: =$M58*AN58 -> 0 | BG58: =$M58*AO58 -> 0 | BH58: =$M58*AP58 -> 0
A59: 12243 | B59: SAND BOOGIE PU ** | D59: view | E59: =SUM(F59:K59) -> 9 | H59: 8 | J59: 1 | L59: 184.41 | M59: =SUM(N59:X59) -> 0 | Y59: 6.777 | Z59: 2.847 | AA59: =$M59*F59 -> 0 | AB59: =$M59*G59 -> 0 | AC59: =$M59*H59 -> 0 | AD59: =$M59*I59 -> 0 | AE59: =$M59*J59 -> 0 | AF59: =$M59*K59 -> 0 | AH59: =M59*Y59 -> 0 | AI59: =M59*Z59 -> 0 | AJ59: =M59*L59 -> 0 | AL59: 3 | AN59: 2 | AO59: 1 | AP59: 3 | AR59: =$M59*5 -> 0 | AS59: =$M59*7 -> 0 | AT59: =$M59*11 -> 0 | AU59: =$M59*1 -> 0 | AX59: =$M59*4 -> 0 | BA59: 21000226 | BC59: =$M59*AK59 -> 0 | BD59: =$M59*AL59 -> 0 | BE59: =$M59*AM59 -> 0 | BF59: =$M59*AN59 -> 0 | BG59: =$M59*AO59 -> 0 | BH59: =$M59*AP59 -> 0
A60: 12251 | B60: AMMONITES PU ** | D60: view | E60: =SUM(F60:K60) -> 31 | G60: 31 | L60: 224.25 | M60: =SUM(N60:X60) -> 0 | Y60: 4.586 | Z60: 2.311 | AA60: =$M60*F60 -> 0 | AB60: =$M60*G60 -> 0 | AC60: =$M60*H60 -> 0 | AD60: =$M60*I60 -> 0 | AE60: =$M60*J60 -> 0 | AF60: =$M60*K60 -> 0 | AH60: =M60*Y60 -> 0 | AI60: =M60*Z60 -> 0 | AJ60: =M60*L60 -> 0 | AK60: 5 | AL60: 4 | AM60: 0 | AN60: 11 | AO60: 11 | AR60: =$M60*31 -> 0 | BA60: 21000227 | BC60: =$M60*AK60 -> 0 | BD60: =$M60*AL60 -> 0 | BE60: =$M60*AM60 -> 0 | BF60: =$M60*AN60 -> 0 | BG60: =$M60*AO60 -> 0 | BH60: =$M60*AP60 -> 0
A61: 12254 | B61: GLAIR PU ** | D61: view | E61: =SUM(F61:K61) -> 26 | F61: 26 | L61: 120.78 | M61: =SUM(N61:X61) -> 0 | Y61: 1.792 | Z61: 0.889 | AA61: =$M61*F61 -> 0 | AB61: =$M61*G61 -> 0 | AC61: =$M61*H61 -> 0 | AD61: =$M61*I61 -> 0 | AE61: =$M61*J61 -> 0 | AF61: =$M61*K61 -> 0 | AH61: =M61*Y61 -> 0 | AI61: =M61*Z61 -> 0 | AJ61: =M61*L61 -> 0 | AK61: 26 | AX61: =$M61*52 -> 0 | BA61: 21000229 | BC61: =$M61*AK61 -> 0 | BD61: =$M61*AL61 -> 0 | BE61: =$M61*AM61 -> 0 | BF61: =$M61*AN61 -> 0 | BG61: =$M61*AO61 -> 0 | BH61: =$M61*AP61 -> 0
A62: 12256 | B62: TINY NUGGETS (Bolt On XS) - only PU ** | D62: view | E62: =SUM(F62:K62) -> 15 | F62: 15 | L62: 86.79 | M62: =SUM(N62:X62) -> 0 | Y62: 0.88 | Z62: 0.639 | AA62: =$M62*F62 -> 0 | AB62: =$M62*G62 -> 0 | AC62: =$M62*H62 -> 0 | AD62: =$M62*I62 -> 0 | AE62: =$M62*J62 -> 0 | AF62: =$M62*K62 -> 0 | AH62: =M62*Y62 -> 0 | AI62: =M62*Z62 -> 0 | AJ62: =M62*L62 -> 0 | AK62: 15 | AR62: =$M62*15 -> 0 | BA62: 21000230 | BC62: =$M62*AK62 -> 0 | BD62: =$M62*AL62 -> 0 | BE62: =$M62*AM62 -> 0 | BF62: =$M62*AN62 -> 0 | BG62: =$M62*AO62 -> 0 | BH62: =$M62*AP62 -> 0
A63: 12257 | B63: BUMPY NUGGETS (Bolt On XS) only PU** | D63: view | E63: =SUM(F63:K63) -> 16 | F63: 16 | L63: 98.4 | M63: =SUM(N63:X63) -> 0 | Y63: 1.07 | Z63: 0.799 | AA63: =$M63*F63 -> 0 | AB63: =$M63*G63 -> 0 | AC63: =$M63*H63 -> 0 | AD63: =$M63*I63 -> 0 | AE63: =$M63*J63 -> 0 | AF63: =$M63*K63 -> 0 | AH63: =M63*Y63 -> 0 | AI63: =M63*Z63 -> 0 | AJ63: =M63*L63 -> 0 | AK63: 16 | AR63: =$M63*16 -> 0 | BA63: 21000231 | BC63: =$M63*AK63 -> 0 | BD63: =$M63*AL63 -> 0 | BE63: =$M63*AM63 -> 0 | BF63: =$M63*AN63 -> 0 | BG63: =$M63*AO63 -> 0 | BH63: =$M63*AP63 -> 0
A64: 12258 | B64: MICRO NUGGETS (Bolt On XS) only PU** | D64: view | E64: =SUM(F64:K64) -> 20 | F64: 20 | L64: 83.58 | M64: =SUM(N64:X64) -> 0 | Y64: 0.601 | Z64: 0.409 | AA64: =$M64*F64 -> 0 | AB64: =$M64*G64 -> 0 | AC64: =$M64*H64 -> 0 | AD64: =$M64*I64 -> 0 | AE64: =$M64*J64 -> 0 | AF64: =$M64*K64 -> 0 | AH64: =M64*Y64 -> 0 | AI64: =M64*Z64 -> 0 | AJ64: =M64*L64 -> 0 | AK64: 20 | AR64: =$M64*20 -> 0 | BA64: 21000232 | BC64: =$M64*AK64 -> 0 | BD64: =$M64*AL64 -> 0 | BE64: =$M64*AM64 -> 0 | BF64: =$M64*AN64 -> 0 | BG64: =$M64*AO64 -> 0 | BH64: =$M64*AP64 -> 0
L65: Total Items | M65: =SUM(M5:M64) -> 0 | AA65: =SUM(AA5:AA64) -> 0 | AB65: =SUM(AB5:AB64) -> 0 | AC65: =SUM(AC5:AC64) -> 0 | AD65: =SUM(AD5:AD64) -> 0 | AE65: =SUM(AE5:AE64) -> 0 | AF65: =SUM(AF5:AF64) -> 0 | AH65: =SUM(AH5:AH64) -> 0 | AI65: =SUM(AI5:AI64) -> 0 | AJ65: =SUM(AJ5:AJ64) -> 0 | BC65: =SUM(BC5:BC64) -> 0 | BD65: =SUM(BD5:BD64) -> 0 | BE65: =SUM(BE5:BE64) -> 0 | BF65: =SUM(BF5:BF64) -> 0 | BG65: =SUM(BG5:BG64) -> 0 | BH65: =SUM(BH5:BH64) -> 0
L66: Price | M66: =AJ65 -> 0 | AJ66: ='[1]HRT PU'!K2 -> Mega | AR66: 40 | AS66: 50 | AT66: 70 | AU66: 90 | AV66: 100 | AW66: 120 | AX66: SCR | AY66: CH | AZ66: Total Bolts
B67: ALL PRICES ARE EXCLUDING VAT TAXES | Y67: Total Holds | AA67: =SUM(AA65:AF65) -> 0 | AR67: =SUM(AR5:AR64) -> 0 | AS67: =SUM(AS5:AS64) -> 0 | AT67: =SUM(AT5:AT64) -> 0 | AU67: =SUM(AU5:AU64) -> 0 | AV67: =SUM(AV5:AV64) -> 0 | AW67: =SUM(AW5:AW64) -> 0 | AX67: =SUM(AX5:AX64) -> 0 | AY67: =SUM(AY5:AY64) -> 0 | AZ67: =AY67+AW67+AV67+AU67+AT67+AS67+AR67 -> 0
AR69: Bolts are not included in the sets! You can order them on page 4: Hardware

Sheet HRT volumes
B1: Volumes | F1: Please Choose Colors for the Volumes
A2: Reff. No. | C2: PCS in the set | D2: View product picture | E2: Price in EUR | F2: Number of items | G2: White (1) | H2: Yellow (2) | I2: Green (4) | J2: Green US-16-16 | K2: Red (5) | L2: Orange (6) | M2: Orange US 14-01 | N2: Blue (7) | O2: Grey (9) | P2: Black (10) | Q2: Violet (lilac 16) | R2: Fluoro orange (11) | S2: Fluoro green (12) | T2: Fluoro pink (13) | U2: Grey mix | V2: Orange mix | W2: Yellow mix | X2: Weight (kg.) | Y2: Dimensions / cm / | AB2: Total weight (kg) | AC2: Total Amount | AD2: total single pieces | AH2: sap id
B3: POLYURETHANE VOLUMES | G3: view | H3: view | I3: view | K3: view | L3: view | N3: view | O3: view | P3: view | Q3: view | R3: view | S3: view | T3: view | U3: view | V3: view | W3: view
B4: SETS OF PU VOLUMES – hollow back
A5: 11971 | B5: Full house – set of PU volumes – BOLT and SCREW | C5: 5 | D5: view | E5: 484.74 | F5: =SUM(G5:W5) -> 0 | X5: 8.08 | AB5: =F5*X5 -> 0 | AC5: =F5*E5 -> 0 | AD5: =F5*C5 -> 0 | AH5: 21000290
A6: 11972 | B6: Four of a kind – set of PU volumes – BOLT and SCREW | C6: 4 | D6: view | E6: 363 | F6: =SUM(G6:W6) -> 0 | X6: 5.98 | AB6: =F6*X6 -> 0 | AC6: =F6*E6 -> 0 | AD6: =F6*C6 -> 0 | AH6: 21001028
A7: 11975 | B7: Moons of Jupiter – set of PU vol. – BOLTand SCREW | C7: 4 | D7: view | E7: 441.03 | F7: =SUM(G7:W7) -> 0 | X7: 7.47 | AB7: =F7*X7 -> 0 | AC7: =F7*E7 -> 0 | AD7: =F7*C7 -> 0 | AH7: 21001029
A8: 11979 | B8: Silence– set of PU volumes – BOLT and SCREW | C8: 4 | D8: view | E8: 445.71 | F8: =SUM(G8:W8) -> 0 | X8: 7.56 | AB8: =F8*X8 -> 0 | AC8: =F8*E8 -> 0 | AD8: =F8*C8 -> 0 | AH8: 21001030
A9: 11980 | B9: Meltdown - set ot PU volumes – BOLT and SCREW | C9: 5 | D9: view | E9: 640.62 | F9: =SUM(G9:W9) -> 0 | X9: 11.07 | AB9: =F9*X9 -> 0 | AC9: =F9*E9 -> 0 | AD9: =F9*C9 -> 0 | AH9: 21000291
A10: 11982 | B10: Fountainbleau - set of PU vol.– BOLT and SCREW | C10: 5 | D10: view | E10: 683.13 | F10: =SUM(G10:W10) -> 0 | X10: 11.88 | AB10: =F10*X10 -> 0 | AC10: =F10*E10 -> 0 | AD10: =F10*C10 -> 0 | AH10: 21000292
A11: 11983 | B11: Explore– set of PU volumes – BOLT and SCREW | C11: 5 | D11: view | E11: 781.2 | F11: =SUM(G11:W11) -> 0 | X11: 13.76 | AB11: =F11*X11 -> 0 | AC11: =F11*E11 -> 0 | AD11: =F11*C11 -> 0 | AH11: 21001031
A12: 11989 | B12: Obsession– set of PU volumes – BOLT and SCREW | C12: 4 | D12: view | E12: 446.43 | F12: =SUM(G12:W12) -> 0 | X12: 8.16 | AB12: =F12*X12 -> 0 | AC12: =F12*E12 -> 0 | AD12: =F12*C12 -> 0 | AH12: 21001033
A13: 11990 | B13: Orbital– set of PU volumes – BOLT and SCREW | C13: 4 | D13: view | E13: 446.43 | F13: =SUM(G13:W13) -> 0 | X13: 7.58 | AB13: =F13*X13 -> 0 | AC13: =F13*E13 -> 0 | AD13: =F13*C13 -> 0 | AH13: 21001032
A14: 11991 | B14: Fusion– set of PU volumes – BOLT and SCREW | C14: 4 | D14: VIEW | E14: 427.95 | F14: =SUM(G14:W14) -> 0 | X14: 7.22 | AB14: =F14*X14 -> 0 | AC14: =F14*E14 -> 0 | AD14: =F14*C14 -> 0 | AH14: 21001034
B15: SINGLE PU VOLUMES – hollow back | AC15: =F15*E15 -> 0 | AD15: =F15*C15 -> 0
A16: 11903 | B16: Dino Spine- PU -hollow back | C16: 1 | D16: view | E16: 315.57 | F16: =SUM(G16:W16) -> 0 | X16: 6.133 | AB16: =F16*X16 -> 0 | AC16: =F16*E16 -> 0 | AD16: =F16*C16 -> 0 | AH16: 21000293
A17: 11904 | B17: Stones Tongue PU -hollow back | C17: 1 | D17: view | E17: 250.62 | F17: =SUM(G17:W17) -> 0 | X17: 4.931 | AB17: =F17*X17 -> 0 | AC17: =F17*E17 -> 0 | AD17: =F17*C17 -> 0 | AH17: 21000294
A18: 11905 | B18: Death Valley PU hollow back | C18: 1 | D18: view | E18: 246.63 | F18: =SUM(G18:W18) -> 0 | X18: 4.857 | AB18: =F18*X18 -> 0 | AC18: =F18*E18 -> 0 | AD18: =F18*C18 -> 0 | AH18: 21000295
A19: 11906 | B19: Braniac PU hollow back | C19: 1 | D19: view | E19: 195.27 | F19: =SUM(G19:W19) -> 0 | X19: 3.906 | AB19: =F19*X19 -> 0 | AC19: =F19*E19 -> 0 | AD19: =F19*C19 -> 0 | AH19: 21000296
A20: 11907 | B20: Winds of Fury PU hollow back | C20: 1 | D20: view | E20: 177.33 | F20: =SUM(G20:W20) -> 0 | X20: 3.574 | AB20: =F20*X20 -> 0 | AC20: =F20*E20 -> 0 | AD20: =F20*C20 -> 0 | AH20: 21000297
A21: 11908 | B21: Discworld PU hollow back | C21: 1 | D21: view | E21: 204.12 | F21: =SUM(G21:W21) -> 0 | X21: 4.07 | AB21: =F21*X21 -> 0 | AC21: =F21*E21 -> 0 | AD21: =F21*C21 -> 0 | AH21: 21000298
A22: 11909 | B22: Font-and-bleau PU hollow back | C22: 1 | D22: view | E22: 252.15 | F22: =SUM(G22:W22) -> 0 | X22: 4.959 | AB22: =F22*X22 -> 0 | AC22: =F22*E22 -> 0 | AD22: =F22*C22 -> 0 | AH22: 21000299
A23: 11911 | B23: The Hive - PU hollow back | C23: 1 | D23: view | E23: 130.2 | F23: =SUM(G23:W23) -> 0 | X23: 2.702 | AB23: =F23*X23 -> 0 | AC23: =F23*E23 -> 0 | AD23: =F23*C23 -> 0 | AH23: 21000300
A24: 11912 | B24: Cocoon - PU hollow back | C24: 1 | D24: view | E24: 242.31 | F24: =SUM(G24:W24) -> 0 | X24: 4.777 | AB24: =F24*X24 -> 0 | AC24: =F24*E24 -> 0 | AD24: =F24*C24 -> 0 | AH24: 21000301
A25: 11913 | B25: The Big Spank - PU hollow back | C25: 1 | D25: view | E25: 127.74 | F25: =SUM(G25:W25) -> 0 | X25: 2.656 | AB25: =F25*X25 -> 0 | AC25: =F25*E25 -> 0 | AD25: =F25*C25 -> 0 | AH25: 21000302
A26: 11914 | B26: Embryo PU hollow back | C26: 1 | D26: view | E26: 195.27 | F26: =SUM(G26:W26) -> 0 | X26: 3.906 | AB26: =F26*X26 -> 0 | AC26: =F26*E26 -> 0 | AD26: =F26*C26 -> 0 | AH26: 21000303
A27: 11915 | B27: Giant Bubbles PU hollow back | C27: 1 | D27: view | E27: 195.75 | F27: =SUM(G27:W27) -> 0 | X27: 3.915 | AB27: =F27*X27 -> 0 | AC27: =F27*E27 -> 0 | AD27: =F27*C27 -> 0 | AH27: 21000304
B28: POLYESTER VOLUMES | AC28: =F28*E28 -> 0 | AD28: =F28*C28 -> 0
A29: 13101 | B29: Moulded relief 1 | C29: 1 | D29: view | E29: 115.02 | F29: =SUM(G29:W29) -> 0 | X29: 7.95 | Y29: 48 | Z29: 20 | AA29: 10 | AB29: =F29*X29 -> 0 | AC29: =F29*E29 -> 0 | AD29: =F29*C29 -> 0 | AH29: 21000305
A30: 13138 | B30: Moulded relief 38 | C30: 1 | D30: view | E30: 65.7 | F30: =SUM(G30:W30) -> 0 | X30: 3.541 | Y30: 73 | Z30: 20 | AA30: 5 | AB30: =F30*X30 -> 0 | AC30: =F30*E30 -> 0 | AD30: =F30*C30 -> 0 | AH30: 21000306
A31: 13139 | B31: Moulded relief 39 | C31: 1 | D31: view | E31: 65.7 | F31: =SUM(G31:W31) -> 0 | X31: 3.902 | Y31: 61 | Z31: 18 | AA31: 5 | AB31: =F31*X31 -> 0 | AC31: =F31*E31 -> 0 | AD31: =F31*C31 -> 0 | AH31: 21000307
A32: 13140 | B32: Moulded relief 40 | C32: 1 | D32: view | E32: 65.7 | F32: =SUM(G32:W32) -> 0 | X32: 4.572 | Y32: 66 | Z32: 19 | AA32: 5 | AB32: =F32*X32 -> 0 | AC32: =F32*E32 -> 0 | AD32: =F32*C32 -> 0 | AH32: 21000308
A33: 13141 | B33: Moulded relief 41 | C33: 1 | D33: view | E33: 65.7 | F33: =SUM(G33:W33) -> 0 | X33: 3.142 | Y33: 53 | Z33: 17 | AA33: 15 | AB33: =F33*X33 -> 0 | AC33: =F33*E33 -> 0 | AD33: =F33*C33 -> 0 | AH33: 21000309
A34: 13142 | B34: Moulded relief 42 | C34: 1 | D34: view | E34: 65.7 | F34: =SUM(G34:W34) -> 0 | X34: 4.061 | Y34: 62 | Z34: 17 | AA34: 5 | AB34: =F34*X34 -> 0 | AC34: =F34*E34 -> 0 | AD34: =F34*C34 -> 0 | AH34: 21000310
A35: 13143 | B35: Moulded relief 43 | C35: 1 | D35: view | E35: 65.7 | F35: =SUM(G35:W35) -> 0 | X35: 4.54 | Y35: 70 | Z35: 19 | AA35: 5 | AB35: =F35*X35 -> 0 | AC35: =F35*E35 -> 0 | AD35: =F35*C35 -> 0 | AH35: 21000311
B36: PLYWOOD VOLUMES *** | AC36: =F36*E36 -> 0 | AD36: =F36*C36 -> 0
B37: MINI PYRAMIT VOLUMES – PLYWOOD | AC37: =F37*E37 -> 0 | AD37: =F37*C37 -> 0
A38: 13241S | B38: Sapphire -plywood- screw-on | C38: 1 | D38: view | E38: 70 | F38: =SUM(G38:W38) -> 0 | X38: 2.051829 | Y38: 44 | Z38: 42 | AA38: 14 | AB38: =F38*X38 -> 0 | AC38: =F38*E38 -> 0 | AD38: =F38*C38 -> 0 | AH38: 17000110
A39: 13242S | B39: Emerald – plywood- screw-on | C39: 1 | D39: view | E39: 50 | F39: =SUM(G39:W39) -> 0 | X39: 0.85644 | Y39: 26 | Z39: 23 | AA39: 9 | AB39: =F39*X39 -> 0 | AC39: =F39*E39 -> 0 | AD39: =F39*C39 -> 0 | AH39: 17000111
A40: 13243S | B40: Ruby – plywood- screw-on | C40: 1 | D40: view | E40: 75.833333 | F40: =SUM(G40:W40) -> 0 | X40: 2.22144 | Y40: 43 | Z40: 43 | AA40: 11 | AB40: =F40*X40 -> 0 | AC40: =F40*E40 -> 0 | AD40: =F40*C40 -> 0 | AH40: 17000112
B41: PYRAMIT EXPLOSION VOLUMES – SCREW- ON | AC41: =F41*E41 -> 0 | AD41: =F41*C41 -> 0
A42: 13351 | B42: PYRAMIT - Explosion No 1 | C42: 1 | D42: view | E42: 168.33333 | F42: =SUM(G42:W42) -> 0 | X42: 9.1 | Y42: 109 | Z42: 37 | AA42: 29 | AB42: =F42*X42 -> 0 | AC42: =F42*E42 -> 0 | AD42: =F42*C42 -> 0 | AH42: 17000142
A43: 13352 | B43: PYRAMIT - Explosion No 2 | C43: 1 | D43: view | E43: 101.66667 | F43: =SUM(G43:W43) -> 0 | X43: 4.45 | Y43: 56 | Z43: 55 | AA43: 16 | AB43: =F43*X43 -> 0 | AC43: =F43*E43 -> 0 | AD43: =F43*C43 -> 0 | AH43: 17000143
A44: 13353 | B44: PYRAMIT - Explosion No 3 | C44: 1 | D44: view | E44: 209.16667 | F44: =SUM(G44:W44) -> 0 | X44: 11.05 | Y44: 105 | Z44: 45 | AA44: 32 | AB44: =F44*X44 -> 0 | AC44: =F44*E44 -> 0 | AD44: =F44*C44 -> 0 | AH44: 17000144
A45: 13354 | B45: PYRAMIT - Explosion No 4 | C45: 1 | D45: view | E45: 124.16667 | F45: =SUM(G45:W45) -> 0 | X45: 5.2 | Y45: 65 | Z45: 30 | AA45: 18 | AB45: =F45*X45 -> 0 | AC45: =F45*E45 -> 0 | AD45: =F45*C45 -> 0 | AH45: 17000145
A46: 13355 | B46: PYRAMIT - Explosion No 5 | C46: 1 | D46: view | E46: 200 | F46: =SUM(G46:W46) -> 0 | X46: 10.6 | Y46: 94 | Z46: 59 | AA46: 18 | AB46: =F46*X46 -> 0 | AC46: =F46*E46 -> 0 | AD46: =F46*C46 -> 0 | AH46: 17000146
A47: 13356 | B47: PYRAMIT - Explosion No 6 | C47: 1 | D47: view | E47: 205.83333 | F47: =SUM(G47:W47) -> 0 | X47: 10.9 | Y47: 104 | Z47: 43 | AA47: 24 | AB47: =F47*X47 -> 0 | AC47: =F47*E47 -> 0 | AD47: =F47*C47 -> 0 | AH47: 17000147
A48: 13357 | B48: PYRAMIT - Explosion No 7 | C48: 1 | D48: view | E48: 101.66667 | F48: =SUM(G48:W48) -> 0 | X48: 4.45 | Y48: 74 | Z48: 52 | AA48: 13 | AB48: =F48*X48 -> 0 | AC48: =F48*E48 -> 0 | AD48: =F48*C48 -> 0 | AH48: 17000148
A49: 13358 | B49: PYRAMIT - Explosion SET ( 1 to 7 ) | C49: 7 | D49: view | E49: 1033.33 | F49: =SUM(G49:W49) -> 0 | X49: 49.75 | Y49: 200 | Z49: 160 | AA49: 32 | AB49: =F49*X49 -> 0 | AC49: =F49*E49 -> 0 | AD49: =F49*C49 -> 0 | AH49: 17000149
B50: PYRAMIT WOODEN VOLUMES – SCREW- ON | AC50: =F50*E50 -> 0 | AD50: =F50*C50 -> 0
A51: 13201 | B51: PYRAMIT Modular 1 | C51: 1 | D51: view | E51: 193.33333 | F51: =SUM(G51:W51) -> 0 | X51: 13 | Y51: 80 | Z51: 30 | AA51: 30 | AB51: =F51*X51 -> 0 | AC51: =F51*E51 -> 0 | AD51: =F51*C51 -> 0 | AH51: 17000089
A52: 13202 | B52: PYRAMIT Modular 2 | C52: 1 | D52: view | E52: 110.83333 | F52: =SUM(G52:W52) -> 0 | X52: 5 | Y52: 60 | Z52: 30 | AA52: 30 | AB52: =F52*X52 -> 0 | AC52: =F52*E52 -> 0 | AD52: =F52*C52 -> 0 | AH52: 17000090
A53: 13203 | B53: PYRAMIT Modular 3 | C53: 1 | D53: view | E53: 110.83333 | F53: =SUM(G53:W53) -> 0 | X53: 5 | Y53: 60 | Z53: 30 | AA53: 30 | AB53: =F53*X53 -> 0 | AC53: =F53*E53 -> 0 | AD53: =F53*C53 -> 0 | AH53: 17000091
A54: 13204 | B54: PYRAMIT Modular 4 | C54: 1 | D54: view | E54: 259.16667 | F54: =SUM(G54:W54) -> 0 | X54: 16 | Y54: 80 | Z54: 30 | AA54: 30 | AB54: =F54*X54 -> 0 | AC54: =F54*E54 -> 0 | AD54: =F54*C54 -> 0 | AH54: 17000092
A55: 13205 | B55: PYRAMIT Modular 5 | C55: 1 | D55: view | E55: 134.16667 | F55: =SUM(G55:W55) -> 0 | X55: 9 | Y55: 60 | Z55: 30 | AA55: 30 | AB55: =F55*X55 -> 0 | AC55: =F55*E55 -> 0 | AD55: =F55*C55 -> 0 | AH55: 17000093
A56: 13206 | B56: PYRAMIT Modular 6 | C56: 1 | D56: view | E56: 163.33333 | F56: =SUM(G56:W56) -> 0 | X56: 8 | Y56: 60 | Z56: 46 | AA56: 30 | AB56: =F56*X56 -> 0 | AC56: =F56*E56 -> 0 | AD56: =F56*C56 -> 0 | AH56: 17000094
A57: 13301 | B57: PYRAMIT Unique 1 | C57: 1 | D57: view | E57: 184.16667 | F57: =SUM(G57:W57) -> 0 | X57: 10 | Y57: 120 | Z57: 40 | AA57: 25 | AB57: =F57*X57 -> 0 | AC57: =F57*E57 -> 0 | AD57: =F57*C57 -> 0 | AH57: 17000095
A58: 13302 | B58: PYRAMIT Unique 2 | C58: 1 | D58: view | E58: 180.83333 | F58: =SUM(G58:W58) -> 0 | X58: 10 | Y58: 80 | Z58: 76 | AA58: 20 | AB58: =F58*X58 -> 0 | AC58: =F58*E58 -> 0 | AD58: =F58*C58 -> 0 | AH58: 17000096
A59: 13303 | B59: PYRAMIT Unique 3 | C59: 1 | D59: view | E59: 110.83333 | F59: =SUM(G59:W59) -> 0 | X59: 5 | Y59: 77 | Z59: 47 | AA59: 25 | AB59: ='[1]HRT volumes'!F107*'[1]HRT volumes'!X107 -> 0 | AC59: =F59*E59 -> 0 | AD59: =F59*C59 -> 0 | AH59: 17000097
A60: 13304 | B60: PYRAMIT Unique 4 | C60: 1 | D60: view | E60: 280.83333 | F60: =SUM(G60:W60) -> 0 | X60: 16 | Y60: 115 | Z60: 100 | AA60: 40 | AB60: ='[1]HRT volumes'!F108*'[1]HRT volumes'!X108 -> 0 | AC60: =F60*E60 -> 0 | AD60: =F60*C60 -> 0 | AH60: 17000098
A61: 13305 | B61: PYRAMIT Unique 5 | C61: 1 | D61: view | E61: 305.83333 | F61: =SUM(G61:W61) -> 0 | X61: 18 | Y61: 152 | Z61: 90 | AA61: 23 | AB61: ='[1]HRT volumes'!F109*'[1]HRT volumes'!X109 -> 0 | AC61: =F61*E61 -> 0 | AD61: =F61*C61 -> 0 | AH61: 17000099
A62: 13306 | B62: PYRAMIT Unique 6 | C62: 2 | D62: view | E62: 318.33333 | F62: =SUM(G62:W62) -> 0 | X62: 18.2 | Y62: 153 | Z62: 80 | AA62: 30 | AB62: ='[1]HRT volumes'!F110*'[1]HRT volumes'!X110 -> 0 | AC62: =F62*E62 -> 0 | AD62: =F62*C62 -> 0 | AH62: 17000100
A63: 13307 | B63: PYRAMIT Unique 7 | C63: 2 | D63: view | E63: 405.83333 | F63: =SUM(G63:W63) -> 0 | X63: 22 | Y63: 187 | Z63: 85 | AA63: 30 | AB63: ='[1]HRT volumes'!F111*'[1]HRT volumes'!X111 -> 0 | AC63: =F63*E63 -> 0 | AD63: =F63*C63 -> 0 | AH63: 17000101
A64: 13220 | B64: PYRAMIT Unique 12 | C64: 1 | D64: view | E64: 155 | F64: =SUM(G64:W64) -> 0 | X64: 4.55 | Y64: 52 | Z64: 52 | AA64: 22 | AB64: ='[1]HRT volumes'!F112*'[1]HRT volumes'!X112 -> 0 | AC64: =F64*E64 -> 0 | AD64: =F64*C64 -> 0 | AH64: 17000102
A65: 13221 | B65: PYRAMIT Unique 13 | C65: 1 | D65: view | E65: 155.83333 | F65: =SUM(G65:W65) -> 0 | X65: 6.5 | Y65: 77 | Z65: 69 | AA65: 32 | AB65: ='[1]HRT volumes'!F113*'[1]HRT volumes'!X113 -> 0 | AC65: =F65*E65 -> 0 | AD65: =F65*C65 -> 0 | AH65: 17000103
A66: 13222 | B66: PYRAMIT Unique 14 | C66: 1 | D66: view | E66: 137.5 | F66: =SUM(G66:W66) -> 0 | X66: 5.72 | Y66: 40 | Z66: 70 | AA66: 30 | AB66: ='[1]HRT volumes'!F114*'[1]HRT volumes'!X114 -> 0 | AC66: =F66*E66 -> 0 | AD66: =F66*C66 -> 0 | AH66: 17000104
A67: 13223 | B67: PYRAMIT Unique 15 | C67: 1 | D67: view | E67: 155 | F67: =SUM(G67:W67) -> 0 | X67: 4.55 | Y67: 65 | Z67: 62 | AA67: 21 | AB67: ='[1]HRT volumes'!F115*'[1]HRT volumes'!X115 -> 0 | AC67: =F67*E67 -> 0 | AD67: =F67*C67 -> 0 | AH67: 17000105
A68: 13224 | B68: PYRAMIT Unique 16 | C68: 1 | D68: view | E68: 293.33333 | F68: =SUM(G68:W68) -> 0 | X68: 12.22 | Y68: 80 | Z68: 111 | AA68: 40 | AB68: ='[1]HRT volumes'!F116*'[1]HRT volumes'!X116 -> 0 | AC68: =F68*E68 -> 0 | AD68: =F68*C68 -> 0 | AH68: 17000106
A69: 13225 | B69: PYRAMIT Unique 17 | C69: 1 | D69: view | E69: 290 | F69: =SUM(G69:W69) -> 0 | X69: 12.09 | Y69: 80 | Z69: 120 | AA69: 25 | AB69: ='[1]HRT volumes'!F117*'[1]HRT volumes'!X117 -> 0 | AC69: =F69*E69 -> 0 | AD69: =F69*C69 -> 0 | AH69: 17000107
A70: 13226 | B70: PYRAMIT Unique 18 | C70: 1 | D70: view | E70: 327.5 | F70: =SUM(G70:W70) -> 0 | X70: 13.65 | Y70: 53 | Z70: 53 | AA70: 19 | AB70: ='[1]HRT volumes'!F118*'[1]HRT volumes'!X118 -> 0 | AC70: =F70*E70 -> 0 | AD70: =F70*C70 -> 0 | AH70: 17000108
E71: Total Items | F71: =SUM(F5:F70) -> 0 | AB71: =SUM(AB5:AB70) -> 0 | AC71: =SUM(AC5:AC70) -> 0 | AD71: =SUM(AD5:AD70) -> 0
D72: Total Amount | F72: =AC71 -> 0

Sheet B SPECIAL PU
F1: Holds Size | N1: Please Choose Colors for the Sets - the color cells bellow are just for basic color reference. For better vizualization of the colors click HERE | AD1: Holds' Type | AK1: 40 | AL1: 50 | AM1: 70 | AN1: 80 | AO1: 90 | AP1: 100 | AQ1: 120 | AR1: 140 | AS1: SCR | AT1: CH | AU1: Selection's holds sizes | BC1: Selection's holds types
A2: Reff. No. | C2: Grip type | D2: View set picture | E2: Total holds/set | F2: XS | G2: S | H2: M | I2: L | J2: XL | K2: Mega | L2: Volumes | M2: Price in EUR | N2: Set # | O2: White (1) | P2: Yellow (2) | Q2: Green (4) or US 16-16 | R2: Red (5) | S2: Orange (6) or US 14-01 | T2: Blue (7) | U2: Grey (9) | V2: Black (10) | W2: Violet/ lilac (16) | X2: Fluoro orange (11) | Y2: Fluoro green (12) | Z2: Fluoro pink (13) | AA2: Weight (kg,) | AB2: Total weight (kg) | AC2: Total Amount | AD2: foot | AE2: jugs | AF2: pockets | AG2: edges | AH2: pinches | AI2: slopers | AK2: Bolts for the Sets | AU2: XS | AV2: S | AW2: M | AX2: L | AY2: Xl | AZ2: Mega | BA2: Volumes | BC2: foot | BD2: jugs | BE2: pockets | BF2: edges | BG2: pinches | BH2: slopers | BI2: UNIT VLM | BJ2: unit vlm total | BK2: sap id
O3: =SUMPRODUCT($E$4:$E$91,O4:O91) -> 0 | P3: =SUMPRODUCT($E$4:$E$91,P4:P91) -> 0 | Q3: =SUMPRODUCT($E$4:$E$91,Q4:Q91) -> 0 | R3: =SUMPRODUCT($E$4:$E$91,R4:R91) -> 0 | S3: =SUMPRODUCT($E$4:$E$91,S4:S91) -> 0 | T3: =SUMPRODUCT($E$4:$E$91,T4:T91) -> 0 | U3: =SUMPRODUCT($E$4:$E$91,U4:U91) -> 0 | V3: =SUMPRODUCT($E$4:$E$91,V4:V91) -> 0 | ... Z3: =SUMPRODUCT($E$4:$E$91,Z4:Z91) -> 0
B4: Instinct
A5: 40001 | B5: Instinct- xs+ s | C5: foot/edges | D5: VIEW | E5: 10 | F5: 8 | G5: 2 | M5: 57.48 | N5: =SUM(O5:Z5) -> 0 | AA5: 0.928 | AB5: =AA6*N5 -> 0 | AC5: =N5*M5 -> 0 | AD5: 6 | AG5: 4 | AS5: =$N5*20 -> 0 | AU5: =$N5*F5 -> 0 | AV5: =$N5*G5 -> 0 | AW5: =$N5*H5 -> 0 | AX5: =$N5*I5 -> 0 | AY5: =$N5*J5 -> 0 | AZ5: =$N5*K5 -> 0 | BA5: =$N5*L5 -> 0 | BC5: =$N5*AD5 -> 0 | BD5: =$N5*AE5 -> 0 | BE5: =$N5*AF5 -> 0 | BF5: =$N5*AG5 -> 0 | BG5: =$N5*AH5 -> 0 | BH5: =$N5*AI5 -> 0 | BJ5: =BI5*N5 -> 0 | BK5: 21000793
A6: 40002 | B6: Instinct- s+ M | C6: foot/edges | D6: VIEW | E6: 15 | G6: 8 | H6: 7 | M6: 120.57 | N6: =SUM(O6:Z6) -> 0 | AA6: 2.465 | AB6: =AA7*N6 -> 0 | AC6: =N6*M6 -> 0 | AD6: 5 | AE6: 2 | AG6: 8 | AK6: =$N6*11 -> 0 | AL6: =$N6*2 -> 0 | AS6: =$N6*4 -> 0 | AU6: =$N6*F6 -> 0 | AV6: =$N6*G6 -> 0 | AW6: =$N6*H6 -> 0 | AX6: =$N6*I6 -> 0 | AY6: =$N6*J6 -> 0 | AZ6: =$N6*K6 -> 0 | BA6: =$N6*L6 -> 0 | BC6: =$N6*AD6 -> 0 | BD6: =$N6*AE6 -> 0 | BE6: =$N6*AF6 -> 0 | BF6: =$N6*AG6 -> 0 | BG6: =$N6*AH6 -> 0 | BH6: =$N6*AI6 -> 0 | BJ6: =BI6*N6 -> 0 | BK6: 21000797
A7: 40003 | B7: Instinct- M+L | C7: edges/pinches | D7: VIEW | E7: 15 | H7: 9 | I7: 6 | M7: 211.95 | N7: =SUM(O7:Z7) -> 0 | AA7: 5.815 | AB7: =AA8*N7 -> 0 | AC7: =N7*M7 -> 0 | AF7: 1 | AG7: 9 | AH7: 5 | AL7: =$N7*9 -> 0 | AM7: =$N7*6 -> 0 | AU7: =$N7*F7 -> 0 | AV7: =$N7*G7 -> 0 | AW7: =$N7*H7 -> 0 | AX7: =$N7*I7 -> 0 | AY7: =$N7*J7 -> 0 | AZ7: =$N7*K7 -> 0 | BA7: =$N7*L7 -> 0 | BC7: =$N7*AD7 -> 0 | BD7: =$N7*AE7 -> 0 | BE7: =$N7*AF7 -> 0 | BF7: =$N7*AG7 -> 0 | BG7: =$N7*AH7 -> 0 | BH7: =$N7*AI7 -> 0 | BJ7: =BI7*N7 -> 0 | BK7: 21000820
A8: 40004 | B8: Instinct- L | C8: mixed | D8: VIEW | E8: 10 | I8: 10 | M8: 221.31 | N8: =SUM(O8:Z8) -> 0 | AA8: 6.75 | AB8: =AA9*N8 -> 0 | AC8: =N8*M8 -> 0 | AG8: 5 | AH8: 2 | AI8: 3 | AM8: =$N8*8 -> 0 | AO8: =$N8*2 -> 0 | AU8: =$N8*F8 -> 0 | AV8: =$N8*G8 -> 0 | AW8: =$N8*H8 -> 0 | AX8: =$N8*I8 -> 0 | AY8: =$N8*J8 -> 0 | AZ8: =$N8*K8 -> 0 | BA8: =$N8*L8 -> 0 | BC8: =$N8*AD8 -> 0 | BD8: =$N8*AE8 -> 0 | BE8: =$N8*AF8 -> 0 | BF8: =$N8*AG8 -> 0 | BG8: =$N8*AH8 -> 0 | BH8: =$N8*AI8 -> 0 | BJ8: =BI8*N8 -> 0 | BK8: 21000798
A9: 40005 | B9: Instinct- XL | C9: edges/pinches | D9: VIEW | E9: 6 | J9: 6 | M9: 190.59 | N9: =SUM(O9:Z9) -> 0 | AA9: 6.106 | AB9: =AA10*N9 -> 0 | AC9: =N9*M9 -> 0 | AG9: 3 | AH9: 3 | AM9: =$N9*4 -> 0 | AO9: =$N9*2 -> 0 | AU9: =$N9*F9 -> 0 | AV9: =$N9*G9 -> 0 | AW9: =$N9*H9 -> 0 | AX9: =$N9*I9 -> 0 | AY9: =$N9*J9 -> 0 | AZ9: =$N9*K9 -> 0 | BA9: =$N9*L9 -> 0 | BC9: =$N9*AD9 -> 0 | BD9: =$N9*AE9 -> 0 | BE9: =$N9*AF9 -> 0 | BF9: =$N9*AG9 -> 0 | BG9: =$N9*AH9 -> 0 | BH9: =$N9*AI9 -> 0 | BJ9: =BI9*N9 -> 0 | BK9: 21000799
A10: 40006 | B10: Instinct- Mega | C10: mixed | D10: VIEW | E10: 6 | K10: 6 | M10: 300 | N10: =SUM(O10:Z10) -> 0 | AA10: 9.969 | AB10: =AA11*N10 -> 0 | AC10: =N10*M10 -> 0 | AG10: 3 | AH10: 1 | AI10: 2 | AL10: =$N10*1 -> 0 | AM10: =$N10*2 -> 0 | AO10: =$N10*2 -> 0 | AP10: =$N10*1 -> 0 | AU10: =$N10*F10 -> 0 | AV10: =$N10*G10 -> 0 | AW10: =$N10*H10 -> 0 | AX10: =$N10*I10 -> 0 | AY10: =$N10*J10 -> 0 | AZ10: =$N10*K10 -> 0 | BA10: =$N10*L10 -> 0 | BC10: =$N10*AD10 -> 0 | BD10: =$N10*AE10 -> 0 | BE10: =$N10*AF10 -> 0 | BF10: =$N10*AG10 -> 0 | BG10: =$N10*AH10 -> 0 | BH10: =$N10*AI10 -> 0 | BJ10: =BI10*N10 -> 0 | BK10: 21000821
A11: 41007 | B11: Instinct-volumes- 1 - PU | C11: mixed | D11: VIEW | E11: 4 | L11: 4 | M11: 243.8964 | N11: =SUM(O11:Z11) -> 0 | AA11: 4.62 | AB11: =AA12*N11 -> 0 | AC11: =N11*M11 -> 0 | AG11: 2 | AH11: 1 | AI11: 1 | AM11: =$N11*1 -> 0 | AO11: =$N11*2 -> 0 | AP11: =$N11*1 -> 0 | AU11: =$N11*F11 -> 0 | AV11: =$N11*G11 -> 0 | AW11: =$N11*H11 -> 0 | AX11: =$N11*I11 -> 0 | AY11: =$N11*J11 -> 0 | AZ11: =$N11*K11 -> 0 | BA11: =$N11*L11 -> 0 | BC11: =$N11*AD11 -> 0 | BD11: =$N11*AE11 -> 0 | BE11: =$N11*AF11 -> 0 | BF11: =$N11*AG11 -> 0 | BG11: =$N11*AH11 -> 0 | BH11: =$N11*AI11 -> 0 | BJ11: =BI11*N11 -> 0 | BK11: 21000920
A12: 41008 | B12: Instinct-volumes- 2 - PU | C12: pinches/slopers | D12: VIEW | E12: 4 | L12: 4 | M12: 289.7964 | N12: =SUM(O12:Z12) -> 0 | AA12: 5.358 | AB12: =AA13*N12 -> 0 | AC12: =N12*M12 -> 0 | AH12: 1 | AI12: 3 | AP12: =$N12*1 -> 0 | AQ12: =$N12*2 -> 0 | AR12: =$N12*1 -> 0 | AU12: =$N12*F12 -> 0 | AV12: =$N12*G12 -> 0 | AW12: =$N12*H12 -> 0 | AX12: =$N12*I12 -> 0 | AY12: =$N12*J12 -> 0 | AZ12: =$N12*K12 -> 0 | BA12: =$N12*L12 -> 0 | BC12: =$N12*AD12 -> 0 | BD12: =$N12*AE12 -> 0 | BE12: =$N12*AF12 -> 0 | BF12: =$N12*AG12 -> 0 | BG12: =$N12*AH12 -> 0 | BH12: =$N12*AI12 -> 0 | BJ12: =BI12*N12 -> 0 | BK12: 21000921
B13: Good grip hard moves | BJ13: =BI13*N13 -> 0
A14: 40011 | B14: Good grip hard moves M | C14: mixed grips | D14: VIEW | E14: 11 | H14: 11 | M14: 161.1 | N14: =SUM(O14:Z14) -> 0 | AA14: 4.531 | AB14: =AA15*N14 -> 0 | AC14: =N14*M14 -> 0 | AE14: 1 | AG14: 5 | AI14: 5 | AL14: =$N14*3 -> 0 | AM14: =$N14*7 -> 0 | AO14: =$N14*1 -> 0 | AU14: =$N14*F14 -> 0 | AV14: =$N14*G14 -> 0 | AW14: =$N14*H14 -> 0 | AX14: =$N14*I14 -> 0 | AY14: =$N14*J14 -> 0 | AZ14: =$N14*K14 -> 0 | BA14: =$N14*L14 -> 0 | BC14: =$N14*AD14 -> 0 | BD14: =$N14*AE14 -> 0 | BE14: =$N14*AF14 -> 0 | BF14: =$N14*AG14 -> 0 | BG14: =$N14*AH14 -> 0 | BH14: =$N14*AI14 -> 0 | BJ14: =BI14*N14 -> 0 | BK14: 21000922
A15: 40012 | B15: Good grip hard moves- L, XL 1 | C15: slopers/edges | D15: VIEW | E15: 5 | I15: 3 | J15: 2 | M15: 140.4 | N15: =SUM(O15:Z15) -> 0 | AA15: 4.4 | AB15: =AA16*N15 -> 0 | AC15: =N15*M15 -> 0 | AG15: 2 | AI15: 3 | AM15: =$N15*5 -> 0 | AU15: =$N15*F15 -> 0 | AV15: =$N15*G15 -> 0 | AW15: =$N15*H15 -> 0 | AX15: =$N15*I15 -> 0 | AY15: =$N15*J15 -> 0 | AZ15: =$N15*K15 -> 0 | BA15: =$N15*L15 -> 0 | BC15: =$N15*AD15 -> 0 | BD15: =$N15*AE15 -> 0 | BE15: =$N15*AF15 -> 0 | BF15: =$N15*AG15 -> 0 | BG15: =$N15*AH15 -> 0 | BH15: =$N15*AI15 -> 0 | BJ15: =BI15*N15 -> 0 | BK15: 21000923
A16: 40013 | B16: Good grip hard moves- L, XL 2 | C16: slopers/edges | D16: VIEW | E16: 5 | I16: 2 | J16: 3 | M16: 143.25 | N16: =SUM(O16:Z16) -> 0 | AA16: 4.564 | AB16: =AA17*N16 -> 0 | AC16: =N16*M16 -> 0 | AG16: 1 | AI16: 4 | AM16: =$N16*2 -> 0 | AO16: =$N16*2 -> 0 | AP16: =$N16*1 -> 0 | AU16: =$N16*F16 -> 0 | AV16: =$N16*G16 -> 0 | AW16: =$N16*H16 -> 0 | AX16: =$N16*I16 -> 0 | AY16: =$N16*J16 -> 0 | AZ16: =$N16*K16 -> 0 | BA16: =$N16*L16 -> 0 | BC16: =$N16*AD16 -> 0 | BD16: =$N16*AE16 -> 0 | BE16: =$N16*AF16 -> 0 | BF16: =$N16*AG16 -> 0 | BG16: =$N16*AH16 -> 0 | BH16: =$N16*AI16 -> 0 | BJ16: =BI16*N16 -> 0 | BK16: 21000924
A17: 40014 | B17: Good grip hard moves- L, XL, Mega 1 | C17: pinches | D17: VIEW | E17: 6 | I17: 3 | J17: 1 | K17: 2 | M17: 180.72 | N17: =SUM(O17:Z17) -> 0 | AA17: 5.484 | AB17: =AA18*N17 -> 0 | AC17: =N17*M17 -> 0 | AH17: 6 | AM17: =$N17*2 -> 0 | AO17: =$N17*2 -> 0 | AQ17: =$N17*1 -> 0 | AU17: =$N17*F17 -> 0 | AV17: =$N17*G17 -> 0 | AW17: =$N17*H17 -> 0 | AX17: =$N17*I17 -> 0 | AY17: =$N17*J17 -> 0 | AZ17: =$N17*K17 -> 0 | BA17: =$N17*L17 -> 0 | BC17: =$N17*AD17 -> 0 | BD17: =$N17*AE17 -> 0 | BE17: =$N17*AF17 -> 0 | BF17: =$N17*AG17 -> 0 | BG17: =$N17*AH17 -> 0 | BH17: =$N17*AI17 -> 0 | BJ17: =BI17*N17 -> 0 | BK17: 21000925
A18: 40015 | B18: Good grip hard moves-L, XL 3 | C18: slopers | D18: VIEW | E18: 5 | I18: 2 | J18: 3 | M18: 149.79 | N18: =SUM(O18:Z18) -> 0 | AA18: 4.785 | AB18: =AA19*N18 -> 0 | AC18: =N18*M18 -> 0 | AI18: 5 | AM18: =$N18*1 -> 0 | AO18: =$N18*4 -> 0 | AU18: =$N18*F18 -> 0 | AV18: =$N18*G18 -> 0 | AW18: =$N18*H18 -> 0 | AX18: =$N18*I18 -> 0 | AY18: =$N18*J18 -> 0 | AZ18: =$N18*K18 -> 0 | BA18: =$N18*L18 -> 0 | BC18: =$N18*AD18 -> 0 | BD18: =$N18*AE18 -> 0 | BE18: =$N18*AF18 -> 0 | BF18: =$N18*AG18 -> 0 | BG18: =$N18*AH18 -> 0 | BH18: =$N18*AI18 -> 0 | BJ18: =BI18*N18 -> 0 | BK18: 21000926
A19: 40016 | B19: Good grip hard moves- L Xl, Mega 2 | C19: slopers/edges | D19: VIEW | E19: 6 | I19: 2 | J19: 2 | K19: 2 | M19: 195 | N19: =SUM(O19:Z19) -> 0 | AA19: 6.261 | AB19: =AA20*N19 -> 0 | AC19: =N19*M19 -> 0 | AG19: 3 | AI19: 3 | AL19: =$N19*2 -> 0 | AM19: =$N19*4 -> 0 | AU19: =$N19*F19 -> 0 | AV19: =$N19*G19 -> 0 | AW19: =$N19*H19 -> 0 | AX19: =$N19*I19 -> 0 | AY19: =$N19*J19 -> 0 | AZ19: =$N19*K19 -> 0 | BA19: =$N19*L19 -> 0 | BC19: =$N19*AD19 -> 0 | BD19: =$N19*AE19 -> 0 | BE19: =$N19*AF19 -> 0 | BF19: =$N19*AG19 -> 0 | BG19: =$N19*AH19 -> 0 | BH19: =$N19*AI19 -> 0 | BJ19: =BI19*N19 -> 0 | BK19: 21000927
A20: 41017 | B20: Good grip hard moves- Mega 1 - PU | C20: slopers | D20: VIEW | E20: 2 | K20: 2 | M20: 85.5036 | N20: =SUM(O20:Z20) -> 0 | AA20: 1.614 | AB20: =AA21*N20 -> 0 | AC20: =N20*M20 -> 0 | AI20: 2 | AO20: =$N20*1 -> 0 | AQ20: =$N20*1 -> 0 | AU20: =$N20*F20 -> 0 | AV20: =$N20*G20 -> 0 | AW20: =$N20*H20 -> 0 | AX20: =$N20*I20 -> 0 | AY20: =$N20*J20 -> 0 | AZ20: =$N20*K20 -> 0 | BA20: =$N20*L20 -> 0 | BC20: =$N20*AD20 -> 0 | BD20: =$N20*AE20 -> 0 | BE20: =$N20*AF20 -> 0 | BF20: =$N20*AG20 -> 0 | BG20: =$N20*AH20 -> 0 | BH20: =$N20*AI20 -> 0 | BJ20: =BI20*N20 -> 0 | BK20: 21000928
A21: 41018 | B21: Good grip hard moves- Mega 2 - PU | C21: slopers | D21: VIEW | E21: 2 | K21: 2 | M21: 131.4036 | N21: =SUM(O21:Z21) -> 0 | AA21: 2.503 | AB21: =AA22*N21 -> 0 | AC21: =N21*M21 -> 0 | AI21: 2 | AR21: =$N21*2 -> 0 | AU21: =$N21*F21 -> 0 | AV21: =$N21*G21 -> 0 | AW21: =$N21*H21 -> 0 | AX21: =$N21*I21 -> 0 | AY21: =$N21*J21 -> 0 | AZ21: =$N21*K21 -> 0 | BA21: =$N21*L21 -> 0 | BC21: =$N21*AD21 -> 0 | BD21: =$N21*AE21 -> 0 | BE21: =$N21*AF21 -> 0 | BF21: =$N21*AG21 -> 0 | BG21: =$N21*AH21 -> 0 | BH21: =$N21*AI21 -> 0 | BJ21: =BI21*N21 -> 0 | BK21: 21000929
A22: 41019 | B22: Good grip hard moves- Mega 3 - PU | C22: slopers | D22: VIEW | E22: 3 | K22: 3 | M22: 151.2 | N22: =SUM(O22:Z22) -> 0 | AA22: 2.676 | AB22: =AA23*N22 -> 0 | AC22: =N22*M22 -> 0 | AI22: 3 | AO22: =$N22*2 -> 0 | AP22: =$N22*1 -> 0 | AU22: =$N22*F22 -> 0 | AV22: =$N22*G22 -> 0 | AW22: =$N22*H22 -> 0 | AX22: =$N22*I22 -> 0 | AY22: =$N22*J22 -> 0 | AZ22: =$N22*K22 -> 0 | BA22: =$N22*L22 -> 0 | BC22: =$N22*AD22 -> 0 | BD22: =$N22*AE22 -> 0 | BE22: =$N22*AF22 -> 0 | BF22: =$N22*AG22 -> 0 | BG22: =$N22*AH22 -> 0 | BH22: =$N22*AI22 -> 0 | BJ22: =BI22*N22 -> 0 | BK22: 21000899
A23: 40020 | B23: Good grip hard moves- Mega 4 | C23: jugs | D23: VIEW | E23: 3 | K23: 3 | M23: 189.84 | N23: =SUM(O23:Z23) -> 0 | AA23: 6.404 | AB23: =AA24*N23 -> 0 | AC23: =N23*M23 -> 0 | AE23: 3 | AM23: =$N23*1 -> 0 | AO23: =$N23*2 -> 0 | AU23: =$N23*F23 -> 0 | AV23: =$N23*G23 -> 0 | AW23: =$N23*H23 -> 0 | AX23: =$N23*I23 -> 0 | AY23: =$N23*J23 -> 0 | AZ23: =$N23*K23 -> 0 | BA23: =$N23*L23 -> 0 | BC23: =$N23*AD23 -> 0 | BD23: =$N23*AE23 -> 0 | BE23: =$N23*AF23 -> 0 | BF23: =$N23*AG23 -> 0 | BG23: =$N23*AH23 -> 0 | BH23: =$N23*AI23 -> 0 | BJ23: =BI23*N23 -> 0 | BK23: 21000900
A24: 41021 | B24: Good grip hard moves- Volumes 1 - PU | C24: pinches/jugs | D24: VIEW | E24: 2 | L24: 2 | M24: 155.7036 | N24: =SUM(O24:Z24) -> 0 | AA24: 3.233 | AB24: =AA25*N24 -> 0 | AC24: =N24*M24 -> 0 | AE24: 1 | AH24: 1 | AQ24: =$N24*2 -> 0 | AU24: =$N24*F24 -> 0 | AV24: =$N24*G24 -> 0 | AW24: =$N24*H24 -> 0 | AX24: =$N24*I24 -> 0 | AY24: =$N24*J24 -> 0 | AZ24: =$N24*K24 -> 0 | BA24: =$N24*L24 -> 0 | BC24: =$N24*AD24 -> 0 | BD24: =$N24*AE24 -> 0 | BE24: =$N24*AF24 -> 0 | BF24: =$N24*AG24 -> 0 | BG24: =$N24*AH24 -> 0 | BH24: =$N24*AI24 -> 0 | BJ24: =BI24*N24 -> 0 | BK24: 21000901
A25: 41022 | B25: Good grip hard moves-volume 2 - PU | C25: slopers | D25: VIEW | E25: 1 | L25: 1 | M25: 86.4 | N25: =SUM(O25:Z25) -> 0 | AA25: 1.74 | AB25: =AA26*N25 -> 0 | AC25: =N25*M25 -> 0 | AI25: 1 | AQ25: =$N25*1 -> 0 | AU25: =$N25*F25 -> 0 | AV25: =$N25*G25 -> 0 | AW25: =$N25*H25 -> 0 | AX25: =$N25*I25 -> 0 | AY25: =$N25*J25 -> 0 | AZ25: =$N25*K25 -> 0 | BA25: =$N25*L25 -> 0 | BC25: =$N25*AD25 -> 0 | BD25: =$N25*AE25 -> 0 | BE25: =$N25*AF25 -> 0 | BF25: =$N25*AG25 -> 0 | BG25: =$N25*AH25 -> 0 | BH25: =$N25*AI25 -> 0 | BJ25: =BI25*N25 -> 0 | BK25: 21000902
A26: 42023 | B26: Good grip hard moves-volume 3 - PU | C26: slopers | D26: VIEW | E26: 1 | L26: 1 | M26: 159.45 | N26: =SUM(O26:Z26) -> 0 | AA26: 3.952 | AB26: =AA27*N26 -> 0 | AC26: =N26*M26 -> 0 | AI26: 1 | AO26: =$N26*1 -> 0 | AU26: =$N26*F26 -> 0 | AV26: =$N26*G26 -> 0 | AW26: =$N26*H26 -> 0 | AX26: =$N26*I26 -> 0 | AY26: =$N26*J26 -> 0 | AZ26: =$N26*K26 -> 0 | BA26: =$N26*L26 -> 0 | BC26: =$N26*AD26 -> 0 | BD26: =$N26*AE26 -> 0 | BE26: =$N26*AF26 -> 0 | BF26: =$N26*AG26 -> 0 | BG26: =$N26*AH26 -> 0 | BH26: =$N26*AI26 -> 0 | BJ26: =BI26*N26 -> 0 | BK26: 21000903
B27: Liquid Pyramids | BJ27: =BI27*N27 -> 0
A28: 40030 | B28: Liquid Pyramids S | C28: mixed | D28: VIEW | E28: 10 | G28: 10 | M28: 77.28 | N28: =SUM(O28:Z28) -> 0 | AA28: 1.444 | AB28: =AA29*N28 -> 0 | AC28: =N28*M28 -> 0 | AD28: 3 | AG28: 5 | AI28: 2 | AL28: =$N28*3 -> 0 | AU28: =$N28*F28 -> 0 | AV28: =$N28*G28 -> 0 | AW28: =$N28*H28 -> 0 | AX28: =$N28*I28 -> 0 | AY28: =$N28*J28 -> 0 | AZ28: =$N28*K28 -> 0 | BA28: =$N28*L28 -> 0 | BC28: =$N28*AD28 -> 0 | BD28: =$N28*AE28 -> 0 | BE28: =$N28*AF28 -> 0 | BF28: =$N28*AG28 -> 0 | BG28: =$N28*AH28 -> 0 | BH28: =$N28*AI28 -> 0 | BJ28: =BI28*N28 -> 0 | BK28: 21000904
A29: 40031 | B29: Liquid Pyramids M | C29: slopers/edges | D29: VIEW | E29: 12 | H29: 12 | M29: 160.86 | N29: =SUM(O29:Z29) -> 0 | AA29: 4.35 | AB29: =AA30*N29 -> 0 | AC29: =N29*M29 -> 0 | AG29: 7 | AI29: 5 | AL29: =$N29*2 -> 0 | AM29: =$N29*3 -> 0 | AU29: =$N29*F29 -> 0 | AV29: =$N29*G29 -> 0 | AW29: =$N29*H29 -> 0 | AX29: =$N29*I29 -> 0 | AY29: =$N29*J29 -> 0 | AZ29: =$N29*K29 -> 0 | BA29: =$N29*L29 -> 0 | BC29: =$N29*AD29 -> 0 | BD29: =$N29*AE29 -> 0 | BE29: =$N29*AF29 -> 0 | BF29: =$N29*AG29 -> 0 | BG29: =$N29*AH29 -> 0 | BH29: =$N29*AI29 -> 0 | BJ29: =BI29*N29 -> 0 | BK29: 21000905
A30: 40032 | B30: Liquid Pyramids L 1 | C30: slopers/edges | D30: VIEW | E30: 6 | I30: 6 | M30: 118.71 | N30: =SUM(O30:Z30) -> 0 | AA30: 3.596 | AB30: =AA31*N30 -> 0 | AC30: =N30*M30 -> 0 | AG30: 2 | AI30: 4 | AL30: =$N30*5 -> 0 | AM30: =$N30*1 -> 0 | AU30: =$N30*F30 -> 0 | AV30: =$N30*G30 -> 0 | AW30: =$N30*H30 -> 0 | AX30: =$N30*I30 -> 0 | AY30: =$N30*J30 -> 0 | AZ30: =$N30*K30 -> 0 | BA30: =$N30*L30 -> 0 | BC30: =$N30*AD30 -> 0 | BD30: =$N30*AE30 -> 0 | BE30: =$N30*AF30 -> 0 | BF30: =$N30*AG30 -> 0 | BG30: =$N30*AH30 -> 0 | BH30: =$N30*AI30 -> 0 | BJ30: =BI30*N30 -> 0 | BK30: 21000906
A31: 40033 | B31: Liquid Pyramids L 2 | C31: slopers/edges | D31: VIEW | E31: 7 | I31: 7 | M31: 146.79 | N31: =SUM(O31:Z31) -> 0 | AA31: 4.398 | AB31: =AA32*N31 -> 0 | AC31: =N31*M31 -> 0 | AG31: 5 | AI31: 2 | AK31: =$N31*2 -> 0 | AL31: =$N31*5 -> 0 | AU31: =$N31*F31 -> 0 | AV31: =$N31*G31 -> 0 | AW31: =$N31*H31 -> 0 | AX31: =$N31*I31 -> 0 | AY31: =$N31*J31 -> 0 | AZ31: =$N31*K31 -> 0 | BA31: =$N31*L31 -> 0 | BC31: =$N31*AD31 -> 0 | BD31: =$N31*AE31 -> 0 | BE31: =$N31*AF31 -> 0 | BF31: =$N31*AG31 -> 0 | BG31: =$N31*AH31 -> 0 | BH31: =$N31*AI31 -> 0 | BJ31: =BI31*N31 -> 0 | BK31: 21000907
A32: 42034 | B32: Liquid Pyramids XL 1 - PU | C32: edges | D32: VIEW | E32: 4 | J32: 4 | M32: 97.89 | N32: =SUM(O32:Z32) -> 0 | AA32: 2.003 | AB32: =AA33*N32 -> 0 | AC32: =N32*M32 -> 0 | AG32: 4 | AK32: =$N32*1 -> 0 | AL32: =$N32*3 -> 0 | AU32: =$N32*F32 -> 0 | AV32: =$N32*G32 -> 0 | AW32: =$N32*H32 -> 0 | AX32: =$N32*I32 -> 0 | AY32: =$N32*J32 -> 0 | AZ32: =$N32*K32 -> 0 | BA32: =$N32*L32 -> 0 | BC32: =$N32*AD32 -> 0 | BD32: =$N32*AE32 -> 0 | BE32: =$N32*AF32 -> 0 | BF32: =$N32*AG32 -> 0 | BG32: =$N32*AH32 -> 0 | BH32: =$N32*AI32 -> 0 | BJ32: =BI32*N32 -> 0 | BK32: 21000908
A33: 40035 | B33: Liquid Pyramids XL 2 | C33: slopers | D33: VIEW | E33: 4 | J33: 4 | M33: 131.22 | N33: =SUM(O33:Z33) -> 0 | AA33: 4.252 | AB33: =AA34*N33 -> 0 | AC33: =N33*M33 -> 0 | AI33: 4 | AM33: =$N33*4 -> 0 | AU33: =$N33*F33 -> 0 | AV33: =$N33*G33 -> 0 | AW33: =$N33*H33 -> 0 | AX33: =$N33*I33 -> 0 | AY33: =$N33*J33 -> 0 | AZ33: =$N33*K33 -> 0 | BA33: =$N33*L33 -> 0 | BC33: =$N33*AD33 -> 0 | BD33: =$N33*AE33 -> 0 | BE33: =$N33*AF33 -> 0 | BF33: =$N33*AG33 -> 0 | BG33: =$N33*AH33 -> 0 | BH33: =$N33*AI33 -> 0 | BJ33: =BI33*N33 -> 0 | BK33: 21000909
A34: 40036 | B34: Liquid Pyramids XL 3 | C34: slopers | D34: VIEW | E34: 5 | J34: 5 | M34: 176.25 | N34: =SUM(O34:Z34) -> 0 | AA34: 5.748 | AB34: =AA35*N34 -> 0 | AC34: =N34*M34 -> 0 | AI34: 5 | AM34: =$N34*2 -> 0 | AO34: =$N34*3 -> 0 | AU34: =$N34*F34 -> 0 | AV34: =$N34*G34 -> 0 | AW34: =$N34*H34 -> 0 | AX34: =$N34*I34 -> 0 | AY34: =$N34*J34 -> 0 | AZ34: =$N34*K34 -> 0 | BA34: =$N34*L34 -> 0 | BC34: =$N34*AD34 -> 0 | BD34: =$N34*AE34 -> 0 | BE34: =$N34*AF34 -> 0 | BF34: =$N34*AG34 -> 0 | BG34: =$N34*AH34 -> 0 | BH34: =$N34*AI34 -> 0 | BJ34: =BI34*N34 -> 0 | BK34: 21000910
A35: 40037 | B35: Liquid Pyramids Mega 1 | C35: slopers/edges | D35: VIEW | E35: 4 | K35: 4 | M35: 174.42 | N35: =SUM(O35:Z35) -> 0 | AA35: 5.757 | AB35: =AA36*N35 -> 0 | AC35: =N35*M35 -> 0 | AG35: 1 | AI35: 3 | AL35: =$N35*3 -> 0 | AM35: =$N35*1 -> 0 | AU35: =$N35*F35 -> 0 | AV35: =$N35*G35 -> 0 | AW35: =$N35*H35 -> 0 | AX35: =$N35*I35 -> 0 | AY35: =$N35*J35 -> 0 | AZ35: =$N35*K35 -> 0 | BA35: =$N35*L35 -> 0 | BC35: =$N35*AD35 -> 0 | BD35: =$N35*AE35 -> 0 | BE35: =$N35*AF35 -> 0 | BF35: =$N35*AG35 -> 0 | BG35: =$N35*AH35 -> 0 | BH35: =$N35*AI35 -> 0 | BJ35: =BI35*N35 -> 0 | BK35: 21000911
A36: 40038 | B36: Liquid Pyramids Mega 2 | C36: slopers/edges | D36: VIEW | E36: 4 | K36: 4 | M36: 194.07 | N36: =SUM(O36:Z36) -> 0 | AA36: 6.445 | AB36: =AA37*N36 -> 0 | AC36: =N36*M36 -> 0 | AG36: 2 | AI36: 2 | AM36: =$N36*1 -> 0 | AO36: =$N36*3 -> 0 | AU36: =$N36*F36 -> 0 | AV36: =$N36*G36 -> 0 | AW36: =$N36*H36 -> 0 | AX36: =$N36*I36 -> 0 | AY36: =$N36*J36 -> 0 | AZ36: =$N36*K36 -> 0 | BA36: =$N36*L36 -> 0 | BC36: =$N36*AD36 -> 0 | BD36: =$N36*AE36 -> 0 | BE36: =$N36*AF36 -> 0 | BF36: =$N36*AG36 -> 0 | BG36: =$N36*AH36 -> 0 | BH36: =$N36*AI36 -> 0 | BJ36: =BI36*N36 -> 0 | BK36: 21000912
A37: 40039 | B37: Liquid Pyramids Mega 3 | C37: slopers | D37: VIEW | E37: 3 | K37: 3 | M37: 196.44 | N37: =SUM(O37:Z37) -> 0 | AA37: 6.636 | AB37: =AA38*N37 -> 0 | AC37: =N37*M37 -> 0 | AI37: 3 | AM37: =$N37*1 -> 0 | AO37: =$N37*2 -> 0 | AU37: =$N37*F37 -> 0 | AV37: =$N37*G37 -> 0 | AW37: =$N37*H37 -> 0 | AX37: =$N37*I37 -> 0 | AY37: =$N37*J37 -> 0 | AZ37: =$N37*K37 -> 0 | BA37: =$N37*L37 -> 0 | BC37: =$N37*AD37 -> 0 | BD37: =$N37*AE37 -> 0 | BE37: =$N37*AF37 -> 0 | BF37: =$N37*AG37 -> 0 | BG37: =$N37*AH37 -> 0 | BH37: =$N37*AI37 -> 0 | BJ37: =BI37*N37 -> 0 | BK37: 21000913
A38: 40040 | B38: Liquid Pyramids Mega 4 | C38: slopers/edges | D38: VIEW | E38: 3 | K38: 3 | M38: 179.52 | N38: =SUM(O38:Z38) -> 0 | AA38: 6.036 | AB38: =AA39*N38 -> 0 | AC38: =N38*M38 -> 0 | AG38: 2 | AI38: 1 | AM38: =$N38*2 -> 0 | AO38: =$N38*1 -> 0 | AU38: =$N38*F38 -> 0 | AV38: =$N38*G38 -> 0 | AW38: =$N38*H38 -> 0 | AX38: =$N38*I38 -> 0 | AY38: =$N38*J38 -> 0 | AZ38: =$N38*K38 -> 0 | BA38: =$N38*L38 -> 0 | BC38: =$N38*AD38 -> 0 | BD38: =$N38*AE38 -> 0 | BE38: =$N38*AF38 -> 0 | BF38: =$N38*AG38 -> 0 | BG38: =$N38*AH38 -> 0 | BH38: =$N38*AI38 -> 0 | BJ38: =BI38*N38 -> 0 | BK38: 21000914
A39: 42041 | B39: Liquid Pyramids Mega 5 - PU | C39: slopers/edges | D39: VIEW | E39: 3 | K39: 3 | M39: 152.97 | N39: =SUM(O39:Z39) -> 0 | AA39: 3.373 | AB39: =AA40*N39 -> 0 | AC39: =N39*M39 -> 0 | AG39: 1 | AI39: 2 | AM39: =$N39*3 -> 0 | AU39: =$N39*F39 -> 0 | AV39: =$N39*G39 -> 0 | AW39: =$N39*H39 -> 0 | AX39: =$N39*I39 -> 0 | AY39: =$N39*J39 -> 0 | AZ39: =$N39*K39 -> 0 | BA39: =$N39*L39 -> 0 | BC39: =$N39*AD39 -> 0 | BD39: =$N39*AE39 -> 0 | BE39: =$N39*AF39 -> 0 | BF39: =$N39*AG39 -> 0 | BG39: =$N39*AH39 -> 0 | BH39: =$N39*AI39 -> 0 | BJ39: =BI39*N39 -> 0 | BK39: 21000915
A40: 41042 | B40: Liquid Pyramids Minivolumes 1 - PU | C40: slopers/edges | D40: VIEW | E40: 2 | L40: 2 | M40: 123.3036 | N40: =SUM(O40:Z40) -> 0 | AA40: 2.347 | AB40: =AA41*N40 -> 0 | AC40: =N40*M40 -> 0 | AG40: 1 | AI40: 1 | AM40: =$N40*1 -> 0 | AO40: =$N40*1 -> 0 | AU40: =$N40*F40 -> 0 | AV40: =$N40*G40 -> 0 | AW40: =$N40*H40 -> 0 | AX40: =$N40*I40 -> 0 | AY40: =$N40*J40 -> 0 | AZ40: =$N40*K40 -> 0 | BA40: =$N40*L40 -> 0 | BC40: =$N40*AD40 -> 0 | BD40: =$N40*AE40 -> 0 | BE40: =$N40*AF40 -> 0 | BF40: =$N40*AG40 -> 0 | BG40: =$N40*AH40 -> 0 | BH40: =$N40*AI40 -> 0 | BJ40: =BI40*N40 -> 0 | BK40: 21000916
A41: 41043 | B41: Liquid Pyramids Minivolumes 2 - PU | C41: slopers | D41: VIEW | E41: 2 | L41: 2 | M41: 132.3 | N41: =SUM(O41:Z41) -> 0 | AA41: 2.48 | AB41: =AA42*N41 -> 0 | AC41: =N41*M41 -> 0 | AI41: 2 | AP41: =$N41*1 -> 0 | AR41: =$N41*1 -> 0 | AU41: =$N41*F41 -> 0 | AV41: =$N41*G41 -> 0 | AW41: =$N41*H41 -> 0 | AX41: =$N41*I41 -> 0 | AY41: =$N41*J41 -> 0 | AZ41: =$N41*K41 -> 0 | BA41: =$N41*L41 -> 0 | BC41: =$N41*AD41 -> 0 | BD41: =$N41*AE41 -> 0 | BE41: =$N41*AF41 -> 0 | BF41: =$N41*AG41 -> 0 | BG41: =$N41*AH41 -> 0 | BH41: =$N41*AI41 -> 0 | BJ41: =BI41*N41 -> 0 | BK41: 21000917
A42: 41044 | B42: Liquid Pyramids - volumes 1 - PU | C42: slopers/edges | D42: VIEW | E42: 2 | L42: 2 | M42: 196.2036 | N42: =SUM(O42:Z42) -> 0 | AA42: 3.772 | AB42: =AA43*N42 -> 0 | AC42: =N42*M42 -> 0 | AG42: 1 | AI42: 1 | AP42: =$N42*2 -> 0 | AU42: =$N42*F42 -> 0 | AV42: =$N42*G42 -> 0 | AW42: =$N42*H42 -> 0 | AX42: =$N42*I42 -> 0 | AY42: =$N42*J42 -> 0 | AZ42: =$N42*K42 -> 0 | BA42: =$N42*L42 -> 0 | BC42: =$N42*AD42 -> 0 | BD42: =$N42*AE42 -> 0 | BE42: =$N42*AF42 -> 0 | BF42: =$N42*AG42 -> 0 | BG42: =$N42*AH42 -> 0 | BH42: =$N42*AI42 -> 0 | BJ42: =BI42*N42 -> 0 | BK42: 21000918
A43: 41045 | B43: Liquid Pyramids - volumes 2 - PU | C43: slopers | D43: VIEW | E43: 2 | L43: 2 | M43: 214.1964 | N43: =SUM(O43:Z43) -> 0 | AA43: 4.214 | AB43: =AA44*N43 -> 0 | AC43: =N43*M43 -> 0 | AI43: 2 | AO43: =$N43*2 -> 0 | AU43: =$N43*F43 -> 0 | AV43: =$N43*G43 -> 0 | AW43: =$N43*H43 -> 0 | AX43: =$N43*I43 -> 0 | AY43: =$N43*J43 -> 0 | AZ43: =$N43*K43 -> 0 | BA43: =$N43*L43 -> 0 | BC43: =$N43*AD43 -> 0 | BD43: =$N43*AE43 -> 0 | BE43: =$N43*AF43 -> 0 | BF43: =$N43*AG43 -> 0 | BG43: =$N43*AH43 -> 0 | BH43: =$N43*AI43 -> 0 | BJ43: =BI43*N43 -> 0 | BK43: 21000919
A44: 41046 | B44: Liquid Pyramids - volumes 3 - PU | C44: slopers/edges | D44: VIEW | E44: 2 | L44: 2 | M44: 129.6 | N44: =SUM(O44:Z44) -> 0 | AA44: 2.366 | AB44: =AA45*N44 -> 0 | AC44: =N44*M44 -> 0 | AG44: 1 | AI44: 1 | AM44: =$N44*2 -> 0 | AU44: =$N44*F44 -> 0 | AV44: =$N44*G44 -> 0 | AW44: =$N44*H44 -> 0 | AX44: =$N44*I44 -> 0 | AY44: =$N44*J44 -> 0 | AZ44: =$N44*K44 -> 0 | BA44: =$N44*L44 -> 0 | BC44: =$N44*AD44 -> 0 | BD44: =$N44*AE44 -> 0 | BE44: =$N44*AF44 -> 0 | BF44: =$N44*AG44 -> 0 | BG44: =$N44*AH44 -> 0 | BH44: =$N44*AI44 -> 0 | BJ44: =BI44*N44 -> 0 | BK44: 21000954
A45: 41047 | B45: Liquid Pyramids - volumes 4 - PU | C45: slopers | D45: VIEW | E45: 2 | L45: 2 | M45: 123.3036 | N45: =SUM(O45:Z45) -> 0 | AA45: 2.57 | AB45: =AA46*N45 -> 0 | AC45: =N45*M45 -> 0 | AI45: 2 | AL45: =$N45*1 -> 0 | AM45: =$N45*1 -> 0 | AU45: =$N45*F45 -> 0 | AV45: =$N45*G45 -> 0 | AW45: =$N45*H45 -> 0 | AX45: =$N45*I45 -> 0 | AY45: =$N45*J45 -> 0 | AZ45: =$N45*K45 -> 0 | BA45: =$N45*L45 -> 0 | BC45: =$N45*AD45 -> 0 | BD45: =$N45*AE45 -> 0 | BE45: =$N45*AF45 -> 0 | BF45: =$N45*AG45 -> 0 | BG45: =$N45*AH45 -> 0 | BH45: =$N45*AI45 -> 0 | BJ45: =BI45*N45 -> 0 | BK45: 21000955
A46: 41048 | B46: Liquid Pyramids - volumes 5 - PU | C46: slopers | D46: VIEW | E46: 1 | L46: 1 | M46: 90.9036 | N46: =SUM(O46:Z46) -> 0 | AA46: 1.84 | AB46: =AA47*N46 -> 0 | AC46: =N46*M46 -> 0 | AI46: 1 | AM46: =$N46*1 -> 0 | AU46: =$N46*F46 -> 0 | AV46: =$N46*G46 -> 0 | AW46: =$N46*H46 -> 0 | AX46: =$N46*I46 -> 0 | AY46: =$N46*J46 -> 0 | AZ46: =$N46*K46 -> 0 | BA46: =$N46*L46 -> 0 | BC46: =$N46*AD46 -> 0 | BD46: =$N46*AE46 -> 0 | BE46: =$N46*AF46 -> 0 | BF46: =$N46*AG46 -> 0 | BG46: =$N46*AH46 -> 0 | BH46: =$N46*AI46 -> 0 | BJ46: =BI46*N46 -> 0 | BK46: 21000956
B47: Sandstone X GRIP | BJ47: =BI47*N47 -> 0
A48: 41050 | B48: Sandstone Edges Mega 1 - PU | C48: Edges | D48: VIEW | E48: 3 | K48: 3 | M48: 106.1964 | N48: =SUM(O48:Z48) -> 0 | AA48: 1.8 | AB48: =AA49*N48 -> 0 | AC48: =N48*M48 -> 0 | AG48: 3 | AM48: =$N48*2 -> 0 | AO48: =$N48*1 -> 0 | AU48: =$N48*F48 -> 0 | AV48: =$N48*G48 -> 0 | AW48: =$N48*H48 -> 0 | AX48: =$N48*I48 -> 0 | AY48: =$N48*J48 -> 0 | AZ48: =$N48*K48 -> 0 | BA48: =$N48*L48 -> 0 | BC48: =$N48*AD48 -> 0 | BD48: =$N48*AE48 -> 0 | BE48: =$N48*AF48 -> 0 | BF48: =$N48*AG48 -> 0 | BG48: =$N48*AH48 -> 0 | BH48: =$N48*AI48 -> 0 | BJ48: =BI48*N48 -> 0 | BK48: 21000960
A49: 41051 | B49: Sandstone Edges Mega 2 - PU | C49: Edges | D49: VIEW | E49: 2 | K49: 2 | M49: 117.9036 | N49: =SUM(O49:Z49) -> 0 | AA49: 2.16 | AB49: =AA50*N49 -> 0 | AC49: =N49*M49 -> 0 | AG49: 2 | AM49: =$N49*1 -> 0 | AO49: =$N49*1 -> 0 | AU49: =$N49*F49 -> 0 | AV49: =$N49*G49 -> 0 | AW49: =$N49*H49 -> 0 | AX49: =$N49*I49 -> 0 | AY49: =$N49*J49 -> 0 | AZ49: =$N49*K49 -> 0 | BA49: =$N49*L49 -> 0 | BC49: =$N49*AD49 -> 0 | BD49: =$N49*AE49 -> 0 | BE49: =$N49*AF49 -> 0 | BF49: =$N49*AG49 -> 0 | BG49: =$N49*AH49 -> 0 | BH49: =$N49*AI49 -> 0 | BJ49: =BI49*N49 -> 0 | BK49: 21000961
A50: 42052 | B50: Sandstone Pinches Mega - PU | C50: Pinches | D50: VIEW | E50: 2 | K50: 2 | M50: 141.27 | N50: =SUM(O50:Z50) -> 0 | AA50: 3.22 | AB50: =AA51*N50 -> 0 | AC50: =N50*M50 -> 0 | AH50: 2 | AO50: =$N50*2 -> 0 | AU50: =$N50*F50 -> 0 | AV50: =$N50*G50 -> 0 | AW50: =$N50*H50 -> 0 | AX50: =$N50*I50 -> 0 | AY50: =$N50*J50 -> 0 | AZ50: =$N50*K50 -> 0 | BA50: =$N50*L50 -> 0 | BC50: =$N50*AD50 -> 0 | BD50: =$N50*AE50 -> 0 | BE50: =$N50*AF50 -> 0 | BF50: =$N50*AG50 -> 0 | BG50: =$N50*AH50 -> 0 | BH50: =$N50*AI50 -> 0 | BJ50: =BI50*N50 -> 0 | BK50: 21000962
A51: 41053 | B51: Sandstone Pinches/Edges Mega - PU | C51: Pinches | D51: VIEW | E51: 3 | K51: 3 | M51: 151.2 | N51: =SUM(O51:Z51) -> 0 | AA51: 2.64 | AB51: =AA52*N51 -> 0 | AC51: =N51*M51 -> 0 | AH51: 3 | AO51: =$N51*2 -> 0 | AP51: =$N51*1 -> 0 | AU51: =$N51*F51 -> 0 | AV51: =$N51*G51 -> 0 | AW51: =$N51*H51 -> 0 | AX51: =$N51*I51 -> 0 | AY51: =$N51*J51 -> 0 | AZ51: =$N51*K51 -> 0 | BA51: =$N51*L51 -> 0 | BC51: =$N51*AD51 -> 0 | BD51: =$N51*AE51 -> 0 | BE51: =$N51*AF51 -> 0 | BF51: =$N51*AG51 -> 0 | BG51: =$N51*AH51 -> 0 | BH51: =$N51*AI51 -> 0 | BJ51: =BI51*N51 -> 0 | BK51: 21000963
A52: 41054 | B52: Sandstone Slopers Mega 1 - PU | C52: slopers | D52: VIEW | E52: 2 | K52: 2 | M52: 89.9964 | N52: =SUM(O52:Z52) -> 0 | AA52: 1.68 | AB52: =AA53*N52 -> 0 | AC52: =N52*M52 -> 0 | AI52: 2 | AO52: =$N52*2 -> 0 | AU52: =$N52*F52 -> 0 | AV52: =$N52*G52 -> 0 | AW52: =$N52*H52 -> 0 | AX52: =$N52*I52 -> 0 | AY52: =$N52*J52 -> 0 | AZ52: =$N52*K52 -> 0 | BA52: =$N52*L52 -> 0 | BC52: =$N52*AD52 -> 0 | BD52: =$N52*AE52 -> 0 | BE52: =$N52*AF52 -> 0 | BF52: =$N52*AG52 -> 0 | BG52: =$N52*AH52 -> 0 | BH52: =$N52*AI52 -> 0 | BJ52: =BI52*N52 -> 0 | BK52: 21000964
A53: 41055 | B53: Sandstone Slopers Mega 2 - PU | C53: slopers | D53: VIEW | E53: 2 | K53: 2 | M53: 110.7 | N53: =SUM(O53:Z53) -> 0 | AA53: 2.34 | AB53: =AA54*N53 -> 0 | AC53: =N53*M53 -> 0 | AI53: 2 | AO53: =$N53*2 -> 0 | AU53: =$N53*F53 -> 0 | AV53: =$N53*G53 -> 0 | AW53: =$N53*H53 -> 0 | AX53: =$N53*I53 -> 0 | AY53: =$N53*J53 -> 0 | AZ53: =$N53*K53 -> 0 | BA53: =$N53*L53 -> 0 | BC53: =$N53*AD53 -> 0 | BD53: =$N53*AE53 -> 0 | BE53: =$N53*AF53 -> 0 | BF53: =$N53*AG53 -> 0 | BG53: =$N53*AH53 -> 0 | BH53: =$N53*AI53 -> 0 | BJ53: =BI53*N53 -> 0 | BK53: 21000965
A54: 41056 | B54: Sandstone Slopers Mega 3 - PU | C54: slopers | D54: VIEW | E54: 2 | K54: 2 | M54: 135.8964 | N54: =SUM(O54:Z54) -> 0 | AA54: 2.833 | AB54: =AA55*N54 -> 0 | AC54: =N54*M54 -> 0 | AI54: 2 | AP54: =$N54*2 -> 0 | AU54: =$N54*F54 -> 0 | AV54: =$N54*G54 -> 0 | AW54: =$N54*H54 -> 0 | AX54: =$N54*I54 -> 0 | AY54: =$N54*J54 -> 0 | AZ54: =$N54*K54 -> 0 | BA54: =$N54*L54 -> 0 | BC54: =$N54*AD54 -> 0 | BD54: =$N54*AE54 -> 0 | BE54: =$N54*AF54 -> 0 | BF54: =$N54*AG54 -> 0 | BG54: =$N54*AH54 -> 0 | BH54: =$N54*AI54 -> 0 | BJ54: =BI54*N54 -> 0 | BK54: 21000966
A55: 41057 | B55: Sandstone volume 1 - PU | C55: slopers | D55: VIEW | E55: 1 | L55: 1 | M55: 99.9 | N55: =SUM(O55:Z55) -> 0 | AA55: 2.03 | AB55: =AA56*N55 -> 0 | AC55: =N55*M55 -> 0 | AI55: 1 | AL55: =$N55*1 -> 0 | AU55: =$N55*F55 -> 0 | AV55: =$N55*G55 -> 0 | AW55: =$N55*H55 -> 0 | AX55: =$N55*I55 -> 0 | AY55: =$N55*J55 -> 0 | AZ55: =$N55*K55 -> 0 | BA55: =$N55*L55 -> 0 | BC55: =$N55*AD55 -> 0 | BD55: =$N55*AE55 -> 0 | BE55: =$N55*AF55 -> 0 | BF55: =$N55*AG55 -> 0 | BG55: =$N55*AH55 -> 0 | BH55: =$N55*AI55 -> 0 | BJ55: =BI55*N55 -> 0 | BK55: 21000967
A56: 41058 | B56: Sandstone volume 2 - PU | C56: slopers | D56: VIEW | E56: 1 | L56: 1 | M56: 97.2 | N56: =SUM(O56:Z56) -> 0 | AA56: 2.04 | AB56: =AA57*N56 -> 0 | AC56: =N56*M56 -> 0 | AI56: 1 | AO56: =$N56*1 -> 0 | AU56: =$N56*F56 -> 0 | AV56: =$N56*G56 -> 0 | AW56: =$N56*H56 -> 0 | AX56: =$N56*I56 -> 0 | AY56: =$N56*J56 -> 0 | AZ56: =$N56*K56 -> 0 | BA56: =$N56*L56 -> 0 | BC56: =$N56*AD56 -> 0 | BD56: =$N56*AE56 -> 0 | BE56: =$N56*AF56 -> 0 | BF56: =$N56*AG56 -> 0 | BG56: =$N56*AH56 -> 0 | BH56: =$N56*AI56 -> 0 | BJ56: =BI56*N56 -> 0 | BK56: 21000968
A57: 41059 | B57: Sandstone volume 3 - PU | C57: slopers | D57: VIEW | E57: 1 | L57: 1 | M57: 113.4 | N57: =SUM(O57:Z57) -> 0 | AA57: 2.39 | AB57: =AA58*N57 -> 0 | AC57: =N57*M57 -> 0 | AI57: 1 | AR57: =$N57*1 -> 0 | AU57: =$N57*F57 -> 0 | AV57: =$N57*G57 -> 0 | AW57: =$N57*H57 -> 0 | AX57: =$N57*I57 -> 0 | AY57: =$N57*J57 -> 0 | AZ57: =$N57*K57 -> 0 | BA57: =$N57*L57 -> 0 | BC57: =$N57*AD57 -> 0 | BD57: =$N57*AE57 -> 0 | BE57: =$N57*AF57 -> 0 | BF57: =$N57*AG57 -> 0 | BG57: =$N57*AH57 -> 0 | BH57: =$N57*AI57 -> 0 | BJ57: =BI57*N57 -> 0 | BK57: 21000969
