Workbook
Name _gripPartColor: ReferenceData!$Q$5:$Q$18
Name _productInventoryIDs: ReferenceData!$B$4:$B$40
Name _smoothPartColor: ReferenceData!$S$5:$S$18
Name _surfaceType: ReferenceData!$L$5:$L$7
Name LinksDual: Links!$A$4:$F$51
Name LinksFullFriction: Links!$A$56:$F$87
Name Note3: EntryForm!$C$142
Name ordered: OrderForm!$C$39:$M$89
Name PivotSource: EntryForm!$H$3:$R$176

Sheet Read me
B2: How to fill in the Order Form
B3: Please fill in all the white fields in the Order Form--buyer's info, shipping address and arrangements, dates, instructions.
B5: Before order confirmation, Trickit will contact you to discuss the shipment date if the one you requested can't be met.
B7: You should use the Entry Form to select the items you would like to order.
B9: How to use the Entry Form
B10: Please select the color and surface for each product, as well as the number of sets you want to order. If you want to order from the same product different combination of colors/surface, use the "add [product name] row" button to add another row for the same product. You can remove the last added by using the "remove last" button.
B11: Products for which the quantity is empty or zero will not be included in the order.
B12: At any time you can press the button "Update Order" (in the upper right corner of the Entry Form) to reflect your choices into the Order Form.
B14: Before sending us the order, kindly make sure you have clicked on "Update Order" after your latest selection, so that the two forms are in sync.
B15: Please note that we will make our confirmation based on the items listed in the Order Form.
B18: If Microsoft blocked macros…
B19: Please note that this file contains macros. If Excel shows you a message in a pink banner
... B56: 6. Close and reopen the Excel file for the changes to take effect.

Sheet OrderForm
D1: To select your items, please go to the Entry Form.
F2: Trickit OOD Sofia, Bulgaria email: office@trickitholds.com https://www.trickitholds.com | H2: Order Form
D9: Date: | I9: Desired shipping by date:
D10: Order #: | I10: (Please contact Trickit if you need expedited delivery. Additional charges may apply.)
D12: Billing Address: | I12: Delivery Address:
D13: Company: | I13: Company:
D14: Street: | I14: Street:
D15: City: | I15: City:
D16: State: | I16: State:
D17: Zip code: | I17: Zip code:
D18: Country: | I18: Country:
D19: Contact person: | I19: Contact person:
D20: Email: | I20: Email:
D21: Phone: | I21: Phone:
D22: VAT/GST no.
D24: Billing:
D25: For orders of 5000€ or less, 100% deposit is required upon order confirmation. | I25: Do you prefer to make your own shipping arrangements? | M25: No
D26: For orders of more than 5000€, 50% deposit is required upon order confirmation;
D27: the remaining amount upon shipment. | I27: =IF(M25="No","We will provide an estimate for the shipping arrangements and cost after we receive your order.","Please include shipping arrangements information in the section below") -> We will provide an estimate for the shipping arrangements and cost after we receive your order.
D32: Other comments/ special instructions:
D35: Transportation cost and any applicable discounts and taxes will be reflected in the invoice.
D41: Friction | E41: Product ID | F41: Product | G41: Smooth surface | H41: Grip color | I41: Smooth color | J41: UnitPrice | K41: Quantity | L41: Amount | M41: Weight (kg)

Sheet EntryForm
C1: Entry Form | M1: After selecting items, click on Update Order
A3: Product ID | C3: Product | D3: Friction | E3: Price (excl.VAT) | F3: Dimension (cm) | G3: Weight /set/ (kg) | H3: PT_Product | I3: PT_inventory # | J3: PT_macros | K3: PT_Friction | L3: PT_UnitPrice | M3: Smooth part surface | N3: Grip part surface color | O3: Smooth part surface color | P3: Quantity | Q3: Amount | R3: Weight (kg)
A4: FGDF001 | C4: Pressure S Dual Set of 3 fiberglass macros size S | D4: Dual | E4: 408 | F4: 33/27/12 36/26/10 33/25/6 | G4: 2.2 | H4: Pressure S | I4: =$A$4 -> FGDF001 | J4: 3 | K4: Dual | L4: =$E$4 -> 408 | M4: <choose surface> | N4: <choose color> | O4: <choose color> | P4: 0 | Q4: =$E$4*P4 -> 0 | R4: =$G$4*P4 -> 0
M5: Subtotal (Pressure S Dual) | P5: =SUMIF($M$4:M5,"<>*subtotal*",$P$4:P5) -> 0 | Q5: =SUMIF($M$4:M5,"<>*subtotal*",$Q$4:Q5) -> 0 | R5: =SUMIF($M$4:M5,"<>*subtotal*",$R$4:R5) -> 0
A6: FGDF002 | C6: Pressure M Dual Set of 3 fiberglass macros size М | D6: Dual | E6: 509 | F6: 48/38/8 50/45/12 50/35/15 | G6: 5 | H6: Pressure M | I6: =$A$6 -> FGDF002 | J6: 3 | K6: Dual | L6: =$E$6 -> 509 | M6: <choose surface> | N6: <choose color> | O6: <choose color> | P6: 0 | Q6: =$E$6*P6 -> 0 | R6: =$G$6*P6 -> 0
M7: Subtotal (Pressure M Dual) | P7: =SUMIF($M$6:M7,"<>*subtotal*",$P$6:P7) -> 0 | Q7: =SUMIF($M$6:M7,"<>*subtotal*",$Q$6:Q7) -> 0 | R7: =SUMIF($M$6:M7,"<>*subtotal*",$R$6:R7) -> 0
A8: FGDF003 | C8: Vacuum S Dual Set of 3 fiberglass macros size S | D8: Dual | E8: 408 | F8: 43/27/8 36/32/9 45/23/5 | G8: 2.2 | H8: Vacuum S | I8: =$A$8 -> FGDF003 | J8: 3 | K8: Dual | L8: =$E$8 -> 408 | M8: <choose surface> | N8: <choose color> | O8: <choose color> | P8: 0 | Q8: =$E$8*P8 -> 0 | R8: =$G$8*P8 -> 0
M9: Subtotal (Vacuum S Dual) | P9: =SUMIF($M$8:M9,"<>*subtotal*",$P$8:P9) -> 0 | Q9: =SUMIF($M$8:M9,"<>*subtotal*",$Q$8:Q9) -> 0 | R9: =SUMIF($M$8:M9,"<>*subtotal*",$R$8:R9) -> 0
A10: FGDF004 | C10: Vacuum M Dual Set of 3 fiberglass macros size М | D10: Dual | E10: 509 | F10: 54/32/9 53/40/11 47/43/13 | G10: 5 | H10: Vacuum M | I10: =$A$10 -> FGDF004 | J10: 3 | K10: Dual | L10: =$E$10 -> 509 | M10: <choose surface> | N10: <choose color> | O10: <choose color> | P10: 0 | Q10: =$E$10*P10 -> 0 | R10: =$G$10*P10 -> 0
M11: Subtotal (Vacuum M Dual) | P11: =SUMIF($M$10:M11,"<>*subtotal*",$P$10:P11) -> 0 | Q11: =SUMIF($M$10:M11,"<>*subtotal*",$Q$10:Q11) -> 0 | R11: =SUMIF($M$10:M11,"<>*subtotal*",$R$10:R11) -> 0
A12: FGDF005 | C12: Balance S Dual Set of 3 fiberglass macros size S | D12: Dual | E12: 408 | F12: 45/33/11 46/38/6 43/38/9 | G12: 2.2 | H12: Balance S | I12: =$A$12 -> FGDF005 | J12: 3 | K12: Dual | L12: =$E$12 -> 408 | M12: <choose surface> | N12: <choose color> | O12: <choose color> | P12: 0 | Q12: =$E$12*P12 -> 0 | R12: =$G$12*P12 -> 0
M13: Subtotal (Balance S Dual) | P13: =SUMIF($M$12:M13,"<>*subtotal*",$P$12:P13) -> 0 | Q13: =SUMIF($M$12:M13,"<>*subtotal*",$Q$12:Q13) -> 0 | R13: =SUMIF($M$12:M13,"<>*subtotal*",$R$12:R13) -> 0
A14: FGDF006 | C14: Balance M Dual Set of 3 fiberglass macros size М | D14: Dual | E14: 551 | F14: 60/40/9 62/45/13 78/36/10 | G14: 6 | H14: Balance M | I14: =$A$14 -> FGDF006 | J14: 3 | K14: Dual | L14: =$E$14 -> 551 | M14: <choose surface> | N14: <choose color> | O14: <choose color> | P14: 0 | Q14: =$E$14*P14 -> 0 | R14: =$G$14*P14 -> 0
M15: Subtotal (Balance M Dual) | P15: =SUMIF($M$14:M15,"<>*subtotal*",$P$14:P15) -> 0 | Q15: =SUMIF($M$14:M15,"<>*subtotal*",$Q$14:Q15) -> 0 | R15: =SUMIF($M$14:M15,"<>*subtotal*",$R$14:R15) -> 0
A16: FGDF007 | C16: Orca Dual Set of 11 fiberglass holds and macros different sizes | D16: Dual | E16: 880 | F16: --- | G16: 8 | H16: Orca | I16: =$A$16 -> FGDF007 | J16: 11 | K16: Dual | L16: =$E$16 -> 880 | M16: <choose surface> | N16: <choose color> | O16: <choose color> | P16: 0 | Q16: =$E$16*P16 -> 0 | R16: =$G$16*P16 -> 0
M17: Subtotal (Orca Dual) | P17: =SUMIF($M$16:M17,"<>*subtotal*",$P$16:P17) -> 0 | Q17: =SUMIF($M$16:M17,"<>*subtotal*",$Q$16:Q17) -> 0 | R17: =SUMIF($M$16:M17,"<>*subtotal*",$R$16:R17) -> 0
A18: PUDF008 | C18: Narwhal PU Dual Set of 15 PU holds and macros different sizes | D18: Dual | E18: 1280 | F18: avg. ~35/25 | G18: 11.5 | H18: Narwal PU | I18: =$A$18 -> PUDF008 | J18: 15 | K18: Dual | L18: =$E$18 -> 1280 | M18: <choose surface> | N18: <choose color> | O18: <choose color> | P18: 0 | Q18: =$E$18*P18 -> 0 | R18: =$G$18*P18 -> 0
M19: Subtotal (Narwhal PU Dual) | P19: =SUMIF($M$18:M19,"<>*subtotal*",$P$18:P19) -> 0 | Q19: =SUMIF($M18:M$19,"<>*subtotal*",$Q18:Q$19) -> 0 | R19: =SUMIF($M18:M$19,"<>*subtotal*",$R18:R$19) -> 0
A20: FGDF009 | C20: Entropy Dual Set of 3 fiberglass macros | D20: Dual | E20: 509 | F20: 43/32/10 45/34/13 50/42/14 | G20: 3.5 | H20: Entropy | I20: =$A$20 -> FGDF009 | J20: 3 | K20: Dual | L20: =$E$20 -> 509 | M20: <choose surface> | N20: <choose color> | O20: <choose color> | P20: 0 | Q20: =$E$20*P20 -> 0 | R20: =$G$20*P20 -> 0
M21: Subtotal (Entropy Dual) | P21: =SUMIF($M$20:M21,"<>*subtotal*",$P$20:P21) -> 0 | Q21: =SUMIF($M$20:M21,"<>*subtotal*",$Q$20:Q21) -> 0 | R21: =SUMIF($M$20:M21,"<>*subtotal*",$R$20:R21) -> 0
A22: FGDF010 | C22: Pulsar Dual Set of 3 fiberglass macros | D22: Dual | E22: 509 | F22: 55/36/9 48/34/11 47/38/12 | G22: 4 | H22: Pulsar | I22: =$A$22 -> FGDF010 | J22: 3 | K22: Dual | L22: =$E$22 -> 509 | M22: <choose surface> | N22: <choose color> | O22: <choose color> | P22: 0 | Q22: =$E$22*P22 -> 0 | R22: =$G$22*P22 -> 0
M23: Subtotal (Pulsar Dual) | P23: =SUMIF($M$22:M23,"<>*subtotal*",$P$22:P23) -> 0 | Q23: =SUMIF($M$22:M23,"<>*subtotal*",$Q$22:Q23) -> 0 | R23: =SUMIF($M$22:M23,"<>*subtotal*",$R$22:R23) -> 0
A24: FGDF011 | C24: Nebula Dual Set of 3 fiberglass macros | D24: Dual | E24: 509 | F24: 56/33/10 57/36/13 56/35/16 | G24: 4.7 | H24: Nebula | I24: =$A$24 -> FGDF011 | J24: 3 | K24: Dual | L24: =$E$24 -> 509 | M24: <choose surface> | N24: <choose color> | O24: <choose color> | P24: 0 | Q24: =$E$24*P24 -> 0 | R24: =$G$24*P24 -> 0
M25: Subtotal (Nebula Dual) | P25: =SUMIF($M$24:M25,"<>*subtotal*",$P$24:P25) -> 0 | Q25: =SUMIF($M$24:M25,"<>*subtotal*",$Q$24:Q25) -> 0 | R25: =SUMIF($M$24:M25,"<>*subtotal*",$R$24:R25) -> 0
A26: FGDF012 | C26: Quantium Dual Set of 3 fiberglass macros | D26: Dual | E26: 509 | F26: 55/28/13 61/29/13 56/28/9 | G26: 3.9 | H26: Quantium | I26: =$A$26 -> FGDF012 | J26: 3 | K26: Dual | L26: =$E$26 -> 509 | M26: <choose surface> | N26: <choose color> | O26: <choose color> | P26: 0 | Q26: =$E$26*P26 -> 0 | R26: =$G$26*P26 -> 0
M27: Subtotal (Quantium Dual) | P27: =SUMIF($M$26:M27,"<>*subtotal*",$P$26:P27) -> 0 | Q27: =SUMIF($M$26:M27,"<>*subtotal*",$Q$26:Q27) -> 0 | R27: =SUMIF($M$26:M27,"<>*subtotal*",$R$26:R27) -> 0
A28: FGDF013 | C28: Axiom Dual Set of 3 fiberglass macros | D28: Dual | E28: 551 | F28: 65/35/11 70/37/11 68/39/13 | G28: 5.3 | H28: Axiom | I28: =$A$28 -> FGDF013 | J28: 3 | K28: Dual | L28: =$E$28 -> 551 | M28: <choose surface> | N28: <choose color> | O28: <choose color> | P28: 0 | Q28: =$E$28*P28 -> 0 | R28: =$G$28*P28 -> 0
M29: Subtotal (Axiom Dual) | P29: =SUMIF($M$28:M29,"<>*subtotal*",$P$28:P29) -> 0 | Q29: =SUMIF($M$28:M29,"<>*subtotal*",$Q$28:Q29) -> 0 | R29: =SUMIF($M$28:M29,"<>*subtotal*",$R$28:R29) -> 0
A30: FGDF015 | C30: Planet 1a L Dual Fiberglass macro size L | D30: Dual | E30: 285 | F30: d=60 h=21 | G30: 2.6 | H30: Planet 1a L | I30: =$A$30 -> FGDF015 | J30: 1 | K30: =D30 -> Dual | L30: =$E$30 -> 285 | M30: <choose surface> | N30: <choose color> | O30: <choose color> | P30: 0 | Q30: =$E$30*P30 -> 0 | R30: =$G$30*P30 -> 0
M31: Subtotal (Planet 1a L Dual) | P31: =SUMIF($M$30:M31,"<>*subtotal*",$P$30:P31) -> 0 | Q31: =SUMIF($M$30:M31,"<>*subtotal*",$Q$30:Q31) -> 0 | R31: =SUMIF($M$30:M31,"<>*subtotal*",$R$30:R31) -> 0
A32: FGDF016 | C32: Planet 1b L Dual Fiberglass macro size L | D32: Dual | E32: 285 | F32: d=60 h=21 | G32: 2.6 | H32: Planet 1b L | I32: =$A$32 -> FGDF016 | J32: 1 | K32: Dual | L32: =$E$32 -> 285 | M32: <choose surface> | N32: <choose color> | O32: <choose color> | P32: 0 | Q32: =$E$32*P32 -> 0 | R32: =$G$32*P32 -> 0
M33: Subtotal (Planet 1b L Dual) | P33: =SUMIF($M$32:M33,"<>*subtotal*",$P$32:P33) -> 0 | Q33: =SUMIF($M$32:M33,"<>*subtotal*",$Q$32:Q33) -> 0 | R33: =SUMIF($M$32:M33,"<>*subtotal*",$R$32:R33) -> 0
A34: FGDF017 | C34: Planet 1 L Dual Set of 2 fiberglass macros: 1a and 1b; size L | D34: Dual | E34: 560 | F34: d=60 h=21 d=60 h=21 | G34: 5.2 | H34: Planet 1 L | I34: =$A$34 -> FGDF017 | J34: 1 | K34: Dual | L34: =$E$34 -> 560 | M34: <choose surface> | N34: <choose color> | O34: <choose color> | P34: 0 | Q34: =$E$34*P34 -> 0 | R34: =$G$34*P34 -> 0
M35: Subtotal (Planet 1 L Dual) | P35: =SUMIF($M$34:M35,"<>*subtotal*",$P$34:P35) -> 0 | Q35: =SUMIF($M$34:M35,"<>*subtotal*",$Q$34:Q35) -> 0 | R35: =SUMIF($M$34:M35,"<>*subtotal*",$R$34:R35) -> 0
A36: FGDF018 | C36: Planet 2 L Dual Fiberglass macro size L | D36: Dual | E36: 295 | F36: d=60 h=25 | G36: 2.7 | H36: Planet 2 L | I36: =$A$36 -> FGDF018 | J36: 1 | K36: Dual | L36: =$E$36 -> 295 | M36: <choose surface> | N36: <choose color> | O36: <choose color> | P36: 0 | Q36: =$E$36*P36 -> 0 | R36: =$G$36*P36 -> 0
M37: Subtotal (Planet 2 L Dual) | P37: =SUMIF($M$36:M37,"<>*subtotal*",$P$36:P37) -> 0 | Q37: =SUMIF($M$36:M37,"<>*subtotal*",$Q$36:Q37) -> 0 | R37: =SUMIF($M$36:M37,"<>*subtotal*",$R$36:R37) -> 0
A38: FGDF019 | C38: Planet 3 L Dual Fiberglass macro size L | D38: Dual | E38: 285 | F38: d=60 h=21 | G38: 2.8 | H38: Planet 3 L | I38: =$A$38 -> FGDF019 | J38: 1 | K38: Dual | L38: =$E$38 -> 285 | M38: <choose surface> | N38: <choose color> | O38: <choose color> | P38: 0 | Q38: =$E$38*P38 -> 0 | R38: =$G$38*P38 -> 0
M39: Subtotal (Planet 3 L Dual) | P39: =SUMIF($M$38:M39,"<>*subtotal*",$P$38:P39) -> 0 | Q39: =SUMIF($M$38:M39,"<>*subtotal*",$Q$38:Q39) -> 0 | R39: =SUMIF($M$38:M39,"<>*subtotal*",$R$38:R39) -> 0
A40: FGDF020 | C40: Planet 4 L Dual Fiberglass macro size L | D40: Dual | E40: 275 | F40: d=60 h=15 | G40: 2.5 | H40: Planet 4 L | I40: =$A$40 -> FGDF020 | J40: 1 | K40: Dual | L40: =$E$40 -> 275 | M40: <choose surface> | N40: <choose color> | O40: <choose color> | P40: 0 | Q40: =$E$40*P40 -> 0 | R40: =$G$40*P40 -> 0
M41: Subtotal (Planet 4 L Dual) | P41: =SUMIF($M$40:M41,"<>*subtotal*",$P$40:P41) -> 0 | Q41: =SUMIF($M$40:M41,"<>*subtotal*",$Q$40:Q41) -> 0 | R41: =SUMIF($M$40:M41,"<>*subtotal*",$R$40:R41) -> 0
...

Sheet Technical Specificaitons
B3: Upon receipt of your order:
C4: 1) Inspect carefully the packaging - if there are any damages to the carton box, contact the delivery company.
C5: 2) Each macro/hold should be inspected immediately after receiving the order. If you find defects that compromise the strength and safety, or if the appearance is not as expected, please take photos.
C6: 3) Contact Trickit as soon as possible and provide the photos together with description of the defects, so that the problem can be resolved.
B10: Installation
C11: The installation of the macros/holds must be carried out in the presence and under the control of competent personnel. Incorrect installation may lead to injury.
C12: Wall surface & general instructions:
C13: The macros/holds must be installed on a flat surface according to the standards for climbing walls.
C14: The entire hold/macro should rest fully on the climbing wall; no parts of it may protrude outside of the wall.
C15: The holds/macros are designed with a certain number of mounting holes; you must use all of them. You should not drill holes in the macros/holds. Screwing holds on the product is at your own risk - this may cause structural damage.
C16: Screws & Bolts:
C17: The optimal size of the screws' diameter is 4.5mm. Screws under 4.0mm may not provide a strong enough installation. Screws over 5.0mm can compromise the structural integrity of the holds/macros. Do not use screws over 5.0mm!
C18: Make sure the length of the screw goes through the entire mounting surface of the wall. When attaching holds with screws ensure that the screw thread is protruding at least 5 mm from the back of birch plywood wall. The screws must not protrude beyond the mounting bushings. The entire thread of the screw must be screwed into the mounting hole.
C19: Woodscrews are generally not recommended for repeated use and should be inspected or discarded after each reset.
C20: Where the volume/hold is designed to be fixed with a mounting bolt it is necessary to use an M10 socket head bolt of the appropriate length so that the bolt protrudes beyond the t-nut on the back of the wall.
C21: Do not over-tighten. Do not use old holes in the wall on which you are installing the macros/holds.
B23: Use and maintenance
C24: General:
C25: All macros/holds made of PU are intended for indoor use.
C26: All products made of fiberglass and plywood can be used outdoors, but under shelter and protected from direct exposure to moisture, rain, snow and sunlight. Outdoor use could reduce the life of the product and could cause the colours to fade more quickly.
C27: The products are specified for temperatures from +55°C to -15°C.
C28: Inspect products before each setup to ensure their structural integrity. Do not use macros/holds with compromised structural integrity, as this can lead to injuries.
C29: In some cases, after intensive or prolonged use, it may be necessary to re-tighten the screws of the macros/holds.
C30: Using macros/holds continuously under intense climbing as steps without change is not desirable. This may deteriorate their surface characteristics.
C31: No rope may run over the macro/hold on climbing walls, as damage may occur to the hold, macro and rope.
C32: Cleaning:
C33: The macros/holds must be cleaned regularly, and the frequency of cleaning must be in accordance with the intensity and duration of use.
C34: The macros/holds should be removed from the wall to be cleaned thoroughly. We don't recommend using chemicals; we recommend using water jet with a water temperature no higher than 40°C (100°F) at a distance no closer than 35cm, to avoid damaging the surface.
C35: Between detailed cleanings, installed macros/holds should be cleaned regularly with climbing brushes.
... C37: If holds or macros are stacked, we strongly recommend that carpet, fleece or similar suitable layers should be placed between them to maintain the longevity of the coating.
B39: Warranty and Replacement:
C40: Compliance with these instructions is a basic requirement for safe use of the products, and warranty application.
C41: Тhrowing, careless treatment of the products, or misuse can lead to structural or cosmetic problems that manifest themselves immediately or over time, for which Trickit will not be responsible.

Sheet Links
C2: Use for entry form
A3: DUAL | F3: Link
A4: Pressure S | B4: https://drive.google.com/uc?export=view&id=1GuV7YmnBwEfKe3ABunftIYvj5RrcUh9e | C4: =D4&E4 -> https://drive.google.com/uc?export=view&id=1GuV7YmnBwEfKe3ABunftIYvj5RrcUh9e | D4: https://drive.google.com/uc?export=view&id= | E4: =MID(F4,G4+3,H4-G4-3) -> 1GuV7YmnBwEfKe3ABunftIYvj5RrcUh9e | F4: https://drive.google.com/file/d/1GuV7YmnBwEfKe3ABunftIYvj5RrcUh9e/view?usp=sharing | G4: =FIND("/d/",F4) -> 30 | H4: =FIND("/",F4,G4+3) -> 66
A5: Pressure M | B5: https://drive.google.com/uc?export=view&id=1Z2OQ56fkfVjJw0AuCNzC8e0nnJ6ZDLzy | C5: =D5&E5 -> https://drive.google.com/uc?export=view&id=1Z2OQ56fkfVjJw0AuCNzC8e0nnJ6ZDLzy | D5: https://drive.google.com/uc?export=view&id= | E5: =MID(F5,G5+3,H5-G5-3) -> 1Z2OQ56fkfVjJw0AuCNzC8e0nnJ6ZDLzy | F5: https://drive.google.com/file/d/1Z2OQ56fkfVjJw0AuCNzC8e0nnJ6ZDLzy/view?usp=sharing | G5: =FIND("/d/",F5) -> 30 | H5: =FIND("/",F5,G5+3) -> 66
A6: Vaccuum S | B6: https://drive.google.com/uc?export=view&id=1nQ4MDqZa75TemdSk0YFiZ1y9os7TOxnb | C6: =D6&E6 -> https://drive.google.com/uc?export=view&id=1nQ4MDqZa75TemdSk0YFiZ1y9os7TOxnb | D6: https://drive.google.com/uc?export=view&id= | E6: =MID(F6,G6+3,H6-G6-3) -> 1nQ4MDqZa75TemdSk0YFiZ1y9os7TOxnb | F6: https://drive.google.com/file/d/1nQ4MDqZa75TemdSk0YFiZ1y9os7TOxnb/view?usp=sharing | G6: =FIND("/d/",F6) -> 30 | H6: =FIND("/",F6,G6+3) -> 66
A7: Vaccum M | B7: https://drive.google.com/uc?export=view&id=1Cs852QWd7LOlDOSJtcKYTm6YV5T4MFE2 | C7: =D7&E7 -> https://drive.google.com/uc?export=view&id=1Cs852QWd7LOlDOSJtcKYTm6YV5T4MFE2 | D7: https://drive.google.com/uc?export=view&id= | E7: =MID(F7,G7+3,H7-G7-3) -> 1Cs852QWd7LOlDOSJtcKYTm6YV5T4MFE2 | F7: https://drive.google.com/file/d/1Cs852QWd7LOlDOSJtcKYTm6YV5T4MFE2/view?usp=sharing | G7: =FIND("/d/",F7) -> 30 | H7: =FIND("/",F7,G7+3) -> 66
A8: Balance S | B8: https://drive.google.com/uc?export=view&id=1Y1Ou2Ba5EMt5Tk5lQubXsV9Oa_zPA3Vf | C8: =D8&E8 -> https://drive.google.com/uc?export=view&id=1Y1Ou2Ba5EMt5Tk5lQubXsV9Oa_zPA3Vf | D8: https://drive.google.com/uc?export=view&id= | E8: =MID(F8,G8+3,H8-G8-3) -> 1Y1Ou2Ba5EMt5Tk5lQubXsV9Oa_zPA3Vf | F8: https://drive.google.com/file/d/1Y1Ou2Ba5EMt5Tk5lQubXsV9Oa_zPA3Vf/view?usp=sharing | G8: =FIND("/d/",F8) -> 30 | H8: =FIND("/",F8,G8+3) -> 66
A9: Balance M | B9: https://drive.google.com/uc?export=view&id=1904q2jMr4M3VeFWkrm1oGPvER32INInz | C9: =D9&E9 -> https://drive.google.com/uc?export=view&id=1904q2jMr4M3VeFWkrm1oGPvER32INInz | D9: https://drive.google.com/uc?export=view&id= | E9: =MID(F9,G9+3,H9-G9-3) -> 1904q2jMr4M3VeFWkrm1oGPvER32INInz | F9: https://drive.google.com/file/d/1904q2jMr4M3VeFWkrm1oGPvER32INInz/view?usp=sharing | G9: =FIND("/d/",F9) -> 30 | H9: =FIND("/",F9,G9+3) -> 66
A10: Orca | B10: https://drive.google.com/uc?export=view&id=1tod3suu3TGeYpg2UWuPF7_sCYWs9Dfn2 | C10: =D10&E10 -> https://drive.google.com/uc?export=view&id=1tod3suu3TGeYpg2UWuPF7_sCYWs9Dfn2 | D10: https://drive.google.com/uc?export=view&id= | E10: =MID(F10,G10+3,H10-G10-3) -> 1tod3suu3TGeYpg2UWuPF7_sCYWs9Dfn2 | F10: https://drive.google.com/file/d/1tod3suu3TGeYpg2UWuPF7_sCYWs9Dfn2/view?usp=sharing | G10: =FIND("/d/",F10) -> 30 | H10: =FIND("/",F10,G10+3) -> 66
A11: Narwala | B11: https://drive.google.com/uc?export=view&id=1UBeklR5vZ70XCVHRTcDib80Zynz5Qn7f | C11: =D11&E11 -> https://drive.google.com/uc?export=view&id=1UBeklR5vZ70XCVHRTcDib80Zynz5Qn7f | D11: https://drive.google.com/uc?export=view&id= | E11: =MID(F11,G11+3,H11-G11-3) -> 1UBeklR5vZ70XCVHRTcDib80Zynz5Qn7f | F11: https://drive.google.com/file/d/1UBeklR5vZ70XCVHRTcDib80Zynz5Qn7f/view?usp=sharing | G11: =FIND("/d/",F11) -> 30 | H11: =FIND("/",F11,G11+3) -> 66
A12: Entropy | B12: https://drive.google.com/uc?export=view&id=1TZh--G6ZQz30cCAwA4k54jPWP0O1gKPr | C12: =D12&E12 -> https://drive.google.com/uc?export=view&id=1TZh--G6ZQz30cCAwA4k54jPWP0O1gKPr | D12: https://drive.google.com/uc?export=view&id= | E12: =MID(F12,G12+3,H12-G12-3) -> 1TZh--G6ZQz30cCAwA4k54jPWP0O1gKPr | F12: https://drive.google.com/file/d/1TZh--G6ZQz30cCAwA4k54jPWP0O1gKPr/view?usp=sharing | G12: =FIND("/d/",F12) -> 30 | H12: =FIND("/",F12,G12+3) -> 66
A13: Pulsar | B13: https://drive.google.com/uc?export=view&id=1EUviRSPK9N5MCDObo27mr0hk6B0AGB5n | C13: =D13&E13 -> https://drive.google.com/uc?export=view&id=1EUviRSPK9N5MCDObo27mr0hk6B0AGB5n | D13: https://drive.google.com/uc?export=view&id= | E13: =MID(F13,G13+3,H13-G13-3) -> 1EUviRSPK9N5MCDObo27mr0hk6B0AGB5n | F13: https://drive.google.com/file/d/1EUviRSPK9N5MCDObo27mr0hk6B0AGB5n/view?usp=sharing | G13: =FIND("/d/",F13) -> 30 | H13: =FIND("/",F13,G13+3) -> 66
A14: Nebula | B14: https://drive.google.com/uc?export=view&id=1y-3g-5vLREXqn-WzGUaSoGk0XsDu5EN7 | C14: =D14&E14 -> https://drive.google.com/uc?export=view&id=1y-3g-5vLREXqn-WzGUaSoGk0XsDu5EN7 | D14: https://drive.google.com/uc?export=view&id= | E14: =MID(F14,G14+3,H14-G14-3) -> 1y-3g-5vLREXqn-WzGUaSoGk0XsDu5EN7 | F14: https://drive.google.com/file/d/1y-3g-5vLREXqn-WzGUaSoGk0XsDu5EN7/view?usp=sharing | G14: =FIND("/d/",F14) -> 30 | H14: =FIND("/",F14,G14+3) -> 66
A15: Quantum | B15: https://drive.google.com/uc?export=view&id=1EUviRSPK9N5MCDObo27mr0hk6B0AGB5n | C15: =D15&E15 -> https://drive.google.com/uc?export=view&id=1EUviRSPK9N5MCDObo27mr0hk6B0AGB5n | D15: https://drive.google.com/uc?export=view&id= | E15: =MID(F15,G15+3,H15-G15-3) -> 1EUviRSPK9N5MCDObo27mr0hk6B0AGB5n | F15: https://drive.google.com/file/d/1EUviRSPK9N5MCDObo27mr0hk6B0AGB5n/view?usp=sharing | G15: =FIND("/d/",F15) -> 30 | H15: =FIND("/",F15,G15+3) -> 66
... A24: Planet 6 | B24: https://drive.google.com/uc?export=view&id=1MAmH8k9RUmhDkBj_zZM249Ey0Et9sybg | C24: =D24&E24 -> https://drive.google.com/uc?export=view&id=1MAmH8k9RUmhDkBj_zZM249Ey0Et9sybg | D24: https://drive.google.com/uc?export=view&id= | E24: =MID(F24,G24+3,H24-G24-3) -> 1MAmH8k9RUmhDkBj_zZM249Ey0Et9sybg | F24: https://drive.google.com/file/d/1MAmH8k9RUmhDkBj_zZM249Ey0Et9sybg/view?usp=sharing | G24: =FIND("/d/",F24) -> 30 | H24: =FIND("/",F24,G24+3) -> 66
A25: Planet L full | C25: =D25&E25 -> #VALUE! | D25: https://drive.google.com/uc?export=view&id= | E25: =MID(F25,G25+3,H25-G25-3) -> #VALUE! | G25: =FIND("/d/",F25) -> #VALUE! | H25: =FIND("/",F25,G25+3) -> #VALUE!
A26: Planet S full | B26: https://drive.google.com/uc?export=view&id=182j-1wYzBqWAS7fKOE0cN8tO3w7kTDUu | C26: =D26&E26 -> https://drive.google.com/uc?export=view&id=182j-1wYzBqWAS7fKOE0cN8tO3w7kTDUu | D26: https://drive.google.com/uc?export=view&id= | E26: =MID(F26,G26+3,H26-G26-3) -> 182j-1wYzBqWAS7fKOE0cN8tO3w7kTDUu | F26: https://drive.google.com/file/d/182j-1wYzBqWAS7fKOE0cN8tO3w7kTDUu/view?usp=sharing | G26: =FIND("/d/",F26) -> 30 | H26: =FIND("/",F26,G26+3) -> 66
A27: Planet S&L | C27: =D27&E27 -> #VALUE! | D27: https://drive.google.com/uc?export=view&id= | E27: =MID(F27,G27+3,H27-G27-3) -> #VALUE! | G27: =FIND("/d/",F27) -> #VALUE! | H27: =FIND("/",F27,G27+3) -> #VALUE!
A28: Planet S Drops | C28: =D28&E28 -> #VALUE! | D28: https://drive.google.com/uc?export=view&id= | E28: =MID(F28,G28+3,H28-G28-3) -> #VALUE! | G28: =FIND("/d/",F28) -> #VALUE! | H28: =FIND("/",F28,G28+3) -> #VALUE!
A29: Gambit | B29: https://drive.google.com/uc?export=view&id=1rNrVxB46XTB0X_hTWfWcO9uo4Iu06-E1 | C29: =D29&E29 -> https://drive.google.com/uc?export=view&id=1rNrVxB46XTB0X_hTWfWcO9uo4Iu06-E1 | D29: https://drive.google.com/uc?export=view&id= | E29: =MID(F29,G29+3,H29-G29-3) -> 1rNrVxB46XTB0X_hTWfWcO9uo4Iu06-E1 | F29: https://drive.google.com/file/d/1rNrVxB46XTB0X_hTWfWcO9uo4Iu06-E1/view?usp=sharing | G29: =FIND("/d/",F29) -> 30 | H29: =FIND("/",F29,G29+3) -> 66
A30: Gambit h4 | C30: =D30&E30 -> #VALUE! | D30: https://drive.google.com/uc?export=view&id= | E30: =MID(F30,G30+3,H30-G30-3) -> #VALUE! | G30: =FIND("/d/",F30) -> #VALUE! | H30: =FIND("/",F30,G30+3) -> #VALUE!
A31: Gambit h7 | C31: =D31&E31 -> #VALUE! | D31: https://drive.google.com/uc?export=view&id= | E31: =MID(F31,G31+3,H31-G31-3) -> #VALUE! | G31: =FIND("/d/",F31) -> #VALUE! | H31: =FIND("/",F31,G31+3) -> #VALUE!
A32: Gambit h12 | C32: =D32&E32 -> #VALUE! | D32: https://drive.google.com/uc?export=view&id= | E32: =MID(F32,G32+3,H32-G32-3) -> #VALUE! | G32: =FIND("/d/",F32) -> #VALUE! | H32: =FIND("/",F32,G32+3) -> #VALUE!
A33: Ventus | B33: https://drive.google.com/uc?export=view&id=1ESfa66M10tlvlc_F0i_nHPOG9II1P6aM | C33: =D33&E33 -> https://drive.google.com/uc?export=view&id=1ESfa66M10tlvlc_F0i_nHPOG9II1P6aM | D33: https://drive.google.com/uc?export=view&id= | E33: =MID(F33,G33+3,H33-G33-3) -> 1ESfa66M10tlvlc_F0i_nHPOG9II1P6aM | F33: https://drive.google.com/file/d/1ESfa66M10tlvlc_F0i_nHPOG9II1P6aM/view?usp=sharing | G33: =FIND("/d/",F33) -> 30 | H33: =FIND("/",F33,G33+3) -> 66
A34: Cumulus | B34: https://drive.google.com/uc?export=view&id=1h58iYwMl14vmNvukBl1m0PXIdaR7TVOr | C34: =D34&E34 -> https://drive.google.com/uc?export=view&id=1h58iYwMl14vmNvukBl1m0PXIdaR7TVOr | D34: https://drive.google.com/uc?export=view&id= | E34: =MID(F34,G34+3,H34-G34-3) -> 1h58iYwMl14vmNvukBl1m0PXIdaR7TVOr | F34: https://drive.google.com/file/d/1h58iYwMl14vmNvukBl1m0PXIdaR7TVOr/view?usp=sharing | G34: =FIND("/d/",F34) -> 30 | H34: =FIND("/",F34,G34+3) -> 66
A35: Sahara XL Dual | B35: https://drive.google.com/uc?export=view&id=1Kz-W1_0vQHwm2CpktYZgD7VkhwFbKfG2 | C35: =D35&E35 -> https://drive.google.com/uc?export=view&id=1Kz-W1_0vQHwm2CpktYZgD7VkhwFbKfG2 | D35: https://drive.google.com/uc?export=view&id= | E35: =MID(F35,G35+3,H35-G35-3) -> 1Kz-W1_0vQHwm2CpktYZgD7VkhwFbKfG2 | F35: https://drive.google.com/file/d/1Kz-W1_0vQHwm2CpktYZgD7VkhwFbKfG2/view?usp=sharing | G35: =FIND("/d/",F35) -> 30 | H35: =FIND("/",F35,G35+3) -> 66
A36: Sahara L Dual | B36: https://drive.google.com/uc?export=view&id=1VicijtLg6yukQh7q2K3z1gVPaBGMoXvr | C36: =D36&E36 -> https://drive.google.com/uc?export=view&id=1VicijtLg6yukQh7q2K3z1gVPaBGMoXvr | D36: https://drive.google.com/uc?export=view&id= | E36: =MID(F36,G36+3,H36-G36-3) -> 1VicijtLg6yukQh7q2K3z1gVPaBGMoXvr | F36: https://drive.google.com/file/d/1VicijtLg6yukQh7q2K3z1gVPaBGMoXvr/view?usp=sharing | G36: =FIND("/d/",F36) -> 30 | H36: =FIND("/",F36,G36+3) -> 66
A37: Sahara M Dual | B37: https://drive.google.com/uc?export=view&id=1buTQErop_Q5TtD2SdaCr9v1NNuOvsfUt | C37: =D37&E37 -> https://drive.google.com/uc?export=view&id=1buTQErop_Q5TtD2SdaCr9v1NNuOvsfUt | D37: https://drive.google.com/uc?export=view&id= | E37: =MID(F37,G37+3,H37-G37-3) -> 1buTQErop_Q5TtD2SdaCr9v1NNuOvsfUt | F37: https://drive.google.com/file/d/1buTQErop_Q5TtD2SdaCr9v1NNuOvsfUt/view?usp=sharing | G37: =FIND("/d/",F37) -> 30 | H37: =FIND("/",F37,G37+3) -> 66
A38: Sahara S Dual | B38: https://drive.google.com/uc?export=view&id=1Fsc3jHYu-Xd99gBP12EoFfT-W4NB7Jp7 | C38: =D38&E38 -> https://drive.google.com/uc?export=view&id=1Fsc3jHYu-Xd99gBP12EoFfT-W4NB7Jp7 | D38: https://drive.google.com/uc?export=view&id= | E38: =MID(F38,G38+3,H38-G38-3) -> 1Fsc3jHYu-Xd99gBP12EoFfT-W4NB7Jp7 | F38: https://drive.google.com/file/d/1Fsc3jHYu-Xd99gBP12EoFfT-W4NB7Jp7/view?usp=sharing | G38: =FIND("/d/",F38) -> 30 | H38: =FIND("/",F38,G38+3) -> 66
A39: Sahara XS Dual | B39: https://drive.google.com/uc?export=view&id=1KVMi6dIpV6gE8Y_XW5bsDQULnchNc0AL | C39: =D39&E39 -> https://drive.google.com/uc?export=view&id=1KVMi6dIpV6gE8Y_XW5bsDQULnchNc0AL | D39: https://drive.google.com/uc?export=view&id= | E39: =MID(F39,G39+3,H39-G39-3) -> 1KVMi6dIpV6gE8Y_XW5bsDQULnchNc0AL | F39: https://drive.google.com/file/d/1KVMi6dIpV6gE8Y_XW5bsDQULnchNc0AL/view?usp=sharing | G39: =FIND("/d/",F39) -> 30 | H39: =FIND("/",F39,G39+3) -> 66
A40: Sahara set Dual | B40: https://drive.google.com/uc?export=view&id=1yjDdEEjPwJ1W07SBNpzwAfT_e571mCtF | C40: =D40&E40 -> https://drive.google.com/uc?export=view&id=1yjDdEEjPwJ1W07SBNpzwAfT_e571mCtF | D40: https://drive.google.com/uc?export=view&id= | E40: =MID(F40,G40+3,H40-G40-3) -> 1yjDdEEjPwJ1W07SBNpzwAfT_e571mCtF | F40: https://drive.google.com/file/d/1yjDdEEjPwJ1W07SBNpzwAfT_e571mCtF/view?usp=sharing | G40: =FIND("/d/",F40) -> 30 | H40: =FIND("/",F40,G40+3) -> 66
A41: Atacama Dual | B41: https://drive.google.com/uc?export=view&id=14aLYGaQ3gl9EAyiNkYGVqtAGw3K0Zmgo | C41: =D41&E41 -> https://drive.google.com/uc?export=view&id=14aLYGaQ3gl9EAyiNkYGVqtAGw3K0Zmgo | D41: https://drive.google.com/uc?export=view&id= | E41: =MID(F41,G41+3,H41-G41-3) -> 14aLYGaQ3gl9EAyiNkYGVqtAGw3K0Zmgo | F41: https://drive.google.com/file/d/14aLYGaQ3gl9EAyiNkYGVqtAGw3K0Zmgo/view?usp=sharing | G41: =FIND("/d/",F41) -> 30 | H41: =FIND("/",F41,G41+3) -> 66
A42: Gobi Dual | B42: https://drive.google.com/uc?export=view&id=1K5NpDukqZBJHVXgwYAmLg0djkQcIRYrD | C42: =D42&E42 -> https://drive.google.com/uc?export=view&id=1K5NpDukqZBJHVXgwYAmLg0djkQcIRYrD | D42: https://drive.google.com/uc?export=view&id= | E42: =MID(F42,G42+3,H42-G42-3) -> 1K5NpDukqZBJHVXgwYAmLg0djkQcIRYrD | F42: https://drive.google.com/file/d/1K5NpDukqZBJHVXgwYAmLg0djkQcIRYrD/view?usp=sharing | G42: =FIND("/d/",F42) -> 30 | H42: =FIND("/",F42,G42+3) -> 66
A43: Namib Dual | B43: https://drive.google.com/uc?export=view&id=1-CROxP37SDd7nOJVb8qVbX02GqMFqA9N | C43: =D43&E43 -> https://drive.google.com/uc?export=view&id=1-CROxP37SDd7nOJVb8qVbX02GqMFqA9N | D43: https://drive.google.com/uc?export=view&id= | E43: =MID(F43,G43+3,H43-G43-3) -> 1-CROxP37SDd7nOJVb8qVbX02GqMFqA9N | F43: https://drive.google.com/file/d/1-CROxP37SDd7nOJVb8qVbX02GqMFqA9N/view?usp=sharing | G43: =FIND("/d/",F43) -> 30 | H43: =FIND("/",F43,G43+3) -> 66
A44: Mojave Dual | B44: https://drive.google.com/uc?export=view&id=1V2SNubL-u4wawIVMuf1132wJp6K6gqjq | C44: =D44&E44 -> https://drive.google.com/uc?export=view&id=1V2SNubL-u4wawIVMuf1132wJp6K6gqjq | D44: https://drive.google.com/uc?export=view&id= | E44: =MID(F44,G44+3,H44-G44-3) -> 1V2SNubL-u4wawIVMuf1132wJp6K6gqjq | F44: https://drive.google.com/file/d/1V2SNubL-u4wawIVMuf1132wJp6K6gqjq/view?usp=sharing | G44: =FIND("/d/",F44) -> 30 | H44: =FIND("/",F44,G44+3) -> 66
... A49: Planet S Drops | B49: https://drive.google.com/uc?export=view&id=1IrD_V4L39udmFHItFZqeMGxzUq-rC7Fw | C49: =D49&E49 -> https://drive.google.com/uc?export=view&id=1IrD_V4L39udmFHItFZqeMGxzUq-rC7Fw | D49: https://drive.google.com/uc?export=view&id= | E49: =MID(F49,G49+3,H49-G49-3) -> 1IrD_V4L39udmFHItFZqeMGxzUq-rC7Fw | F49: https://drive.google.com/file/d/1IrD_V4L39udmFHItFZqeMGxzUq-rC7Fw/view?usp=sharing | G49: =FIND("/d/",F49) -> 30 | H49: =FIND("/",F49,G49+3) -> 66
A55: FULL FRICTION
A56: Entropy | B56: https://drive.google.com/uc?export=view&id=1AJMgt1zHmJqnVcvTDuyjv6-Il7onb5I7 | C56: =D56&E56 -> https://drive.google.com/uc?export=view&id=1AJMgt1zHmJqnVcvTDuyjv6-Il7onb5I7 | D56: https://drive.google.com/uc?export=view&id= | E56: =MID(F56,G56+3,H56-G56-3) -> 1AJMgt1zHmJqnVcvTDuyjv6-Il7onb5I7 | F56: https://drive.google.com/file/d/1AJMgt1zHmJqnVcvTDuyjv6-Il7onb5I7/view?usp=sharing | G56: =FIND("/d/",F56) -> 30 | H56: =FIND("/",F56,G56+3) -> 66
A57: Pulsar | B57: https://drive.google.com/uc?export=view&id=1hsKhywDbHl8Sl62VO9gu7GZf4PzZS9I8 | C57: =D57&E57 -> https://drive.google.com/uc?export=view&id=1hsKhywDbHl8Sl62VO9gu7GZf4PzZS9I8 | D57: https://drive.google.com/uc?export=view&id= | E57: =MID(F57,G57+3,H57-G57-3) -> 1hsKhywDbHl8Sl62VO9gu7GZf4PzZS9I8 | F57: https://drive.google.com/file/d/1hsKhywDbHl8Sl62VO9gu7GZf4PzZS9I8/view?usp=sharing | G57: =FIND("/d/",F57) -> 30 | H57: =FIND("/",F57,G57+3) -> 66
A58: Nebula | B58: https://drive.google.com/uc?export=view&id=1pUZv2KOkaeS37ocjcKGcTiTr219b2blz | C58: =D58&E58 -> https://drive.google.com/uc?export=view&id=1pUZv2KOkaeS37ocjcKGcTiTr219b2blz | D58: https://drive.google.com/uc?export=view&id= | E58: =MID(F58,G58+3,H58-G58-3) -> 1pUZv2KOkaeS37ocjcKGcTiTr219b2blz | F58: https://drive.google.com/file/d/1pUZv2KOkaeS37ocjcKGcTiTr219b2blz/view?usp=sharing | G58: =FIND("/d/",F58) -> 30 | H58: =FIND("/",F58,G58+3) -> 66
...

Sheet Dimensions
H1: Cumulus
C2: Planet S | D2: kg | P2: pcs | Q2: Length cm | R2: width cm | S2: kg
B3: 1 | C3: d=28 h10 | D3: 0.595 | O3: Leave XL | P3: 1 | Q3: 95 | R3: 38 | S3: 2.8
B4: 2 | C4: d=26 h8 | D4: 0.49 | O4: Leave L | P4: 2 | Q4: 67 | R4: 30 | S4: 1.5
B5: 3 | C5: d=24 h6 | D5: 0.43 | Q5: 68 | R5: 30 | S5: 1.7
B6: 4 | C6: d=23 h8 | D6: 0.38 | O6: Leave M | P6: 3 | Q6: 56 | R6: 24 | S6: 0.9
B7: 5 | C7: d=22 h5 | D7: 0.32 | Q7: 57 | R7: 20 | S7: 1
B8: 6 | C8: d=20.5 h5 | D8: 0.29 | Q8: 60 | R8: 24 | S8: 1
B9: 7 | C9: d=20 h4 | D9: 0.245 | O9: Leave S | P9: 4 | Q9: 41 | R9: 17 | S9: 0.5
B10: 8 | C10: d=16 h4 | D10: 0.19 | Q10: 43 | R10: 17 | S10: 0.6
C11: продаваме ги само като сет от 8бр | Q11: 43 | R11: 18 | S11: 0.6
Q12: 42 | R12: 19 | S12: 0.6
O13: Leave XS | P13: 5 | Q13: 25 | R13: 12 | S13: 0.25
Q14: 25 | R14: 13 | S14: 0.28
Q15: 22 | R15: 11 | S15: 0.25
Q16: 24 | R16: 11 | S16: 0.2
Q17: 21 | R17: 11.5 | S17: 0.2
O18: Leave XXS | P18: 6 | Q18: 14 | R18: 9 | S18: 0.13
Q19: 15 | R19: 9 | S19: 0.14
Q20: 14 | R20: 7.5 | S20: 0.1
Q21: 14.5 | R21: 8 | S21: 0.11
Q22: 13.5 | R22: 6.5 | S22: 0.85
Q23: 16 | R23: 8 | S23: 0.15
R24: Total | S24: 14 kg

Sheet ReferenceData
S1: Transparent Thermoformed | T1: 5 | U1: percent higher
D3: =AND(D6:D126) -> #N/A | G3: =AND(G6:G120) -> #N/A | J3: =AND(J6:J120) -> #N/A
B4: Dual | E4: Full Friction | H4: Full Friction | L4: surface | N4: ShippingYesNo | Q4: Color of the grip part of the surface | S4: Color of the smooth part of the surface | AA4: Color of the smooth part of the surface for thermoformed
B5: Product ID | C5: Description | E5: Product ID | F5: Description | H5: Product ID | I5: Description | L5: <choose surface> | N5: Yes | Q5: <choose color> | S5: <choose color> | U5: Trickit name | V5: Color | W5: RAL Code | X5: RAL Name | Y5: Hex Code (nearest match) | AA5: <choose color>
B6: FGDF001 | C6: Pressure S Dual Set of 3 fiberglass macros size S | D6: =VLOOKUP(ReferenceData!B6,EntryForm!$A$3:$C$177,3,FALSE)=ReferenceData!C6 -> TRUE | L6: GLOSSY | N6: No | Q6: White RAL 9016 | S6: White RAL 9016 | U6: Yellow RAL 1023 | W6: RAL 1023 | X6: Traffic Yellow | Y6: #FAD201 | AA6: Transparent Thermoformed
B7: FGDF002 | C7: Pressure M Dual Set of 3 fiberglass macros size М | D7: =VLOOKUP(ReferenceData!B7,EntryForm!$A$3:$C$177,3,FALSE)=ReferenceData!C7 -> TRUE | L7: MATTE | Q7: Black RAL 9005 | S7: Black RAL 9005 | U7: Orange RAL 2004 | W7: RAL 2004 | X7: Pure Orange | Y7: #F44611 | AA7: White RAL 9016
B8: FGDF003 | C8: Vacuum S Dual Set of 3 fiberglass macros size S | D8: =VLOOKUP(ReferenceData!B8,EntryForm!$A$3:$C$177,3,FALSE)=ReferenceData!C8 -> TRUE | Q8: Gray RAL 7001 | S8: Gray RAL 7001 | U8: Red RAL 3020 | W8: RAL 3020 | X8: Traffic Red | Y8: #CC0605 | AA8: Black RAL 9005
B9: FGDF004 | C9: Vacuum M Dual Set of 3 fiberglass macros size М | D9: =VLOOKUP(ReferenceData!B9,EntryForm!$A$3:$C$177,3,FALSE)=ReferenceData!C9 -> TRUE | Q9: Dark gray RAL 7011 | S9: Dark gray RAL 7011 | U9: Violet RAL 4008 | W9: RAL 4008 | X9: Signal Violet | Y9: #924E7D | AA9: Gray RAL 7001
B10: FGDF005 | C10: Balance S Dual Set of 3 fiberglass macros size S | D10: =VLOOKUP(ReferenceData!B10,EntryForm!$A$3:$C$177,3,FALSE)=ReferenceData!C10 -> TRUE | L10: surface-Narwhal | Q10: Violet RAL 4008 | S10: Violet RAL 4008 | U10: Dark blue RAL 5005 | W10: RAL 5005 | X10: Signal Blue | Y10: #1E2460 | AA10: Dark gray RAL 7011
B11: FGDF006 | C11: Balance M Dual Set of 3 fiberglass macros size М | D11: =VLOOKUP(ReferenceData!B11,EntryForm!$A$3:$C$177,3,FALSE)=ReferenceData!C11 -> TRUE | L11: <choose surface> | Q11: Mint RAL 6027 | S11: Mint RAL 6027 | U11: Light blue RAL 5015 | W11: RAL 5015 | X11: Sky Blue | Y11: #2271B3 | AA11: Violet RAL 4008
B12: FGDF007 | C12: Orca Dual Set of 11 fiberglass holds and macros different sizes | D12: =VLOOKUP(ReferenceData!B12,EntryForm!$A$3:$C$177,3,FALSE)=ReferenceData!C12 -> TRUE | L12: MATTE | Q12: Light blue RAL 5015 | S12: Light blue RAL 5015 | U12: Green RAL 6002 | W12: RAL 6002 | X12: Leaf Green | Y12: #2D572C | AA12: Mint RAL 6027
B13: PUDF008 | C13: Narwhal PU Dual Set of 15 PU holds and macros different sizes | D13: =VLOOKUP(ReferenceData!B13,EntryForm!$A$3:$C$177,3,FALSE)=ReferenceData!C13 -> TRUE | Q13: Dark blue RAL 5005 | S13: Dark blue RAL 5005 | U13: Light green RAL 6002 | W13: RAL 6018 | X13: Yellow Green | Y13: #57A639 | AA13: Light blue RAL 5015
B14: FGDF009 | C14: Entropy Dual Set of 3 fiberglass macros | D14: =VLOOKUP(ReferenceData!B14,EntryForm!$A$3:$C$177,3,FALSE)=ReferenceData!C14 -> TRUE | E14: FGFF009 | F14: Entropy Full Friction Set of 3 fiberglass macros | G14: =VLOOKUP(ReferenceData!E14,EntryForm!$A$3:$C$177,3,FALSE)=ReferenceData!F14 -> TRUE | Q14: Light green RAL 6018 | S14: Light green RAL 6018 | U14: Mint RAL 6027 | W14: RAL 6027 | X14: Light Green | Y14: #84C3BE | AA14: Dark blue RAL 5005
B15: FGDF010 | C15: Pulsar Dual Set of 3 fiberglass macros | D15: =VLOOKUP(ReferenceData!B15,EntryForm!$A$3:$C$177,3,FALSE)=ReferenceData!C15 -> TRUE | E15: FGFF010 | F15: Pulsar Full Friction Set of 3 fiberglass macros | G15: =VLOOKUP(ReferenceData!E15,EntryForm!$A$3:$C$177,3,FALSE)=ReferenceData!F15 -> TRUE | Q15: Green RAL 6002 | S15: Green RAL 6002 | U15: Grey RAL 7001 | W15: RAL 7001 | X15: Silver Gray | Y15: #8A9597 | AA15: Light green RAL 6018
B16: FGDF011 | C16: Nebula Dual Set of 3 fiberglass macros | D16: =VLOOKUP(ReferenceData!B16,EntryForm!$A$3:$C$177,3,FALSE)=ReferenceData!C16 -> TRUE | E16: FGFF011 | F16: Nebula Full Friction Set of 3 fiberglass macros | G16: =VLOOKUP(ReferenceData!E16,EntryForm!$A$3:$C$177,3,FALSE)=ReferenceData!F16 -> TRUE | Q16: Orange RAL 2004 | S16: Orange RAL 2004 | U16: Dark gray RAL 7011 | W16: RAL 7011 | X16: Iron Gray | Y16: #434B4D | AA16: Green RAL 6002
B17: FGDF012 | C17: Quantium Dual Set of 3 fiberglass macros | D17: =VLOOKUP(ReferenceData!B17,EntryForm!$A$3:$C$177,3,FALSE)=ReferenceData!C17 -> TRUE | E17: FGFF012 | F17: Quantium Full Friction Set of 3 fiberglass macros | G17: =VLOOKUP(ReferenceData!E17,EntryForm!$A$3:$C$177,3,FALSE)=ReferenceData!F17 -> TRUE | Q17: Red RAL 3020 | S17: Red RAL 3020 | U17: Black RAL 9005 | W17: RAL 9005 | X17: Jet Black | Y17: #0A0A0A | AA17: Orange RAL 2004
B18: FGDF013 | C18: Axiom Dual Set of 3 fiberglass macros | D18: =VLOOKUP(ReferenceData!B18,EntryForm!$A$3:$C$177,3,FALSE)=ReferenceData!C18 -> TRUE | E18: FGFF013 | F18: Axiom Full Friction Set of 3 fiberglass macros | G18: =VLOOKUP(ReferenceData!E18,EntryForm!$A$3:$C$177,3,FALSE)=ReferenceData!F18 -> TRUE | Q18: Yellow RAL 1023 | S18: Yellow RAL 1023 | U18: White RAL 9016 | W18: RAL 9016 | X18: Traffic White | Y18: #F6F6F6 | AA18: Red RAL 3020
B19: FGDF014 | C19: DISCONTINUED Leaves Dual Set of 3 fiberglass macros | E19: FGFF014 | F19: DISCONTINUED Leaves Full Friction Set of 3 fiberglass macros | AA19: Yellow RAL 1023
B20: FGDF015 | C20: Planet 1a L Dual Fiberglass macro size L | D20: =VLOOKUP(ReferenceData!B20,EntryForm!$A$3:$C$177,3,FALSE)=ReferenceData!C20 -> TRUE
B21: FGDF016 | C21: Planet 1b L Dual Fiberglass macro size L | D21: =VLOOKUP(ReferenceData!B21,EntryForm!$A$3:$C$177,3,FALSE)=ReferenceData!C21 -> TRUE | S21: Color of the smooth part -Orca | T21: <<for now we don't offer it in black
B22: FGDF017 | C22: Planet 1 L Dual Set of 2 fiberglass macros: 1a and 1b; size L | D22: =VLOOKUP(ReferenceData!B22,EntryForm!$A$3:$C$177,3,FALSE)=ReferenceData!C22 -> TRUE | S22: <choose color>
B23: FGDF018 | C23: Planet 2 L Dual Fiberglass macro size L | D23: =VLOOKUP(ReferenceData!B23,EntryForm!$A$3:$C$177,3,FALSE)=ReferenceData!C23 -> TRUE | S23: White RAL 9016
B24: FGDF019 | C24: Planet 3 L Dual Fiberglass macro size L | D24: =VLOOKUP(ReferenceData!B24,EntryForm!$A$3:$C$177,3,FALSE)=ReferenceData!C24 -> TRUE | S24: Gray RAL 7001
B25: FGDF020 | C25: Planet 4 L Dual Fiberglass macro size L | D25: =VLOOKUP(ReferenceData!B25,EntryForm!$A$3:$C$177,3,FALSE)=ReferenceData!C25 -> TRUE | S25: Dark gray RAL 7011
B26: FGDF021 | C26: Planet 5 L Dual Fiberglass macro size L | D26: =VLOOKUP(ReferenceData!B26,EntryForm!$A$3:$C$177,3,FALSE)=ReferenceData!C26 -> TRUE | S26: Violet RAL 4008
B27: FGDF022 | C27: Planet 6 L Dual Fiberglass macro size L | D27: =VLOOKUP(ReferenceData!B27,EntryForm!$A$3:$C$177,3,FALSE)=ReferenceData!C27 -> TRUE | S27: Mint RAL 6027
B28: FGDF023 | C28: Planet L (full set) Dual Set of 7 fiberglass macros size L-XL | D28: =VLOOKUP(ReferenceData!B28,EntryForm!$A$3:$C$177,3,FALSE)=ReferenceData!C28 -> TRUE | S28: Light blue RAL 5015
B29: FGDF024 | C29: Planet S (full set) Dual Set of 8 fiberglass macros size XS-S (not sold separately) | D29: =VLOOKUP(ReferenceData!B29,EntryForm!$A$3:$C$177,3,FALSE)=ReferenceData!C29 -> TRUE | S29: Dark blue RAL 5005
B30: FGDF025 | C30: Planet S&L (full set) Dual Set of 15 fiberglass macros size XS-XL | D30: =VLOOKUP(ReferenceData!B30,EntryForm!$A$3:$C$177,3,FALSE)=ReferenceData!C30 -> TRUE | S30: Light green RAL 6018
B31: FGDF026 | C31: Leaves Dual Set of 21 fiberglass macros size XXS-XL | D31: =VLOOKUP(ReferenceData!B31,EntryForm!$A$3:$C$177,3,FALSE)=ReferenceData!C31 -> TRUE | E31: FGFF026 | F31: Leaves Full Friction Set of 21 fiberglass macros size XXS-XL | G31: =VLOOKUP(ReferenceData!E31,EntryForm!$A$3:$C$177,3,FALSE)=ReferenceData!F31 -> TRUE | S31: Green RAL 6002
B32: FGDF027 | C32: Gambit (full set) Dual Set of 15 fiberglass macros size S-M | D32: =VLOOKUP(ReferenceData!B32,EntryForm!$A$3:$C$177,3,FALSE)=ReferenceData!C32 -> TRUE | S32: Orange RAL 2004
B33: FGDF028 | C33: Gambit h=4 Dual Set of 5 fiberglass macros size S-M; h=4cm | D33: =VLOOKUP(ReferenceData!B33,EntryForm!$A$3:$C$177,3,FALSE)=ReferenceData!C33 -> TRUE | S33: Red RAL 3020
B34: FGDF029 | C34: Gambit h=7 Dual Set of 5 fiberglass macros size S-M; h=7cm | D34: =VLOOKUP(ReferenceData!B34,EntryForm!$A$3:$C$177,3,FALSE)=ReferenceData!C34 -> TRUE | S34: Yellow RAL 1023
B35: FGDF030 | C35: Gambit h=12 Dual Set of 5 fiberglass macros size S-M; h=12cm | D35: =VLOOKUP(ReferenceData!B35,EntryForm!$A$3:$C$177,3,FALSE)=ReferenceData!C35 -> TRUE
B36: TFDF031 | C36: Ventus Dual Set of 6 thermoformed macros size S-L | D36: =VLOOKUP(ReferenceData!B36,EntryForm!$A$3:$C$177,3,FALSE)=ReferenceData!C36 -> TRUE
B37: TFDF032 | C37: DISCONTINUED Cumulus Dual Set of 5 thermoformed macros size M-XL
B38: FGDF033 | C38: Sahara XL Dual NEW! Set of 2 fiberglass macros size XL | D38: =VLOOKUP(ReferenceData!B38,EntryForm!$A$3:$C$177,3,FALSE)=ReferenceData!C38 -> TRUE | E38: FGFF033 | F38: Sahara XL Full Friction NEW! Set of 2 fiberglass macros size XL | G38: =VLOOKUP(ReferenceData!E38,EntryForm!$A$3:$C$177,3,FALSE)=ReferenceData!F38 -> TRUE
B39: FGDF034 | C39: Sahara L Dual NEW! Set of 4 fiberglass macros size L | D39: =VLOOKUP(ReferenceData!B39,EntryForm!$A$3:$C$177,3,FALSE)=ReferenceData!C39 -> TRUE | E39: FGFF034 | F39: Sahara L Full Friction NEW! Set of 4 fiberglass macros size L | G39: =VLOOKUP(ReferenceData!E39,EntryForm!$A$3:$C$177,3,FALSE)=ReferenceData!F39 -> TRUE
B40: FGDF035 | C40: Sahara M Dual NEW! Set of 6 fiberglass macros size M | D40: =VLOOKUP(ReferenceData!B40,EntryForm!$A$3:$C$177,3,FALSE)=ReferenceData!C40 -> TRUE | E40: FGFF035 | F40: Sahara M Full Friction NEW! Set of 6 fiberglass macros size M | G40: =VLOOKUP(ReferenceData!E40,EntryForm!$A$3:$C$177,3,FALSE)=ReferenceData!F40 -> TRUE
B41: FGDF036 | C41: Sahara S Dual NEW! Set of 8 fiberglass macros size S | D41: =VLOOKUP(ReferenceData!B41,EntryForm!$A$3:$C$177,3,FALSE)=ReferenceData!C41 -> TRUE | E41: FGFF036 | F41: Sahara S Full Friction NEW! Set of 8 fiberglass macros size S | G41: =VLOOKUP(ReferenceData!E41,EntryForm!$A$3:$C$177,3,FALSE)=ReferenceData!F41 -> TRUE
...
